Workbook

Sheet Mean + S.E.M.
A1: Table S5 Effect of LCMs on the lipid mediator profile of SACM-challenged and unchallenged M1 macrophages
C4: compound | D4: vehicle (0.1% DMSO) | G4: 1 | M4: 2 | S4: 3 | Y4: 4 | AE4: 5 | AK4: 6 | AQ4: 7 | AW4: 8 | BD4: vehicle (0.1% DMSO) | BG4: 1 | BM4: 2 | BS4: 3 | BY4: 4 | CE4: 5 | CK4: 6 | CQ4: 7 | CW4: 8
C5: conc [µM] | G5: 0.3 | J5: 3 | M5: 0.3 | P5: 3 | S5: 0.3 | V5: 3 | Y5: 0.3 | AB5: 3 | AE5: 0.3 | AH5: 3 | AK5: 0.3 | AN5: 3 | AQ5: 0.3 | AT5: 3 | AW5: 0.3 | AZ5: 3 | BG5: 0.3 | BJ5: 3 | BM5: 0.3 | BP5: 3 | BS5: 0.3 | BV5: 3 | BY5: 0.3 | CB5: 3 | CE5: 0.3 | CH5: 3 | CK5: 0.3 | CN5: 3 | CQ5: 0.3 | CT5: 3 | CW5: 0.3 | CZ5: 3
C6: stimulation | D6: unstim. | F6: unstim. | G6: unstim. | I6: unstim. | J6: unstim. | L6: unstim. | M6: unstim. | O6: unstim. | P6: unstim. | R6: unstim. | S6: unstim. | U6: unstim. | V6: unstim. | X6: unstim. | Y6: unstim. | AA6: unstim. | AB6: unstim. | AD6: unstim. | AE6: unstim. | AG6: unstim. | AH6: unstim. | AJ6: unstim. | AK6: unstim. | AM6: unstim. | AN6: unstim. | AP6: unstim. | AQ6: unstim. | AS6: unstim. | AT6: unstim. | AV6: unstim. | AW6: unstim. | AY6: unstim. | AZ6: unstim. | BB6: unstim. | BD6: SACM | BF6: SACM | BG6: SACM | BI6: SACM | BJ6: SACM | BL6: SACM | BM6: SACM | BO6: SACM | BP6: SACM | BR6: SACM | BS6: SACM | BU6: SACM | BV6: SACM | BX6: SACM | BY6: SACM | CA6: SACM | CB6: SACM | CD6: SACM | CE6: SACM | CG6: SACM | CH6: SACM | CJ6: SACM | CK6: SACM | CM6: SACM | CN6: SACM | CP6: SACM | CQ6: SACM | CS6: SACM | CT6: SACM | CV6: SACM | CW6: SACM | CY6: SACM | CZ6: SACM | DB6: SACM
D7: mean | E7: ± | F7: S.E.M. | G7: mean | H7: ± | I7: S.E.M. | J7: mean | K7: ± | L7: S.E.M. | M7: mean | N7: ± | O7: S.E.M. | P7: mean | Q7: ± | R7: S.E.M. | S7: mean | T7: ± | U7: S.E.M. | V7: mean | W7: ± | X7: S.E.M. | Y7: mean | Z7: ± | AA7: S.E.M. | AB7: mean | AC7: ± | AD7: S.E.M. | AE7: mean | AF7: ± | AG7: S.E.M. | AH7: mean | AI7: ± | AJ7: S.E.M. | AK7: mean | AL7: ± | AM7: S.E.M. | AN7: mean | AO7: ± | AP7: S.E.M. | AQ7: mean | AR7: ± | AS7: S.E.M. | AT7: mean | AU7: ± | AV7: S.E.M. | AW7: mean | AX7: ± | AY7: S.E.M. | AZ7: mean | BA7: ± | BB7: S.E.M. | BD7: mean | BE7: ± | BF7: S.E.M. | BG7: mean | BH7: ± | BI7: S.E.M. | BJ7: mean | BK7: ± | BL7: S.E.M. | BM7: mean | BN7: ± | BO7: S.E.M. | BP7: mean | BQ7: ± | BR7: S.E.M. | BS7: mean | BT7: ± | BU7: S.E.M. | BV7: mean | BW7: ± | BX7: S.E.M. | BY7: mean | BZ7: ± | CA7: S.E.M. | CB7: mean | CC7: ± | CD7: S.E.M. | CE7: mean | CF7: ± | CG7: S.E.M. | CH7: mean | CI7: ± | CJ7: S.E.M. | CK7: mean | CL7: ± | CM7: S.E.M. | CN7: mean | CO7: ± | CP7: S.E.M. | CQ7: mean | CR7: ± | CS7: S.E.M. | CT7: mean | CU7: ± | CV7: S.E.M. | CW7: mean | CX7: ± | CY7: S.E.M. | CZ7: mean | DA7: ± | DB7: S.E.M.
A8: pg per 2 * 106 cells | B8: SPM precursor | C8: 17-HDHA | D8: =AVERAGE('Single data'!D9:H9) -> 7.0538702 | E8: ± | F8: =(_xlfn.STDEV.S('Single data'!D9:H9)/SQRT(5)) -> 1.9614854 | G8: =AVERAGE('Single data'!I9:L9) -> 3.4226912 | H8: ± | I8: =(_xlfn.STDEV.S('Single data'!I9:L9)/SQRT(4)) -> 0.76167144 | J8: =AVERAGE('Single data'!M9:P9) -> 6.4549346 | K8: ± | L8: =(_xlfn.STDEV.S('Single data'!M9:P9)/SQRT(4)) -> 1.2361806 | M8: =AVERAGE('Single data'!Q9:T9) -> 4.1027629 | N8: ± | O8: =(_xlfn.STDEV.S('Single data'!Q9:T9)/SQRT(4)) -> 1.5099949 | P8: =AVERAGE('Single data'!U9:X9) -> 24.176457 | Q8: ± | R8: =_xlfn.STDEV.S('Single data'!U9:X9)/SQRT(4) -> 8.6390857 | S8: =AVERAGE('Single data'!Y9:AB9) -> 5.176213 | T8: ± | U8: =(_xlfn.STDEV.S('Single data'!Y9:AB9)/SQRT(4)) -> 0.88564639 | V8: =AVERAGE('Single data'!AC9:AF9) -> 16.443717 | W8: ± | X8: =(_xlfn.STDEV.S('Single data'!AC9:AF9)/SQRT(4)) -> 2.1701888 | Y8: =AVERAGE('Single data'!AG9:AJ9) -> 8.0673178 | Z8: ± | AA8: =(_xlfn.STDEV.S('Single data'!AG9:AJ9)/SQRT(4)) -> 3.262237 | AB8: =AVERAGE('Single data'!AK9:AN9) -> 60.446842 | AC8: ± | AD8: =(_xlfn.STDEV.S('Single data'!AK9:AN9)/SQRT(3)) -> 5.9032817 | AE8: =AVERAGE('Single data'!AO9:AR9) -> 5.0023631 | AF8: ± | AG8: =(_xlfn.STDEV.S('Single data'!AO9:AR9)/SQRT(4)) -> 1.2652156 | AH8: =AVERAGE('Single data'!AS9:AV9) -> 58.722108 | AI8: ± | AJ8: =_xlfn.STDEV.S('Single data'!AS9:AV9)/SQRT(4) -> 8.8803709 | AK8: =AVERAGE('Single data'!AW9:AZ9) -> 5.2950059 | AL8: ± | AM8: =(_xlfn.STDEV.S('Single data'!AW9:AZ9)/SQRT(4)) -> 0.88854924 | AN8: =AVERAGE('Single data'!BA9:BD9) -> 10.283763 | AO8: ± | AP8: =_xlfn.STDEV.S('Single data'!BA9:BD9)/SQRT(4) -> 1.7366327 | AQ8: =AVERAGE('Single data'!BE9:BH9) -> 5.6705543 | AR8: ± | AS8: =(_xlfn.STDEV.S('Single data'!BE9:BH9)/SQRT(4)) -> 1.4203677 | AT8: =AVERAGE('Single data'!BI9:BL9) -> 14.694369 | AU8: ± | AV8: =_xlfn.STDEV.S('Single data'!BI9:BL9)/SQRT(4) -> 5.0184855 | AW8: =AVERAGE('Single data'!BM9:BP9) -> 3.5698135 | AX8: ± | AY8: =(_xlfn.STDEV.S('Single data'!BM9:BP9)/SQRT(3)) -> 0.92592647 | AZ8: =AVERAGE('Single data'!BQ9:BT9) -> 11.709649 | BA8: ± | BB8: =_xlfn.STDEV.S('Single data'!BQ9:BT9)/SQRT(4) -> 5.7331254 | BD8: =AVERAGE('Single data'!BV9:CB9) -> 386.50729 | BE8: ± | BF8: =(_xlfn.STDEV.S('Single data'!BV9:CB9)/SQRT(7)) -> 99.472934 | BG8: =AVERAGE('Single data'!CC9:CG9) -> 242.52254 | BH8: ± | BI8: =(_xlfn.STDEV.S('Single data'!CC9:CG9)/SQRT(5)) -> 54.783163 | BJ8: =AVERAGE('Single data'!CH9:CL9) -> 253.13513 | BK8: ± | BL8: =(_xlfn.STDEV.S('Single data'!CH9:CL9)/SQRT(5)) -> 59.284421 | BM8: =AVERAGE('Single data'!CM9:CQ9) -> 163.4331 | BN8: ± | BO8: =(_xlfn.STDEV.S('Single data'!CM9:CQ9)/SQRT(5)) -> 38.319262 | BP8: =AVERAGE('Single data'!CR9:CV9) -> 164.51272 | BQ8: ± | BR8: =_xlfn.STDEV.S('Single data'!CR9:CV9)/SQRT(5) -> 32.989141 | BS8: =AVERAGE('Single data'!CW9:DA9) -> 178.46524 | BT8: ± | BU8: =(_xlfn.STDEV.S('Single data'!CW9:DA9)/SQRT(5)) -> 47.643327 | BV8: =AVERAGE('Single data'!DB9:DF9) -> 199.6415 | BW8: ± | BX8: =(_xlfn.STDEV.S('Single data'!DB9:DF9)/SQRT(5)) -> 43.398964 | BY8: =AVERAGE('Single data'!DG9:DK9) -> 306.02393 | BZ8: ± | CA8: =(_xlfn.STDEV.S('Single data'!DG9:DK9)/SQRT(5)) -> 110.67101 | CB8: =AVERAGE('Single data'!DL9:DP9) -> 496.29492 | CC8: ± | CD8: =(_xlfn.STDEV.S('Single data'!DL9:DP9)/SQRT(5)) -> 115.56346 | CE8: =AVERAGE('Single data'!DQ9:DU9) -> 267.45303 | CF8: ± | CG8: =(_xlfn.STDEV.S('Single data'!DQ9:DU9)/SQRT(5)) -> 67.46476 | CH8: =AVERAGE('Single data'!DV9:DZ9) -> 317.89855 | CI8: ± | CJ8: =_xlfn.STDEV.S('Single data'!DV9:DZ9)/SQRT(5) -> 110.09349 | CK8: =AVERAGE('Single data'!EA9:EE9) -> 150.10885 | CL8: ± | CM8: =(_xlfn.STDEV.S('Single data'!EA9:EE9)/SQRT(5)) -> 36.402081 | CN8: =AVERAGE('Single data'!EF9:EJ9) -> 165.05369 | CO8: ± | CP8: =_xlfn.STDEV.S('Single data'!EF9:EJ9)/SQRT(5) -> 41.505202 | CQ8: =AVERAGE('Single data'!EK9:EO9) -> 217.51934 | CR8: ± | CS8: =(_xlfn.STDEV.S('Single data'!EK9:EO9)/SQRT(5)) -> 69.142907 | CT8: =AVERAGE('Single data'!EP9:ET9) -> 171.98348 | CU8: ± | CV8: =_xlfn.STDEV.S('Single data'!EP9:ET9)/SQRT(5) -> 42.054405 | CW8: =AVERAGE('Single data'!EU9:EY9) -> 176.739 | CX8: ± | CY8: =(_xlfn.STDEV.S('Single data'!EU9:EY9)/SQRT(5)) -> 30.986426 | CZ8: =AVERAGE('Single data'!EZ9:FD9) -> 133.58937 | DA8: ± | DB8: =_xlfn.STDEV.S('Single data'!EZ9:FD9)/SQRT(5) -> 31.999303
C9: 17-HDPA | D9: =AVERAGE('Single data'!D10:H10) -> 9.5031345 | E9: ± | F9: =(_xlfn.STDEV.S('Single data'!D10:H10)/SQRT(5)) -> 1.3793301 | G9: =AVERAGE('Single data'!I10:L10) -> 5.7366812 | H9: ± | I9: =(_xlfn.STDEV.S('Single data'!I10:L10)/SQRT(4)) -> 1.6322714 | M9: =AVERAGE('Single data'!Q10:T10) -> 5.2840269 | N9: ± | O9: =(_xlfn.STDEV.S('Single data'!Q10:T10)/SQRT(4)) -> 1.0325538 | P9: =AVERAGE('Single data'!U10:X10) -> 30.312924 | Q9: ± | R9: =_xlfn.STDEV.S('Single data'!U10:X10)/SQRT(4) -> 6.4995528 | S9: =AVERAGE('Single data'!Y10:AB10) -> 9.7808982 | T9: ± | U9: =(_xlfn.STDEV.S('Single data'!Y10:AB10)/SQRT(4)) -> 1.725471 | V9: =AVERAGE('Single data'!AC10:AF10) -> 32.033209 | W9: ± | X9: =(_xlfn.STDEV.S('Single data'!AC10:AF10)/SQRT(4)) -> 5.1259681 | Y9: =AVERAGE('Single data'!AG10:AJ10) -> 21.323333 | Z9: ± | AA9: =(_xlfn.STDEV.S('Single data'!AG10:AJ10)/SQRT(4)) -> 7.2093074 | AB9: =AVERAGE('Single data'!AK10:AN10) -> 162.20391 | AC9: ± | AD9: =(_xlfn.STDEV.S('Single data'!AK10:AN10)/SQRT(3)) -> 38.287678 | AE9: =AVERAGE('Single data'!AO10:AR10) -> 5.0176988 | AF9: ± | AG9: =(_xlfn.STDEV.S('Single data'!AO10:AR10)/SQRT(4)) -> 0.76333639 | AH9: =AVERAGE('Single data'!AS10:AV10) -> 104.22025 | AI9: ± | AJ9: =_xlfn.STDEV.S('Single data'!AS10:AV10)/SQRT(4) -> 11.471278 | AK9: =AVERAGE('Single data'!AW10:AZ10) -> 7.7368475 | AL9: ± | AM9: =(_xlfn.STDEV.S('Single data'!AW10:AZ10)/SQRT(4)) -> 0.33340598 | AN9: =AVERAGE('Single data'!BA10:BD10) -> 27.560227 | AO9: ± | AP9: =_xlfn.STDEV.S('Single data'!BA10:BD10)/SQRT(4) -> 5.4139146 | AQ9: =AVERAGE('Single data'!BE10:BH10) -> 10.698589 | AR9: ± | AS9: =(_xlfn.STDEV.S('Single data'!BE10:BH10)/SQRT(4)) -> 2.9259676 | AT9: =AVERAGE('Single data'!BI10:BL10) -> 30.560305 | AU9: ± | AV9: =_xlfn.STDEV.S('Single data'!BI10:BL10)/SQRT(4) -> 9.8977638 | AW9: =AVERAGE('Single data'!BM10:BP10) -> 4.2430431 | AX9: ± | AY9: =(_xlfn.STDEV.S('Single data'!BM10:BP10)/SQRT(3)) -> 1.4222242 | AZ9: =AVERAGE('Single data'!BQ10:BT10) -> 15.954442 | BA9: ± | BB9: =_xlfn.STDEV.S('Single data'!BQ10:BT10)/SQRT(4) -> 5.5954313 | BD9: =AVERAGE('Single data'!BV10:CB10) -> 846.27325 | BE9: ± | BF9: =(_xlfn.STDEV.S('Single data'!BV10:CB10)/SQRT(7)) -> 215.49185 | BG9: =AVERAGE('Single data'!CC10:CG10) -> 556.74454 | BH9: ± | BI9: =(_xlfn.STDEV.S('Single data'!CC10:CG10)/SQRT(5)) -> 153.61677 | BJ9: =AVERAGE('Single data'!CH10:CL10) -> 607.24677 | BK9: ± | BL9: =(_xlfn.STDEV.S('Single data'!CH10:CL10)/SQRT(5)) -> 138.93231 | BM9: =AVERAGE('Single data'!CM10:CQ10) -> 385.13 | BN9: ± | BO9: =(_xlfn.STDEV.S('Single data'!CM10:CQ10)/SQRT(5)) -> 85.160412 | BP9: =AVERAGE('Single data'!CR10:CV10) -> 410.8959 | BQ9: ± | BR9: =_xlfn.STDEV.S('Single data'!CR10:CV10)/SQRT(5) -> 74.070302 | BS9: =AVERAGE('Single data'!CW10:DA10) -> 396.80679 | BT9: ± | BU9: =(_xlfn.STDEV.S('Single data'!CW10:DA10)/SQRT(5)) -> 94.000008 | BV9: =AVERAGE('Single data'!DB10:DF10) -> 481.01056 | BW9: ± | BX9: =(_xlfn.STDEV.S('Single data'!DB10:DF10)/SQRT(5)) -> 103.92703 | BY9: =AVERAGE('Single data'!DG10:DK10) -> 703.63279 | BZ9: ± | CA9: =(_xlfn.STDEV.S('Single data'!DG10:DK10)/SQRT(5)) -> 227.81955 | CB9: =AVERAGE('Single data'!DL10:DP10) -> 1287.9214 | CC9: ± | CD9: =(_xlfn.STDEV.S('Single data'!DL10:DP10)/SQRT(5)) -> 309.51671 | CE9: =AVERAGE('Single data'!DQ10:DU10) -> 590.04779 | CF9: ± | CG9: =(_xlfn.STDEV.S('Single data'!DQ10:DU10)/SQRT(5)) -> 143.21405 | CH9: =AVERAGE('Single data'!DV10:DZ10) -> 704.98187 | CI9: ± | CJ9: =_xlfn.STDEV.S('Single data'!DV10:DZ10)/SQRT(5) -> 225.66344 | CK9: =AVERAGE('Single data'!EA10:EE10) -> 362.70419 | CL9: ± | CM9: =(_xlfn.STDEV.S('Single data'!EA10:EE10)/SQRT(5)) -> 80.828292 | CN9: =AVERAGE('Single data'!EF10:EJ10) -> 387.17083 | CO9: ± | CP9: =_xlfn.STDEV.S('Single data'!EF10:EJ10)/SQRT(5) -> 94.355296 | CQ9: =AVERAGE('Single data'!EK10:EO10) -> 495.01023 | CR9: ± | CS9: =(_xlfn.STDEV.S('Single data'!EK10:EO10)/SQRT(5)) -> 154.27955 | CT9: =AVERAGE('Single data'!EP10:ET10) -> 359.86868 | CU9: ± | CV9: =_xlfn.STDEV.S('Single data'!EP10:ET10)/SQRT(5) -> 77.525042 | CW9: =AVERAGE('Single data'!EU10:EY10) -> 398.01328 | CX9: ± | CY9: =(_xlfn.STDEV.S('Single data'!EU10:EY10)/SQRT(5)) -> 65.982583 | CZ9: =AVERAGE('Single data'!EZ10:FD10) -> 329.79178 | DA9: ± | DB9: =_xlfn.STDEV.S('Single data'!EZ10:FD10)/SQRT(5) -> 75.104546
C10: 15-HETE | D10: =AVERAGE('Single data'!D11:H11) -> 13.573323 | E10: ± | F10: =(_xlfn.STDEV.S('Single data'!D11:H11)/SQRT(5)) -> 1.617385 | G10: =AVERAGE('Single data'!I11:L11) -> 8.979005 | H10: ± | I10: =(_xlfn.STDEV.S('Single data'!I11:L11)/SQRT(4)) -> 1.3796358 | M10: =AVERAGE('Single data'!Q11:T11) -> 10.193997 | N10: ± | O10: =(_xlfn.STDEV.S('Single data'!Q11:T11)/SQRT(4)) -> 1.6031981 | P10: =AVERAGE('Single data'!U11:X11) -> 85.061413 | Q10: ± | R10: =_xlfn.STDEV.S('Single data'!U11:X11)/SQRT(4) -> 42.241184 | S10: =AVERAGE('Single data'!Y11:AB11) -> 14.05967 | T10: ± | U10: =(_xlfn.STDEV.S('Single data'!Y11:AB11)/SQRT(4)) -> 1.9896427 | V10: =AVERAGE('Single data'!AC11:AF11) -> 54.614549 | W10: ± | X10: =(_xlfn.STDEV.S('Single data'!AC11:AF11)/SQRT(4)) -> 9.2598351 | Y10: =AVERAGE('Single data'!AG11:AJ11) -> 22.40622 | Z10: ± | AA10: =(_xlfn.STDEV.S('Single data'!AG11:AJ11)/SQRT(4)) -> 8.0717363 | AB10: =AVERAGE('Single data'!AK11:AN11) -> 172.0192 | AC10: ± | AD10: =(_xlfn.STDEV.S('Single data'!AK11:AN11)/SQRT(3)) -> 32.129226 | AE10: =AVERAGE('Single data'!AO11:AR11) -> 8.4971524 | AF10: ± | AG10: =(_xlfn.STDEV.S('Single data'!AO11:AR11)/SQRT(4)) -> 0.87434682 | AH10: =AVERAGE('Single data'!AS11:AV11) -> 135.5088 | AI10: ± | AJ10: =_xlfn.STDEV.S('Single data'!AS11:AV11)/SQRT(4) -> 39.455349 | AK10: =AVERAGE('Single data'!AW11:AZ11) -> 12.80646 | AL10: ± | AM10: =(_xlfn.STDEV.S('Single data'!AW11:AZ11)/SQRT(4)) -> 1.9179447 | AN10: =AVERAGE('Single data'!BA11:BD11) -> 58.60544 | AO10: ± | AP10: =_xlfn.STDEV.S('Single data'!BA11:BD11)/SQRT(4) -> 9.330153 | AQ10: =AVERAGE('Single data'!BE11:BH11) -> 15.933216 | AR10: ± | AS10: =(_xlfn.STDEV.S('Single data'!BE11:BH11)/SQRT(4)) -> 4.5781857 | AT10: =AVERAGE('Single data'!BI11:BL11) -> 53.670221 | AU10: ± | AV10: =_xlfn.STDEV.S('Single data'!BI11:BL11)/SQRT(4) -> 19.981307 | AW10: =AVERAGE('Single data'!BM11:BP11) -> 8.7599454 | AX10: ± | AY10: =(_xlfn.STDEV.S('Single data'!BM11:BP11)/SQRT(3)) -> 2.3664729 | AZ10: =AVERAGE('Single data'!BQ11:BT11) -> 23.72582 | BA10: ± | BB10: =_xlfn.STDEV.S('Single data'!BQ11:BT11)/SQRT(4) -> 7.35613 | BD10: =AVERAGE('Single data'!BV11:CB11) -> 1284.2693 | BE10: ± | BF10: =(_xlfn.STDEV.S('Single data'!BV11:CB11)/SQRT(7)) -> 231.19866 | BG10: =AVERAGE('Single data'!CC11:CG11) -> 1474.9716 | BH10: ± | BI10: =(_xlfn.STDEV.S('Single data'!CC11:CG11)/SQRT(5)) -> 436.46817 | BJ10: =AVERAGE('Single data'!CH11:CL11) -> 1158.2865 | BK10: ± | BL10: =(_xlfn.STDEV.S('Single data'!CH11:CL11)/SQRT(5)) -> 233.76473 | BM10: =AVERAGE('Single data'!CM11:CQ11) -> 1237.189 | BN10: ± | BO10: =(_xlfn.STDEV.S('Single data'!CM11:CQ11)/SQRT(5)) -> 420.83373 | BP10: =AVERAGE('Single data'!CR11:CV11) -> 875.21195 | BQ10: ± | BR10: =_xlfn.STDEV.S('Single data'!CR11:CV11)/SQRT(5) -> 227.43096 | BS10: =AVERAGE('Single data'!CW11:DA11) -> 1260.58 | BT10: ± | BU10: =(_xlfn.STDEV.S('Single data'!CW11:DA11)/SQRT(5)) -> 273.94154 | BV10: =AVERAGE('Single data'!DB11:DF11) -> 1106.3723 | BW10: ± | BX10: =(_xlfn.STDEV.S('Single data'!DB11:DF11)/SQRT(5)) -> 262.50518 | BY10: =AVERAGE('Single data'!DG11:DK11) -> 1075.9727 | BZ10: ± | CA10: =(_xlfn.STDEV.S('Single data'!DG11:DK11)/SQRT(5)) -> 271.65443 | CB10: =AVERAGE('Single data'!DL11:DP11) -> 1459.0082 | CC10: ± | CD10: =(_xlfn.STDEV.S('Single data'!DL11:DP11)/SQRT(5)) -> 243.41187 | CE10: =AVERAGE('Single data'!DQ11:DU11) -> 1126.1912 | CF10: ± | CG10: =(_xlfn.STDEV.S('Single data'!DQ11:DU11)/SQRT(5)) -> 257.17528 | CH10: =AVERAGE('Single data'!DV11:DZ11) -> 1112.628 | CI10: ± | CJ10: =_xlfn.STDEV.S('Single data'!DV11:DZ11)/SQRT(5) -> 333.44518 | CK10: =AVERAGE('Single data'!EA11:EE11) -> 1167.1067 | CL10: ± | CM10: =(_xlfn.STDEV.S('Single data'!EA11:EE11)/SQRT(5)) -> 297.20578 | CN10: =AVERAGE('Single data'!EF11:EJ11) -> 1179.995 | CO10: ± | CP10: =_xlfn.STDEV.S('Single data'!EF11:EJ11)/SQRT(5) -> 370.34937 | CQ10: =AVERAGE('Single data'!EK11:EO11) -> 1263.1658 | CR10: ± | CS10: =(_xlfn.STDEV.S('Single data'!EK11:EO11)/SQRT(5)) -> 343.29397 | CT10: =AVERAGE('Single data'!EP11:ET11) -> 1275.5034 | CU10: ± | CV10: =_xlfn.STDEV.S('Single data'!EP11:ET11)/SQRT(5) -> 445.70243 | CW10: =AVERAGE('Single data'!EU11:EY11) -> 1130.3947 | CX10: ± | CY10: =(_xlfn.STDEV.S('Single data'!EU11:EY11)/SQRT(5)) -> 243.56611 | CZ10: =AVERAGE('Single data'!EZ11:FD11) -> 1101.0051 | DA10: ± | DB10: =_xlfn.STDEV.S('Single data'!EZ11:FD11)/SQRT(5) -> 290.88722
C11: 14-HDHA | D11: =AVERAGE('Single data'!D12:H12) -> 2.6207051 | E11: ± | F11: =(_xlfn.STDEV.S('Single data'!D12:H12)/SQRT(5)) -> 1.423083 | G11: =AVERAGE('Single data'!I12:L12) -> 1.3268778 | H11: ± | I11: =(_xlfn.STDEV.S('Single data'!I12:L12)/SQRT(4)) -> 0.22784154 | M11: =AVERAGE('Single data'!Q12:T12) -> 2.4235446 | N11: ± | O11: =(_xlfn.STDEV.S('Single data'!Q12:T12)/SQRT(4)) -> 0.79377339 | P11: =AVERAGE('Single data'!U12:X12) -> 6.6269629 | Q11: ± | R11: =_xlfn.STDEV.S('Single data'!U12:X12)/SQRT(4) -> 2.2543722 | S11: =AVERAGE('Single data'!Y12:AB12) -> 1.9254247 | T11: ± | U11: =(_xlfn.STDEV.S('Single data'!Y12:AB12)/SQRT(4)) -> 0.39621074 | V11: =AVERAGE('Single data'!AC12:AF12) -> 5.2219644 | W11: ± | X11: =(_xlfn.STDEV.S('Single data'!AC12:AF12)/SQRT(4)) -> 1.4933472 | Y11: =AVERAGE('Single data'!AG12:AJ12) -> 1.5224307 | Z11: ± | AA11: =(_xlfn.STDEV.S('Single data'!AG12:AJ12)/SQRT(4)) -> 0.21905769 | AB11: =AVERAGE('Single data'!AK12:AN12) -> 6.7424147 | AC11: ± | AD11: =(_xlfn.STDEV.S('Single data'!AK12:AN12)/SQRT(3)) -> 0.80194258 | AE11: =AVERAGE('Single data'!AO12:AR12) -> 2.0294278 | AF11: ± | AG11: =(_xlfn.STDEV.S('Single data'!AO12:AR12)/SQRT(4)) -> 0.45757768 | AH11: =AVERAGE('Single data'!AS12:AV12) -> 8.3300617 | AI11: ± | AJ11: =_xlfn.STDEV.S('Single data'!AS12:AV12)/SQRT(4) -> 3.0350381 | AK11: =AVERAGE('Single data'!AW12:AZ12) -> 1.5002231 | AL11: ± | AM11: =(_xlfn.STDEV.S('Single data'!AW12:AZ12)/SQRT(4)) -> 0.72439683 | AN11: =AVERAGE('Single data'!BA12:BD12) -> 4.0702555 | AO11: ± | AP11: =_xlfn.STDEV.S('Single data'!BA12:BD12)/SQRT(4) -> 1.2726474 | AQ11: =AVERAGE('Single data'!BE12:BH12) -> 1.8395862 | AR11: ± | AS11: =(_xlfn.STDEV.S('Single data'!BE12:BH12)/SQRT(4)) -> 0.65991733 | AT11: =AVERAGE('Single data'!BI12:BL12) -> 5.1765541 | AU11: ± | AV11: =_xlfn.STDEV.S('Single data'!BI12:BL12)/SQRT(4) -> 1.5224274 | AW11: =AVERAGE('Single data'!BM12:BP12) -> 1.5005398 | AX11: ± | AY11: =(_xlfn.STDEV.S('Single data'!BM12:BP12)/SQRT(3)) -> 0.84993645 | AZ11: =AVERAGE('Single data'!BQ12:BT12) -> 4.4218334 | BA11: ± | BB11: =_xlfn.STDEV.S('Single data'!BQ12:BT12)/SQRT(4) -> 2.8097974 | BD11: =AVERAGE('Single data'!BV12:CB12) -> 29.434536 | BE11: ± | BF11: =(_xlfn.STDEV.S('Single data'!BV12:CB12)/SQRT(7)) -> 6.0911491 | BG11: =AVERAGE('Single data'!CC12:CG12) -> 25.790846 | BH11: ± | BI11: =(_xlfn.STDEV.S('Single data'!CC12:CG12)/SQRT(5)) -> 3.3066487 | BJ11: =AVERAGE('Single data'!CH12:CL12) -> 42.839511 | BK11: ± | BL11: =(_xlfn.STDEV.S('Single data'!CH12:CL12)/SQRT(5)) -> 2.5156177 | BM11: =AVERAGE('Single data'!CM12:CQ12) -> 29.54566 | BN11: ± | BO11: =(_xlfn.STDEV.S('Single data'!CM12:CQ12)/SQRT(5)) -> 4.4418024 | BP11: =AVERAGE('Single data'!CR12:CV12) -> 46.493323 | BQ11: ± | BR11: =_xlfn.STDEV.S('Single data'!CR12:CV12)/SQRT(5) -> 8.975878 | BS11: =AVERAGE('Single data'!CW12:DA12) -> 23.381626 | BT11: ± | BU11: =(_xlfn.STDEV.S('Single data'!CW12:DA12)/SQRT(5)) -> 4.2261369 | BV11: =AVERAGE('Single data'!DB12:DF12) -> 23.285812 | BW11: ± | BX11: =(_xlfn.STDEV.S('Single data'!DB12:DF12)/SQRT(5)) -> 2.4447528 | BY11: =AVERAGE('Single data'!DG12:DK12) -> 18.118273 | BZ11: ± | CA11: =(_xlfn.STDEV.S('Single data'!DG12:DK12)/SQRT(5)) -> 1.7060876 | CB11: =AVERAGE('Single data'!DL12:DP12) -> 18.606467 | CC11: ± | CD11: =(_xlfn.STDEV.S('Single data'!DL12:DP12)/SQRT(5)) -> 1.0810164 | CE11: =AVERAGE('Single data'!DQ12:DU12) -> 21.40634 | CF11: ± | CG11: =(_xlfn.STDEV.S('Single data'!DQ12:DU12)/SQRT(5)) -> 3.6346049 | CH11: =AVERAGE('Single data'!DV12:DZ12) -> 19.181529 | CI11: ± | CJ11: =_xlfn.STDEV.S('Single data'!DV12:DZ12)/SQRT(5) -> 3.165194 | CK11: =AVERAGE('Single data'!EA12:EE12) -> 21.036693 | CL11: ± | CM11: =(_xlfn.STDEV.S('Single data'!EA12:EE12)/SQRT(5)) -> 2.2504569 | CN11: =AVERAGE('Single data'!EF12:EJ12) -> 20.232646 | CO11: ± | CP11: =_xlfn.STDEV.S('Single data'!EF12:EJ12)/SQRT(5) -> 2.5853502 | CQ11: =AVERAGE('Single data'!EK12:EO12) -> 22.685051 | CR11: ± | CS11: =(_xlfn.STDEV.S('Single data'!EK12:EO12)/SQRT(5)) -> 4.2402004 | CT11: =AVERAGE('Single data'!EP12:ET12) -> 19.426011 | CU11: ± | CV11: =_xlfn.STDEV.S('Single data'!EP12:ET12)/SQRT(5) -> 3.1948185 | CW11: =AVERAGE('Single data'!EU12:EY12) -> 25.786696 | CX11: ± | CY11: =(_xlfn.STDEV.S('Single data'!EU12:EY12)/SQRT(5)) -> 3.4351261 | CZ11: =AVERAGE('Single data'!EZ12:FD12) -> 18.253722 | DA11: ± | DB11: =_xlfn.STDEV.S('Single data'!EZ12:FD12)/SQRT(5) -> 2.8329386
C12: 18-HEPE | D12: =AVERAGE('Single data'!D13:H13) -> 16.135769 | E12: ± | F12: =(_xlfn.STDEV.S('Single data'!D13:H13)/SQRT(5)) -> 3.8452751 | G12: =AVERAGE('Single data'!I13:L13) -> 5.1805332 | H12: ± | I12: =(_xlfn.STDEV.S('Single data'!I13:L13)/SQRT(4)) -> 1.7592436 | J12: =AVERAGE('Single data'!M13:P13) -> 6.5295323 | K12: ± | L12: =(_xlfn.STDEV.S('Single data'!M13:P13)/SQRT(4)) -> 2.0345213 | M12: =AVERAGE('Single data'!Q13:T13) -> 12.442922 | N12: ± | O12: =(_xlfn.STDEV.S('Single data'!Q13:T13)/SQRT(4)) -> 4.3439723 | P12: =AVERAGE('Single data'!U13:X13) -> 33.008555 | Q12: ± | R12: =_xlfn.STDEV.S('Single data'!U13:X13)/SQRT(4) -> 11.944957 | S12: =AVERAGE('Single data'!Y13:AB13) -> 29.938071 | T12: ± | U12: =(_xlfn.STDEV.S('Single data'!Y13:AB13)/SQRT(4)) -> 21.27667 | V12: =AVERAGE('Single data'!AC13:AF13) -> 12.547915 | W12: ± | X12: =(_xlfn.STDEV.S('Single data'!AC13:AF13)/SQRT(4)) -> 1.7584326 | Y12: =AVERAGE('Single data'!AG13:AJ13) -> 9.2963038 | Z12: ± | AA12: =(_xlfn.STDEV.S('Single data'!AG13:AJ13)/SQRT(4)) -> 1.6685778 | AB12: =AVERAGE('Single data'!AK13:AN13) -> 12.362995 | AC12: ± | AD12: =(_xlfn.STDEV.S('Single data'!AK13:AN13)/SQRT(3)) -> 2.4484764 | AE12: =AVERAGE('Single data'!AO13:AR13) -> 8.4111996 | AF12: ± | AG12: =(_xlfn.STDEV.S('Single data'!AO13:AR13)/SQRT(4)) -> 1.413814 | AH12: =AVERAGE('Single data'!AS13:AV13) -> 14.813534 | AI12: ± | AJ12: =_xlfn.STDEV.S('Single data'!AS13:AV13)/SQRT(4) -> 5.101827 | AK12: =AVERAGE('Single data'!AW13:AZ13) -> 8.9458873 | AL12: ± | AM12: =(_xlfn.STDEV.S('Single data'!AW13:AZ13)/SQRT(4)) -> 2.2023374 | AN12: =AVERAGE('Single data'!BA13:BD13) -> 10.154567 | AO12: ± | AP12: =_xlfn.STDEV.S('Single data'!BA13:BD13)/SQRT(4) -> 3.1293237 | AQ12: =AVERAGE('Single data'!BE13:BH13) -> 135.99905 | AR12: ± | AS12: =(_xlfn.STDEV.S('Single data'!BE13:BH13)/SQRT(4)) -> 129.08325 | AT12: =AVERAGE('Single data'!BI13:BL13) -> 13.160144 | AU12: ± | AV12: =_xlfn.STDEV.S('Single data'!BI13:BL13)/SQRT(4) -> 2.9894464 | AW12: =AVERAGE('Single data'!BM13:BP13) -> 19.566599 | AX12: ± | AY12: =(_xlfn.STDEV.S('Single data'!BM13:BP13)/SQRT(3)) -> 10.223665 | AZ12: =AVERAGE('Single data'!BQ13:BT13) -> 8.9883408 | BA12: ± | BB12: =_xlfn.STDEV.S('Single data'!BQ13:BT13)/SQRT(4) -> 3.1868145 | BD12: =AVERAGE('Single data'!BV13:CB13) -> 427.00146 | BE12: ± | BF12: =(_xlfn.STDEV.S('Single data'!BV13:CB13)/SQRT(7)) -> 339.91401 | BG12: =AVERAGE('Single data'!CC13:CG13) -> 79.464682 | BH12: ± | BI12: =(_xlfn.STDEV.S('Single data'!CC13:CG13)/SQRT(5)) -> 14.659412 | BJ12: =AVERAGE('Single data'!CH13:CL13) -> 62.2711 | BK12: ± | BL12: =(_xlfn.STDEV.S('Single data'!CH13:CL13)/SQRT(5)) -> 9.2001704 | BM12: =AVERAGE('Single data'!CM13:CQ13) -> 63.059133 | BN12: ± | BO12: =(_xlfn.STDEV.S('Single data'!CM13:CQ13)/SQRT(5)) -> 15.701905 | BP12: =AVERAGE('Single data'!CR13:CV13) -> 59.015459 | BQ12: ± | BR12: =_xlfn.STDEV.S('Single data'!CR13:CV13)/SQRT(5) -> 10.644902 | BS12: =AVERAGE('Single data'!CW13:DA13) -> 48.651238 | BT12: ± | BU12: =(_xlfn.STDEV.S('Single data'!CW13:DA13)/SQRT(5)) -> 12.341251 | BV12: =AVERAGE('Single data'!DB13:DF13) -> 48.147514 | BW12: ± | BX12: =(_xlfn.STDEV.S('Single data'!DB13:DF13)/SQRT(5)) -> 11.39017 | BY12: =AVERAGE('Single data'!DG13:DK13) -> 48.738491 | BZ12: ± | CA12: =(_xlfn.STDEV.S('Single data'!DG13:DK13)/SQRT(5)) -> 7.4593371 | CB12: =AVERAGE('Single data'!DL13:DP13) -> 43.403669 | CC12: ± | CD12: =(_xlfn.STDEV.S('Single data'!DL13:DP13)/SQRT(5)) -> 5.1532588 | CE12: =AVERAGE('Single data'!DQ13:DU13) -> 203.21159 | CF12: ± | CG12: =(_xlfn.STDEV.S('Single data'!DQ13:DU13)/SQRT(5)) -> 151.43463 | CH12: =AVERAGE('Single data'!DV13:DZ13) -> 268.1462 | CI12: ± | CJ12: =_xlfn.STDEV.S('Single data'!DV13:DZ13)/SQRT(5) -> 223.83438 | CK12: =AVERAGE('Single data'!EA13:EE13) -> 50.370702 | CL12: ± | CM12: =(_xlfn.STDEV.S('Single data'!EA13:EE13)/SQRT(5)) -> 7.1434501 | CN12: =AVERAGE('Single data'!EF13:EJ13) -> 60.507696 | CO12: ± | CP12: =_xlfn.STDEV.S('Single data'!EF13:EJ13)/SQRT(5) -> 15.977192 | CQ12: =AVERAGE('Single data'!EK13:EO13) -> 50.346044 | CR12: ± | CS12: =(_xlfn.STDEV.S('Single data'!EK13:EO13)/SQRT(5)) -> 8.7713821 | CT12: =AVERAGE('Single data'!EP13:ET13) -> 54.489649 | CU12: ± | CV12: =_xlfn.STDEV.S('Single data'!EP13:ET13)/SQRT(5) -> 16.010938 | CW12: =AVERAGE('Single data'!EU13:EY13) -> 57.949771 | CX12: ± | CY12: =(_xlfn.STDEV.S('Single data'!EU13:EY13)/SQRT(5)) -> 10.402178 | CZ12: =AVERAGE('Single data'!EZ13:FD13) -> 39.575118 | DA12: ± | DB12: =_xlfn.STDEV.S('Single data'!EZ13:FD13)/SQRT(5) -> 4.6780885
B13: ALOX 12/157 | C13: 15-HEPE | D13: =AVERAGE('Single data'!D14:H14) -> 3.031242 | E13: ± | F13: =(_xlfn.STDEV.S('Single data'!D14:H14)/SQRT(5)) -> 0.91841771 | G13: =AVERAGE('Single data'!I14:L14) -> 1.2533497 | H13: ± | I13: =(_xlfn.STDEV.S('Single data'!I14:L14)/SQRT(4)) -> 0.46798113 | J13: =AVERAGE('Single data'!M14:P14) -> 1.527779 | K13: ± | L13: =(_xlfn.STDEV.S('Single data'!M14:P14)/SQRT(4)) -> 0.5318489 | M13: =AVERAGE('Single data'!Q14:T14) -> 3.0116424 | N13: ± | O13: =(_xlfn.STDEV.S('Single data'!Q14:T14)/SQRT(4)) -> 0.80815628 | P13: =AVERAGE('Single data'!U14:X14) -> 6.150122 | Q13: ± | R13: =_xlfn.STDEV.S('Single data'!U14:X14)/SQRT(4) -> 2.0107544 | S13: =AVERAGE('Single data'!Y14:AB14) -> 3.7257872 | T13: ± | U13: =(_xlfn.STDEV.S('Single data'!Y14:AB14)/SQRT(4)) -> 1.0897499 | V13: =AVERAGE('Single data'!AC14:AF14) -> 4.0042036 | W13: ± | X13: =(_xlfn.STDEV.S('Single data'!AC14:AF14)/SQRT(4)) -> 0.54354371 | Y13: =AVERAGE('Single data'!AG14:AJ14) -> 2.6330414 | Z13: ± | AA13: =(_xlfn.STDEV.S('Single data'!AG14:AJ14)/SQRT(4)) -> 0.94696557 | AB13: =AVERAGE('Single data'!AK14:AN14) -> 7.6621897 | AC13: ± | AD13: =(_xlfn.STDEV.S('Single data'!AK14:AN14)/SQRT(3)) -> 0.13188547 | AE13: =AVERAGE('Single data'!AO14:AR14) -> 2.2278564 | AF13: ± | AG13: =(_xlfn.STDEV.S('Single data'!AO14:AR14)/SQRT(4)) -> 0.57932099 | AH13: =AVERAGE('Single data'!AS14:AV14) -> 10.119978 | AI13: ± | AJ13: =_xlfn.STDEV.S('Single data'!AS14:AV14)/SQRT(4) -> 4.1197621 | AK13: =AVERAGE('Single data'!AW14:AZ14) -> 2.1809791 | AL13: ± | AM13: =(_xlfn.STDEV.S('Single data'!AW14:AZ14)/SQRT(4)) -> 0.74107827 | AN13: =AVERAGE('Single data'!BA14:BD14) -> 3.4833621 | AO13: ± | AP13: =_xlfn.STDEV.S('Single data'!BA14:BD14)/SQRT(4) -> 0.92720786 | AQ13: =AVERAGE('Single data'!BE14:BH14) -> 11.383236 | AR13: ± | AS13: =(_xlfn.STDEV.S('Single data'!BE14:BH14)/SQRT(4)) -> 9.4746473 | AT13: =AVERAGE('Single data'!BI14:BL14) -> 4.6007777 | AU13: ± | AV13: =_xlfn.STDEV.S('Single data'!BI14:BL14)/SQRT(4) -> 1.547049 | AW13: =AVERAGE('Single data'!BM14:BP14) -> 2.6617978 | AX13: ± | AY13: =(_xlfn.STDEV.S('Single data'!BM14:BP14)/SQRT(3)) -> 1.2741072 | AZ13: =AVERAGE('Single data'!BQ14:BT14) -> 2.7037107 | BA13: ± | BB13: =_xlfn.STDEV.S('Single data'!BQ14:BT14)/SQRT(4) -> 0.88044352 | BD13: =AVERAGE('Single data'!BV14:CB14) -> 89.730535 | BE13: ± | BF13: =(_xlfn.STDEV.S('Single data'!BV14:CB14)/SQRT(7)) -> 56.240564 | BG13: =AVERAGE('Single data'!CC14:CG14) -> 25.600793 | BH13: ± | BI13: =(_xlfn.STDEV.S('Single data'!CC14:CG14)/SQRT(5)) -> 6.7760895 | BJ13: =AVERAGE('Single data'!CH14:CL14) -> 24.024474 | BK13: ± | BL13: =(_xlfn.STDEV.S('Single data'!CH14:CL14)/SQRT(5)) -> 5.5840207 | BM13: =AVERAGE('Single data'!CM14:CQ14) -> 18.894716 | BN13: ± | BO13: =(_xlfn.STDEV.S('Single data'!CM14:CQ14)/SQRT(5)) -> 5.8029301 | BP13: =AVERAGE('Single data'!CR14:CV14) -> 16.603892 | BQ13: ± | BR13: =_xlfn.STDEV.S('Single data'!CR14:CV14)/SQRT(5) -> 3.1906855 | BS13: =AVERAGE('Single data'!CW14:DA14) -> 19.574257 | BT13: ± | BU13: =(_xlfn.STDEV.S('Single data'!CW14:DA14)/SQRT(5)) -> 4.1631827 | BV13: =AVERAGE('Single data'!DB14:DF14) -> 22.040864 | BW13: ± | BX13: =(_xlfn.STDEV.S('Single data'!DB14:DF14)/SQRT(5)) -> 4.565827 | BY13: =AVERAGE('Single data'!DG14:DK14) -> 24.520455 | BZ13: ± | CA13: =(_xlfn.STDEV.S('Single data'!DG14:DK14)/SQRT(5)) -> 6.2900171 | CB13: =AVERAGE('Single data'!DL14:DP14) -> 49.290982 | CC13: ± | CD13: =(_xlfn.STDEV.S('Single data'!DL14:DP14)/SQRT(5)) -> 11.698702 | CE13: =AVERAGE('Single data'!DQ14:DU14) -> 48.952669 | CF13: ± | CG13: =(_xlfn.STDEV.S('Single data'!DQ14:DU14)/SQRT(5)) -> 26.010717 | CH13: =AVERAGE('Single data'!DV14:DZ14) -> 69.013683 | CI13: ± | CJ13: =_xlfn.STDEV.S('Single data'!DV14:DZ14)/SQRT(5) -> 42.722445 | CK13: =AVERAGE('Single data'!EA14:EE14) -> 17.758059 | CL13: ± | CM13: =(_xlfn.STDEV.S('Single data'!EA14:EE14)/SQRT(5)) -> 4.3417747 | CN13: =AVERAGE('Single data'!EF14:EJ14) -> 22.25319 | CO13: ± | CP13: =_xlfn.STDEV.S('Single data'!EF14:EJ14)/SQRT(5) -> 6.5709503 | CQ13: =AVERAGE('Single data'!EK14:EO14) -> 21.66916 | CR13: ± | CS13: =(_xlfn.STDEV.S('Single data'!EK14:EO14)/SQRT(5)) -> 4.7224343 | CT13: =AVERAGE('Single data'!EP14:ET14) -> 22.121862 | CU13: ± | CV13: =_xlfn.STDEV.S('Single data'!EP14:ET14)/SQRT(5) -> 7.4101586 | CW13: =AVERAGE('Single data'!EU14:EY14) -> 16.68727 | CX13: ± | CY13: =(_xlfn.STDEV.S('Single data'!EU14:EY14)/SQRT(5)) -> 3.2965941 | CZ13: =AVERAGE('Single data'!EZ14:FD14) -> 15.784032 | DA13: ± | DB13: =_xlfn.STDEV.S('Single data'!EZ14:FD14)/SQRT(5) -> 3.2965156
C14: 14-HDPA | D14: =AVERAGE('Single data'!D15:H15) -> 10.002296 | E14: ± | F14: =(_xlfn.STDEV.S('Single data'!D15:H15)/SQRT(5)) -> 1.9309554 | G14: =AVERAGE('Single data'!I15:L15) -> 9.0812807 | H14: ± | I14: =(_xlfn.STDEV.S('Single data'!I15:L15)/SQRT(4)) -> 1.4624256 | J14: =AVERAGE('Single data'!M15:P15) -> 9.0397691 | K14: ± | L14: =(_xlfn.STDEV.S('Single data'!M15:P15)/SQRT(4)) -> 3.4370639 | M14: =AVERAGE('Single data'!Q15:T15) -> 12.258034 | N14: ± | O14: =(_xlfn.STDEV.S('Single data'!Q15:T15)/SQRT(4)) -> 1.8949436 | P14: =AVERAGE('Single data'!U15:X15) -> 24.526804 | Q14: ± | R14: =_xlfn.STDEV.S('Single data'!U15:X15)/SQRT(4) -> 5.1422181 | S14: =AVERAGE('Single data'!Y15:AB15) -> 16.427059 | T14: ± | U14: =(_xlfn.STDEV.S('Single data'!Y15:AB15)/SQRT(4)) -> 2.8124748 | V14: =AVERAGE('Single data'!AC15:AF15) -> 21.595157 | W14: ± | X14: =(_xlfn.STDEV.S('Single data'!AC15:AF15)/SQRT(4)) -> 5.0456572 | Y14: =AVERAGE('Single data'!AG15:AJ15) -> 13.068927 | Z14: ± | AA14: =(_xlfn.STDEV.S('Single data'!AG15:AJ15)/SQRT(4)) -> 2.2260211 | AB14: =AVERAGE('Single data'!AK15:AN15) -> 37.219726 | AC14: ± | AD14: =(_xlfn.STDEV.S('Single data'!AK15:AN15)/SQRT(3)) -> 4.6533969 | AE14: =AVERAGE('Single data'!AO15:AR15) -> 11.513904 | AF14: ± | AG14: =(_xlfn.STDEV.S('Single data'!AO15:AR15)/SQRT(4)) -> 1.5405101 | AH14: =AVERAGE('Single data'!AS15:AV15) -> 29.369229 | AI14: ± | AJ14: =_xlfn.STDEV.S('Single data'!AS15:AV15)/SQRT(4) -> 4.197937 | AK14: =AVERAGE('Single data'!AW15:AZ15) -> 14.8873 | AL14: ± | AM14: =(_xlfn.STDEV.S('Single data'!AW15:AZ15)/SQRT(4)) -> 2.2997858 | AN14: =AVERAGE('Single data'!BA15:BD15) -> 13.75834 | AO14: ± | AP14: =_xlfn.STDEV.S('Single data'!BA15:BD15)/SQRT(4) -> 2.2167288 | AQ14: =AVERAGE('Single data'!BE15:BH15) -> 9.0896248 | AR14: ± | AS14: =(_xlfn.STDEV.S('Single data'!BE15:BH15)/SQRT(4)) -> 1.9261672 | AT14: =AVERAGE('Single data'!BI15:BL15) -> 21.070259 | AU14: ± | AV14: =_xlfn.STDEV.S('Single data'!BI15:BL15)/SQRT(4) -> 4.6890691 | AW14: =AVERAGE('Single data'!BM15:BP15) -> 9.1712196 | AX14: ± | AY14: =(_xlfn.STDEV.S('Single data'!BM15:BP15)/SQRT(3)) -> 2.5405216 | AZ14: =AVERAGE('Single data'!BQ15:BT15) -> 14.347915 | BA14: ± | BB14: =_xlfn.STDEV.S('Single data'!BQ15:BT15)/SQRT(4) -> 3.0302708 | BD14: =AVERAGE('Single data'!BV15:CB15) -> 235.06213 | BE14: ± | BF14: =(_xlfn.STDEV.S('Single data'!BV15:CB15)/SQRT(7)) -> 34.681065 | BG14: =AVERAGE('Single data'!CC15:CG15) -> 212.87914 | BH14: ± | BI14: =(_xlfn.STDEV.S('Single data'!CC15:CG15)/SQRT(5)) -> 10.492686 | BJ14: =AVERAGE('Single data'!CH15:CL15) -> 307.82206 | BK14: ± | BL14: =(_xlfn.STDEV.S('Single data'!CH15:CL15)/SQRT(5)) -> 3.2821747 | BM14: =AVERAGE('Single data'!CM15:CQ15) -> 263.31767 | BN14: ± | BO14: =(_xlfn.STDEV.S('Single data'!CM15:CQ15)/SQRT(5)) -> 33.233241 | BP14: =AVERAGE('Single data'!CR15:CV15) -> 301.46054 | BQ14: ± | BR14: =_xlfn.STDEV.S('Single data'!CR15:CV15)/SQRT(5) -> 39.352758 | BS14: =AVERAGE('Single data'!CW15:DA15) -> 209.51974 | BT14: ± | BU14: =(_xlfn.STDEV.S('Single data'!CW15:DA15)/SQRT(5)) -> 26.184766 | BV14: =AVERAGE('Single data'!DB15:DF15) -> 195.06812 | BW14: ± | BX14: =(_xlfn.STDEV.S('Single data'!DB15:DF15)/SQRT(5)) -> 17.100811 | BY14: =AVERAGE('Single data'!DG15:DK15) -> 203.38736 | BZ14: ± | CA14: =(_xlfn.STDEV.S('Single data'!DG15:DK15)/SQRT(5)) -> 10.83199 | CB14: =AVERAGE('Single data'!DL15:DP15) -> 150.79221 | CC14: ± | CD14: =(_xlfn.STDEV.S('Single data'!DL15:DP15)/SQRT(5)) -> 9.9604694 | CE14: =AVERAGE('Single data'!DQ15:DU15) -> 196.13773 | CF14: ± | CG14: =(_xlfn.STDEV.S('Single data'!DQ15:DU15)/SQRT(5)) -> 31.172097 | CH14: =AVERAGE('Single data'!DV15:DZ15) -> 164.12505 | CI14: ± | CJ14: =_xlfn.STDEV.S('Single data'!DV15:DZ15)/SQRT(5) -> 19.113857 | CK14: =AVERAGE('Single data'!EA15:EE15) -> 198.03927 | CL14: ± | CM14: =(_xlfn.STDEV.S('Single data'!EA15:EE15)/SQRT(5)) -> 21.160854 | CN14: =AVERAGE('Single data'!EF15:EJ15) -> 181.93812 | CO14: ± | CP14: =_xlfn.STDEV.S('Single data'!EF15:EJ15)/SQRT(5) -> 21.226021 | CQ14: =AVERAGE('Single data'!EK15:EO15) -> 228.1431 | CR14: ± | CS14: =(_xlfn.STDEV.S('Single data'!EK15:EO15)/SQRT(5)) -> 34.663326 | CT14: =AVERAGE('Single data'!EP15:ET15) -> 177.68477 | CU14: ± | CV14: =_xlfn.STDEV.S('Single data'!EP15:ET15)/SQRT(5) -> 24.796557 | CW14: =AVERAGE('Single data'!EU15:EY15) -> 226.20662 | CX14: ± | CY14: =(_xlfn.STDEV.S('Single data'!EU15:EY15)/SQRT(5)) -> 26.942961 | CZ14: =AVERAGE('Single data'!EZ15:FD15) -> 164.43722 | DA14: ± | DB14: =_xlfn.STDEV.S('Single data'!EZ15:FD15)/SQRT(5) -> 17.828714
C15: 12-HEPE | D15: =AVERAGE('Single data'!D16:H16) -> 1.8847375 | E15: ± | F15: =(_xlfn.STDEV.S('Single data'!D16:H16)/SQRT(5)) -> 0.75283828 | G15: =AVERAGE('Single data'!I16:L16) -> 0.44707574 | H15: ± | I15: =(_xlfn.STDEV.S('Single data'!I16:L16)/SQRT(4)) -> 0.099015418 | J15: =AVERAGE('Single data'!M16:P16) -> 0.50599951 | K15: ± | L15: =(_xlfn.STDEV.S('Single data'!M16:P16)/SQRT(4)) -> 0.085275121 | M15: =AVERAGE('Single data'!Q16:T16) -> 1.9067521 | N15: ± | O15: =(_xlfn.STDEV.S('Single data'!Q16:T16)/SQRT(4)) -> 0.98108092 | P15: =AVERAGE('Single data'!U16:X16) -> 4.1674675 | Q15: ± | R15: =_xlfn.STDEV.S('Single data'!U16:X16)/SQRT(4) -> 1.493381 | S15: =AVERAGE('Single data'!Y16:AB16) -> 2.5561366 | T15: ± | U15: =(_xlfn.STDEV.S('Single data'!Y16:AB16)/SQRT(4)) -> 1.5103049 | V15: =AVERAGE('Single data'!AC16:AF16) -> 1.8384051 | W15: ± | X15: =(_xlfn.STDEV.S('Single data'!AC16:AF16)/SQRT(4)) -> 0.61621891 | Y15: =AVERAGE('Single data'!AG16:AJ16) -> 0.73213979 | Z15: ± | AA15: =(_xlfn.STDEV.S('Single data'!AG16:AJ16)/SQRT(4)) -> 0.048052193 | AB15: =AVERAGE('Single data'!AK16:AN16) -> 2.0274364 | AC15: ± | AD15: =(_xlfn.STDEV.S('Single data'!AK16:AN16)/SQRT(3)) -> 0.41412365 | AE15: =AVERAGE('Single data'!AO16:AR16) -> 0.96257714 | AF15: ± | AG15: =(_xlfn.STDEV.S('Single data'!AO16:AR16)/SQRT(4)) -> 0.31336633 | AH15: =AVERAGE('Single data'!AS16:AV16) -> 2.6966917 | AI15: ± | AJ15: =_xlfn.STDEV.S('Single data'!AS16:AV16)/SQRT(4) -> 1.2718843 | AK15: =AVERAGE('Single data'!AW16:AZ16) -> 1.0036488 | AL15: ± | AM15: =(_xlfn.STDEV.S('Single data'!AW16:AZ16)/SQRT(4)) -> 0.49992848 | AN15: =AVERAGE('Single data'!BA16:BD16) -> 1.2102454 | AO15: ± | AP15: =_xlfn.STDEV.S('Single data'!BA16:BD16)/SQRT(4) -> 0.55914137 | AQ15: =AVERAGE('Single data'!BE16:BH16) -> 5.5362763 | AR15: ± | AS15: =(_xlfn.STDEV.S('Single data'!BE16:BH16)/SQRT(4)) -> 5.080924 | AT15: =AVERAGE('Single data'!BI16:BL16) -> 1.9444486 | AU15: ± | AV15: =_xlfn.STDEV.S('Single data'!BI16:BL16)/SQRT(4) -> 0.55567308 | AW15: =AVERAGE('Single data'!BM16:BP16) -> 1.721041 | AX15: ± | AY15: =(_xlfn.STDEV.S('Single data'!BM16:BP16)/SQRT(3)) -> 0.79568113 | AZ15: =AVERAGE('Single data'!BQ16:BT16) -> 1.4449168 | BA15: ± | BB15: =_xlfn.STDEV.S('Single data'!BQ16:BT16)/SQRT(4) -> 0.65358582 | BD15: =AVERAGE('Single data'!BV16:CB16) -> 65.717515 | BE15: ± | BF15: =(_xlfn.STDEV.S('Single data'!BV16:CB16)/SQRT(7)) -> 56.150537 | BG15: =AVERAGE('Single data'!CC16:CG16) -> 4.7479421 | BH15: ± | BI15: =(_xlfn.STDEV.S('Single data'!CC16:CG16)/SQRT(5)) -> 0.65033659 | BJ15: =AVERAGE('Single data'!CH16:CL16) -> 6.2058192 | BK15: ± | BL15: =(_xlfn.STDEV.S('Single data'!CH16:CL16)/SQRT(5)) -> 0.84989668 | BM15: =AVERAGE('Single data'!CM16:CQ16) -> 5.0047969 | BN15: ± | BO15: =(_xlfn.STDEV.S('Single data'!CM16:CQ16)/SQRT(5)) -> 0.90489655 | BP15: =AVERAGE('Single data'!CR16:CV16) -> 5.5535629 | BQ15: ± | BR15: =_xlfn.STDEV.S('Single data'!CR16:CV16)/SQRT(5) -> 0.99405824 | BS15: =AVERAGE('Single data'!CW16:DA16) -> 4.0909642 | BT15: ± | BU15: =(_xlfn.STDEV.S('Single data'!CW16:DA16)/SQRT(5)) -> 1.1313753 | BV15: =AVERAGE('Single data'!DB16:DF16) -> 3.6320756 | BW15: ± | BX15: =(_xlfn.STDEV.S('Single data'!DB16:DF16)/SQRT(5)) -> 0.33244467 | BY15: =AVERAGE('Single data'!DG16:DK16) -> 3.3577566 | BZ15: ± | CA15: =(_xlfn.STDEV.S('Single data'!DG16:DK16)/SQRT(5)) -> 0.12912156 | CB15: =AVERAGE('Single data'!DL16:DP16) -> 2.7960673 | CC15: ± | CD15: =(_xlfn.STDEV.S('Single data'!DL16:DP16)/SQRT(5)) -> 0.20778607 | CE15: =AVERAGE('Single data'!DQ16:DU16) -> 30.289366 | CF15: ± | CG15: =(_xlfn.STDEV.S('Single data'!DQ16:DU16)/SQRT(5)) -> 26.354556 | CH15: =AVERAGE('Single data'!DV16:DZ16) -> 38.677057 | CI15: ± | CJ15: =_xlfn.STDEV.S('Single data'!DV16:DZ16)/SQRT(5) -> 35.842716 | CK15: =AVERAGE('Single data'!EA16:EE16) -> 3.5395219 | CL15: ± | CM15: =(_xlfn.STDEV.S('Single data'!EA16:EE16)/SQRT(5)) -> 0.36953525 | CN15: =AVERAGE('Single data'!EF16:EJ16) -> 4.1132585 | CO15: ± | CP15: =_xlfn.STDEV.S('Single data'!EF16:EJ16)/SQRT(5) -> 0.81887923 | CQ15: =AVERAGE('Single data'!EK16:EO16) -> 4.204363 | CR15: ± | CS15: =(_xlfn.STDEV.S('Single data'!EK16:EO16)/SQRT(5)) -> 0.44122489 | CT15: =AVERAGE('Single data'!EP16:ET16) -> 3.6128896 | CU15: ± | CV15: =_xlfn.STDEV.S('Single data'!EP16:ET16)/SQRT(5) -> 0.96870027 | CW15: =AVERAGE('Single data'!EU16:EY16) -> 3.9398256 | CX15: ± | CY15: =(_xlfn.STDEV.S('Single data'!EU16:EY16)/SQRT(5)) -> 1.1635522 | CZ15: =AVERAGE('Single data'!EZ16:FD16) -> 2.6673151 | DA15: ± | DB15: =_xlfn.STDEV.S('Single data'!EZ16:FD16)/SQRT(5) -> 0.67980157
C16: 12-HETE | D16: =AVERAGE('Single data'!D17:H17) -> 2.307018 | E16: ± | F16: =(_xlfn.STDEV.S('Single data'!D17:H17)/SQRT(5)) -> 0.2023055 | G16: =AVERAGE('Single data'!I17:L17) -> 1.6948785 | H16: ± | I16: =(_xlfn.STDEV.S('Single data'!I17:L17)/SQRT(4)) -> 0.16465983 | M16: =AVERAGE('Single data'!Q17:T17) -> 2.2275922 | N16: ± | O16: =(_xlfn.STDEV.S('Single data'!Q17:T17)/SQRT(4)) -> 0.48576045 | P16: =AVERAGE('Single data'!U17:X17) -> 9.0307767 | Q16: ± | R16: =_xlfn.STDEV.S('Single data'!U17:X17)/SQRT(4) -> 2.4544424 | S16: =AVERAGE('Single data'!Y17:AB17) -> 2.647107 | T16: ± | U16: =(_xlfn.STDEV.S('Single data'!Y17:AB17)/SQRT(4)) -> 0.36840205 | V16: =AVERAGE('Single data'!AC17:AF17) -> 4.3887863 | W16: ± | X16: =(_xlfn.STDEV.S('Single data'!AC17:AF17)/SQRT(4)) -> 1.0325048 | Y16: =AVERAGE('Single data'!AG17:AJ17) -> 2.6006977 | Z16: ± | AA16: =(_xlfn.STDEV.S('Single data'!AG17:AJ17)/SQRT(4)) -> 0.58421252 | AB16: =AVERAGE('Single data'!AK17:AN17) -> 7.2359552 | AC16: ± | AD16: =(_xlfn.STDEV.S('Single data'!AK17:AN17)/SQRT(3)) -> 1.3900898 | AE16: =AVERAGE('Single data'!AO17:AR17) -> 2.363122 | AF16: ± | AG16: =(_xlfn.STDEV.S('Single data'!AO17:AR17)/SQRT(4)) -> 0.30603915 | AH16: =AVERAGE('Single data'!AS17:AV17) -> 6.1274331 | AI16: ± | AJ16: =_xlfn.STDEV.S('Single data'!AS17:AV17)/SQRT(4) -> 1.6168404 | AK16: =AVERAGE('Single data'!AW17:AZ17) -> 2.0143565 | AL16: ± | AM16: =(_xlfn.STDEV.S('Single data'!AW17:AZ17)/SQRT(4)) -> 0.79459963 | AN16: =AVERAGE('Single data'!BA17:BD17) -> 3.5982423 | AO16: ± | AP16: =_xlfn.STDEV.S('Single data'!BA17:BD17)/SQRT(4) -> 1.1412287 | AQ16: =AVERAGE('Single data'!BE17:BH17) -> 2.8511488 | AR16: ± | AS16: =(_xlfn.STDEV.S('Single data'!BE17:BH17)/SQRT(4)) -> 1.0276282 | AT16: =AVERAGE('Single data'!BI17:BL17) -> 6.1456692 | AU16: ± | AV16: =_xlfn.STDEV.S('Single data'!BI17:BL17)/SQRT(4) -> 2.0338475 | AW16: =AVERAGE('Single data'!BM17:BP17) -> 1.8381247 | AX16: ± | AY16: =(_xlfn.STDEV.S('Single data'!BM17:BP17)/SQRT(3)) -> 0.27697144 | AZ16: =AVERAGE('Single data'!BQ17:BT17) -> 2.8651345 | BA16: ± | BB16: =_xlfn.STDEV.S('Single data'!BQ17:BT17)/SQRT(4) -> 0.64284177 | BD16: =AVERAGE('Single data'!BV17:CB17) -> 89.150862 | BE16: ± | BF16: =(_xlfn.STDEV.S('Single data'!BV17:CB17)/SQRT(7)) -> 33.716859 | BG16: =AVERAGE('Single data'!CC17:CG17) -> 30.821166 | BH16: ± | BI16: =(_xlfn.STDEV.S('Single data'!CC17:CG17)/SQRT(5)) -> 3.3272486 | BJ16: =AVERAGE('Single data'!CH17:CL17) -> 52.644815 | BK16: ± | BL16: =(_xlfn.STDEV.S('Single data'!CH17:CL17)/SQRT(5)) -> 5.1202888 | BM16: =AVERAGE('Single data'!CM17:CQ17) -> 41.444034 | BN16: ± | BO16: =(_xlfn.STDEV.S('Single data'!CM17:CQ17)/SQRT(5)) -> 8.8223909 | BP16: =AVERAGE('Single data'!CR17:CV17) -> 61.623886 | BQ16: ± | BR16: =_xlfn.STDEV.S('Single data'!CR17:CV17)/SQRT(5) -> 13.292848 | BS16: =AVERAGE('Single data'!CW17:DA17) -> 34.63555 | BT16: ± | BU16: =(_xlfn.STDEV.S('Single data'!CW17:DA17)/SQRT(5)) -> 6.3776863 | BV16: =AVERAGE('Single data'!DB17:DF17) -> 35.782251 | BW16: ± | BX16: =(_xlfn.STDEV.S('Single data'!DB17:DF17)/SQRT(5)) -> 3.8300265 | BY16: =AVERAGE('Single data'!DG17:DK17) -> 23.755994 | BZ16: ± | CA16: =(_xlfn.STDEV.S('Single data'!DG17:DK17)/SQRT(5)) -> 2.3456361 | CB16: =AVERAGE('Single data'!DL17:DP17) -> 22.211682 | CC16: ± | CD16: =(_xlfn.STDEV.S('Single data'!DL17:DP17)/SQRT(5)) -> 1.3996496 | CE16: =AVERAGE('Single data'!DQ17:DU17) -> 41.641068 | CF16: ± | CG16: =(_xlfn.STDEV.S('Single data'!DQ17:DU17)/SQRT(5)) -> 10.340172 | CH16: =AVERAGE('Single data'!DV17:DZ17) -> 38.270007 | CI16: ± | CJ16: =_xlfn.STDEV.S('Single data'!DV17:DZ17)/SQRT(5) -> 12.708721 | CK16: =AVERAGE('Single data'!EA17:EE17) -> 29.865595 | CL16: ± | CM16: =(_xlfn.STDEV.S('Single data'!EA17:EE17)/SQRT(5)) -> 4.6517807 | CN16: =AVERAGE('Single data'!EF17:EJ17) -> 30.04181 | CO16: ± | CP16: =_xlfn.STDEV.S('Single data'!EF17:EJ17)/SQRT(5) -> 6.0036739 | CQ16: =AVERAGE('Single data'!EK17:EO17) -> 32.982895 | CR16: ± | CS16: =(_xlfn.STDEV.S('Single data'!EK17:EO17)/SQRT(5)) -> 6.8412008 | CT16: =AVERAGE('Single data'!EP17:ET17) -> 28.903251 | CU16: ± | CV16: =_xlfn.STDEV.S('Single data'!EP17:ET17)/SQRT(5) -> 5.8597649 | CW16: =AVERAGE('Single data'!EU17:EY17) -> 36.83297 | CX16: ± | CY16: =(_xlfn.STDEV.S('Single data'!EU17:EY17)/SQRT(5)) -> 9.6641443 | CZ16: =AVERAGE('Single data'!EZ17:FD17) -> 27.665009 | DA16: ± | DB16: =_xlfn.STDEV.S('Single data'!EZ17:FD17)/SQRT(5) -> 4.0896681
B17: ALOX5 | C17: LTB4 isomers | D17: =AVERAGE('Single data'!D18:H18) -> 5.1886359 | E17: ± | F17: =(_xlfn.STDEV.S('Single data'!D18:H18)/SQRT(5)) -> 1.7033582 | G17: =AVERAGE('Single data'!I18:L18) -> 6.9356854 | H17: ± | I17: =(_xlfn.STDEV.S('Single data'!I18:L18)/SQRT(4)) -> 3.6546131 | J17: =AVERAGE('Single data'!M18:P18) -> 2.9064727 | K17: ± | L17: =(_xlfn.STDEV.S('Single data'!M18:P18)/SQRT(4)) -> 1.185664 | M17: =AVERAGE('Single data'!Q18:T18) -> 5.0564099 | N17: ± | O17: =(_xlfn.STDEV.S('Single data'!Q18:T18)/SQRT(4)) -> 2.7474859 | P17: =AVERAGE('Single data'!U18:X18) -> 5.78363 | Q17: ± | R17: =_xlfn.STDEV.S('Single data'!U18:X18)/SQRT(4) -> 2.8376366 | S17: =AVERAGE('Single data'!Y18:AB18) -> 2.5911093 | T17: ± | U17: =(_xlfn.STDEV.S('Single data'!Y18:AB18)/SQRT(4)) -> 1.4532664 | V17: =AVERAGE('Single data'!AC18:AF18) -> 2.6393827 | W17: ± | X17: =(_xlfn.STDEV.S('Single data'!AC18:AF18)/SQRT(4)) -> 1.2192624 | Y17: =AVERAGE('Single data'!AG18:AJ18) -> 7.1664807 | Z17: ± | AA17: =(_xlfn.STDEV.S('Single data'!AG18:AJ18)/SQRT(4)) -> 4.8833018 | AB17: =AVERAGE('Single data'!AK18:AN18) -> 7.2746273 | AC17: ± | AD17: =(_xlfn.STDEV.S('Single data'!AK18:AN18)/SQRT(3)) -> 5.1426026 | AE17: =AVERAGE('Single data'!AO18:AR18) -> 5.9924006 | AF17: ± | AG17: =(_xlfn.STDEV.S('Single data'!AO18:AR18)/SQRT(4)) -> 3.4349437 | AH17: =AVERAGE('Single data'!AS18:AV18) -> 2.4915338 | AI17: ± | AJ17: =_xlfn.STDEV.S('Single data'!AS18:AV18)/SQRT(4) -> 0.65442929 | AK17: =AVERAGE('Single data'!AW18:AZ18) -> 2.1396784 | AL17: ± | AM17: =(_xlfn.STDEV.S('Single data'!AW18:AZ18)/SQRT(4)) -> 0.93352674 | AN17: =AVERAGE('Single data'!BA18:BD18) -> 3.5547057 | AO17: ± | AP17: =_xlfn.STDEV.S('Single data'!BA18:BD18)/SQRT(4) -> 1.5190496 | AQ17: =AVERAGE('Single data'!BE18:BH18) -> 3.9996266 | AR17: ± | AS17: =(_xlfn.STDEV.S('Single data'!BE18:BH18)/SQRT(4)) -> 2.0488893 | AT17: =AVERAGE('Single data'!BI18:BL18) -> 8.2457984 | AU17: ± | AV17: =_xlfn.STDEV.S('Single data'!BI18:BL18)/SQRT(4) -> 4.3449046 | AW17: =AVERAGE('Single data'!BM18:BP18) -> 2.846584 | AX17: ± | AY17: =(_xlfn.STDEV.S('Single data'!BM18:BP18)/SQRT(3)) -> 1.4799916 | AZ17: =AVERAGE('Single data'!BQ18:BT18) -> 3.9784735 | BA17: ± | BB17: =_xlfn.STDEV.S('Single data'!BQ18:BT18)/SQRT(4) -> 1.9329181 | BD17: =AVERAGE('Single data'!BV18:CB18) -> 1188.5073 | BE17: ± | BF17: =(_xlfn.STDEV.S('Single data'!BV18:CB18)/SQRT(7)) -> 356.70244 | BG17: =AVERAGE('Single data'!CC18:CG18) -> 1086.7133 | BH17: ± | BI17: =(_xlfn.STDEV.S('Single data'!CC18:CG18)/SQRT(5)) -> 530.43564 | BJ17: =AVERAGE('Single data'!CH18:CL18) -> 498.16808 | BK17: ± | BL17: =(_xlfn.STDEV.S('Single data'!CH18:CL18)/SQRT(5)) -> 226.23328 | BM17: =AVERAGE('Single data'!CM18:CQ18) -> 734.86597 | BN17: ± | BO17: =(_xlfn.STDEV.S('Single data'!CM18:CQ18)/SQRT(5)) -> 234.75555 | BP17: =AVERAGE('Single data'!CR18:CV18) -> 59.784415 | BQ17: ± | BR17: =_xlfn.STDEV.S('Single data'!CR18:CV18)/SQRT(5) -> 30.617235 | BS17: =AVERAGE('Single data'!CW18:DA18) -> 1318.7874 | BT17: ± | BU17: =(_xlfn.STDEV.S('Single data'!CW18:DA18)/SQRT(5)) -> 410.72799 | BV17: =AVERAGE('Single data'!DB18:DF18) -> 305.60543 | BW17: ± | BX17: =(_xlfn.STDEV.S('Single data'!DB18:DF18)/SQRT(5)) -> 125.17854 | BY17: =AVERAGE('Single data'!DG18:DK18) -> 765.72394 | BZ17: ± | CA17: =(_xlfn.STDEV.S('Single data'!DG18:DK18)/SQRT(5)) -> 339.84605 | CB17: =AVERAGE('Single data'!DL18:DP18) -> 112.50442 | CC17: ± | CD17: =(_xlfn.STDEV.S('Single data'!DL18:DP18)/SQRT(5)) -> 75.056381 | CE17: =AVERAGE('Single data'!DQ18:DU18) -> 1024.2955 | CF17: ± | CG17: =(_xlfn.STDEV.S('Single data'!DQ18:DU18)/SQRT(5)) -> 394.55117 | CH17: =AVERAGE('Single data'!DV18:DZ18) -> 121.3829 | CI17: ± | CJ17: =_xlfn.STDEV.S('Single data'!DV18:DZ18)/SQRT(5) -> 83.755816 | CK17: =AVERAGE('Single data'!EA18:EE18) -> 984.13409 | CL17: ± | CM17: =(_xlfn.STDEV.S('Single data'!EA18:EE18)/SQRT(5)) -> 326.06766 | CN17: =AVERAGE('Single data'!EF18:EJ18) -> 328.12585 | CO17: ± | CP17: =_xlfn.STDEV.S('Single data'!EF18:EJ18)/SQRT(5) -> 105.13517 | CQ17: =AVERAGE('Single data'!EK18:EO18) -> 738.27859 | CR17: ± | CS17: =(_xlfn.STDEV.S('Single data'!EK18:EO18)/SQRT(5)) -> 283.32317 | CT17: =AVERAGE('Single data'!EP18:ET18) -> 431.85682 | CU17: ± | CV17: =_xlfn.STDEV.S('Single data'!EP18:ET18)/SQRT(5) -> 195.54815 | CW17: =AVERAGE('Single data'!EU18:EY18) -> 902.46532 | CX17: ± | CY17: =(_xlfn.STDEV.S('Single data'!EU18:EY18)/SQRT(5)) -> 239.89007 | CZ17: =AVERAGE('Single data'!EZ18:FD18) -> 375.94039 | DA17: ± | DB17: =_xlfn.STDEV.S('Single data'!EZ18:FD18)/SQRT(5) -> 117.20483
C18: LTB4 | D18: =AVERAGE('Single data'!D19:H19) -> 3.9876668 | E18: ± | F18: =(_xlfn.STDEV.S('Single data'!D19:H19)/SQRT(5)) -> 2.2885205 | G18: =AVERAGE('Single data'!I19:L19) -> 41.86843 | H18: ± | I18: =(_xlfn.STDEV.S('Single data'!I19:L19)/SQRT(4)) -> 41.22632 | J18: =AVERAGE('Single data'!M19:P19) -> 32.211238 | K18: ± | L18: =(_xlfn.STDEV.S('Single data'!M19:P19)/SQRT(4)) -> 30.679534 | M18: =AVERAGE('Single data'!Q19:T19) -> 2.8947125 | N18: ± | O18: =(_xlfn.STDEV.S('Single data'!Q19:T19)/SQRT(4)) -> 1.4582185 | P18: =AVERAGE('Single data'!U19:X19) -> 4.1133478 | Q18: ± | R18: =_xlfn.STDEV.S('Single data'!U19:X19)/SQRT(4) -> 2.061094 | S18: =AVERAGE('Single data'!Y19:AB19) -> 3.7845361 | T18: ± | U18: =(_xlfn.STDEV.S('Single data'!Y19:AB19)/SQRT(4)) -> 2.3843525 | V18: =AVERAGE('Single data'!AC19:AF19) -> 3.5399995 | W18: ± | X18: =(_xlfn.STDEV.S('Single data'!AC19:AF19)/SQRT(4)) -> 0.87487197 | Y18: =AVERAGE('Single data'!AG19:AJ19) -> 137.03544 | Z18: ± | AA18: =(_xlfn.STDEV.S('Single data'!AG19:AJ19)/SQRT(4)) -> 134.82474 | AB18: =AVERAGE('Single data'!AK19:AN19) -> 95.567299 | AC18: ± | AD18: =(_xlfn.STDEV.S('Single data'!AK19:AN19)/SQRT(3)) -> 90.199948 | AE18: =AVERAGE('Single data'!AO19:AR19) -> 44.090137 | AF18: ± | AG18: =(_xlfn.STDEV.S('Single data'!AO19:AR19)/SQRT(4)) -> 41.492387 | AH18: =AVERAGE('Single data'!AS19:AV19) -> 11.415877 | AI18: ± | AJ18: =_xlfn.STDEV.S('Single data'!AS19:AV19)/SQRT(4) -> 8.6269493 | AK18: =AVERAGE('Single data'!AW19:AZ19) -> 2.9450233 | AL18: ± | AM18: =(_xlfn.STDEV.S('Single data'!AW19:AZ19)/SQRT(4)) -> 0.84890699 | AN18: =AVERAGE('Single data'!BA19:BD19) -> 14.170377 | AO18: ± | AP18: =_xlfn.STDEV.S('Single data'!BA19:BD19)/SQRT(4) -> 10.917308 | AQ18: =AVERAGE('Single data'!BE19:BH19) -> 1.1502943 | AR18: ± | AS18: =(_xlfn.STDEV.S('Single data'!BE19:BH19)/SQRT(4)) -> 0.63509938 | AT18: =AVERAGE('Single data'!BI19:BL19) -> 6.1052775 | AU18: ± | AV18: =_xlfn.STDEV.S('Single data'!BI19:BL19)/SQRT(4) -> 3.4430507 | AW18: =AVERAGE('Single data'!BM19:BP19) -> 1.4170272 | AX18: ± | AY18: =(_xlfn.STDEV.S('Single data'!BM19:BP19)/SQRT(3)) -> 0.98361288 | AZ18: =AVERAGE('Single data'!BQ19:BT19) -> 1.1704549 | BA18: ± | BB18: =_xlfn.STDEV.S('Single data'!BQ19:BT19)/SQRT(4) -> 0.52145917 | BD18: =AVERAGE('Single data'!BV19:CB19) -> 5195.8487 | BE18: ± | BF18: =(_xlfn.STDEV.S('Single data'!BV19:CB19)/SQRT(7)) -> 1086.3076 | BG18: =AVERAGE('Single data'!CC19:CG19) -> 5565.0936 | BH18: ± | BI18: =(_xlfn.STDEV.S('Single data'!CC19:CG19)/SQRT(5)) -> 1658.7963 | BJ18: =AVERAGE('Single data'!CH19:CL19) -> 3374.0144 | BK18: ± | BL18: =(_xlfn.STDEV.S('Single data'!CH19:CL19)/SQRT(5)) -> 782.39932 | BM18: =AVERAGE('Single data'!CM19:CQ19) -> 3027.2217 | BN18: ± | BO18: =(_xlfn.STDEV.S('Single data'!CM19:CQ19)/SQRT(5)) -> 646.32741 | BP18: =AVERAGE('Single data'!CR19:CV19) -> 186.10703 | BQ18: ± | BR18: =_xlfn.STDEV.S('Single data'!CR19:CV19)/SQRT(5) -> 102.64096 | BS18: =AVERAGE('Single data'!CW19:DA19) -> 5782.8188 | BT18: ± | BU18: =(_xlfn.STDEV.S('Single data'!CW19:DA19)/SQRT(5)) -> 1419.3036 | BV18: =AVERAGE('Single data'!DB19:DF19) -> 1355.1722 | BW18: ± | BX18: =(_xlfn.STDEV.S('Single data'!DB19:DF19)/SQRT(5)) -> 460.67944 | BY18: =AVERAGE('Single data'!DG19:DK19) -> 5234.2334 | BZ18: ± | CA18: =(_xlfn.STDEV.S('Single data'!DG19:DK19)/SQRT(5)) -> 1203.919 | CB18: =AVERAGE('Single data'!DL19:DP19) -> 646.01852 | CC18: ± | CD18: =(_xlfn.STDEV.S('Single data'!DL19:DP19)/SQRT(5)) -> 439.92316 | CE18: =AVERAGE('Single data'!DQ19:DU19) -> 4865.2526 | CF18: ± | CG18: =(_xlfn.STDEV.S('Single data'!DQ19:DU19)/SQRT(5)) -> 1565.0345 | CH18: =AVERAGE('Single data'!DV19:DZ19) -> 790.31457 | CI18: ± | CJ18: =_xlfn.STDEV.S('Single data'!DV19:DZ19)/SQRT(5) -> 464.62815 | CK18: =AVERAGE('Single data'!EA19:EE19) -> 4073.1452 | CL18: ± | CM18: =(_xlfn.STDEV.S('Single data'!EA19:EE19)/SQRT(5)) -> 1132.8699 | CN18: =AVERAGE('Single data'!EF19:EJ19) -> 2712.039 | CO18: ± | CP18: =_xlfn.STDEV.S('Single data'!EF19:EJ19)/SQRT(5) -> 1626.0015 | CQ18: =AVERAGE('Single data'!EK19:EO19) -> 3932.4667 | CR18: ± | CS18: =(_xlfn.STDEV.S('Single data'!EK19:EO19)/SQRT(5)) -> 1005.3319 | CT18: =AVERAGE('Single data'!EP19:ET19) -> 1744.6437 | CU18: ± | CV18: =_xlfn.STDEV.S('Single data'!EP19:ET19)/SQRT(5) -> 469.00064 | CW18: =AVERAGE('Single data'!EU19:EY19) -> 4057.1161 | CX18: ± | CY18: =(_xlfn.STDEV.S('Single data'!EU19:EY19)/SQRT(5)) -> 569.15548 | CZ18: =AVERAGE('Single data'!EZ19:FD19) -> 1862.4899 | DA18: ± | DB18: =_xlfn.STDEV.S('Single data'!EZ19:FD19)/SQRT(5) -> 382.19919
C19: 5-HEPE | D19: =AVERAGE('Single data'!D20:H20) -> 2.0466446 | E19: ± | F19: =(_xlfn.STDEV.S('Single data'!D20:H20)/SQRT(5)) -> 0.5309697 | G19: =AVERAGE('Single data'!I20:L20) -> 1.0977544 | H19: ± | I19: =(_xlfn.STDEV.S('Single data'!I20:L20)/SQRT(4)) -> 0.16214982 | J19: =AVERAGE('Single data'!M20:P20) -> 0.96160167 | K19: ± | L19: =(_xlfn.STDEV.S('Single data'!M20:P20)/SQRT(4)) -> 0.39827431 | M19: =AVERAGE('Single data'!Q20:T20) -> 1.5799871 | N19: ± | O19: =(_xlfn.STDEV.S('Single data'!Q20:T20)/SQRT(4)) -> 0.11276623 | P19: =AVERAGE('Single data'!U20:X20) -> 4.538468 | Q19: ± | R19: =_xlfn.STDEV.S('Single data'!U20:X20)/SQRT(4) -> 2.024241 | S19: =AVERAGE('Single data'!Y20:AB20) -> 4.1912672 | T19: ± | U19: =(_xlfn.STDEV.S('Single data'!Y20:AB20)/SQRT(4)) -> 2.4734517 | V19: =AVERAGE('Single data'!AC20:AF20) -> 2.4591337 | W19: ± | X19: =(_xlfn.STDEV.S('Single data'!AC20:AF20)/SQRT(4)) -> 0.56013538 | Y19: =AVERAGE('Single data'!AG20:AJ20) -> 1.6201919 | Z19: ± | AA19: =(_xlfn.STDEV.S('Single data'!AG20:AJ20)/SQRT(4)) -> 0.45172369 | AB19: =AVERAGE('Single data'!AK20:AN20) -> 2.9661175 | AC19: ± | AD19: =(_xlfn.STDEV.S('Single data'!AK20:AN20)/SQRT(3)) -> 0.42616267 | AE19: =AVERAGE('Single data'!AO20:AR20) -> 1.6307341 | AF19: ± | AG19: =(_xlfn.STDEV.S('Single data'!AO20:AR20)/SQRT(4)) -> 0.41547029 | AH19: =AVERAGE('Single data'!AS20:AV20) -> 2.283997 | AI19: ± | AJ19: =_xlfn.STDEV.S('Single data'!AS20:AV20)/SQRT(4) -> 1.1267784 | AK19: =AVERAGE('Single data'!AW20:AZ20) -> 0.83962138 | AL19: ± | AM19: =(_xlfn.STDEV.S('Single data'!AW20:AZ20)/SQRT(4)) -> 0.27425919 | AN19: =AVERAGE('Single data'!BA20:BD20) -> 1.3063882 | AO19: ± | AP19: =_xlfn.STDEV.S('Single data'!BA20:BD20)/SQRT(4) -> 0.37033228 | AQ19: =AVERAGE('Single data'!BE20:BH20) -> 10.560025 | AR19: ± | AS19: =(_xlfn.STDEV.S('Single data'!BE20:BH20)/SQRT(4)) -> 9.4697011 | AT19: =AVERAGE('Single data'!BI20:BL20) -> 1.7943972 | AU19: ± | AV19: =_xlfn.STDEV.S('Single data'!BI20:BL20)/SQRT(4) -> 0.27006284 | AW19: =AVERAGE('Single data'!BM20:BP20) -> 2.2309849 | AX19: ± | AY19: =(_xlfn.STDEV.S('Single data'!BM20:BP20)/SQRT(3)) -> 1.2989175 | AZ19: =AVERAGE('Single data'!BQ20:BT20) -> 1.6233779 | BA19: ± | BB19: =_xlfn.STDEV.S('Single data'!BQ20:BT20)/SQRT(4) -> 0.4547379 | BD19: =AVERAGE('Single data'!BV20:CB20) -> 457.2912 | BE19: ± | BF19: =(_xlfn.STDEV.S('Single data'!BV20:CB20)/SQRT(7)) -> 77.842122 | BG19: =AVERAGE('Single data'!CC20:CG20) -> 388.32418 | BH19: ± | BI19: =(_xlfn.STDEV.S('Single data'!CC20:CG20)/SQRT(5)) -> 120.83377 | BJ19: =AVERAGE('Single data'!CH20:CL20) -> 153.0428 | BK19: ± | BL19: =(_xlfn.STDEV.S('Single data'!CH20:CL20)/SQRT(5)) -> 27.670598 | BM19: =AVERAGE('Single data'!CM20:CQ20) -> 196.65131 | BN19: ± | BO19: =(_xlfn.STDEV.S('Single data'!CM20:CQ20)/SQRT(5)) -> 53.449741 | BP19: =AVERAGE('Single data'!CR20:CV20) -> 34.129928 | BQ19: ± | BR19: =_xlfn.STDEV.S('Single data'!CR20:CV20)/SQRT(5) -> 8.7202672 | BS19: =AVERAGE('Single data'!CW20:DA20) -> 320.55697 | BT19: ± | BU19: =(_xlfn.STDEV.S('Single data'!CW20:DA20)/SQRT(5)) -> 60.256521 | BV19: =AVERAGE('Single data'!DB20:DF20) -> 67.874338 | BW19: ± | BX19: =(_xlfn.STDEV.S('Single data'!DB20:DF20)/SQRT(5)) -> 22.368926 | BY19: =AVERAGE('Single data'!DG20:DK20) -> 277.8396 | BZ19: ± | CA19: =(_xlfn.STDEV.S('Single data'!DG20:DK20)/SQRT(5)) -> 51.627123 | CB19: =AVERAGE('Single data'!DL20:DP20) -> 45.901612 | CC19: ± | CD19: =(_xlfn.STDEV.S('Single data'!DL20:DP20)/SQRT(5)) -> 16.890524 | CE19: =AVERAGE('Single data'!DQ20:DU20) -> 259.40753 | CF19: ± | CG19: =(_xlfn.STDEV.S('Single data'!DQ20:DU20)/SQRT(5)) -> 86.30679 | CH19: =AVERAGE('Single data'!DV20:DZ20) -> 84.80207 | CI19: ± | CJ19: =_xlfn.STDEV.S('Single data'!DV20:DZ20)/SQRT(5) -> 44.617819 | CK19: =AVERAGE('Single data'!EA20:EE20) -> 222.3981 | CL19: ± | CM19: =(_xlfn.STDEV.S('Single data'!EA20:EE20)/SQRT(5)) -> 59.764826 | CN19: =AVERAGE('Single data'!EF20:EJ20) -> 143.0179 | CO19: ± | CP19: =_xlfn.STDEV.S('Single data'!EF20:EJ20)/SQRT(5) -> 70.021498 | CQ19: =AVERAGE('Single data'!EK20:EO20) -> 243.48845 | CR19: ± | CS19: =(_xlfn.STDEV.S('Single data'!EK20:EO20)/SQRT(5)) -> 44.637166 | CT19: =AVERAGE('Single data'!EP20:ET20) -> 131.68468 | CU19: ± | CV19: =_xlfn.STDEV.S('Single data'!EP20:ET20)/SQRT(5) -> 41.869657 | CW19: =AVERAGE('Single data'!EU20:EY20) -> 267.05946 | CX19: ± | CY19: =(_xlfn.STDEV.S('Single data'!EU20:EY20)/SQRT(5)) -> 45.136442 | CZ19: =AVERAGE('Single data'!EZ20:FD20) -> 108.29745 | DA19: ± | DB19: =_xlfn.STDEV.S('Single data'!EZ20:FD20)/SQRT(5) -> 21.579215
C20: 5-HETE | D20: =AVERAGE('Single data'!D21:H21) -> 5.0446144 | E20: ± | F20: =(_xlfn.STDEV.S('Single data'!D21:H21)/SQRT(5)) -> 0.56302358 | G20: =AVERAGE('Single data'!I21:L21) -> 4.8812273 | H20: ± | I20: =(_xlfn.STDEV.S('Single data'!I21:L21)/SQRT(4)) -> 0.72111535 | J20: =AVERAGE('Single data'!M21:P21) -> 4.0032458 | K20: ± | L20: =(_xlfn.STDEV.S('Single data'!M21:P21)/SQRT(4)) -> 1.3340429 | M20: =AVERAGE('Single data'!Q21:T21) -> 5.4890303 | N20: ± | O20: =(_xlfn.STDEV.S('Single data'!Q21:T21)/SQRT(4)) -> 1.3012922 | P20: =AVERAGE('Single data'!U21:X21) -> 8.7758292 | Q20: ± | R20: =_xlfn.STDEV.S('Single data'!U21:X21)/SQRT(4) -> 1.3549292 | S20: =AVERAGE('Single data'!Y21:AB21) -> 4.6180192 | T20: ± | U20: =(_xlfn.STDEV.S('Single data'!Y21:AB21)/SQRT(4)) -> 1.2338005 | V20: =AVERAGE('Single data'!AC21:AF21) -> 4.8182003 | W20: ± | X20: =(_xlfn.STDEV.S('Single data'!AC21:AF21)/SQRT(4)) -> 0.90326108 | Y20: =AVERAGE('Single data'!AG21:AJ21) -> 5.0495787 | Z20: ± | AA20: =(_xlfn.STDEV.S('Single data'!AG21:AJ21)/SQRT(4)) -> 1.2089653 | AB20: =AVERAGE('Single data'!AK21:AN21) -> 8.7866633 | AC20: ± | AD20: =(_xlfn.STDEV.S('Single data'!AK21:AN21)/SQRT(3)) -> 3.3867675 | AE20: =AVERAGE('Single data'!AO21:AR21) -> 10.512762 | AF20: ± | AG20: =(_xlfn.STDEV.S('Single data'!AO21:AR21)/SQRT(4)) -> 4.5651791 | AH20: =AVERAGE('Single data'!AS21:AV21) -> 7.8916616 | AI20: ± | AJ20: =_xlfn.STDEV.S('Single data'!AS21:AV21)/SQRT(4) -> 1.6951293 | AK20: =AVERAGE('Single data'!AW21:AZ21) -> 5.3440251 | AL20: ± | AM20: =(_xlfn.STDEV.S('Single data'!AW21:AZ21)/SQRT(4)) -> 0.86457082 | AN20: =AVERAGE('Single data'!BA21:BD21) -> 4.7296704 | AO20: ± | AP20: =_xlfn.STDEV.S('Single data'!BA21:BD21)/SQRT(4) -> 0.97867551 | AQ20: =AVERAGE('Single data'!BE21:BH21) -> 3.6131226 | AR20: ± | AS20: =(_xlfn.STDEV.S('Single data'!BE21:BH21)/SQRT(4)) -> 0.62915658 | AT20: =AVERAGE('Single data'!BI21:BL21) -> 9.5618993 | AU20: ± | AV20: =_xlfn.STDEV.S('Single data'!BI21:BL21)/SQRT(4) -> 3.2916142 | AW20: =AVERAGE('Single data'!BM21:BP21) -> 3.134055 | AX20: ± | AY20: =(_xlfn.STDEV.S('Single data'!BM21:BP21)/SQRT(3)) -> 1.3406521 | AZ20: =AVERAGE('Single data'!BQ21:BT21) -> 4.009904 | BA20: ± | BB20: =_xlfn.STDEV.S('Single data'!BQ21:BT21)/SQRT(4) -> 1.5745197 | BD20: =AVERAGE('Single data'!BV21:CB21) -> 4704.1355 | BE20: ± | BF20: =(_xlfn.STDEV.S('Single data'!BV21:CB21)/SQRT(7)) -> 998.2309 | BG20: =AVERAGE('Single data'!CC21:CG21) -> 3482.8152 | BH20: ± | BI20: =(_xlfn.STDEV.S('Single data'!CC21:CG21)/SQRT(5)) -> 1131.2001 | BJ20: =AVERAGE('Single data'!CH21:CL21) -> 1518.5131 | BK20: ± | BL20: =(_xlfn.STDEV.S('Single data'!CH21:CL21)/SQRT(5)) -> 339.47903 | BM20: =AVERAGE('Single data'!CM21:CQ21) -> 1921.4856 | BN20: ± | BO20: =(_xlfn.STDEV.S('Single data'!CM21:CQ21)/SQRT(5)) -> 384.09646 | BP20: =AVERAGE('Single data'!CR21:CV21) -> 179.33336 | BQ20: ± | BR20: =_xlfn.STDEV.S('Single data'!CR21:CV21)/SQRT(5) -> 47.011761 | BS20: =AVERAGE('Single data'!CW21:DA21) -> 3842.282 | BT20: ± | BU20: =(_xlfn.STDEV.S('Single data'!CW21:DA21)/SQRT(5)) -> 973.5527 | BV20: =AVERAGE('Single data'!DB21:DF21) -> 701.65486 | BW20: ± | BX20: =(_xlfn.STDEV.S('Single data'!DB21:DF21)/SQRT(5)) -> 224.40323 | BY20: =AVERAGE('Single data'!DG21:DK21) -> 3188.0533 | BZ20: ± | CA20: =(_xlfn.STDEV.S('Single data'!DG21:DK21)/SQRT(5)) -> 804.7984 | CB20: =AVERAGE('Single data'!DL21:DP21) -> 313.18707 | CC20: ± | CD20: =(_xlfn.STDEV.S('Single data'!DL21:DP21)/SQRT(5)) -> 170.10793 | CE20: =AVERAGE('Single data'!DQ21:DU21) -> 3257.6815 | CF20: ± | CG20: =(_xlfn.STDEV.S('Single data'!DQ21:DU21)/SQRT(5)) -> 1059.1213 | CH20: =AVERAGE('Single data'!DV21:DZ21) -> 434.87261 | CI20: ± | CJ20: =_xlfn.STDEV.S('Single data'!DV21:DZ21)/SQRT(5) -> 207.52993 | CK20: =AVERAGE('Single data'!EA21:EE21) -> 2734.378 | CL20: ± | CM20: =(_xlfn.STDEV.S('Single data'!EA21:EE21)/SQRT(5)) -> 860.19304 | CN20: =AVERAGE('Single data'!EF21:EJ21) -> 1302.1728 | CO20: ± | CP20: =_xlfn.STDEV.S('Single data'!EF21:EJ21)/SQRT(5) -> 723.92414 | CQ20: =AVERAGE('Single data'!EK21:EO21) -> 2617.4733 | CR20: ± | CS20: =(_xlfn.STDEV.S('Single data'!EK21:EO21)/SQRT(5)) -> 535.13869 | CT20: =AVERAGE('Single data'!EP21:ET21) -> 1332.0938 | CU20: ± | CV20: =_xlfn.STDEV.S('Single data'!EP21:ET21)/SQRT(5) -> 457.79462 | CW20: =AVERAGE('Single data'!EU21:EY21) -> 3148.9262 | CX20: ± | CY20: =(_xlfn.STDEV.S('Single data'!EU21:EY21)/SQRT(5)) -> 337.19115 | CZ20: =AVERAGE('Single data'!EZ21:FD21) -> 1110.7886 | DA20: ± | DB20: =_xlfn.STDEV.S('Single data'!EZ21:FD21)/SQRT(5) -> 195.67601
B21: PUFA | C21: AA | D21: =AVERAGE('Single data'!D22:H22) -> 33474.969 | E21: ± | F21: =(_xlfn.STDEV.S('Single data'!D22:H22)/SQRT(5)) -> 8020.1712 | G21: =AVERAGE('Single data'!I22:L22) -> 27136.388 | H21: ± | I21: =(_xlfn.STDEV.S('Single data'!I22:L22)/SQRT(4)) -> 8093.1533 | J21: =AVERAGE('Single data'!M22:P22) -> 42281.172 | K21: ± | L21: =(_xlfn.STDEV.S('Single data'!M22:P22)/SQRT(4)) -> 10866.662 | M21: =AVERAGE('Single data'!Q22:T22) -> 24343.696 | N21: ± | O21: =(_xlfn.STDEV.S('Single data'!Q22:T22)/SQRT(4)) -> 6449.1896 | P21: =AVERAGE('Single data'!U22:X22) -> 179022.03 | Q21: ± | R21: =_xlfn.STDEV.S('Single data'!U22:X22)/SQRT(4) -> 44652.093 | S21: =AVERAGE('Single data'!Y22:AB22) -> 28712.905 | T21: ± | U21: =(_xlfn.STDEV.S('Single data'!Y22:AB22)/SQRT(4)) -> 6485.0713 | V21: =AVERAGE('Single data'!AC22:AF22) -> 72124.936 | W21: ± | X21: =(_xlfn.STDEV.S('Single data'!AC22:AF22)/SQRT(4)) -> 15625.228 | Y21: =AVERAGE('Single data'!AG22:AJ22) -> 35574.416 | Z21: ± | AA21: =(_xlfn.STDEV.S('Single data'!AG22:AJ22)/SQRT(4)) -> 8738.2044 | AB21: =AVERAGE('Single data'!AK22:AN22) -> 163924.71 | AC21: ± | AD21: =(_xlfn.STDEV.S('Single data'!AK22:AN22)/SQRT(3)) -> 39348.207 | AE21: =AVERAGE('Single data'!AO22:AR22) -> 23955.778 | AF21: ± | AG21: =(_xlfn.STDEV.S('Single data'!AO22:AR22)/SQRT(4)) -> 5723.6646 | AH21: =AVERAGE('Single data'!AS22:AV22) -> 97574.113 | AI21: ± | AJ21: =_xlfn.STDEV.S('Single data'!AS22:AV22)/SQRT(4) -> 16003.132 | AK21: =AVERAGE('Single data'!AW22:AZ22) -> 25316.16 | AL21: ± | AM21: =(_xlfn.STDEV.S('Single data'!AW22:AZ22)/SQRT(4)) -> 1557.2186 | AN21: =AVERAGE('Single data'!BA22:BD22) -> 56920.112 | AO21: ± | AP21: =_xlfn.STDEV.S('Single data'!BA22:BD22)/SQRT(4) -> 12029.73 | AQ21: =AVERAGE('Single data'!BE22:BH22) -> 27228.444 | AR21: ± | AS21: =(_xlfn.STDEV.S('Single data'!BE22:BH22)/SQRT(4)) -> 3703.6729 | AT21: =AVERAGE('Single data'!BI22:BL22) -> 164070.77 | AU21: ± | AV21: =_xlfn.STDEV.S('Single data'!BI22:BL22)/SQRT(4) -> 47640.735 | AW21: =AVERAGE('Single data'!BM22:BP22) -> 25152.27 | AX21: ± | AY21: =(_xlfn.STDEV.S('Single data'!BM22:BP22)/SQRT(3)) -> 4472.2455 | AZ21: =AVERAGE('Single data'!BQ22:BT22) -> 83932.911 | BA21: ± | BB21: =_xlfn.STDEV.S('Single data'!BQ22:BT22)/SQRT(4) -> 26128.505 | BD21: =AVERAGE('Single data'!BV22:CB22) -> 1868021.5 | BE21: ± | BF21: =(_xlfn.STDEV.S('Single data'!BV22:CB22)/SQRT(7)) -> 164321.11 | BG21: =AVERAGE('Single data'!CC22:CG22) -> 1474927.6 | BH21: ± | BI21: =(_xlfn.STDEV.S('Single data'!CC22:CG22)/SQRT(5)) -> 249375.49 | BJ21: =AVERAGE('Single data'!CH22:CL22) -> 1940949.8 | BK21: ± | BL21: =(_xlfn.STDEV.S('Single data'!CH22:CL22)/SQRT(5)) -> 318319.7 | BM21: =AVERAGE('Single data'!CM22:CQ22) -> 2379089.4 | BN21: ± | BO21: =(_xlfn.STDEV.S('Single data'!CM22:CQ22)/SQRT(5)) -> 253356.67 | BP21: =AVERAGE('Single data'!CR22:CV22) -> 2085564.5 | BQ21: ± | BR21: =_xlfn.STDEV.S('Single data'!CR22:CV22)/SQRT(5) -> 177200.1 | BS21: =AVERAGE('Single data'!CW22:DA22) -> 2062299 | BT21: ± | BU21: =(_xlfn.STDEV.S('Single data'!CW22:DA22)/SQRT(5)) -> 143276.93 | BV21: =AVERAGE('Single data'!DB22:DF22) -> 1914930.9 | BW21: ± | BX21: =(_xlfn.STDEV.S('Single data'!DB22:DF22)/SQRT(5)) -> 118945.81 | BY21: =AVERAGE('Single data'!DG22:DK22) -> 2087965.1 | BZ21: ± | CA21: =(_xlfn.STDEV.S('Single data'!DG22:DK22)/SQRT(5)) -> 261397.63 | CB21: =AVERAGE('Single data'!DL22:DP22) -> 1673580.5 | CC21: ± | CD21: =(_xlfn.STDEV.S('Single data'!DL22:DP22)/SQRT(5)) -> 159217.97 | CE21: =AVERAGE('Single data'!DQ22:DU22) -> 2019508.5 | CF21: ± | CG21: =(_xlfn.STDEV.S('Single data'!DQ22:DU22)/SQRT(5)) -> 214311.37 | CH21: =AVERAGE('Single data'!DV22:DZ22) -> 1866684.8 | CI21: ± | CJ21: =_xlfn.STDEV.S('Single data'!DV22:DZ22)/SQRT(5) -> 182499.88 | CK21: =AVERAGE('Single data'!EA22:EE22) -> 2052068.5 | CL21: ± | CM21: =(_xlfn.STDEV.S('Single data'!EA22:EE22)/SQRT(5)) -> 105976.25 | CN21: =AVERAGE('Single data'!EF22:EJ22) -> 1746042.8 | CO21: ± | CP21: =_xlfn.STDEV.S('Single data'!EF22:EJ22)/SQRT(5) -> 247338.09 | CQ21: =AVERAGE('Single data'!EK22:EO22) -> 2491985.8 | CR21: ± | CS21: =(_xlfn.STDEV.S('Single data'!EK22:EO22)/SQRT(5)) -> 390140.92 | CT21: =AVERAGE('Single data'!EP22:ET22) -> 2156546.3 | CU21: ± | CV21: =_xlfn.STDEV.S('Single data'!EP22:ET22)/SQRT(5) -> 280980.99 | CW21: =AVERAGE('Single data'!EU22:EY22) -> 2405537.6 | CX21: ± | CY21: =(_xlfn.STDEV.S('Single data'!EU22:EY22)/SQRT(5)) -> 228969.31 | CZ21: =AVERAGE('Single data'!EZ22:FD22) -> 2402770.2 | DA21: ± | DB21: =_xlfn.STDEV.S('Single data'!EZ22:FD22)/SQRT(5) -> 215430.31
C22: EPA | D22: =AVERAGE('Single data'!D23:H23) -> 5572.6101 | E22: ± | F22: =(_xlfn.STDEV.S('Single data'!D23:H23)/SQRT(5)) -> 1800.4289 | G22: =AVERAGE('Single data'!I23:L23) -> 2081.4615 | H22: ± | I22: =(_xlfn.STDEV.S('Single data'!I23:L23)/SQRT(4)) -> 663.29314 | J22: =AVERAGE('Single data'!M23:P23) -> 3022.0949 | K22: ± | L22: =(_xlfn.STDEV.S('Single data'!M23:P23)/SQRT(4)) -> 602.65264 | M22: =AVERAGE('Single data'!Q23:T23) -> 3090.2654 | N22: ± | O22: =(_xlfn.STDEV.S('Single data'!Q23:T23)/SQRT(4)) -> 1106.3979 | P22: =AVERAGE('Single data'!U23:X23) -> 31497.155 | Q22: ± | R22: =_xlfn.STDEV.S('Single data'!U23:X23)/SQRT(4) -> 21360.469 | S22: =AVERAGE('Single data'!Y23:AB23) -> 5743.768 | T22: ± | U22: =(_xlfn.STDEV.S('Single data'!Y23:AB23)/SQRT(4)) -> 2960.3017 | V22: =AVERAGE('Single data'!AC23:AF23) -> 5137.0844 | W22: ± | X22: =(_xlfn.STDEV.S('Single data'!AC23:AF23)/SQRT(4)) -> 1971.0444 | Y22: =AVERAGE('Single data'!AG23:AJ23) -> 2777.6602 | Z22: ± | AA22: =(_xlfn.STDEV.S('Single data'!AG23:AJ23)/SQRT(4)) -> 658.96801 | AB22: =AVERAGE('Single data'!AK23:AN23) -> 12684.293 | AC22: ± | AD22: =(_xlfn.STDEV.S('Single data'!AK23:AN23)/SQRT(3)) -> 5491.7248 | AE22: =AVERAGE('Single data'!AO23:AR23) -> 2941.922 | AF22: ± | AG22: =(_xlfn.STDEV.S('Single data'!AO23:AR23)/SQRT(4)) -> 1098.7003 | AH22: =AVERAGE('Single data'!AS23:AV23) -> 21105.975 | AI22: ± | AJ22: =_xlfn.STDEV.S('Single data'!AS23:AV23)/SQRT(4) -> 14763.267 | AK22: =AVERAGE('Single data'!AW23:AZ23) -> 4097.8509 | AL22: ± | AM22: =(_xlfn.STDEV.S('Single data'!AW23:AZ23)/SQRT(4)) -> 2264.3443 | AN22: =AVERAGE('Single data'!BA23:BD23) -> 6674.7613 | AO22: ± | AP22: =_xlfn.STDEV.S('Single data'!BA23:BD23)/SQRT(4) -> 2987.3922 | AQ22: =AVERAGE('Single data'!BE23:BH23) -> 6625.1851 | AR22: ± | AS22: =(_xlfn.STDEV.S('Single data'!BE23:BH23)/SQRT(4)) -> 4887.3666 | AT22: =AVERAGE('Single data'!BI23:BL23) -> 20268.895 | AU22: ± | AV22: =_xlfn.STDEV.S('Single data'!BI23:BL23)/SQRT(4) -> 10754.063 | AW22: =AVERAGE('Single data'!BM23:BP23) -> 5371.3195 | AX22: ± | AY22: =(_xlfn.STDEV.S('Single data'!BM23:BP23)/SQRT(3)) -> 2772.8022 | AZ22: =AVERAGE('Single data'!BQ23:BT23) -> 9663.7137 | BA22: ± | BB22: =_xlfn.STDEV.S('Single data'!BQ23:BT23)/SQRT(4) -> 4646.9315 | BD22: =AVERAGE('Single data'!BV23:CB23) -> 187708.7 | BE22: ± | BF22: =(_xlfn.STDEV.S('Single data'!BV23:CB23)/SQRT(7)) -> 30059.215 | BG22: =AVERAGE('Single data'!CC23:CG23) -> 121787.1 | BH22: ± | BI22: =(_xlfn.STDEV.S('Single data'!CC23:CG23)/SQRT(5)) -> 14969.737 | BJ22: =AVERAGE('Single data'!CH23:CL23) -> 161911.45 | BK22: ± | BL22: =(_xlfn.STDEV.S('Single data'!CH23:CL23)/SQRT(5)) -> 22568.6 | BM22: =AVERAGE('Single data'!CM23:CQ23) -> 205055.72 | BN22: ± | BO22: =(_xlfn.STDEV.S('Single data'!CM23:CQ23)/SQRT(5)) -> 30409.164 | BP22: =AVERAGE('Single data'!CR23:CV23) -> 169233.14 | BQ22: ± | BR22: =_xlfn.STDEV.S('Single data'!CR23:CV23)/SQRT(5) -> 9456.9223 | BS22: =AVERAGE('Single data'!CW23:DA23) -> 175812.65 | BT22: ± | BU22: =(_xlfn.STDEV.S('Single data'!CW23:DA23)/SQRT(5)) -> 11278.259 | BV22: =AVERAGE('Single data'!DB23:DF23) -> 96754.442 | BW22: ± | BX22: =(_xlfn.STDEV.S('Single data'!DB23:DF23)/SQRT(5)) -> 6563.3856 | BY22: =AVERAGE('Single data'!DG23:DK23) -> 168688.58 | BZ22: ± | CA22: =(_xlfn.STDEV.S('Single data'!DG23:DK23)/SQRT(5)) -> 16742.32 | CB22: =AVERAGE('Single data'!DL23:DP23) -> 127769.18 | CC22: ± | CD22: =(_xlfn.STDEV.S('Single data'!DL23:DP23)/SQRT(5)) -> 5478.3273 | CE22: =AVERAGE('Single data'!DQ23:DU23) -> 189771.49 | CF22: ± | CG22: =(_xlfn.STDEV.S('Single data'!DQ23:DU23)/SQRT(5)) -> 27545.569 | CH22: =AVERAGE('Single data'!DV23:DZ23) -> 157379.84 | CI22: ± | CJ22: =_xlfn.STDEV.S('Single data'!DV23:DZ23)/SQRT(5) -> 10706.899 | CK22: =AVERAGE('Single data'!EA23:EE23) -> 171614.47 | CL22: ± | CM22: =(_xlfn.STDEV.S('Single data'!EA23:EE23)/SQRT(5)) -> 12041.754 | CN22: =AVERAGE('Single data'!EF23:EJ23) -> 136827.13 | CO22: ± | CP22: =_xlfn.STDEV.S('Single data'!EF23:EJ23)/SQRT(5) -> 18771.923 | CQ22: =AVERAGE('Single data'!EK23:EO23) -> 214581.26 | CR22: ± | CS22: =(_xlfn.STDEV.S('Single data'!EK23:EO23)/SQRT(5)) -> 36954.618 | CT22: =AVERAGE('Single data'!EP23:ET23) -> 172907.26 | CU22: ± | CV22: =_xlfn.STDEV.S('Single data'!EP23:ET23)/SQRT(5) -> 26717.224 | CW22: =AVERAGE('Single data'!EU23:EY23) -> 195847.01 | CX22: ± | CY22: =(_xlfn.STDEV.S('Single data'!EU23:EY23)/SQRT(5)) -> 23095.048 | CZ22: =AVERAGE('Single data'!EZ23:FD23) -> 195306.47 | DA22: ± | DB22: =_xlfn.STDEV.S('Single data'!EZ23:FD23)/SQRT(5) -> 16597.42
C23: DHA | D23: =AVERAGE('Single data'!D24:H24) -> 22930.284 | E23: ± | F23: =(_xlfn.STDEV.S('Single data'!D24:H24)/SQRT(5)) -> 4962.8369 | G23: =AVERAGE('Single data'!I24:L24) -> 12090.635 | H23: ± | I23: =(_xlfn.STDEV.S('Single data'!I24:L24)/SQRT(4)) -> 3421.3882 | J23: =AVERAGE('Single data'!M24:P24) -> 13633.034 | K23: ± | L23: =(_xlfn.STDEV.S('Single data'!M24:P24)/SQRT(4)) -> 3403.2506 | M23: =AVERAGE('Single data'!Q24:T24) -> 13451.257 | N23: ± | O23: =(_xlfn.STDEV.S('Single data'!Q24:T24)/SQRT(4)) -> 2741.7269 | P23: =AVERAGE('Single data'!U24:X24) -> 45542.52 | Q23: ± | R23: =_xlfn.STDEV.S('Single data'!U24:X24)/SQRT(4) -> 14103.256 | S23: =AVERAGE('Single data'!Y24:AB24) -> 16679.44 | T23: ± | U23: =(_xlfn.STDEV.S('Single data'!Y24:AB24)/SQRT(4)) -> 3635.903 | V23: =AVERAGE('Single data'!AC24:AF24) -> 26399.466 | W23: ± | X23: =(_xlfn.STDEV.S('Single data'!AC24:AF24)/SQRT(4)) -> 7435.3912 | Y23: =AVERAGE('Single data'!AG24:AJ24) -> 13054.083 | Z23: ± | AA23: =(_xlfn.STDEV.S('Single data'!AG24:AJ24)/SQRT(4)) -> 2332.0493 | AB23: =AVERAGE('Single data'!AK24:AN24) -> 39591.699 | AC23: ± | AD23: =(_xlfn.STDEV.S('Single data'!AK24:AN24)/SQRT(3)) -> 9204.2765 | AE23: =AVERAGE('Single data'!AO24:AR24) -> 13315.158 | AF23: ± | AG23: =(_xlfn.STDEV.S('Single data'!AO24:AR24)/SQRT(4)) -> 3137.034 | AH23: =AVERAGE('Single data'!AS24:AV24) -> 40003.858 | AI23: ± | AJ23: =_xlfn.STDEV.S('Single data'!AS24:AV24)/SQRT(4) -> 14196.164 | AK23: =AVERAGE('Single data'!AW24:AZ24) -> 16659.103 | AL23: ± | AM23: =(_xlfn.STDEV.S('Single data'!AW24:AZ24)/SQRT(4)) -> 5383.4156 | AN23: =AVERAGE('Single data'!BA24:BD24) -> 20341.756 | AO23: ± | AP23: =_xlfn.STDEV.S('Single data'!BA24:BD24)/SQRT(4) -> 4452.2076 | AQ23: =AVERAGE('Single data'!BE24:BH24) -> 15297.226 | AR23: ± | AS23: =(_xlfn.STDEV.S('Single data'!BE24:BH24)/SQRT(4)) -> 5203.8201 | AT23: =AVERAGE('Single data'!BI24:BL24) -> 46604.737 | AU23: ± | AV23: =_xlfn.STDEV.S('Single data'!BI24:BL24)/SQRT(4) -> 16397.632 | AW23: =AVERAGE('Single data'!BM24:BP24) -> 17066.117 | AX23: ± | AY23: =(_xlfn.STDEV.S('Single data'!BM24:BP24)/SQRT(3)) -> 5736.1935 | AZ23: =AVERAGE('Single data'!BQ24:BT24) -> 28524.263 | BA23: ± | BB23: =_xlfn.STDEV.S('Single data'!BQ24:BT24)/SQRT(4) -> 9621.1838 | BD23: =AVERAGE('Single data'!BV24:CB24) -> 1055254.1 | BE23: ± | BF23: =(_xlfn.STDEV.S('Single data'!BV24:CB24)/SQRT(7)) -> 84028.02 | BG23: =AVERAGE('Single data'!CC24:CG24) -> 931143.96 | BH23: ± | BI23: =(_xlfn.STDEV.S('Single data'!CC24:CG24)/SQRT(5)) -> 133194.36 | BJ23: =AVERAGE('Single data'!CH24:CL24) -> 1159340.7 | BK23: ± | BL23: =(_xlfn.STDEV.S('Single data'!CH24:CL24)/SQRT(5)) -> 139432.78 | BM23: =AVERAGE('Single data'!CM24:CQ24) -> 1423879.6 | BN23: ± | BO23: =(_xlfn.STDEV.S('Single data'!CM24:CQ24)/SQRT(5)) -> 155270.69 | BP23: =AVERAGE('Single data'!CR24:CV24) -> 981625 | BQ23: ± | BR23: =_xlfn.STDEV.S('Single data'!CR24:CV24)/SQRT(5) -> 65311.569 | BS23: =AVERAGE('Single data'!CW24:DA24) -> 1203318.5 | BT23: ± | BU23: =(_xlfn.STDEV.S('Single data'!CW24:DA24)/SQRT(5)) -> 105382.13 | BV23: =AVERAGE('Single data'!DB24:DF24) -> 1006170.6 | BW23: ± | BX23: =(_xlfn.STDEV.S('Single data'!DB24:DF24)/SQRT(5)) -> 48744.446 | BY23: =AVERAGE('Single data'!DG24:DK24) -> 1237860.3 | BZ23: ± | CA23: =(_xlfn.STDEV.S('Single data'!DG24:DK24)/SQRT(5)) -> 102917.91 | CB23: =AVERAGE('Single data'!DL24:DP24) -> 919659.88 | CC23: ± | CD23: =(_xlfn.STDEV.S('Single data'!DL24:DP24)/SQRT(5)) -> 77391.173 | CE23: =AVERAGE('Single data'!DQ24:DU24) -> 1065214.8 | CF23: ± | CG23: =(_xlfn.STDEV.S('Single data'!DQ24:DU24)/SQRT(5)) -> 84236.378 | CH23: =AVERAGE('Single data'!DV24:DZ24) -> 1023250.2 | CI23: ± | CJ23: =_xlfn.STDEV.S('Single data'!DV24:DZ24)/SQRT(5) -> 156804.9 | CK23: =AVERAGE('Single data'!EA24:EE24) -> 1112026.6 | CL23: ± | CM23: =(_xlfn.STDEV.S('Single data'!EA24:EE24)/SQRT(5)) -> 31019.074 | CN23: =AVERAGE('Single data'!EF24:EJ24) -> 957865.18 | CO23: ± | CP23: =_xlfn.STDEV.S('Single data'!EF24:EJ24)/SQRT(5) -> 124100.25 | CQ23: =AVERAGE('Single data'!EK24:EO24) -> 1382796.9 | CR23: ± | CS23: =(_xlfn.STDEV.S('Single data'!EK24:EO24)/SQRT(5)) -> 117275.64 | CT23: =AVERAGE('Single data'!EP24:ET24) -> 1148715.4 | CU23: ± | CV23: =_xlfn.STDEV.S('Single data'!EP24:ET24)/SQRT(5) -> 130860.25 | CW23: =AVERAGE('Single data'!EU24:EY24) -> 1347240.9 | CX23: ± | CY23: =(_xlfn.STDEV.S('Single data'!EU24:EY24)/SQRT(5)) -> 97708.592 | CZ23: =AVERAGE('Single data'!EZ24:FD24) -> 1223648 | DA23: ± | DB23: =_xlfn.STDEV.S('Single data'!EZ24:FD24)/SQRT(5) -> 82693.615
C24: DPA | D24: =AVERAGE('Single data'!D25:H25) -> 492.58551 | E24: ± | F24: =(_xlfn.STDEV.S('Single data'!D25:H25)/SQRT(5)) -> 128.59686 | G24: =AVERAGE('Single data'!I25:L25) -> 331.56708 | H24: ± | I24: =(_xlfn.STDEV.S('Single data'!I25:L25)/SQRT(4)) -> 112.29916 | J24: =AVERAGE('Single data'!M25:P25) -> 426.38369 | K24: ± | L24: =(_xlfn.STDEV.S('Single data'!M25:P25)/SQRT(4)) -> 127.49766 | M24: =AVERAGE('Single data'!Q25:T25) -> 302.47837 | N24: ± | O24: =(_xlfn.STDEV.S('Single data'!Q25:T25)/SQRT(4)) -> 48.514182 | P24: =AVERAGE('Single data'!U25:X25) -> 1203.9531 | Q24: ± | R24: =_xlfn.STDEV.S('Single data'!U25:X25)/SQRT(4) -> 243.73386 | S24: =AVERAGE('Single data'!Y25:AB25) -> 386.23794 | T24: ± | U24: =(_xlfn.STDEV.S('Single data'!Y25:AB25)/SQRT(4)) -> 98.620462 | V24: =AVERAGE('Single data'!AC25:AF25) -> 651.80164 | W24: ± | X24: =(_xlfn.STDEV.S('Single data'!AC25:AF25)/SQRT(4)) -> 162.92638 | Y24: =AVERAGE('Single data'!AG25:AJ25) -> 350.64135 | Z24: ± | AA24: =(_xlfn.STDEV.S('Single data'!AG25:AJ25)/SQRT(4)) -> 70.851469 | AB24: =AVERAGE('Single data'!AK25:AN25) -> 1120.8706 | AC24: ± | AD24: =(_xlfn.STDEV.S('Single data'!AK25:AN25)/SQRT(3)) -> 285.1058 | AE24: =AVERAGE('Single data'!AO25:AR25) -> 290.86827 | AF24: ± | AG24: =(_xlfn.STDEV.S('Single data'!AO25:AR25)/SQRT(4)) -> 46.716309 | AH24: =AVERAGE('Single data'!AS25:AV25) -> 687.12147 | AI24: ± | AJ24: =_xlfn.STDEV.S('Single data'!AS25:AV25)/SQRT(4) -> 150.57728 | AK24: =AVERAGE('Single data'!AW25:AZ25) -> 358.8982 | AL24: ± | AM24: =(_xlfn.STDEV.S('Single data'!AW25:AZ25)/SQRT(4)) -> 92.942167 | AN24: =AVERAGE('Single data'!BA25:BD25) -> 445.57331 | AO24: ± | AP24: =_xlfn.STDEV.S('Single data'!BA25:BD25)/SQRT(4) -> 72.155984 | AQ24: =AVERAGE('Single data'!BE25:BH25) -> 333.38958 | AR24: ± | AS24: =(_xlfn.STDEV.S('Single data'!BE25:BH25)/SQRT(4)) -> 75.069006 | AT24: =AVERAGE('Single data'!BI25:BL25) -> 1310.2023 | AU24: ± | AV24: =_xlfn.STDEV.S('Single data'!BI25:BL25)/SQRT(4) -> 449.56263 | AW24: =AVERAGE('Single data'!BM25:BP25) -> 375.21596 | AX24: ± | AY24: =(_xlfn.STDEV.S('Single data'!BM25:BP25)/SQRT(3)) -> 105.96311 | AZ24: =AVERAGE('Single data'!BQ25:BT25) -> 675.29588 | BA24: ± | BB24: =_xlfn.STDEV.S('Single data'!BQ25:BT25)/SQRT(4) -> 167.10652 | BD24: =AVERAGE('Single data'!BV25:CB25) -> 42189.152 | BE24: ± | BF24: =(_xlfn.STDEV.S('Single data'!BV25:CB25)/SQRT(7)) -> 3895.678 | BG24: =AVERAGE('Single data'!CC25:CG25) -> 26244.561 | BH24: ± | BI24: =(_xlfn.STDEV.S('Single data'!CC25:CG25)/SQRT(5)) -> 6968.0886 | BJ24: =AVERAGE('Single data'!CH25:CL25) -> 35857.167 | BK24: ± | BL24: =(_xlfn.STDEV.S('Single data'!CH25:CL25)/SQRT(5)) -> 5753.5046 | BM24: =AVERAGE('Single data'!CM25:CQ25) -> 47745.917 | BN24: ± | BO24: =(_xlfn.STDEV.S('Single data'!CM25:CQ25)/SQRT(5)) -> 8323.2314 | BP24: =AVERAGE('Single data'!CR25:CV25) -> 39441.761 | BQ24: ± | BR24: =_xlfn.STDEV.S('Single data'!CR25:CV25)/SQRT(5) -> 4287.2149 | BS24: =AVERAGE('Single data'!CW25:DA25) -> 39728.171 | BT24: ± | BU24: =(_xlfn.STDEV.S('Single data'!CW25:DA25)/SQRT(5)) -> 3626.1549 | BV24: =AVERAGE('Single data'!DB25:DF25) -> 36118.649 | BW24: ± | BX24: =(_xlfn.STDEV.S('Single data'!DB25:DF25)/SQRT(5)) -> 3354.5345 | BY24: =AVERAGE('Single data'!DG25:DK25) -> 42952.606 | BZ24: ± | CA24: =(_xlfn.STDEV.S('Single data'!DG25:DK25)/SQRT(5)) -> 5808.8134 | CB24: =AVERAGE('Single data'!DL25:DP25) -> 29160.896 | CC24: ± | CD24: =(_xlfn.STDEV.S('Single data'!DL25:DP25)/SQRT(5)) -> 3575.8885 | CE24: =AVERAGE('Single data'!DQ25:DU25) -> 42275.979 | CF24: ± | CG24: =(_xlfn.STDEV.S('Single data'!DQ25:DU25)/SQRT(5)) -> 4507.1677 | CH24: =AVERAGE('Single data'!DV25:DZ25) -> 30699.168 | CI24: ± | CJ24: =_xlfn.STDEV.S('Single data'!DV25:DZ25)/SQRT(5) -> 4725.501 | CK24: =AVERAGE('Single data'!EA25:EE25) -> 46733.258 | CL24: ± | CM24: =(_xlfn.STDEV.S('Single data'!EA25:EE25)/SQRT(5)) -> 4829.19 | CN24: =AVERAGE('Single data'!EF25:EJ25) -> 31783.455 | CO24: ± | CP24: =_xlfn.STDEV.S('Single data'!EF25:EJ25)/SQRT(5) -> 5995.4668 | CQ24: =AVERAGE('Single data'!EK25:EO25) -> 49392.692 | CR24: ± | CS24: =(_xlfn.STDEV.S('Single data'!EK25:EO25)/SQRT(5)) -> 5449.0166 | CT24: =AVERAGE('Single data'!EP25:ET25) -> 37966.27 | CU24: ± | CV24: =_xlfn.STDEV.S('Single data'!EP25:ET25)/SQRT(5) -> 6583.9088 | CW24: =AVERAGE('Single data'!EU25:EY25) -> 54834.438 | CX24: ± | CY24: =(_xlfn.STDEV.S('Single data'!EU25:EY25)/SQRT(5)) -> 8344.3959 | CZ24: =AVERAGE('Single data'!EZ25:FD25) -> 48742.433 | DA24: ± | DB24: =_xlfn.STDEV.S('Single data'!EZ25:FD25)/SQRT(5) -> 4974.3914
B25: PTGS | C25: PGE2 | D25: =AVERAGE('Single data'!D26:H26) -> 1877.8418 | E25: ± | F25: =(_xlfn.STDEV.S('Single data'!D26:H26)/SQRT(5)) -> 497.80156 | G25: =AVERAGE('Single data'!I26:L26) -> 1972.5924 | H25: ± | I25: =(_xlfn.STDEV.S('Single data'!I26:L26)/SQRT(4)) -> 877.67539 | J25: =AVERAGE('Single data'!M26:P26) -> 1201.7413 | K25: ± | L25: =(_xlfn.STDEV.S('Single data'!M26:P26)/SQRT(4)) -> 381.64062 | M25: =AVERAGE('Single data'!Q26:T26) -> 904.82356 | N25: ± | O25: =(_xlfn.STDEV.S('Single data'!Q26:T26)/SQRT(4)) -> 208.89278 | P25: =AVERAGE('Single data'!U26:X26) -> 2099.1341 | Q25: ± | R25: =_xlfn.STDEV.S('Single data'!U26:X26)/SQRT(4) -> 527.93645 | S25: =AVERAGE('Single data'!Y26:AB26) -> 997.79601 | T25: ± | U25: =(_xlfn.STDEV.S('Single data'!Y26:AB26)/SQRT(4)) -> 238.06057 | V25: =AVERAGE('Single data'!AC26:AF26) -> 1070.4931 | W25: ± | X25: =(_xlfn.STDEV.S('Single data'!AC26:AF26)/SQRT(4)) -> 184.90791 | Y25: =AVERAGE('Single data'!AG26:AJ26) -> 1077.1708 | Z25: ± | AA25: =(_xlfn.STDEV.S('Single data'!AG26:AJ26)/SQRT(4)) -> 376.50031 | AB25: =AVERAGE('Single data'!AK26:AN26) -> 869.02955 | AC25: ± | AD25: =(_xlfn.STDEV.S('Single data'!AK26:AN26)/SQRT(3)) -> 246.93321 | AE25: =AVERAGE('Single data'!AO26:AR26) -> 626.29213 | AF25: ± | AG25: =(_xlfn.STDEV.S('Single data'!AO26:AR26)/SQRT(4)) -> 273.87063 | AH25: =AVERAGE('Single data'!AS26:AV26) -> 1002.3438 | AI25: ± | AJ25: =_xlfn.STDEV.S('Single data'!AS26:AV26)/SQRT(4) -> 429.79049 | AK25: =AVERAGE('Single data'!AW26:AZ26) -> 1209.79 | AL25: ± | AM25: =(_xlfn.STDEV.S('Single data'!AW26:AZ26)/SQRT(4)) -> 283.95928 | AN25: =AVERAGE('Single data'!BA26:BD26) -> 1293.0986 | AO25: ± | AP25: =_xlfn.STDEV.S('Single data'!BA26:BD26)/SQRT(4) -> 281.06909 | AQ25: =AVERAGE('Single data'!BE26:BH26) -> 886.62162 | AR25: ± | AS25: =(_xlfn.STDEV.S('Single data'!BE26:BH26)/SQRT(4)) -> 216.59842 | AT25: =AVERAGE('Single data'!BI26:BL26) -> 2127.1647 | AU25: ± | AV25: =_xlfn.STDEV.S('Single data'!BI26:BL26)/SQRT(4) -> 855.20375 | AW25: =AVERAGE('Single data'!BM26:BP26) -> 1209.3103 | AX25: ± | AY25: =(_xlfn.STDEV.S('Single data'!BM26:BP26)/SQRT(3)) -> 162.81692 | AZ25: =AVERAGE('Single data'!BQ26:BT26) -> 1221.5309 | BA25: ± | BB25: =_xlfn.STDEV.S('Single data'!BQ26:BT26)/SQRT(4) -> 92.787136 | BD25: =AVERAGE('Single data'!BV26:CB26) -> 10690.334 | BE25: ± | BF25: =(_xlfn.STDEV.S('Single data'!BV26:CB26)/SQRT(7)) -> 1565.8599 | BG25: =AVERAGE('Single data'!CC26:CG26) -> 11687.444 | BH25: ± | BI25: =(_xlfn.STDEV.S('Single data'!CC26:CG26)/SQRT(5)) -> 2933.9178 | BJ25: =AVERAGE('Single data'!CH26:CL26) -> 11119.868 | BK25: ± | BL25: =(_xlfn.STDEV.S('Single data'!CH26:CL26)/SQRT(5)) -> 2252.7767 | BM25: =AVERAGE('Single data'!CM26:CQ26) -> 11881.864 | BN25: ± | BO25: =(_xlfn.STDEV.S('Single data'!CM26:CQ26)/SQRT(5)) -> 1766.3932 | BP25: =AVERAGE('Single data'!CR26:CV26) -> 14484.161 | BQ25: ± | BR25: =_xlfn.STDEV.S('Single data'!CR26:CV26)/SQRT(5) -> 2207.6379 | BS25: =AVERAGE('Single data'!CW26:DA26) -> 10652.873 | BT25: ± | BU25: =(_xlfn.STDEV.S('Single data'!CW26:DA26)/SQRT(5)) -> 1619.8408 | BV25: =AVERAGE('Single data'!DB26:DF26) -> 14068.615 | BW25: ± | BX25: =(_xlfn.STDEV.S('Single data'!DB26:DF26)/SQRT(5)) -> 2042.7778 | BY25: =AVERAGE('Single data'!DG26:DK26) -> 10274.098 | BZ25: ± | CA25: =(_xlfn.STDEV.S('Single data'!DG26:DK26)/SQRT(5)) -> 2404.6919 | CB25: =AVERAGE('Single data'!DL26:DP26) -> 10675.208 | CC25: ± | CD25: =(_xlfn.STDEV.S('Single data'!DL26:DP26)/SQRT(5)) -> 2834.9743 | CE25: =AVERAGE('Single data'!DQ26:DU26) -> 10991.199 | CF25: ± | CG25: =(_xlfn.STDEV.S('Single data'!DQ26:DU26)/SQRT(5)) -> 2786.2981 | CH25: =AVERAGE('Single data'!DV26:DZ26) -> 12198.704 | CI25: ± | CJ25: =_xlfn.STDEV.S('Single data'!DV26:DZ26)/SQRT(5) -> 3015.8052 | CK25: =AVERAGE('Single data'!EA26:EE26) -> 11757.453 | CL25: ± | CM25: =(_xlfn.STDEV.S('Single data'!EA26:EE26)/SQRT(5)) -> 1760.1092 | CN25: =AVERAGE('Single data'!EF26:EJ26) -> 14252.127 | CO25: ± | CP25: =_xlfn.STDEV.S('Single data'!EF26:EJ26)/SQRT(5) -> 2474.8236 | CQ25: =AVERAGE('Single data'!EK26:EO26) -> 11208.303 | CR25: ± | CS25: =(_xlfn.STDEV.S('Single data'!EK26:EO26)/SQRT(5)) -> 2087.1599 | CT25: =AVERAGE('Single data'!EP26:ET26) -> 10093.056 | CU25: ± | CV25: =_xlfn.STDEV.S('Single data'!EP26:ET26)/SQRT(5) -> 2120.76 | CW25: =AVERAGE('Single data'!EU26:EY26) -> 10543.849 | CX25: ± | CY25: =(_xlfn.STDEV.S('Single data'!EU26:EY26)/SQRT(5)) -> 1772.9847 | CZ25: =AVERAGE('Single data'!EZ26:FD26) -> 10249.469 | DA25: ± | DB25: =_xlfn.STDEV.S('Single data'!EZ26:FD26)/SQRT(5) -> 1625.0302
C26: 15-ketoPGE2 | D26: =AVERAGE('Single data'!D27:H27) -> 51.997669 | E26: ± | F26: =(_xlfn.STDEV.S('Single data'!D27:H27)/SQRT(5)) -> 15.81489 | G26: =AVERAGE('Single data'!I27:L27) -> 56.25511 | H26: ± | I26: =(_xlfn.STDEV.S('Single data'!I27:L27)/SQRT(4)) -> 35.157993 | J26: =AVERAGE('Single data'!M27:P27) -> 54.392012 | K26: ± | L26: =(_xlfn.STDEV.S('Single data'!M27:P27)/SQRT(4)) -> 20.578795 | M26: =AVERAGE('Single data'!Q27:T27) -> 35.496683 | N26: ± | O26: =(_xlfn.STDEV.S('Single data'!Q27:T27)/SQRT(4)) -> 1.7156948 | P26: =AVERAGE('Single data'!U27:X27) -> 246.1409 | Q26: ± | R26: =_xlfn.STDEV.S('Single data'!U27:X27)/SQRT(4) -> 134.02841 | S26: =AVERAGE('Single data'!Y27:AB27) -> 65.807591 | T26: ± | U26: =(_xlfn.STDEV.S('Single data'!Y27:AB27)/SQRT(4)) -> 15.221915 | V26: =AVERAGE('Single data'!AC27:AF27) -> 168.37572 | W26: ± | X26: =(_xlfn.STDEV.S('Single data'!AC27:AF27)/SQRT(4)) -> 48.284808 | Y26: =AVERAGE('Single data'!AG27:AJ27) -> 58.916719 | Z26: ± | AA26: =(_xlfn.STDEV.S('Single data'!AG27:AJ27)/SQRT(4)) -> 28.618901 | AB26: =AVERAGE('Single data'!AK27:AN27) -> 110.597 | AC26: ± | AD26: =(_xlfn.STDEV.S('Single data'!AK27:AN27)/SQRT(3)) -> 40.664802 | AE26: =AVERAGE('Single data'!AO27:AR27) -> 32.236564 | AF26: ± | AG26: =(_xlfn.STDEV.S('Single data'!AO27:AR27)/SQRT(4)) -> 8.4586172 | AH26: =AVERAGE('Single data'!AS27:AV27) -> 154.11625 | AI26: ± | AJ26: =_xlfn.STDEV.S('Single data'!AS27:AV27)/SQRT(4) -> 91.448179 | AK26: =AVERAGE('Single data'!AW27:AZ27) -> 54.402919 | AL26: ± | AM26: =(_xlfn.STDEV.S('Single data'!AW27:AZ27)/SQRT(4)) -> 11.917192 | AN26: =AVERAGE('Single data'!BA27:BD27) -> 165.87333 | AO26: ± | AP26: =_xlfn.STDEV.S('Single data'!BA27:BD27)/SQRT(4) -> 44.734162 | AQ26: =AVERAGE('Single data'!BE27:BH27) -> 18.922844 | AR26: ± | AS26: =(_xlfn.STDEV.S('Single data'!BE27:BH27)/SQRT(4)) -> 4.5439258 | AT26: =AVERAGE('Single data'!BI27:BL27) -> 56.466354 | AU26: ± | AV26: =_xlfn.STDEV.S('Single data'!BI27:BL27)/SQRT(4) -> 19.876028 | AW26: =AVERAGE('Single data'!BM27:BP27) -> 29.604951 | AX26: ± | AY26: =(_xlfn.STDEV.S('Single data'!BM27:BP27)/SQRT(3)) -> 8.5660717 | AZ26: =AVERAGE('Single data'!BQ27:BT27) -> 35.554395 | BA26: ± | BB26: =_xlfn.STDEV.S('Single data'!BQ27:BT27)/SQRT(4) -> 9.3484986 | BD26: =AVERAGE('Single data'!BV27:CB27) -> 1261.7517 | BE26: ± | BF26: =(_xlfn.STDEV.S('Single data'!BV27:CB27)/SQRT(7)) -> 207.78285 | BG26: =AVERAGE('Single data'!CC27:CG27) -> 1531.7168 | BH26: ± | BI26: =(_xlfn.STDEV.S('Single data'!CC27:CG27)/SQRT(5)) -> 481.17575 | BJ26: =AVERAGE('Single data'!CH27:CL27) -> 1841.2781 | BK26: ± | BL26: =(_xlfn.STDEV.S('Single data'!CH27:CL27)/SQRT(5)) -> 466.53373 | BM26: =AVERAGE('Single data'!CM27:CQ27) -> 2269.8859 | BN26: ± | BO26: =(_xlfn.STDEV.S('Single data'!CM27:CQ27)/SQRT(5)) -> 466.47403 | BP26: =AVERAGE('Single data'!CR27:CV27) -> 6316.6188 | BQ26: ± | BR26: =_xlfn.STDEV.S('Single data'!CR27:CV27)/SQRT(5) -> 1056.7769 | BS26: =AVERAGE('Single data'!CW27:DA27) -> 1761.4194 | BT26: ± | BU26: =(_xlfn.STDEV.S('Single data'!CW27:DA27)/SQRT(5)) -> 287.40655 | BV26: =AVERAGE('Single data'!DB27:DF27) -> 5054.7498 | BW26: ± | BX26: =(_xlfn.STDEV.S('Single data'!DB27:DF27)/SQRT(5)) -> 630.06783 | BY26: =AVERAGE('Single data'!DG27:DK27) -> 1853.555 | BZ26: ± | CA26: =(_xlfn.STDEV.S('Single data'!DG27:DK27)/SQRT(5)) -> 489.1618 | CB26: =AVERAGE('Single data'!DL27:DP27) -> 3433.7062 | CC26: ± | CD26: =(_xlfn.STDEV.S('Single data'!DL27:DP27)/SQRT(5)) -> 889.02306 | CE26: =AVERAGE('Single data'!DQ27:DU27) -> 2290.0271 | CF26: ± | CG26: =(_xlfn.STDEV.S('Single data'!DQ27:DU27)/SQRT(5)) -> 531.15645 | CH26: =AVERAGE('Single data'!DV27:DZ27) -> 3958.2135 | CI26: ± | CJ26: =_xlfn.STDEV.S('Single data'!DV27:DZ27)/SQRT(5) -> 1047.977 | CK26: =AVERAGE('Single data'!EA27:EE27) -> 2346.3772 | CL26: ± | CM26: =(_xlfn.STDEV.S('Single data'!EA27:EE27)/SQRT(5)) -> 380.93039 | CN26: =AVERAGE('Single data'!EF27:EJ27) -> 5810.282 | CO26: ± | CP26: =_xlfn.STDEV.S('Single data'!EF27:EJ27)/SQRT(5) -> 1453.7294 | CQ26: =AVERAGE('Single data'!EK27:EO27) -> 1397.6897 | CR26: ± | CS26: =(_xlfn.STDEV.S('Single data'!EK27:EO27)/SQRT(5)) -> 299.50837 | CT26: =AVERAGE('Single data'!EP27:ET27) -> 1330.2736 | CU26: ± | CV26: =_xlfn.STDEV.S('Single data'!EP27:ET27)/SQRT(5) -> 299.43009 | CW26: =AVERAGE('Single data'!EU27:EY27) -> 1352.1513 | CX26: ± | CY26: =(_xlfn.STDEV.S('Single data'!EU27:EY27)/SQRT(5)) -> 307.5481 | CZ26: =AVERAGE('Single data'!EZ27:FD27) -> 1497.7357 | DA26: ± | DB26: =_xlfn.STDEV.S('Single data'!EZ27:FD27)/SQRT(5) -> 332.7105
C27: PGD2 | D27: =AVERAGE('Single data'!D28:H28) -> 44.480455 | E27: ± | F27: =(_xlfn.STDEV.S('Single data'!D28:H28)/SQRT(5)) -> 14.983128 | G27: =AVERAGE('Single data'!I28:L28) -> 38.560416 | H27: ± | I27: =(_xlfn.STDEV.S('Single data'!I28:L28)/SQRT(4)) -> 18.495523 | J27: =AVERAGE('Single data'!M28:P28) -> 38.824928 | K27: ± | L27: =(_xlfn.STDEV.S('Single data'!M28:P28)/SQRT(4)) -> 11.659891 | M27: =AVERAGE('Single data'!Q28:T28) -> 28.23983 | N27: ± | O27: =(_xlfn.STDEV.S('Single data'!Q28:T28)/SQRT(4)) -> 5.7214049 | P27: =AVERAGE('Single data'!U28:X28) -> 97.800389 | Q27: ± | R27: =_xlfn.STDEV.S('Single data'!U28:X28)/SQRT(4) -> 27.414302 | S27: =AVERAGE('Single data'!Y28:AB28) -> 30.60949 | T27: ± | U27: =(_xlfn.STDEV.S('Single data'!Y28:AB28)/SQRT(4)) -> 7.9333803 | V27: =AVERAGE('Single data'!AC28:AF28) -> 61.443993 | W27: ± | X27: =(_xlfn.STDEV.S('Single data'!AC28:AF28)/SQRT(4)) -> 8.5460854 | Y27: =AVERAGE('Single data'!AG28:AJ28) -> 47.522691 | Z27: ± | AA27: =(_xlfn.STDEV.S('Single data'!AG28:AJ28)/SQRT(4)) -> 21.416871 | AB27: =AVERAGE('Single data'!AK28:AN28) -> 69.172007 | AC27: ± | AD27: =(_xlfn.STDEV.S('Single data'!AK28:AN28)/SQRT(3)) -> 16.992275 | AE27: =AVERAGE('Single data'!AO28:AR28) -> 18.174956 | AF27: ± | AG27: =(_xlfn.STDEV.S('Single data'!AO28:AR28)/SQRT(4)) -> 6.4362318 | AH27: =AVERAGE('Single data'!AS28:AV28) -> 102.19999 | AI27: ± | AJ27: =_xlfn.STDEV.S('Single data'!AS28:AV28)/SQRT(4) -> 33.830207 | AK27: =AVERAGE('Single data'!AW28:AZ28) -> 32.195792 | AL27: ± | AM27: =(_xlfn.STDEV.S('Single data'!AW28:AZ28)/SQRT(4)) -> 4.5289905 | AN27: =AVERAGE('Single data'!BA28:BD28) -> 78.526076 | AO27: ± | AP27: =_xlfn.STDEV.S('Single data'!BA28:BD28)/SQRT(4) -> 12.946117 | AQ27: =AVERAGE('Single data'!BE28:BH28) -> 19.667765 | AR27: ± | AS27: =(_xlfn.STDEV.S('Single data'!BE28:BH28)/SQRT(4)) -> 3.8280988 | AT27: =AVERAGE('Single data'!BI28:BL28) -> 70.918969 | AU27: ± | AV27: =_xlfn.STDEV.S('Single data'!BI28:BL28)/SQRT(4) -> 34.996421 | AW27: =AVERAGE('Single data'!BM28:BP28) -> 27.757243 | AX27: ± | AY27: =(_xlfn.STDEV.S('Single data'!BM28:BP28)/SQRT(3)) -> 3.0644144 | AZ27: =AVERAGE('Single data'!BQ28:BT28) -> 28.566958 | BA27: ± | BB27: =_xlfn.STDEV.S('Single data'!BQ28:BT28)/SQRT(4) -> 6.2021299 | BD27: =AVERAGE('Single data'!BV28:CB28) -> 251.85237 | BE27: ± | BF27: =(_xlfn.STDEV.S('Single data'!BV28:CB28)/SQRT(7)) -> 30.144667 | BG27: =AVERAGE('Single data'!CC28:CG28) -> 332.9154 | BH27: ± | BI27: =(_xlfn.STDEV.S('Single data'!CC28:CG28)/SQRT(5)) -> 53.713511 | BJ27: =AVERAGE('Single data'!CH28:CL28) -> 347.26904 | BK27: ± | BL27: =(_xlfn.STDEV.S('Single data'!CH28:CL28)/SQRT(5)) -> 96.752124 | BM27: =AVERAGE('Single data'!CM28:CQ28) -> 312.37143 | BN27: ± | BO27: =(_xlfn.STDEV.S('Single data'!CM28:CQ28)/SQRT(5)) -> 25.320409 | BP27: =AVERAGE('Single data'!CR28:CV28) -> 628.28504 | BQ27: ± | BR27: =_xlfn.STDEV.S('Single data'!CR28:CV28)/SQRT(5) -> 66.979996 | BS27: =AVERAGE('Single data'!CW28:DA28) -> 222.43743 | BT27: ± | BU27: =(_xlfn.STDEV.S('Single data'!CW28:DA28)/SQRT(5)) -> 27.403376 | BV27: =AVERAGE('Single data'!DB28:DF28) -> 489.53803 | BW27: ± | BX27: =(_xlfn.STDEV.S('Single data'!DB28:DF28)/SQRT(5)) -> 33.704598 | BY27: =AVERAGE('Single data'!DG28:DK28) -> 348.35057 | BZ27: ± | CA27: =(_xlfn.STDEV.S('Single data'!DG28:DK28)/SQRT(5)) -> 83.052622 | CB27: =AVERAGE('Single data'!DL28:DP28) -> 600.78278 | CC27: ± | CD27: =(_xlfn.STDEV.S('Single data'!DL28:DP28)/SQRT(5)) -> 96.365246 | CE27: =AVERAGE('Single data'!DQ28:DU28) -> 396.56588 | CF27: ± | CG27: =(_xlfn.STDEV.S('Single data'!DQ28:DU28)/SQRT(5)) -> 53.122468 | CH27: =AVERAGE('Single data'!DV28:DZ28) -> 659.52134 | CI27: ± | CJ27: =_xlfn.STDEV.S('Single data'!DV28:DZ28)/SQRT(5) -> 140.12385 | CK27: =AVERAGE('Single data'!EA28:EE28) -> 326.58373 | CL27: ± | CM27: =(_xlfn.STDEV.S('Single data'!EA28:EE28)/SQRT(5)) -> 67.891704 | CN27: =AVERAGE('Single data'!EF28:EJ28) -> 563.03275 | CO27: ± | CP27: =_xlfn.STDEV.S('Single data'!EF28:EJ28)/SQRT(5) -> 111.51393 | CQ27: =AVERAGE('Single data'!EK28:EO28) -> 316.41212 | CR27: ± | CS27: =(_xlfn.STDEV.S('Single data'!EK28:EO28)/SQRT(5)) -> 75.716411 | CT27: =AVERAGE('Single data'!EP28:ET28) -> 255.13802 | CU27: ± | CV27: =_xlfn.STDEV.S('Single data'!EP28:ET28)/SQRT(5) -> 34.57616 | CW27: =AVERAGE('Single data'!EU28:EY28) -> 257.20293 | CX27: ± | CY27: =(_xlfn.STDEV.S('Single data'!EU28:EY28)/SQRT(5)) -> 47.003464 | CZ27: =AVERAGE('Single data'!EZ28:FD28) -> 252.10547 | DA27: ± | DB27: =_xlfn.STDEV.S('Single data'!EZ28:FD28)/SQRT(5) -> 40.034178
C28: PGF2a | D28: =AVERAGE('Single data'!D29:H29) -> 65.246564 | E28: ± | F28: =(_xlfn.STDEV.S('Single data'!D29:H29)/SQRT(5)) -> 14.434039 | G28: =AVERAGE('Single data'!I29:L29) -> 55.915885 | H28: ± | I28: =(_xlfn.STDEV.S('Single data'!I29:L29)/SQRT(4)) -> 20.935198 | J28: =AVERAGE('Single data'!M29:P29) -> 40.418046 | K28: ± | L28: =(_xlfn.STDEV.S('Single data'!M29:P29)/SQRT(4)) -> 7.4245517 | M28: =AVERAGE('Single data'!Q29:T29) -> 38.88156 | N28: ± | O28: =(_xlfn.STDEV.S('Single data'!Q29:T29)/SQRT(4)) -> 3.2722343 | P28: =AVERAGE('Single data'!U29:X29) -> 133.93565 | Q28: ± | R28: =_xlfn.STDEV.S('Single data'!U29:X29)/SQRT(4) -> 53.287499 | S28: =AVERAGE('Single data'!Y29:AB29) -> 51.664929 | T28: ± | U28: =(_xlfn.STDEV.S('Single data'!Y29:AB29)/SQRT(4)) -> 5.4735645 | V28: =AVERAGE('Single data'!AC29:AF29) -> 76.953689 | W28: ± | X28: =(_xlfn.STDEV.S('Single data'!AC29:AF29)/SQRT(4)) -> 9.5982148 | Y28: =AVERAGE('Single data'!AG29:AJ29) -> 49.630293 | Z28: ± | AA28: =(_xlfn.STDEV.S('Single data'!AG29:AJ29)/SQRT(4)) -> 14.902934 | AB28: =AVERAGE('Single data'!AK29:AN29) -> 88.55813 | AC28: ± | AD28: =(_xlfn.STDEV.S('Single data'!AK29:AN29)/SQRT(3)) -> 21.951344 | AE28: =AVERAGE('Single data'!AO29:AR29) -> 27.078603 | AF28: ± | AG28: =(_xlfn.STDEV.S('Single data'!AO29:AR29)/SQRT(4)) -> 4.9375584 | AH28: =AVERAGE('Single data'!AS29:AV29) -> 105.22053 | AI28: ± | AJ28: =_xlfn.STDEV.S('Single data'!AS29:AV29)/SQRT(4) -> 50.504038 | AK28: =AVERAGE('Single data'!AW29:AZ29) -> 57.068493 | AL28: ± | AM28: =(_xlfn.STDEV.S('Single data'!AW29:AZ29)/SQRT(4)) -> 10.301997 | AN28: =AVERAGE('Single data'!BA29:BD29) -> 82.586343 | AO28: ± | AP28: =_xlfn.STDEV.S('Single data'!BA29:BD29)/SQRT(4) -> 15.406731 | AQ28: =AVERAGE('Single data'!BE29:BH29) -> 33.14021 | AR28: ± | AS28: =(_xlfn.STDEV.S('Single data'!BE29:BH29)/SQRT(4)) -> 4.3792118 | AT28: =AVERAGE('Single data'!BI29:BL29) -> 62.494539 | AU28: ± | AV28: =_xlfn.STDEV.S('Single data'!BI29:BL29)/SQRT(4) -> 12.645636 | AW28: =AVERAGE('Single data'!BM29:BP29) -> 41.850368 | AX28: ± | AY28: =(_xlfn.STDEV.S('Single data'!BM29:BP29)/SQRT(3)) -> 6.2051896 | AZ28: =AVERAGE('Single data'!BQ29:BT29) -> 36.395041 | BA28: ± | BB28: =_xlfn.STDEV.S('Single data'!BQ29:BT29)/SQRT(4) -> 2.3340681 | BD28: =AVERAGE('Single data'!BV29:CB29) -> 586.52229 | BE28: ± | BF28: =(_xlfn.STDEV.S('Single data'!BV29:CB29)/SQRT(7)) -> 98.445771 | BG28: =AVERAGE('Single data'!CC29:CG29) -> 766.06432 | BH28: ± | BI28: =(_xlfn.STDEV.S('Single data'!CC29:CG29)/SQRT(5)) -> 156.17545 | BJ28: =AVERAGE('Single data'!CH29:CL29) -> 740.72725 | BK28: ± | BL28: =(_xlfn.STDEV.S('Single data'!CH29:CL29)/SQRT(5)) -> 145.97651 | BM28: =AVERAGE('Single data'!CM29:CQ29) -> 697.84012 | BN28: ± | BO28: =(_xlfn.STDEV.S('Single data'!CM29:CQ29)/SQRT(5)) -> 141.15419 | BP28: =AVERAGE('Single data'!CR29:CV29) -> 1312.42 | BQ28: ± | BR28: =_xlfn.STDEV.S('Single data'!CR29:CV29)/SQRT(5) -> 185.0747 | BS28: =AVERAGE('Single data'!CW29:DA29) -> 651.07959 | BT28: ± | BU28: =(_xlfn.STDEV.S('Single data'!CW29:DA29)/SQRT(5)) -> 152.65135 | BV28: =AVERAGE('Single data'!DB29:DF29) -> 1182.5892 | BW28: ± | BX28: =(_xlfn.STDEV.S('Single data'!DB29:DF29)/SQRT(5)) -> 250.53878 | BY28: =AVERAGE('Single data'!DG29:DK29) -> 723.47044 | BZ28: ± | CA28: =(_xlfn.STDEV.S('Single data'!DG29:DK29)/SQRT(5)) -> 137.41423 | CB28: =AVERAGE('Single data'!DL29:DP29) -> 1358.9098 | CC28: ± | CD28: =(_xlfn.STDEV.S('Single data'!DL29:DP29)/SQRT(5)) -> 248.11906 | CE28: =AVERAGE('Single data'!DQ29:DU29) -> 787.98197 | CF28: ± | CG28: =(_xlfn.STDEV.S('Single data'!DQ29:DU29)/SQRT(5)) -> 154.74865 | CH28: =AVERAGE('Single data'!DV29:DZ29) -> 1114.6146 | CI28: ± | CJ28: =_xlfn.STDEV.S('Single data'!DV29:DZ29)/SQRT(5) -> 287.67563 | CK28: =AVERAGE('Single data'!EA29:EE29) -> 819.63289 | CL28: ± | CM28: =(_xlfn.STDEV.S('Single data'!EA29:EE29)/SQRT(5)) -> 254.01249 | CN28: =AVERAGE('Single data'!EF29:EJ29) -> 1087.5263 | CO28: ± | CP28: =_xlfn.STDEV.S('Single data'!EF29:EJ29)/SQRT(5) -> 202.16447 | CQ28: =AVERAGE('Single data'!EK29:EO29) -> 554.61493 | CR28: ± | CS28: =(_xlfn.STDEV.S('Single data'!EK29:EO29)/SQRT(5)) -> 119.98215 | CT28: =AVERAGE('Single data'!EP29:ET29) -> 494.51304 | CU28: ± | CV28: =_xlfn.STDEV.S('Single data'!EP29:ET29)/SQRT(5) -> 113.86214 | CW28: =AVERAGE('Single data'!EU29:EY29) -> 534.5224 | CX28: ± | CY28: =(_xlfn.STDEV.S('Single data'!EU29:EY29)/SQRT(5)) -> 118.91443 | CZ28: =AVERAGE('Single data'!EZ29:FD29) -> 532.44069 | DA28: ± | DB28: =_xlfn.STDEV.S('Single data'!EZ29:FD29)/SQRT(5) -> 90.639708
C29: TXB2 | D29: =AVERAGE('Single data'!D30:H30) -> 474.69252 | E29: ± | F29: =(_xlfn.STDEV.S('Single data'!D30:H30)/SQRT(5)) -> 93.988901 | G29: =AVERAGE('Single data'!I30:L30) -> 461.47993 | H29: ± | I29: =(_xlfn.STDEV.S('Single data'!I30:L30)/SQRT(4)) -> 155.12294 | J29: =AVERAGE('Single data'!M30:P30) -> 330.54042 | K29: ± | L29: =(_xlfn.STDEV.S('Single data'!M30:P30)/SQRT(4)) -> 58.648435 | M29: =AVERAGE('Single data'!Q30:T30) -> 245.32747 | N29: ± | O29: =(_xlfn.STDEV.S('Single data'!Q30:T30)/SQRT(4)) -> 24.598308 | P29: =AVERAGE('Single data'!U30:X30) -> 192.50464 | Q29: ± | R29: =_xlfn.STDEV.S('Single data'!U30:X30)/SQRT(4) -> 37.52202 | S29: =AVERAGE('Single data'!Y30:AB30) -> 291.35371 | T29: ± | U29: =(_xlfn.STDEV.S('Single data'!Y30:AB30)/SQRT(4)) -> 21.601645 | V29: =AVERAGE('Single data'!AC30:AF30) -> 153.92686 | W29: ± | X29: =(_xlfn.STDEV.S('Single data'!AC30:AF30)/SQRT(4)) -> 16.604123 | Y29: =AVERAGE('Single data'!AG30:AJ30) -> 294.0623 | Z29: ± | AA29: =(_xlfn.STDEV.S('Single data'!AG30:AJ30)/SQRT(4)) -> 68.964185 | AB29: =AVERAGE('Single data'!AK30:AN30) -> 145.46048 | AC29: ± | AD29: =(_xlfn.STDEV.S('Single data'!AK30:AN30)/SQRT(3)) -> 25.597708 | AE29: =AVERAGE('Single data'!AO30:AR30) -> 196.57928 | AF29: ± | AG29: =(_xlfn.STDEV.S('Single data'!AO30:AR30)/SQRT(4)) -> 47.151976 | AH29: =AVERAGE('Single data'!AS30:AV30) -> 161.09982 | AI29: ± | AJ29: =_xlfn.STDEV.S('Single data'!AS30:AV30)/SQRT(4) -> 34.541716 | AK29: =AVERAGE('Single data'!AW30:AZ30) -> 380.95422 | AL29: ± | AM29: =(_xlfn.STDEV.S('Single data'!AW30:AZ30)/SQRT(4)) -> 31.106194 | AN29: =AVERAGE('Single data'!BA30:BD30) -> 154.88179 | AO29: ± | AP29: =_xlfn.STDEV.S('Single data'!BA30:BD30)/SQRT(4) -> 23.370986 | AQ29: =AVERAGE('Single data'!BE30:BH30) -> 305.76895 | AR29: ± | AS29: =(_xlfn.STDEV.S('Single data'!BE30:BH30)/SQRT(4)) -> 50.950321 | AT29: =AVERAGE('Single data'!BI30:BL30) -> 490.11337 | AU29: ± | AV29: =_xlfn.STDEV.S('Single data'!BI30:BL30)/SQRT(4) -> 104.73649 | AW29: =AVERAGE('Single data'!BM30:BP30) -> 331.98034 | AX29: ± | AY29: =(_xlfn.STDEV.S('Single data'!BM30:BP30)/SQRT(3)) -> 9.6450127 | AZ29: =AVERAGE('Single data'!BQ30:BT30) -> 341.14502 | BA29: ± | BB29: =_xlfn.STDEV.S('Single data'!BQ30:BT30)/SQRT(4) -> 33.941665 | BD29: =AVERAGE('Single data'!BV30:CB30) -> 7488.7876 | BE29: ± | BF29: =(_xlfn.STDEV.S('Single data'!BV30:CB30)/SQRT(7)) -> 636.14352 | BG29: =AVERAGE('Single data'!CC30:CG30) -> 8689.7939 | BH29: ± | BI29: =(_xlfn.STDEV.S('Single data'!CC30:CG30)/SQRT(5)) -> 1190.7209 | BJ29: =AVERAGE('Single data'!CH30:CL30) -> 8074.4862 | BK29: ± | BL29: =(_xlfn.STDEV.S('Single data'!CH30:CL30)/SQRT(5)) -> 890.49166 | BM29: =AVERAGE('Single data'!CM30:CQ30) -> 7147.3786 | BN29: ± | BO29: =(_xlfn.STDEV.S('Single data'!CM30:CQ30)/SQRT(5)) -> 755.38011 | BP29: =AVERAGE('Single data'!CR30:CV30) -> 2274.3816 | BQ29: ± | BR29: =_xlfn.STDEV.S('Single data'!CR30:CV30)/SQRT(5) -> 650.10639 | BS29: =AVERAGE('Single data'!CW30:DA30) -> 7207.001 | BT29: ± | BU29: =(_xlfn.STDEV.S('Single data'!CW30:DA30)/SQRT(5)) -> 867.47255 | BV29: =AVERAGE('Single data'!DB30:DF30) -> 3534.285 | BW29: ± | BX29: =(_xlfn.STDEV.S('Single data'!DB30:DF30)/SQRT(5)) -> 835.02788 | BY29: =AVERAGE('Single data'!DG30:DK30) -> 6362.6777 | BZ29: ± | CA29: =(_xlfn.STDEV.S('Single data'!DG30:DK30)/SQRT(5)) -> 796.39692 | CB29: =AVERAGE('Single data'!DL30:DP30) -> 1533.6252 | CC29: ± | CD29: =(_xlfn.STDEV.S('Single data'!DL30:DP30)/SQRT(5)) -> 331.01624 | CE29: =AVERAGE('Single data'!DQ30:DU30) -> 6938.9118 | CF29: ± | CG29: =(_xlfn.STDEV.S('Single data'!DQ30:DU30)/SQRT(5)) -> 1918.0072 | CH29: =AVERAGE('Single data'!DV30:DZ30) -> 2108.8936 | CI29: ± | CJ29: =_xlfn.STDEV.S('Single data'!DV30:DZ30)/SQRT(5) -> 946.62325 | CK29: =AVERAGE('Single data'!EA30:EE30) -> 7178.376 | CL29: ± | CM29: =(_xlfn.STDEV.S('Single data'!EA30:EE30)/SQRT(5)) -> 1095.8278 | CN29: =AVERAGE('Single data'!EF30:EJ30) -> 4022.8054 | CO29: ± | CP29: =_xlfn.STDEV.S('Single data'!EF30:EJ30)/SQRT(5) -> 1367.7698 | CQ29: =AVERAGE('Single data'!EK30:EO30) -> 8942.8803 | CR29: ± | CS29: =(_xlfn.STDEV.S('Single data'!EK30:EO30)/SQRT(5)) -> 1435.2098 | CT29: =AVERAGE('Single data'!EP30:ET30) -> 7913.859 | CU29: ± | CV29: =_xlfn.STDEV.S('Single data'!EP30:ET30)/SQRT(5) -> 1085.0512 | CW29: =AVERAGE('Single data'!EU30:EY30) -> 8105.8057 | CX29: ± | CY29: =(_xlfn.STDEV.S('Single data'!EU30:EY30)/SQRT(5)) -> 968.92339 | CZ29: =AVERAGE('Single data'!EZ30:FD30) -> 7847.0489 | DA29: ± | DB29: =_xlfn.STDEV.S('Single data'!EZ30:FD30)/SQRT(5) -> 671.85166
C30: PGE1/PGD1 | BD30: =AVERAGE('Single data'!BV31:CB31) -> 485.55384 | BE30: ± | BF30: =(_xlfn.STDEV.S('Single data'!BV31:CB31)/SQRT(7)) -> 104.62384 | BM30: =AVERAGE('Single data'!CM31:CQ31) -> 549.69929 | BN30: ± | BO30: =(_xlfn.STDEV.S('Single data'!CM31:CQ31)/SQRT(5)) -> 139.67335 | BP30: =AVERAGE('Single data'!CR31:CV31) -> 727.19056 | BQ30: ± | BR30: =_xlfn.STDEV.S('Single data'!CR31:CV31)/SQRT(5) -> 188.68442 | BS30: =AVERAGE('Single data'!CW31:DA31) -> 506.2821 | BT30: ± | BU30: =(_xlfn.STDEV.S('Single data'!CW31:DA31)/SQRT(5)) -> 119.36996 | BV30: =AVERAGE('Single data'!DB31:DF31) -> 707.58407 | BW30: ± | BX30: =(_xlfn.STDEV.S('Single data'!DB31:DF31)/SQRT(5)) -> 166.32728 | CE30: =AVERAGE('Single data'!DQ31:DU31) -> 534.69192 | CF30: ± | CG30: =(_xlfn.STDEV.S('Single data'!DQ31:DU31)/SQRT(5)) -> 149.44164 | CH30: =AVERAGE('Single data'!DV31:DZ31) -> 672.73716 | CI30: ± | CJ30: =_xlfn.STDEV.S('Single data'!DV31:DZ31)/SQRT(5) -> 212.0562 | CK30: =AVERAGE('Single data'!EA31:EE31) -> 608.32391 | CL30: ± | CM30: =(_xlfn.STDEV.S('Single data'!EA31:EE31)/SQRT(5)) -> 161.52526 | CN30: =AVERAGE('Single data'!EF31:EJ31) -> 726.66959 | CO30: ± | CP30: =_xlfn.STDEV.S('Single data'!EF31:EJ31)/SQRT(5) -> 192.77118 | CQ30: =AVERAGE('Single data'!EK31:EO31) -> 463.23483 | CR30: ± | CS30: =(_xlfn.STDEV.S('Single data'!EK31:EO31)/SQRT(5)) -> 130.2931 | CT30: =AVERAGE('Single data'!EP31:ET31) -> 387.63139 | CU30: ± | CV30: =_xlfn.STDEV.S('Single data'!EP31:ET31)/SQRT(5) -> 112.97777 | CW30: =AVERAGE('Single data'!EU31:EY31) -> 477.44995 | CX30: ± | CY30: =(_xlfn.STDEV.S('Single data'!EU31:EY31)/SQRT(5)) -> 134.7922 | CZ30: =AVERAGE('Single data'!EZ31:FD31) -> 425.54084 | DA30: ± | DB30: =_xlfn.STDEV.S('Single data'!EZ31:FD31)/SQRT(5) -> 113.51854
B31: EET | C31: 5.6-EET | BD31: =AVERAGE('Single data'!BV32:CB32) -> 47.963035 | BE31: ± | BF31: =(_xlfn.STDEV.S('Single data'!BV32:CB32)/SQRT(7)) -> 9.3349317 | BG31: =AVERAGE('Single data'!CC32:CG32) -> 32.839767 | BH31: ± | BI31: =(_xlfn.STDEV.S('Single data'!CC32:CG32)/SQRT(5)) -> 10.416297 | BJ31: =AVERAGE('Single data'!CH32:CL32) -> 23.511583 | BK31: ± | BL31: =(_xlfn.STDEV.S('Single data'!CH32:CL32)/SQRT(5)) -> 4.9499984 | BM31: =AVERAGE('Single data'!CM32:CQ32) -> 16.233995 | BN31: ± | BO31: =(_xlfn.STDEV.S('Single data'!CM32:CQ32)/SQRT(5)) -> 4.4995468 | BP31: =AVERAGE('Single data'!CR32:CV32) -> 6.7425177 | BQ31: ± | BR31: =_xlfn.STDEV.S('Single data'!CR32:CV32)/SQRT(5) -> 2.9954304 | BS31: =AVERAGE('Single data'!CW32:DA32) -> 27.933865 | BT31: ± | BU31: =(_xlfn.STDEV.S('Single data'!CW32:DA32)/SQRT(5)) -> 8.2274708 | BV31: =AVERAGE('Single data'!DB32:DF32) -> 8.0647311 | BW31: ± | BX31: =(_xlfn.STDEV.S('Single data'!DB32:DF32)/SQRT(5)) -> 1.3286403 | BY31: =AVERAGE('Single data'!DG32:DK32) -> 43.951936 | BZ31: ± | CA31: =(_xlfn.STDEV.S('Single data'!DG32:DK32)/SQRT(5)) -> 9.6212986 | CB31: =AVERAGE('Single data'!DL32:DP32) -> 5.7663352 | CC31: ± | CD31: =(_xlfn.STDEV.S('Single data'!DL32:DP32)/SQRT(5)) -> 1.3855946 | CE31: =AVERAGE('Single data'!DQ32:DU32) -> 43.648792 | CF31: ± | CG31: =(_xlfn.STDEV.S('Single data'!DQ32:DU32)/SQRT(5)) -> 14.480471 | CH31: =AVERAGE('Single data'!DV32:DZ32) -> 6.6154726 | CI31: ± | CJ31: =_xlfn.STDEV.S('Single data'!DV32:DZ32)/SQRT(5) -> 2.0887889 | CK31: =AVERAGE('Single data'!EA32:EE32) -> 27.905864 | CL31: ± | CM31: =(_xlfn.STDEV.S('Single data'!EA32:EE32)/SQRT(5)) -> 8.2003283 | CN31: =AVERAGE('Single data'!EF32:EJ32) -> 17.363407 | CO31: ± | CP31: =_xlfn.STDEV.S('Single data'!EF32:EJ32)/SQRT(5) -> 7.8770957 | CQ31: =AVERAGE('Single data'!EK32:EO32) -> 27.536268 | CR31: ± | CS31: =(_xlfn.STDEV.S('Single data'!EK32:EO32)/SQRT(5)) -> 8.2275463 | CT31: =AVERAGE('Single data'!EP32:ET32) -> 15.935761 | CU31: ± | CV31: =_xlfn.STDEV.S('Single data'!EP32:ET32)/SQRT(5) -> 7.0803856 | CW31: =AVERAGE('Single data'!EU32:EY32) -> 34.285145 | CX31: ± | CY31: =(_xlfn.STDEV.S('Single data'!EU32:EY32)/SQRT(5)) -> 2.7362832 | CZ31: =AVERAGE('Single data'!EZ32:FD32) -> 10.913759 | DA31: ± | DB31: =_xlfn.STDEV.S('Single data'!EZ32:FD32)/SQRT(5) -> 2.329753
C32: 8.9-EET | BD32: =AVERAGE('Single data'!BV33:CB33) -> 114.35999 | BE32: ± | BF32: =(_xlfn.STDEV.S('Single data'!BV33:CB33)/SQRT(7)) -> 47.837882 | BM32: =AVERAGE('Single data'!CM33:CQ33) -> 107.40073 | BN32: ± | BO32: =(_xlfn.STDEV.S('Single data'!CM33:CQ33)/SQRT(5)) -> 39.372279 | BP32: =AVERAGE('Single data'!CR33:CV33) -> 107.26145 | BQ32: ± | BR32: =_xlfn.STDEV.S('Single data'!CR33:CV33)/SQRT(5) -> 29.400965 | BS32: =AVERAGE('Single data'!CW33:DA33) -> 88.930017 | BT32: ± | BU32: =(_xlfn.STDEV.S('Single data'!CW33:DA33)/SQRT(5)) -> 21.273087 | BV32: =AVERAGE('Single data'!DB33:DF33) -> 86.354527 | BW32: ± | BX32: =(_xlfn.STDEV.S('Single data'!DB33:DF33)/SQRT(5)) -> 28.289134 | CE32: =AVERAGE('Single data'!DQ33:DU33) -> 89.237359 | CF32: ± | CG32: =(_xlfn.STDEV.S('Single data'!DQ33:DU33)/SQRT(5)) -> 18.401339 | CH32: =AVERAGE('Single data'!DV33:DZ33) -> 80.928231 | CI32: ± | CJ32: =_xlfn.STDEV.S('Single data'!DV33:DZ33)/SQRT(5) -> 22.792171 | CK32: =AVERAGE('Single data'!EA33:EE33) -> 100.53368 | CL32: ± | CM32: =(_xlfn.STDEV.S('Single data'!EA33:EE33)/SQRT(5)) -> 25.359851 | CN32: =AVERAGE('Single data'!EF33:EJ33) -> 78.048967 | CO32: ± | CP32: =_xlfn.STDEV.S('Single data'!EF33:EJ33)/SQRT(5) -> 19.323363 | CQ32: =AVERAGE('Single data'!EK33:EO33) -> 94.507949 | CR32: ± | CS32: =(_xlfn.STDEV.S('Single data'!EK33:EO33)/SQRT(5)) -> 25.751843 | CT32: =AVERAGE('Single data'!EP33:ET33) -> 96.76515 | CU32: ± | CV32: =_xlfn.STDEV.S('Single data'!EP33:ET33)/SQRT(5) -> 36.670649 | CW32: =AVERAGE('Single data'!EU33:EY33) -> 92.481501 | CX32: ± | CY32: =(_xlfn.STDEV.S('Single data'!EU33:EY33)/SQRT(5)) -> 25.195472 | CZ32: =AVERAGE('Single data'!EZ33:FD33) -> 88.493462 | DA32: ± | DB32: =_xlfn.STDEV.S('Single data'!EZ33:FD33)/SQRT(5) -> 23.781789
C33: 11.12-EET | BD33: =AVERAGE('Single data'!BV34:CB34) -> 103.30304 | BE33: ± | BF33: =(_xlfn.STDEV.S('Single data'!BV34:CB34)/SQRT(7)) -> 27.892159 | BG33: =AVERAGE('Single data'!CC34:CG34) -> 79.036755 | BH33: ± | BI33: =(_xlfn.STDEV.S('Single data'!CC34:CG34)/SQRT(5)) -> 17.336047 | BJ33: =AVERAGE('Single data'!CH34:CL34) -> 72.057186 | BK33: ± | BL33: =(_xlfn.STDEV.S('Single data'!CH34:CL34)/SQRT(5)) -> 6.349947 | BM33: =AVERAGE('Single data'!CM34:CQ34) -> 83.314231 | BN33: ± | BO33: =(_xlfn.STDEV.S('Single data'!CM34:CQ34)/SQRT(5)) -> 14.605137 | BP33: =AVERAGE('Single data'!CR34:CV34) -> 75.713797 | BQ33: ± | BR33: =_xlfn.STDEV.S('Single data'!CR34:CV34)/SQRT(5) -> 13.777907 | BS33: =AVERAGE('Single data'!CW34:DA34) -> 66.888309 | BT33: ± | BU33: =(_xlfn.STDEV.S('Single data'!CW34:DA34)/SQRT(5)) -> 12.440054 | BV33: =AVERAGE('Single data'!DB34:DF34) -> 61.967327 | BW33: ± | BX33: =(_xlfn.STDEV.S('Single data'!DB34:DF34)/SQRT(5)) -> 9.8345994 | BY33: =AVERAGE('Single data'!DG34:DK34) -> 74.049149 | BZ33: ± | CA33: =(_xlfn.STDEV.S('Single data'!DG34:DK34)/SQRT(5)) -> 9.6920566 | CB33: =AVERAGE('Single data'!DL34:DP34) -> 65.510479 | CC33: ± | CD33: =(_xlfn.STDEV.S('Single data'!DL34:DP34)/SQRT(5)) -> 10.024325 | CE33: =AVERAGE('Single data'!DQ34:DU34) -> 86.864917 | CF33: ± | CG33: =(_xlfn.STDEV.S('Single data'!DQ34:DU34)/SQRT(5)) -> 20.52727 | CH33: =AVERAGE('Single data'!DV34:DZ34) -> 77.731747 | CI33: ± | CJ33: =_xlfn.STDEV.S('Single data'!DV34:DZ34)/SQRT(5) -> 26.277007 | CK33: =AVERAGE('Single data'!EA34:EE34) -> 68.317496 | CL33: ± | CM33: =(_xlfn.STDEV.S('Single data'!EA34:EE34)/SQRT(5)) -> 7.9792329 | CN33: =AVERAGE('Single data'!EF34:EJ34) -> 83.517324 | CO33: ± | CP33: =_xlfn.STDEV.S('Single data'!EF34:EJ34)/SQRT(5) -> 16.582019 | CQ33: =AVERAGE('Single data'!EK34:EO34) -> 82.971265 | CR33: ± | CS33: =(_xlfn.STDEV.S('Single data'!EK34:EO34)/SQRT(5)) -> 19.297299 | CT33: =AVERAGE('Single data'!EP34:ET34) -> 77.342834 | CU33: ± | CV33: =_xlfn.STDEV.S('Single data'!EP34:ET34)/SQRT(5) -> 13.82545 | CW33: =AVERAGE('Single data'!EU34:EY34) -> 79.801651 | CX33: ± | CY33: =(_xlfn.STDEV.S('Single data'!EU34:EY34)/SQRT(5)) -> 15.40258 | CZ33: =AVERAGE('Single data'!EZ34:FD34) -> 67.336282 | DA33: ± | DB33: =_xlfn.STDEV.S('Single data'!EZ34:FD34)/SQRT(5) -> 9.8682873
C34: 14.15-EET | BD34: =AVERAGE('Single data'!BV35:CB35) -> 231.67255 | BE34: ± | BF34: =(_xlfn.STDEV.S('Single data'!BV35:CB35)/SQRT(7)) -> 25.586225 | BG34: =AVERAGE('Single data'!CC35:CG35) -> 260.6282 | BH34: ± | BI34: =(_xlfn.STDEV.S('Single data'!CC35:CG35)/SQRT(5)) -> 23.446532 | BJ34: =AVERAGE('Single data'!CH35:CL35) -> 222.78196 | BK34: ± | BL34: =(_xlfn.STDEV.S('Single data'!CH35:CL35)/SQRT(5)) -> 7.5253137 | BM34: =AVERAGE('Single data'!CM35:CQ35) -> 222.39239 | BN34: ± | BO34: =(_xlfn.STDEV.S('Single data'!CM35:CQ35)/SQRT(5)) -> 30.487106 | BP34: =AVERAGE('Single data'!CR35:CV35) -> 203.31617 | BQ34: ± | BR34: =_xlfn.STDEV.S('Single data'!CR35:CV35)/SQRT(5) -> 30.973139 | BS34: =AVERAGE('Single data'!CW35:DA35) -> 201.39412 | BT34: ± | BU34: =(_xlfn.STDEV.S('Single data'!CW35:DA35)/SQRT(5)) -> 24.904816 | BV34: =AVERAGE('Single data'!DB35:DF35) -> 185.65496 | BW34: ± | BX34: =(_xlfn.STDEV.S('Single data'!DB35:DF35)/SQRT(5)) -> 28.774523 | BY34: =AVERAGE('Single data'!DG35:DK35) -> 242.23944 | BZ34: ± | CA34: =(_xlfn.STDEV.S('Single data'!DG35:DK35)/SQRT(5)) -> 28.10289 | CB34: =AVERAGE('Single data'!DL35:DP35) -> 205.34461 | CC34: ± | CD34: =(_xlfn.STDEV.S('Single data'!DL35:DP35)/SQRT(5)) -> 24.96957 | CE34: =AVERAGE('Single data'!DQ35:DU35) -> 189.86986 | CF34: ± | CG34: =(_xlfn.STDEV.S('Single data'!DQ35:DU35)/SQRT(5)) -> 44.414067 | CH34: =AVERAGE('Single data'!DV35:DZ35) -> 202.09816 | CI34: ± | CJ34: =_xlfn.STDEV.S('Single data'!DV35:DZ35)/SQRT(5) -> 59.287434 | CK34: =AVERAGE('Single data'!EA35:EE35) -> 190.77315 | CL34: ± | CM34: =(_xlfn.STDEV.S('Single data'!EA35:EE35)/SQRT(5)) -> 20.242147 | CN34: =AVERAGE('Single data'!EF35:EJ35) -> 196.54499 | CO34: ± | CP34: =_xlfn.STDEV.S('Single data'!EF35:EJ35)/SQRT(5) -> 34.376366 | CQ34: =AVERAGE('Single data'!EK35:EO35) -> 242.15376 | CR34: ± | CS34: =(_xlfn.STDEV.S('Single data'!EK35:EO35)/SQRT(5)) -> 40.816143 | CT34: =AVERAGE('Single data'!EP35:ET35) -> 245.34851 | CU34: ± | CV34: =_xlfn.STDEV.S('Single data'!EP35:ET35)/SQRT(5) -> 54.553912 | CW34: =AVERAGE('Single data'!EU35:EY35) -> 234.80203 | CX34: ± | CY34: =(_xlfn.STDEV.S('Single data'!EU35:EY35)/SQRT(5)) -> 26.796969 | CZ34: =AVERAGE('Single data'!EZ35:FD35) -> 216.10998 | DA34: ± | DB34: =_xlfn.STDEV.S('Single data'!EZ35:FD35)/SQRT(5) -> 28.427745
C35: 7-HDHA | D35: =AVERAGE('Single data'!D36:H36) -> 6.9321825 | E35: ± | F35: =(_xlfn.STDEV.S('Single data'!D36:H36)/SQRT(5)) -> 3.7154512 | G35: =AVERAGE('Single data'!I36:L36) -> 2.6348431 | H35: ± | I35: =(_xlfn.STDEV.S('Single data'!I36:L36)/SQRT(4)) -> 1.1721215 | J35: =AVERAGE('Single data'!M36:P36) -> 4.0132095 | K35: ± | L35: =(_xlfn.STDEV.S('Single data'!M36:P36)/SQRT(4)) -> 1.7078923 | M35: =AVERAGE('Single data'!Q36:T36) -> 2.2299449 | N35: ± | O35: =(_xlfn.STDEV.S('Single data'!Q36:T36)/SQRT(4)) -> 0.84151421 | P35: =AVERAGE('Single data'!U36:X36) -> 3.9263034 | Q35: ± | R35: =_xlfn.STDEV.S('Single data'!U36:X36)/SQRT(4) -> 1.566746 | S35: =AVERAGE('Single data'!Y36:AB36) -> 4.1495959 | T35: ± | U35: =(_xlfn.STDEV.S('Single data'!Y36:AB36)/SQRT(4)) -> 1.5975507 | V35: =AVERAGE('Single data'!AC36:AF36) -> 6.0890188 | W35: ± | X35: =(_xlfn.STDEV.S('Single data'!AC36:AF36)/SQRT(4)) -> 2.2833316 | Y35: =AVERAGE('Single data'!AG36:AJ36) -> 7.6040106 | Z35: ± | AA35: =(_xlfn.STDEV.S('Single data'!AG36:AJ36)/SQRT(4)) -> 5.0381814 | AB35: =AVERAGE('Single data'!AK36:AN36) -> 6.4373828 | AC35: ± | AD35: =(_xlfn.STDEV.S('Single data'!AK36:AN36)/SQRT(3)) -> 3.405183 | AE35: =AVERAGE('Single data'!AO36:AR36) -> 3.2330799 | AF35: ± | AG35: =(_xlfn.STDEV.S('Single data'!AO36:AR36)/SQRT(4)) -> 1.1481417 | AH35: =AVERAGE('Single data'!AS36:AV36) -> 4.2968793 | AI35: ± | AJ35: =_xlfn.STDEV.S('Single data'!AS36:AV36)/SQRT(4) -> 1.6597793 | AK35: =AVERAGE('Single data'!AW36:AZ36) -> 4.360909 | AL35: ± | AM35: =(_xlfn.STDEV.S('Single data'!AW36:AZ36)/SQRT(4)) -> 1.4943154 | AN35: =AVERAGE('Single data'!BA36:BD36) -> 3.4964552 | AO35: ± | AP35: =_xlfn.STDEV.S('Single data'!BA36:BD36)/SQRT(4) -> 1.1923096 | AQ35: =AVERAGE('Single data'!BE36:BH36) -> 2.406055 | AR35: ± | AS35: =(_xlfn.STDEV.S('Single data'!BE36:BH36)/SQRT(4)) -> 1.084294 | AT35: =AVERAGE('Single data'!BI36:BL36) -> 4.2849448 | AU35: ± | AV35: =_xlfn.STDEV.S('Single data'!BI36:BL36)/SQRT(4) -> 1.8085119 | AW35: =AVERAGE('Single data'!BM36:BP36) -> 4.7822774 | AX35: ± | AY35: =(_xlfn.STDEV.S('Single data'!BM36:BP36)/SQRT(3)) -> 2.262232 | AZ35: =AVERAGE('Single data'!BQ36:BT36) -> 5.6245111 | BA35: ± | BB35: =_xlfn.STDEV.S('Single data'!BQ36:BT36)/SQRT(4) -> 4.1228343 | BD35: =AVERAGE('Single data'!BV36:CB36) -> 374.03012 | BE35: ± | BF35: =(_xlfn.STDEV.S('Single data'!BV36:CB36)/SQRT(7)) -> 55.363628 | BG35: =AVERAGE('Single data'!CC36:CG36) -> 270.44227 | BH35: ± | BI35: =(_xlfn.STDEV.S('Single data'!CC36:CG36)/SQRT(5)) -> 47.525628 | BJ35: =AVERAGE('Single data'!CH36:CL36) -> 207.47325 | BK35: ± | BL35: =(_xlfn.STDEV.S('Single data'!CH36:CL36)/SQRT(5)) -> 28.764156 | BM35: =AVERAGE('Single data'!CM36:CQ36) -> 154.00754 | BN35: ± | BO35: =(_xlfn.STDEV.S('Single data'!CM36:CQ36)/SQRT(5)) -> 23.174064 | BP35: =AVERAGE('Single data'!CR36:CV36) -> 104.58735 | BQ35: ± | BR35: =_xlfn.STDEV.S('Single data'!CR36:CV36)/SQRT(5) -> 16.450156 | BS35: =AVERAGE('Single data'!CW36:DA36) -> 217.81817 | BT35: ± | BU35: =(_xlfn.STDEV.S('Single data'!CW36:DA36)/SQRT(5)) -> 54.233626 | BV35: =AVERAGE('Single data'!DB36:DF36) -> 80.304296 | BW35: ± | BX35: =(_xlfn.STDEV.S('Single data'!DB36:DF36)/SQRT(5)) -> 13.217686 | BY35: =AVERAGE('Single data'!DG36:DK36) -> 249.33062 | BZ35: ± | CA35: =(_xlfn.STDEV.S('Single data'!DG36:DK36)/SQRT(5)) -> 74.151106 | CB35: =AVERAGE('Single data'!DL36:DP36) -> 45.046745 | CC35: ± | CD35: =(_xlfn.STDEV.S('Single data'!DL36:DP36)/SQRT(5)) -> 7.0311543 | CE35: =AVERAGE('Single data'!DQ36:DU36) -> 163.18085 | CF35: ± | CG35: =(_xlfn.STDEV.S('Single data'!DQ36:DU36)/SQRT(5)) -> 38.326503 | CH35: =AVERAGE('Single data'!DV36:DZ36) -> 59.481333 | CI35: ± | CJ35: =_xlfn.STDEV.S('Single data'!DV36:DZ36)/SQRT(5) -> 12.934606 | CK35: =AVERAGE('Single data'!EA36:EE36) -> 131.88097 | CL35: ± | CM35: =(_xlfn.STDEV.S('Single data'!EA36:EE36)/SQRT(5)) -> 28.062914 | CN35: =AVERAGE('Single data'!EF36:EJ36) -> 149.69316 | CO35: ± | CP35: =_xlfn.STDEV.S('Single data'!EF36:EJ36)/SQRT(5) -> 79.869943 | CQ35: =AVERAGE('Single data'!EK36:EO36) -> 191.13039 | CR35: ± | CS35: =(_xlfn.STDEV.S('Single data'!EK36:EO36)/SQRT(5)) -> 56.223784 | CT35: =AVERAGE('Single data'!EP36:ET36) -> 87.965595 | CU35: ± | CV35: =_xlfn.STDEV.S('Single data'!EP36:ET36)/SQRT(5) -> 21.023385 | CW35: =AVERAGE('Single data'!EU36:EY36) -> 210.3571 | CX35: ± | CY35: =(_xlfn.STDEV.S('Single data'!EU36:EY36)/SQRT(5)) -> 26.940191 | CZ35: =AVERAGE('Single data'!EZ36:FD36) -> 78.525865 | DA35: ± | DB35: =_xlfn.STDEV.S('Single data'!EZ36:FD36)/SQRT(5) -> 16.679954
C36: 4-HDHA | BD36: =AVERAGE('Single data'!BV37:CB37) -> 277.80658 | BE36: ± | BF36: =(_xlfn.STDEV.S('Single data'!BV37:CB37)/SQRT(7)) -> 76.77046 | BG36: =AVERAGE('Single data'!CC37:CG37) -> 195.98203 | BH36: ± | BI36: =(_xlfn.STDEV.S('Single data'!CC37:CG37)/SQRT(5)) -> 31.535188 | BJ36: =AVERAGE('Single data'!CH37:CL37) -> 264.86041 | BK36: ± | BL36: =(_xlfn.STDEV.S('Single data'!CH37:CL37)/SQRT(5)) -> 15.831987 | BM36: =AVERAGE('Single data'!CM37:CQ37) -> 211.65658 | BN36: ± | BO36: =(_xlfn.STDEV.S('Single data'!CM37:CQ37)/SQRT(5)) -> 63.155617 | BP36: =AVERAGE('Single data'!CR37:CV37) -> 208.55653 | BQ36: ± | BR36: =_xlfn.STDEV.S('Single data'!CR37:CV37)/SQRT(5) -> 69.628202 | BS36: =AVERAGE('Single data'!CW37:DA37) -> 178.78101 | BT36: ± | BU36: =(_xlfn.STDEV.S('Single data'!CW37:DA37)/SQRT(5)) -> 56.840687 | BV36: =AVERAGE('Single data'!DB37:DF37) -> 143.39493 | BW36: ± | BX36: =(_xlfn.STDEV.S('Single data'!DB37:DF37)/SQRT(5)) -> 43.263998 | BY36: =AVERAGE('Single data'!DG37:DK37) -> 216.95362 | BZ36: ± | CA36: =(_xlfn.STDEV.S('Single data'!DG37:DK37)/SQRT(5)) -> 33.076143 | CB36: =AVERAGE('Single data'!DL37:DP37) -> 147.55927 | CC36: ± | CD36: =(_xlfn.STDEV.S('Single data'!DL37:DP37)/SQRT(5)) -> 23.001356 | CE36: =AVERAGE('Single data'!DQ37:DU37) -> 202.08948 | CF36: ± | CG36: =(_xlfn.STDEV.S('Single data'!DQ37:DU37)/SQRT(5)) -> 65.901136 | CH36: =AVERAGE('Single data'!DV37:DZ37) -> 125.76196 | CI36: ± | CJ36: =_xlfn.STDEV.S('Single data'!DV37:DZ37)/SQRT(5) -> 39.760304 | CK36: =AVERAGE('Single data'!EA37:EE37) -> 175.74123 | CL36: ± | CM36: =(_xlfn.STDEV.S('Single data'!EA37:EE37)/SQRT(5)) -> 58.42915 | CN36: =AVERAGE('Single data'!EF37:EJ37) -> 130.80723 | CO36: ± | CP36: =_xlfn.STDEV.S('Single data'!EF37:EJ37)/SQRT(5) -> 41.763037 | CQ36: =AVERAGE('Single data'!EK37:EO37) -> 217.40476 | CR36: ± | CS36: =(_xlfn.STDEV.S('Single data'!EK37:EO37)/SQRT(5)) -> 68.769494 | CT36: =AVERAGE('Single data'!EP37:ET37) -> 169.81406 | CU36: ± | CV36: =_xlfn.STDEV.S('Single data'!EP37:ET37)/SQRT(5) -> 56.802493 | CW36: =AVERAGE('Single data'!EU37:EY37) -> 217.32209 | CX36: ± | CY36: =(_xlfn.STDEV.S('Single data'!EU37:EY37)/SQRT(5)) -> 61.112914 | CZ36: =AVERAGE('Single data'!EZ37:FD37) -> 164.34373 | DA36: ± | DB36: =_xlfn.STDEV.S('Single data'!EZ37:FD37)/SQRT(5) -> 49.806901
C37: 7-HDPA | D37: =AVERAGE('Single data'!D38:H38) -> 4.0670742 | E37: ± | F37: =(_xlfn.STDEV.S('Single data'!D38:H38)/SQRT(5)) -> 0.98262963 | G37: =AVERAGE('Single data'!I38:L38) -> 3.8856678 | H37: ± | I37: =(_xlfn.STDEV.S('Single data'!I38:L38)/SQRT(4)) -> 0.59108736 | J37: =AVERAGE('Single data'!M38:P38) -> 6.8378831 | K37: ± | L37: =(_xlfn.STDEV.S('Single data'!M38:P38)/SQRT(4)) -> 1.649961 | M37: =AVERAGE('Single data'!Q38:T38) -> 2.9568596 | N37: ± | O37: =(_xlfn.STDEV.S('Single data'!Q38:T38)/SQRT(4)) -> 0.71173236 | P37: =AVERAGE('Single data'!U38:X38) -> 7.3241488 | Q37: ± | R37: =_xlfn.STDEV.S('Single data'!U38:X38)/SQRT(4) -> 1.8405605 | S37: =AVERAGE('Single data'!Y38:AB38) -> 3.4895135 | T37: ± | U37: =(_xlfn.STDEV.S('Single data'!Y38:AB38)/SQRT(4)) -> 1.0435635 | V37: =AVERAGE('Single data'!AC38:AF38) -> 5.1178761 | W37: ± | X37: =(_xlfn.STDEV.S('Single data'!AC38:AF38)/SQRT(4)) -> 1.1538067 | Y37: =AVERAGE('Single data'!AG38:AJ38) -> 4.8069767 | Z37: ± | AA37: =(_xlfn.STDEV.S('Single data'!AG38:AJ38)/SQRT(4)) -> 1.9585274 | AB37: =AVERAGE('Single data'!AK38:AN38) -> 13.473086 | AC37: ± | AD37: =(_xlfn.STDEV.S('Single data'!AK38:AN38)/SQRT(3)) -> 3.441826 | AE37: =AVERAGE('Single data'!AO38:AR38) -> 2.3952942 | AF37: ± | AG37: =(_xlfn.STDEV.S('Single data'!AO38:AR38)/SQRT(4)) -> 1.6437369 | AH37: =AVERAGE('Single data'!AS38:AV38) -> 5.5153534 | AI37: ± | AJ37: =_xlfn.STDEV.S('Single data'!AS38:AV38)/SQRT(4) -> 1.6651881 | AK37: =AVERAGE('Single data'!AW38:AZ38) -> 4.7408456 | AL37: ± | AM37: =(_xlfn.STDEV.S('Single data'!AW38:AZ38)/SQRT(4)) -> 2.3246909 | AN37: =AVERAGE('Single data'!BA38:BD38) -> 4.9029558 | AO37: ± | AP37: =_xlfn.STDEV.S('Single data'!BA38:BD38)/SQRT(4) -> 0.28437867 | AQ37: =AVERAGE('Single data'!BE38:BH38) -> 1.8207935 | AR37: ± | AS37: =(_xlfn.STDEV.S('Single data'!BE38:BH38)/SQRT(4)) -> 0.74876865 | AT37: =AVERAGE('Single data'!BI38:BL38) -> 4.7610623 | AU37: ± | AV37: =_xlfn.STDEV.S('Single data'!BI38:BL38)/SQRT(4) -> 1.5437164 | AW37: =AVERAGE('Single data'!BM38:BP38) -> 2.0635359 | AX37: ± | AY37: =(_xlfn.STDEV.S('Single data'!BM38:BP38)/SQRT(3)) -> 0.54370056 | AZ37: =AVERAGE('Single data'!BQ38:BT38) -> 2.0398321 | BA37: ± | BB37: =_xlfn.STDEV.S('Single data'!BQ38:BT38)/SQRT(4) -> 0.45507833 | BD37: =AVERAGE('Single data'!BV38:CB38) -> 254.34046 | BE37: ± | BF37: =(_xlfn.STDEV.S('Single data'!BV38:CB38)/SQRT(7)) -> 44.565336 | BG37: =AVERAGE('Single data'!CC38:CG38) -> 181.55539 | BH37: ± | BI37: =(_xlfn.STDEV.S('Single data'!CC38:CG38)/SQRT(5)) -> 17.95659 | BJ37: =AVERAGE('Single data'!CH38:CL38) -> 194.03813 | BK37: ± | BL37: =(_xlfn.STDEV.S('Single data'!CH38:CL38)/SQRT(5)) -> 15.937863 | BM37: =AVERAGE('Single data'!CM38:CQ38) -> 155.37829 | BN37: ± | BO37: =(_xlfn.STDEV.S('Single data'!CM38:CQ38)/SQRT(5)) -> 23.504397 | BP37: =AVERAGE('Single data'!CR38:CV38) -> 168.28501 | BQ37: ± | BR37: =_xlfn.STDEV.S('Single data'!CR38:CV38)/SQRT(5) -> 34.538125 | BS37: =AVERAGE('Single data'!CW38:DA38) -> 156.19728 | BT37: ± | BU37: =(_xlfn.STDEV.S('Single data'!CW38:DA38)/SQRT(5)) -> 30.513651 | BV37: =AVERAGE('Single data'!DB38:DF38) -> 102.15805 | BW37: ± | BX37: =(_xlfn.STDEV.S('Single data'!DB38:DF38)/SQRT(5)) -> 15.74095 | BY37: =AVERAGE('Single data'!DG38:DK38) -> 159.84826 | BZ37: ± | CA37: =(_xlfn.STDEV.S('Single data'!DG38:DK38)/SQRT(5)) -> 29.084859 | CB37: =AVERAGE('Single data'!DL38:DP38) -> 80.000171 | CC37: ± | CD37: =(_xlfn.STDEV.S('Single data'!DL38:DP38)/SQRT(5)) -> 13.4717 | CE37: =AVERAGE('Single data'!DQ38:DU38) -> 145.12378 | CF37: ± | CG37: =(_xlfn.STDEV.S('Single data'!DQ38:DU38)/SQRT(5)) -> 30.638654 | CH37: =AVERAGE('Single data'!DV38:DZ38) -> 85.198448 | CI37: ± | CJ37: =_xlfn.STDEV.S('Single data'!DV38:DZ38)/SQRT(5) -> 14.26949 | CK37: =AVERAGE('Single data'!EA38:EE38) -> 123.00958 | CL37: ± | CM37: =(_xlfn.STDEV.S('Single data'!EA38:EE38)/SQRT(5)) -> 19.477212 | CN37: =AVERAGE('Single data'!EF38:EJ38) -> 117.32903 | CO37: ± | CP37: =_xlfn.STDEV.S('Single data'!EF38:EJ38)/SQRT(5) -> 32.928951 | CQ37: =AVERAGE('Single data'!EK38:EO38) -> 152.68761 | CR37: ± | CS37: =(_xlfn.STDEV.S('Single data'!EK38:EO38)/SQRT(5)) -> 31.344732 | CT37: =AVERAGE('Single data'!EP38:ET38) -> 104.89773 | CU37: ± | CV37: =_xlfn.STDEV.S('Single data'!EP38:ET38)/SQRT(5) -> 22.86615 | CW37: =AVERAGE('Single data'!EU38:EY38) -> 173.57554 | CX37: ± | CY37: =(_xlfn.STDEV.S('Single data'!EU38:EY38)/SQRT(5)) -> 18.463808 | CZ37: =AVERAGE('Single data'!EZ38:FD38) -> 103.50626 | DA37: ± | DB37: =_xlfn.STDEV.S('Single data'!EZ38:FD38)/SQRT(5) -> 21.56754
C38: 11-HEPE | D38: =AVERAGE('Single data'!D39:H39) -> 4.8476006 | E38: ± | F38: =(_xlfn.STDEV.S('Single data'!D39:H39)/SQRT(5)) -> 1.4181421 | G38: =AVERAGE('Single data'!I39:L39) -> 2.9899362 | H38: ± | I38: =(_xlfn.STDEV.S('Single data'!I39:L39)/SQRT(4)) -> 0.98080632 | J38: =AVERAGE('Single data'!M39:P39) -> 2.2384503 | K38: ± | L38: =(_xlfn.STDEV.S('Single data'!M39:P39)/SQRT(4)) -> 0.44923866 | M38: =AVERAGE('Single data'!Q39:T39) -> 3.9201951 | N38: ± | O38: =(_xlfn.STDEV.S('Single data'!Q39:T39)/SQRT(4)) -> 0.73125386 | P38: =AVERAGE('Single data'!U39:X39) -> 15.300822 | Q38: ± | R38: =_xlfn.STDEV.S('Single data'!U39:X39)/SQRT(4) -> 7.5424001 | S38: =AVERAGE('Single data'!Y39:AB39) -> 6.9785313 | T38: ± | U38: =(_xlfn.STDEV.S('Single data'!Y39:AB39)/SQRT(4)) -> 2.4862424 | V38: =AVERAGE('Single data'!AC39:AF39) -> 9.5729871 | W38: ± | X38: =(_xlfn.STDEV.S('Single data'!AC39:AF39)/SQRT(4)) -> 2.4621845 | Y38: =AVERAGE('Single data'!AG39:AJ39) -> 2.7037196 | Z38: ± | AA38: =(_xlfn.STDEV.S('Single data'!AG39:AJ39)/SQRT(4)) -> 0.5096541 | AB38: =AVERAGE('Single data'!AK39:AN39) -> 7.990979 | AC38: ± | AD38: =(_xlfn.STDEV.S('Single data'!AK39:AN39)/SQRT(3)) -> 1.0529112 | AE38: =AVERAGE('Single data'!AO39:AR39) -> 2.7193551 | AF38: ± | AG38: =(_xlfn.STDEV.S('Single data'!AO39:AR39)/SQRT(4)) -> 0.8199254 | AH38: =AVERAGE('Single data'!AS39:AV39) -> 12.19915 | AI38: ± | AJ38: =_xlfn.STDEV.S('Single data'!AS39:AV39)/SQRT(4) -> 6.6785387 | AK38: =AVERAGE('Single data'!AW39:AZ39) -> 5.5243565 | AL38: ± | AM38: =(_xlfn.STDEV.S('Single data'!AW39:AZ39)/SQRT(4)) -> 1.2992492 | AN38: =AVERAGE('Single data'!BA39:BD39) -> 7.0785174 | AO38: ± | AP38: =_xlfn.STDEV.S('Single data'!BA39:BD39)/SQRT(4) -> 2.2243686 | AQ38: =AVERAGE('Single data'!BE39:BH39) -> 10.251673 | AR38: ± | AS38: =(_xlfn.STDEV.S('Single data'!BE39:BH39)/SQRT(4)) -> 8.8278757 | AT38: =AVERAGE('Single data'!BI39:BL39) -> 8.1537572 | AU38: ± | AV38: =_xlfn.STDEV.S('Single data'!BI39:BL39)/SQRT(4) -> 2.5531458 | AW38: =AVERAGE('Single data'!BM39:BP39) -> 4.7796383 | AX38: ± | AY38: =(_xlfn.STDEV.S('Single data'!BM39:BP39)/SQRT(3)) -> 2.4452197 | AZ38: =AVERAGE('Single data'!BQ39:BT39) -> 5.6356597 | BA38: ± | BB38: =_xlfn.STDEV.S('Single data'!BQ39:BT39)/SQRT(4) -> 2.3871455 | BD38: =AVERAGE('Single data'!BV39:CB39) -> 122.41008 | BE38: ± | BF38: =(_xlfn.STDEV.S('Single data'!BV39:CB39)/SQRT(7)) -> 45.069142 | BG38: =AVERAGE('Single data'!CC39:CG39) -> 93.478348 | BH38: ± | BI38: =(_xlfn.STDEV.S('Single data'!CC39:CG39)/SQRT(5)) -> 28.688554 | BJ38: =AVERAGE('Single data'!CH39:CL39) -> 75.133873 | BK38: ± | BL38: =(_xlfn.STDEV.S('Single data'!CH39:CL39)/SQRT(5)) -> 17.348313 | BM38: =AVERAGE('Single data'!CM39:CQ39) -> 71.864437 | BN38: ± | BO38: =(_xlfn.STDEV.S('Single data'!CM39:CQ39)/SQRT(5)) -> 31.652154 | BP38: =AVERAGE('Single data'!CR39:CV39) -> 63.491558 | BQ38: ± | BR38: =_xlfn.STDEV.S('Single data'!CR39:CV39)/SQRT(5) -> 20.086217 | BS38: =AVERAGE('Single data'!CW39:DA39) -> 66.634488 | BT38: ± | BU38: =(_xlfn.STDEV.S('Single data'!CW39:DA39)/SQRT(5)) -> 15.928253 | BV38: =AVERAGE('Single data'!DB39:DF39) -> 64.106895 | BW38: ± | BX38: =(_xlfn.STDEV.S('Single data'!DB39:DF39)/SQRT(5)) -> 17.648456 | BY38: =AVERAGE('Single data'!DG39:DK39) -> 56.039898 | BZ38: ± | CA38: =(_xlfn.STDEV.S('Single data'!DG39:DK39)/SQRT(5)) -> 14.487664 | CB38: =AVERAGE('Single data'!DL39:DP39) -> 42.36895 | CC38: ± | CD38: =(_xlfn.STDEV.S('Single data'!DL39:DP39)/SQRT(5)) -> 11.947043 | CE38: =AVERAGE('Single data'!DQ39:DU39) -> 70.917796 | CF38: ± | CG38: =(_xlfn.STDEV.S('Single data'!DQ39:DU39)/SQRT(5)) -> 36.291078 | CH38: =AVERAGE('Single data'!DV39:DZ39) -> 79.579159 | CI38: ± | CJ38: =_xlfn.STDEV.S('Single data'!DV39:DZ39)/SQRT(5) -> 48.842332 | CK38: =AVERAGE('Single data'!EA39:EE39) -> 61.251159 | CL38: ± | CM38: =(_xlfn.STDEV.S('Single data'!EA39:EE39)/SQRT(5)) -> 16.186054 | CN38: =AVERAGE('Single data'!EF39:EJ39) -> 82.709853 | CO38: ± | CP38: =_xlfn.STDEV.S('Single data'!EF39:EJ39)/SQRT(5) -> 33.616997 | CQ38: =AVERAGE('Single data'!EK39:EO39) -> 62.067315 | CR38: ± | CS38: =(_xlfn.STDEV.S('Single data'!EK39:EO39)/SQRT(5)) -> 17.998263 | CT38: =AVERAGE('Single data'!EP39:ET39) -> 77.537232 | CU38: ± | CV38: =_xlfn.STDEV.S('Single data'!EP39:ET39)/SQRT(5) -> 34.146665 | CW38: =AVERAGE('Single data'!EU39:EY39) -> 56.158916 | CX38: ± | CY38: =(_xlfn.STDEV.S('Single data'!EU39:EY39)/SQRT(5)) -> 14.225696 | CZ38: =AVERAGE('Single data'!EZ39:FD39) -> 56.15382 | DA38: ± | DB38: =_xlfn.STDEV.S('Single data'!EZ39:FD39)/SQRT(5) -> 16.820114
C39: 11-HETE | D39: =AVERAGE('Single data'!D40:H40) -> 11.586011 | E39: ± | F39: =(_xlfn.STDEV.S('Single data'!D40:H40)/SQRT(5)) -> 2.4526944 | G39: =AVERAGE('Single data'!I40:L40) -> 6.4870969 | H39: ± | I39: =(_xlfn.STDEV.S('Single data'!I40:L40)/SQRT(4)) -> 2.1469506 | J39: =AVERAGE('Single data'!M40:P40) -> 8.0058779 | K39: ± | L39: =(_xlfn.STDEV.S('Single data'!M40:P40)/SQRT(4)) -> 0.48158745 | M39: =AVERAGE('Single data'!Q40:T40) -> 7.0596671 | N39: ± | O39: =(_xlfn.STDEV.S('Single data'!Q40:T40)/SQRT(4)) -> 1.0784514 | P39: =AVERAGE('Single data'!U40:X40) -> 98.311608 | Q39: ± | R39: =_xlfn.STDEV.S('Single data'!U40:X40)/SQRT(4) -> 48.795906 | S39: =AVERAGE('Single data'!Y40:AB40) -> 11.641758 | T39: ± | U39: =(_xlfn.STDEV.S('Single data'!Y40:AB40)/SQRT(4)) -> 2.6435372 | V39: =AVERAGE('Single data'!AC40:AF40) -> 44.166004 | W39: ± | X39: =(_xlfn.STDEV.S('Single data'!AC40:AF40)/SQRT(4)) -> 10.743151 | Y39: =AVERAGE('Single data'!AG40:AJ40) -> 7.3683438 | Z39: ± | AA39: =(_xlfn.STDEV.S('Single data'!AG40:AJ40)/SQRT(4)) -> 1.8781431 | AB39: =AVERAGE('Single data'!AK40:AN40) -> 34.304812 | AC39: ± | AD39: =(_xlfn.STDEV.S('Single data'!AK40:AN40)/SQRT(3)) -> 5.3770526 | AE39: =AVERAGE('Single data'!AO40:AR40) -> 4.0612142 | AF39: ± | AG39: =(_xlfn.STDEV.S('Single data'!AO40:AR40)/SQRT(4)) -> 0.84059831 | AH39: =AVERAGE('Single data'!AS40:AV40) -> 50.564609 | AI39: ± | AJ39: =_xlfn.STDEV.S('Single data'!AS40:AV40)/SQRT(4) -> 26.462983 | AK39: =AVERAGE('Single data'!AW40:AZ40) -> 9.6187494 | AL39: ± | AM39: =(_xlfn.STDEV.S('Single data'!AW40:AZ40)/SQRT(4)) -> 2.5484395 | AN39: =AVERAGE('Single data'!BA40:BD40) -> 40.013436 | AO39: ± | AP39: =_xlfn.STDEV.S('Single data'!BA40:BD40)/SQRT(4) -> 9.1947246 | AQ39: =AVERAGE('Single data'!BE40:BH40) -> 5.6760919 | AR39: ± | AS39: =(_xlfn.STDEV.S('Single data'!BE40:BH40)/SQRT(4)) -> 2.2739449 | AT39: =AVERAGE('Single data'!BI40:BL40) -> 33.044108 | AU39: ± | AV39: =_xlfn.STDEV.S('Single data'!BI40:BL40)/SQRT(4) -> 12.319931 | AW39: =AVERAGE('Single data'!BM40:BP40) -> 8.3514823 | AX39: ± | AY39: =(_xlfn.STDEV.S('Single data'!BM40:BP40)/SQRT(3)) -> 3.0388241 | AZ39: =AVERAGE('Single data'!BQ40:BT40) -> 19.526791 | BA39: ± | BB39: =_xlfn.STDEV.S('Single data'!BQ40:BT40)/SQRT(4) -> 7.2249049 | BD39: =AVERAGE('Single data'!BV40:CB40) -> 1046.7963 | BE39: ± | BF39: =(_xlfn.STDEV.S('Single data'!BV40:CB40)/SQRT(7)) -> 95.424112 | BG39: =AVERAGE('Single data'!CC40:CG40) -> 1307.3343 | BH39: ± | BI39: =(_xlfn.STDEV.S('Single data'!CC40:CG40)/SQRT(5)) -> 407.4353 | BJ39: =AVERAGE('Single data'!CH40:CL40) -> 1076.0366 | BK39: ± | BL39: =(_xlfn.STDEV.S('Single data'!CH40:CL40)/SQRT(5)) -> 233.63495 | BM39: =AVERAGE('Single data'!CM40:CQ40) -> 1137.788 | BN39: ± | BO39: =(_xlfn.STDEV.S('Single data'!CM40:CQ40)/SQRT(5)) -> 373.15768 | BP39: =AVERAGE('Single data'!CR40:CV40) -> 539.3203 | BQ39: ± | BR39: =_xlfn.STDEV.S('Single data'!CR40:CV40)/SQRT(5) -> 162.88236 | BS39: =AVERAGE('Single data'!CW40:DA40) -> 1109.0263 | BT39: ± | BU39: =(_xlfn.STDEV.S('Single data'!CW40:DA40)/SQRT(5)) -> 299.44148 | BV39: =AVERAGE('Single data'!DB40:DF40) -> 954.02883 | BW39: ± | BX39: =(_xlfn.STDEV.S('Single data'!DB40:DF40)/SQRT(5)) -> 252.75346 | BY39: =AVERAGE('Single data'!DG40:DK40) -> 509.521 | BZ39: ± | CA39: =(_xlfn.STDEV.S('Single data'!DG40:DK40)/SQRT(5)) -> 152.21714 | CB39: =AVERAGE('Single data'!DL40:DP40) -> 600.30666 | CC39: ± | CD39: =(_xlfn.STDEV.S('Single data'!DL40:DP40)/SQRT(5)) -> 174.29128 | CE39: =AVERAGE('Single data'!DQ40:DU40) -> 860.73024 | CF39: ± | CG39: =(_xlfn.STDEV.S('Single data'!DQ40:DU40)/SQRT(5)) -> 296.55784 | CH39: =AVERAGE('Single data'!DV40:DZ40) -> 686.57065 | CI39: ± | CJ39: =_xlfn.STDEV.S('Single data'!DV40:DZ40)/SQRT(5) -> 265.13604 | CK39: =AVERAGE('Single data'!EA40:EE40) -> 1032.8719 | CL39: ± | CM39: =(_xlfn.STDEV.S('Single data'!EA40:EE40)/SQRT(5)) -> 307.91102 | CN39: =AVERAGE('Single data'!EF40:EJ40) -> 1089.9593 | CO39: ± | CP39: =_xlfn.STDEV.S('Single data'!EF40:EJ40)/SQRT(5) -> 359.26408 | CQ39: =AVERAGE('Single data'!EK40:EO40) -> 1063.8453 | CR39: ± | CS39: =(_xlfn.STDEV.S('Single data'!EK40:EO40)/SQRT(5)) -> 283.78967 | CT39: =AVERAGE('Single data'!EP40:ET40) -> 991.1904 | CU39: ± | CV39: =_xlfn.STDEV.S('Single data'!EP40:ET40)/SQRT(5) -> 341.87542 | CW39: =AVERAGE('Single data'!EU40:EY40) -> 1121.4206 | CX39: ± | CY39: =(_xlfn.STDEV.S('Single data'!EU40:EY40)/SQRT(5)) -> 254.60233 | CZ39: =AVERAGE('Single data'!EZ40:FD40) -> 966.01138 | DA39: ± | DB39: =_xlfn.STDEV.S('Single data'!EZ40:FD40)/SQRT(5) -> 274.59885
C40: 8-HETE | D40: =AVERAGE('Single data'!D41:H41) -> 16.745066 | E40: ± | F40: =(_xlfn.STDEV.S('Single data'!D41:H41)/SQRT(5)) -> 4.9931018 | G40: =AVERAGE('Single data'!I41:L41) -> 17.75757 | H40: ± | I40: =(_xlfn.STDEV.S('Single data'!I41:L41)/SQRT(4)) -> 4.6817391 | J40: =AVERAGE('Single data'!M41:P41) -> 16.572677 | K40: ± | L40: =(_xlfn.STDEV.S('Single data'!M41:P41)/SQRT(4)) -> 9.6672733 | BD40: =AVERAGE('Single data'!BV41:CB41) -> 1165.9919 | BE40: ± | BF40: =(_xlfn.STDEV.S('Single data'!BV41:CB41)/SQRT(7)) -> 288.08471 | BG40: =AVERAGE('Single data'!CC41:CG41) -> 313.55986 | BH40: ± | BI40: =(_xlfn.STDEV.S('Single data'!CC41:CG41)/SQRT(5)) -> 64.942932 | BJ40: =AVERAGE('Single data'!CH41:CL41) -> 484.80731 | BK40: ± | BL40: =(_xlfn.STDEV.S('Single data'!CH41:CL41)/SQRT(5)) -> 41.903464 | BM40: =AVERAGE('Single data'!CM41:CQ41) -> 389.59664 | BN40: ± | BO40: =(_xlfn.STDEV.S('Single data'!CM41:CQ41)/SQRT(5)) -> 88.42448 | BP40: =AVERAGE('Single data'!CR41:CV41) -> 487.91658 | BQ40: ± | BR40: =_xlfn.STDEV.S('Single data'!CR41:CV41)/SQRT(5) -> 98.743537 | BS40: =AVERAGE('Single data'!CW41:DA41) -> 348.25734 | BT40: ± | BU40: =(_xlfn.STDEV.S('Single data'!CW41:DA41)/SQRT(5)) -> 75.880739 | BV40: =AVERAGE('Single data'!DB41:DF41) -> 249.56266 | BW40: ± | BX40: =(_xlfn.STDEV.S('Single data'!DB41:DF41)/SQRT(5)) -> 28.595142 | BY40: =AVERAGE('Single data'!DG41:DK41) -> 273.38897 | BZ40: ± | CA40: =(_xlfn.STDEV.S('Single data'!DG41:DK41)/SQRT(5)) -> 71.124548 | CB40: =AVERAGE('Single data'!DL41:DP41) -> 160.7897 | CC40: ± | CD40: =(_xlfn.STDEV.S('Single data'!DL41:DP41)/SQRT(5)) -> 36.214583 | CE40: =AVERAGE('Single data'!DQ41:DU41) -> 351.9533 | CF40: ± | CG40: =(_xlfn.STDEV.S('Single data'!DQ41:DU41)/SQRT(5)) -> 103.8993 | CH40: =AVERAGE('Single data'!DV41:DZ41) -> 310.39204 | CI40: ± | CJ40: =_xlfn.STDEV.S('Single data'!DV41:DZ41)/SQRT(5) -> 126.36509 | CK40: =AVERAGE('Single data'!EA41:EE41) -> 268.98328 | CL40: ± | CM40: =(_xlfn.STDEV.S('Single data'!EA41:EE41)/SQRT(5)) -> 36.806584 | CN40: =AVERAGE('Single data'!EF41:EJ41) -> 236.32327 | CO40: ± | CP40: =_xlfn.STDEV.S('Single data'!EF41:EJ41)/SQRT(5) -> 69.225353 | CQ40: =AVERAGE('Single data'!EK41:EO41) -> 314.36904 | CR40: ± | CS40: =(_xlfn.STDEV.S('Single data'!EK41:EO41)/SQRT(5)) -> 30.883252 | CT40: =AVERAGE('Single data'!EP41:ET41) -> 245.16509 | CU40: ± | CV40: =_xlfn.STDEV.S('Single data'!EP41:ET41)/SQRT(5) -> 58.756978 | CW40: =AVERAGE('Single data'!EU41:EY41) -> 530.92302 | CX40: ± | CY40: =(_xlfn.STDEV.S('Single data'!EU41:EY41)/SQRT(5)) -> 171.26194 | CZ40: =AVERAGE('Single data'!EZ41:FD41) -> 200.99611 | DA40: ± | DB40: =_xlfn.STDEV.S('Single data'!EZ41:FD41)/SQRT(5) -> 32.018745
C41: 9-HODE | D41: =AVERAGE('Single data'!D42:H42) -> 405.56037 | E41: ± | F41: =(_xlfn.STDEV.S('Single data'!D42:H42)/SQRT(5)) -> 34.719841 | G41: =AVERAGE('Single data'!I42:L42) -> 360.92867 | H41: ± | I41: =(_xlfn.STDEV.S('Single data'!I42:L42)/SQRT(4)) -> 40.451007 | J41: =AVERAGE('Single data'!M42:P42) -> 376.10892 | K41: ± | L41: =(_xlfn.STDEV.S('Single data'!M42:P42)/SQRT(4)) -> 36.689811 | M41: =AVERAGE('Single data'!Q42:T42) -> 340.10958 | N41: ± | O41: =(_xlfn.STDEV.S('Single data'!Q42:T42)/SQRT(4)) -> 9.5969542 | P41: =AVERAGE('Single data'!U42:X42) -> 1133.5832 | Q41: ± | R41: =_xlfn.STDEV.S('Single data'!U42:X42)/SQRT(4) -> 289.21532 | S41: =AVERAGE('Single data'!Y42:AB42) -> 387.08862 | T41: ± | U41: =(_xlfn.STDEV.S('Single data'!Y42:AB42)/SQRT(4)) -> 21.43729 | V41: =AVERAGE('Single data'!AC42:AF42) -> 461.48093 | W41: ± | X41: =(_xlfn.STDEV.S('Single data'!AC42:AF42)/SQRT(4)) -> 27.749277 | Y41: =AVERAGE('Single data'!AG42:AJ42) -> 450.73557 | Z41: ± | AA41: =(_xlfn.STDEV.S('Single data'!AG42:AJ42)/SQRT(4)) -> 145.49141 | AB41: =AVERAGE('Single data'!AK42:AN42) -> 406.27473 | AC41: ± | AD41: =(_xlfn.STDEV.S('Single data'!AK42:AN42)/SQRT(3)) -> 58.966525 | AE41: =AVERAGE('Single data'!AO42:AR42) -> 304.51344 | AF41: ± | AG41: =(_xlfn.STDEV.S('Single data'!AO42:AR42)/SQRT(4)) -> 28.634623 | AH41: =AVERAGE('Single data'!AS42:AV42) -> 712.66117 | AI41: ± | AJ41: =_xlfn.STDEV.S('Single data'!AS42:AV42)/SQRT(4) -> 271.59339 | AK41: =AVERAGE('Single data'!AW42:AZ42) -> 553.57055 | AL41: ± | AM41: =(_xlfn.STDEV.S('Single data'!AW42:AZ42)/SQRT(4)) -> 94.00147 | AN41: =AVERAGE('Single data'!BA42:BD42) -> 436.6368 | AO41: ± | AP41: =_xlfn.STDEV.S('Single data'!BA42:BD42)/SQRT(4) -> 60.885297 | AQ41: =AVERAGE('Single data'!BE42:BH42) -> 409.53976 | AR41: ± | AS41: =(_xlfn.STDEV.S('Single data'!BE42:BH42)/SQRT(4)) -> 75.422592 | AT41: =AVERAGE('Single data'!BI42:BL42) -> 578.22181 | AU41: ± | AV41: =_xlfn.STDEV.S('Single data'!BI42:BL42)/SQRT(4) -> 180.94159 | AW41: =AVERAGE('Single data'!BM42:BP42) -> 385.27724 | AX41: ± | AY41: =(_xlfn.STDEV.S('Single data'!BM42:BP42)/SQRT(3)) -> 44.48023 | AZ41: =AVERAGE('Single data'!BQ42:BT42) -> 451.70074 | BA41: ± | BB41: =_xlfn.STDEV.S('Single data'!BQ42:BT42)/SQRT(4) -> 121.9766 | BD41: =AVERAGE('Single data'!BV42:CB42) -> 1917.4717 | BE41: ± | BF41: =(_xlfn.STDEV.S('Single data'!BV42:CB42)/SQRT(7)) -> 243.14608 | BG41: =AVERAGE('Single data'!CC42:CG42) -> 2953.2724 | BH41: ± | BI41: =(_xlfn.STDEV.S('Single data'!CC42:CG42)/SQRT(5)) -> 789.23156 | BJ41: =AVERAGE('Single data'!CH42:CL42) -> 1682.192 | BK41: ± | BL41: =(_xlfn.STDEV.S('Single data'!CH42:CL42)/SQRT(5)) -> 263.17745 | BM41: =AVERAGE('Single data'!CM42:CQ42) -> 1912.3869 | BN41: ± | BO41: =(_xlfn.STDEV.S('Single data'!CM42:CQ42)/SQRT(5)) -> 385.1872 | BP41: =AVERAGE('Single data'!CR42:CV42) -> 4761.9674 | BQ41: ± | BR41: =_xlfn.STDEV.S('Single data'!CR42:CV42)/SQRT(5) -> 303.01118 | BS41: =AVERAGE('Single data'!CW42:DA42) -> 1574.8201 | BT41: ± | BU41: =(_xlfn.STDEV.S('Single data'!CW42:DA42)/SQRT(5)) -> 265.75479 | BV41: =AVERAGE('Single data'!DB42:DF42) -> 1822.8839 | BW41: ± | BX41: =(_xlfn.STDEV.S('Single data'!DB42:DF42)/SQRT(5)) -> 313.2847 | BY41: =AVERAGE('Single data'!DG42:DK42) -> 1593.9527 | BZ41: ± | CA41: =(_xlfn.STDEV.S('Single data'!DG42:DK42)/SQRT(5)) -> 188.89044 | CB41: =AVERAGE('Single data'!DL42:DP42) -> 1496.9412 | CC41: ± | CD41: =(_xlfn.STDEV.S('Single data'!DL42:DP42)/SQRT(5)) -> 97.190374 | CE41: =AVERAGE('Single data'!DQ42:DU42) -> 1440.0226 | CF41: ± | CG41: =(_xlfn.STDEV.S('Single data'!DQ42:DU42)/SQRT(5)) -> 284.0848 | CH41: =AVERAGE('Single data'!DV42:DZ42) -> 1530.8155 | CI41: ± | CJ41: =_xlfn.STDEV.S('Single data'!DV42:DZ42)/SQRT(5) -> 459.5155 | CK41: =AVERAGE('Single data'!EA42:EE42) -> 1378.7398 | CL41: ± | CM41: =(_xlfn.STDEV.S('Single data'!EA42:EE42)/SQRT(5)) -> 275.05961 | CN41: =AVERAGE('Single data'!EF42:EJ42) -> 1565.4209 | CO41: ± | CP41: =_xlfn.STDEV.S('Single data'!EF42:EJ42)/SQRT(5) -> 449.78755 | CQ41: =AVERAGE('Single data'!EK42:EO42) -> 1485.3168 | CR41: ± | CS41: =(_xlfn.STDEV.S('Single data'!EK42:EO42)/SQRT(5)) -> 238.68615 | CT41: =AVERAGE('Single data'!EP42:ET42) -> 1624.5499 | CU41: ± | CV41: =_xlfn.STDEV.S('Single data'!EP42:ET42)/SQRT(5) -> 438.18731 | CW41: =AVERAGE('Single data'!EU42:EY42) -> 1639.6537 | CX41: ± | CY41: =(_xlfn.STDEV.S('Single data'!EU42:EY42)/SQRT(5)) -> 203.87774 | CZ41: =AVERAGE('Single data'!EZ42:FD42) -> 1689.255 | DA41: ± | DB41: =_xlfn.STDEV.S('Single data'!EZ42:FD42)/SQRT(5) -> 302.62141
A44: % control | B44: SPM precursor | C44: 17-HDHA | D44: =AVERAGE('Single data'!D45:H45) -> 100 | E44: ± | F44: =(_xlfn.STDEV.S('Single data'!D45:H45)/SQRT(5)) -> 0 | G44: =AVERAGE('Single data'!I45:L45) -> 63.897839 | H44: ± | I44: =(_xlfn.STDEV.S('Single data'!I45:L45)/SQRT(4)) -> 17.726751 | J44: =AVERAGE('Single data'!M45:P45) -> 134.78513 | K44: ± | L44: =(_xlfn.STDEV.S('Single data'!M45:P45)/SQRT(4)) -> 30.205452 | M44: =AVERAGE('Single data'!Q45:T45) -> 41.042905 | N44: ± | O44: =(_xlfn.STDEV.S('Single data'!Q45:T45)/SQRT(4)) -> 14.001677 | P44: =AVERAGE('Single data'!U45:X45) -> 261.39509 | Q44: ± | R44: =_xlfn.STDEV.S('Single data'!U45:X45)/SQRT(4) -> 49.848397 | S44: =AVERAGE('Single data'!Y45:AB45) -> 90.4655 | T44: ± | U44: =(_xlfn.STDEV.S('Single data'!Y45:AB45)/SQRT(4)) -> 23.123359 | V44: =AVERAGE('Single data'!AC45:AF45) -> 274.93012 | W44: ± | X44: =(_xlfn.STDEV.S('Single data'!AC45:AF45)/SQRT(4)) -> 77.449128 | Y44: =AVERAGE('Single data'!AG45:AJ45) -> 199.29006 | Z44: ± | AA44: =(_xlfn.STDEV.S('Single data'!AG45:AJ45)/SQRT(4)) -> 95.480882 | AB44: =AVERAGE('Single data'!AK45:AN45) -> 1274.9801 | AC44: ± | AD44: =(_xlfn.STDEV.S('Single data'!AK45:AN45)/SQRT(3)) -> 82.941411 | AE44: =AVERAGE('Single data'!AO45:AR45) -> 53.297716 | AF44: ± | AG44: =(_xlfn.STDEV.S('Single data'!AO45:AR45)/SQRT(4)) -> 5.2806764 | AH44: =AVERAGE('Single data'!AS45:AV45) -> 907.22194 | AI44: ± | AJ44: =_xlfn.STDEV.S('Single data'!AS45:AV45)/SQRT(4) -> 161.27662 | AK44: =AVERAGE('Single data'!AW45:AZ45) -> 67.387423 | AL44: ± | AM44: =(_xlfn.STDEV.S('Single data'!AW45:AZ45)/SQRT(4)) -> 14.540701 | AN44: =AVERAGE('Single data'!BA45:BD45) -> 203.20542 | AO44: ± | AP44: =_xlfn.STDEV.S('Single data'!BA45:BD45)/SQRT(4) -> 85.092607 | AQ44: =AVERAGE('Single data'!BE45:BH45) -> 56.594737 | AR44: ± | AS44: =(_xlfn.STDEV.S('Single data'!BE45:BH45)/SQRT(4)) -> 11.561959 | AT44: =AVERAGE('Single data'!BI45:BL45) -> 123.06901 | AU44: ± | AV44: =_xlfn.STDEV.S('Single data'!BI45:BL45)/SQRT(4) -> 23.766304 | AW44: =AVERAGE('Single data'!BM45:BP45) -> 41.3545 | AX44: ± | AY44: =(_xlfn.STDEV.S('Single data'!BM45:BP45)/SQRT(3)) -> 5.2005379 | AZ44: =AVERAGE('Single data'!BQ45:BT45) -> 110.42221 | BA44: ± | BB44: =_xlfn.STDEV.S('Single data'!BQ45:BT45)/SQRT(4) -> 37.437737 | BD44: =AVERAGE('Single data'!BV45:CB45) -> 100 | BE44: ± | BF44: =(_xlfn.STDEV.S('Single data'!BV45:CB45)/SQRT(7)) -> 0 | BG44: =AVERAGE('Single data'!CC45:CG45) -> 66.792028 | BH44: ± | BI44: =(_xlfn.STDEV.S('Single data'!CC45:CG45)/SQRT(5)) -> 5.4076426 | BJ44: =AVERAGE('Single data'!CH45:CL45) -> 72.51155 | BK44: ± | BL44: =(_xlfn.STDEV.S('Single data'!CH45:CL45)/SQRT(5)) -> 8.5671099 | BM44: =AVERAGE('Single data'!CM45:CQ45) -> 55.994267 | BN44: ± | BO44: =(_xlfn.STDEV.S('Single data'!CM45:CQ45)/SQRT(5)) -> 2.7802518 | BP44: =AVERAGE('Single data'!CR45:CV45) -> 60.979065 | BQ44: ± | BR44: =_xlfn.STDEV.S('Single data'!CR45:CV45)/SQRT(5) -> 10.022061 | BS44: =AVERAGE('Single data'!CW45:DA45) -> 59.816011 | BT44: ± | BU44: =(_xlfn.STDEV.S('Single data'!CW45:DA45)/SQRT(5)) -> 4.4730194 | BV44: =AVERAGE('Single data'!DB45:DF45) -> 71.406773 | BW44: ± | BX44: =(_xlfn.STDEV.S('Single data'!DB45:DF45)/SQRT(5)) -> 6.3691558 | BY44: =AVERAGE('Single data'!DG45:DK45) -> 72.370147 | BZ44: ± | CA44: =(_xlfn.STDEV.S('Single data'!DG45:DK45)/SQRT(5)) -> 5.7849969 | CB44: =AVERAGE('Single data'!DL45:DP45) -> 137.38059 | CC44: ± | CD44: =(_xlfn.STDEV.S('Single data'!DL45:DP45)/SQRT(5)) -> 10.386051 | CE44: =AVERAGE('Single data'!DQ45:DU45) -> 102.03462 | CF44: ± | CG44: =(_xlfn.STDEV.S('Single data'!DQ45:DU45)/SQRT(5)) -> 31.634199 | CH44: =AVERAGE('Single data'!DV45:DZ45) -> 96.885085 | CI44: ± | CJ44: =_xlfn.STDEV.S('Single data'!DV45:DZ45)/SQRT(5) -> 17.296337 | CK44: =AVERAGE('Single data'!EA45:EE45) -> 51.610394 | CL44: ± | CM44: =(_xlfn.STDEV.S('Single data'!EA45:EE45)/SQRT(5)) -> 3.4781375 | CN44: =AVERAGE('Single data'!EF45:EJ45) -> 56.160722 | CO44: ± | CP44: =_xlfn.STDEV.S('Single data'!EF45:EJ45)/SQRT(5) -> 5.8444471 | CQ44: =AVERAGE('Single data'!EK45:EO45) -> 66.92474 | CR44: ± | CS44: =(_xlfn.STDEV.S('Single data'!EK45:EO45)/SQRT(5)) -> 7.6104013 | CT44: =AVERAGE('Single data'!EP45:ET45) -> 57.031128 | CU44: ± | CV44: =_xlfn.STDEV.S('Single data'!EP45:ET45)/SQRT(5) -> 6.4242674 | CW44: =AVERAGE('Single data'!EU45:EY45) -> 66.324264 | CX44: ± | CY44: =(_xlfn.STDEV.S('Single data'!EU45:EY45)/SQRT(5)) -> 9.614611 | CZ44: =AVERAGE('Single data'!EZ45:FD45) -> 45.048156 | DA44: ± | DB44: =_xlfn.STDEV.S('Single data'!EZ45:FD45)/SQRT(5) -> 2.8673927
C45: 17-HDPA | D45: =AVERAGE('Single data'!D46:H46) -> 100 | E45: ± | F45: =(_xlfn.STDEV.S('Single data'!D46:H46)/SQRT(5)) -> 0 | G45: =AVERAGE('Single data'!I46:L46) -> 66.622508 | H45: ± | I45: =(_xlfn.STDEV.S('Single data'!I46:L46)/SQRT(4)) -> 10.848833 | J45: =AVERAGE('Single data'!M46:P46) -> 160.36452 | K45: ± | L45: =(_xlfn.STDEV.S('Single data'!M46:P46)/SQRT(4)) -> 33.566261 | M45: =AVERAGE('Single data'!Q46:T46) -> 56.016104 | N45: ± | O45: =(_xlfn.STDEV.S('Single data'!Q46:T46)/SQRT(4)) -> 13.627183 | P45: =AVERAGE('Single data'!U46:X46) -> 378.13461 | Q45: ± | R45: =_xlfn.STDEV.S('Single data'!U46:X46)/SQRT(4) -> 127.20484 | S45: =AVERAGE('Single data'!Y46:AB46) -> 102.17214 | T45: ± | U45: =(_xlfn.STDEV.S('Single data'!Y46:AB46)/SQRT(4)) -> 9.1669076 | V45: =AVERAGE('Single data'!AC46:AF46) -> 313.64758 | W45: ± | X45: =(_xlfn.STDEV.S('Single data'!AC46:AF46)/SQRT(4)) -> 61.214615 | Y45: =AVERAGE('Single data'!AG46:AJ46) -> 291.78258 | Z45: ± | AA45: =(_xlfn.STDEV.S('Single data'!AG46:AJ46)/SQRT(4)) -> 25.046325 | AB45: =AVERAGE('Single data'!AK46:AN46) -> 1878.2162 | AC45: ± | AD45: =(_xlfn.STDEV.S('Single data'!AK46:AN46)/SQRT(3)) -> 171.24576 | AE45: =AVERAGE('Single data'!AO46:AR46) -> 42.164335 | AF45: ± | AG45: =(_xlfn.STDEV.S('Single data'!AO46:AR46)/SQRT(4)) -> 8.4589053 | AH45: =AVERAGE('Single data'!AS46:AV46) -> 1013.8829 | AI45: ± | AJ45: =_xlfn.STDEV.S('Single data'!AS46:AV46)/SQRT(4) -> 130.96208 | AK45: =AVERAGE('Single data'!AW46:AZ46) -> 66.563529 | AL45: ± | AM45: =(_xlfn.STDEV.S('Single data'!AW46:AZ46)/SQRT(4)) -> 4.4207831 | AN45: =AVERAGE('Single data'!BA46:BD46) -> 272.02609 | AO45: ± | AP45: =_xlfn.STDEV.S('Single data'!BA46:BD46)/SQRT(4) -> 63.438889 | AQ45: =AVERAGE('Single data'!BE46:BH46) -> 129.95096 | AR45: ± | AS45: =(_xlfn.STDEV.S('Single data'!BE46:BH46)/SQRT(4)) -> 68.105839 | AT45: =AVERAGE('Single data'!BI46:BL46) -> 277.68071 | AU45: ± | AV45: =_xlfn.STDEV.S('Single data'!BI46:BL46)/SQRT(4) -> 85.179863 | AW45: =AVERAGE('Single data'!BM46:BP46) -> 43.67008 | AX45: ± | AY45: =(_xlfn.STDEV.S('Single data'!BM46:BP46)/SQRT(3)) -> 7.7832984 | AZ45: =AVERAGE('Single data'!BQ46:BT46) -> 124.5018 | BA45: ± | BB45: =_xlfn.STDEV.S('Single data'!BQ46:BT46)/SQRT(4) -> 21.684909 | BD45: =AVERAGE('Single data'!BV46:CB46) -> 100 | BE45: ± | BF45: =(_xlfn.STDEV.S('Single data'!BV46:CB46)/SQRT(7)) -> 0 | BG45: =AVERAGE('Single data'!CC46:CG46) -> 67.770671 | BH45: ± | BI45: =(_xlfn.STDEV.S('Single data'!CC46:CG46)/SQRT(5)) -> 4.5586716 | BJ45: =AVERAGE('Single data'!CH46:CL46) -> 81.538826 | BK45: ± | BL45: =(_xlfn.STDEV.S('Single data'!CH46:CL46)/SQRT(5)) -> 12.644547 | BM45: =AVERAGE('Single data'!CM46:CQ46) -> 68.795556 | BN45: ± | BO45: =(_xlfn.STDEV.S('Single data'!CM46:CQ46)/SQRT(5)) -> 6.915937 | BP45: =AVERAGE('Single data'!CR46:CV46) -> 76.175693 | BQ45: ± | BR45: =_xlfn.STDEV.S('Single data'!CR46:CV46)/SQRT(5) -> 10.203461 | BS45: =AVERAGE('Single data'!CW46:DA46) -> 65.388048 | BT45: ± | BU45: =(_xlfn.STDEV.S('Single data'!CW46:DA46)/SQRT(5)) -> 5.3666815 | BV45: =AVERAGE('Single data'!DB46:DF46) -> 81.210383 | BW45: ± | BX45: =(_xlfn.STDEV.S('Single data'!DB46:DF46)/SQRT(5)) -> 6.2856274 | BY45: =AVERAGE('Single data'!DG46:DK46) -> 79.667452 | BZ45: ± | CA45: =(_xlfn.STDEV.S('Single data'!DG46:DK46)/SQRT(5)) -> 2.7386445 | CB45: =AVERAGE('Single data'!DL46:DP46) -> 165.43218 | CC45: ± | CD45: =(_xlfn.STDEV.S('Single data'!DL46:DP46)/SQRT(5)) -> 18.570022 | CE45: =AVERAGE('Single data'!DQ46:DU46) -> 106.6071 | CF45: ± | CG45: =(_xlfn.STDEV.S('Single data'!DQ46:DU46)/SQRT(5)) -> 32.758937 | CH45: =AVERAGE('Single data'!DV46:DZ46) -> 106.2725 | CI45: ± | CJ45: =_xlfn.STDEV.S('Single data'!DV46:DZ46)/SQRT(5) -> 11.615874 | CK45: =AVERAGE('Single data'!EA46:EE46) -> 61.520182 | CL45: ± | CM45: =(_xlfn.STDEV.S('Single data'!EA46:EE46)/SQRT(5)) -> 5.5489818 | CN45: =AVERAGE('Single data'!EF46:EJ46) -> 62.84911 | CO45: ± | CP45: =_xlfn.STDEV.S('Single data'!EF46:EJ46)/SQRT(5) -> 3.1618933 | CQ45: =AVERAGE('Single data'!EK46:EO46) -> 76.824848 | CR45: ± | CS45: =(_xlfn.STDEV.S('Single data'!EK46:EO46)/SQRT(5)) -> 4.6266194 | CT45: =AVERAGE('Single data'!EP46:ET46) -> 62.298904 | CU45: ± | CV45: =_xlfn.STDEV.S('Single data'!EP46:ET46)/SQRT(5) -> 4.5263543 | CW45: =AVERAGE('Single data'!EU46:EY46) -> 74.131658 | CX45: ± | CY45: =(_xlfn.STDEV.S('Single data'!EU46:EY46)/SQRT(5)) -> 10.346996 | CZ45: =AVERAGE('Single data'!EZ46:FD46) -> 56.336903 | DA45: ± | DB45: =_xlfn.STDEV.S('Single data'!EZ46:FD46)/SQRT(5) -> 2.9014496
C46: 15-HETE | D46: =AVERAGE('Single data'!D47:H47) -> 100 | E46: ± | F46: =(_xlfn.STDEV.S('Single data'!D47:H47)/SQRT(5)) -> 0 | G46: =AVERAGE('Single data'!I47:L47) -> 75.235772 | H46: ± | I46: =(_xlfn.STDEV.S('Single data'!I47:L47)/SQRT(4)) -> 8.6989065 | J46: =AVERAGE('Single data'!M47:P47) -> 115.59022 | K46: ± | L46: =(_xlfn.STDEV.S('Single data'!M47:P47)/SQRT(4)) -> 4.1168704 | M46: =AVERAGE('Single data'!Q47:T47) -> 72.885501 | N46: ± | O46: =(_xlfn.STDEV.S('Single data'!Q47:T47)/SQRT(4)) -> 1.1671652 | P46: =AVERAGE('Single data'!U47:X47) -> 540.7541 | Q46: ± | R46: =_xlfn.STDEV.S('Single data'!U47:X47)/SQRT(4) -> 230.64647 | S46: =AVERAGE('Single data'!Y47:AB47) -> 96.978557 | T46: ± | U46: =(_xlfn.STDEV.S('Single data'!Y47:AB47)/SQRT(4)) -> 7.635464 | V46: =AVERAGE('Single data'!AC47:AF47) -> 415.2752 | W46: ± | X46: =(_xlfn.STDEV.S('Single data'!AC47:AF47)/SQRT(4)) -> 39.547848 | Y46: =AVERAGE('Single data'!AG47:AJ47) -> 209.95626 | Z46: ± | AA46: =(_xlfn.STDEV.S('Single data'!AG47:AJ47)/SQRT(4)) -> 49.697032 | AB46: =AVERAGE('Single data'!AK47:AN47) -> 1522.4232 | AC46: ± | AD46: =(_xlfn.STDEV.S('Single data'!AK47:AN47)/SQRT(3)) -> 25.978482 | AE46: =AVERAGE('Single data'!AO47:AR47) -> 53.389623 | AF46: ± | AG46: =(_xlfn.STDEV.S('Single data'!AO47:AR47)/SQRT(4)) -> 2.2835013 | AH46: =AVERAGE('Single data'!AS47:AV47) -> 950.83022 | AI46: ± | AJ46: =_xlfn.STDEV.S('Single data'!AS47:AV47)/SQRT(4) -> 154.14512 | AK46: =AVERAGE('Single data'!AW47:AZ47) -> 81.850888 | AL46: ± | AM46: =(_xlfn.STDEV.S('Single data'!AW47:AZ47)/SQRT(4)) -> 6.3794957 | AN46: =AVERAGE('Single data'!BA47:BD47) -> 436.47946 | AO46: ± | AP46: =_xlfn.STDEV.S('Single data'!BA47:BD47)/SQRT(4) -> 28.478971 | AQ46: =AVERAGE('Single data'!BE47:BH47) -> 93.722911 | AR46: ± | AS46: =(_xlfn.STDEV.S('Single data'!BE47:BH47)/SQRT(4)) -> 32.720848 | AT46: =AVERAGE('Single data'!BI47:BL47) -> 314.70235 | AU46: ± | AV46: =_xlfn.STDEV.S('Single data'!BI47:BL47)/SQRT(4) -> 106.43543 | AW46: =AVERAGE('Single data'!BM47:BP47) -> 60.233191 | AX46: ± | AY46: =(_xlfn.STDEV.S('Single data'!BM47:BP47)/SQRT(3)) -> 5.5789023 | AZ46: =AVERAGE('Single data'!BQ47:BT47) -> 143.43811 | BA46: ± | BB46: =_xlfn.STDEV.S('Single data'!BQ47:BT47)/SQRT(4) -> 36.765652 | BD46: =AVERAGE('Single data'!BV47:CB47) -> 100 | BE46: ± | BF46: =(_xlfn.STDEV.S('Single data'!BV47:CB47)/SQRT(7)) -> 0 | BG46: =AVERAGE('Single data'!CC47:CG47) -> 116.69211 | BH46: ± | BI46: =(_xlfn.STDEV.S('Single data'!CC47:CG47)/SQRT(5)) -> 9.9661505 | BJ46: =AVERAGE('Single data'!CH47:CL47) -> 97.172983 | BK46: ± | BL46: =(_xlfn.STDEV.S('Single data'!CH47:CL47)/SQRT(5)) -> 11.31555 | BM46: =AVERAGE('Single data'!CM47:CQ47) -> 88.559693 | BN46: ± | BO46: =(_xlfn.STDEV.S('Single data'!CM47:CQ47)/SQRT(5)) -> 9.4394866 | BP46: =AVERAGE('Single data'!CR47:CV47) -> 65.280809 | BQ46: ± | BR46: =_xlfn.STDEV.S('Single data'!CR47:CV47)/SQRT(5) -> 5.2638689 | BS46: =AVERAGE('Single data'!CW47:DA47) -> 101.31914 | BT46: ± | BU46: =(_xlfn.STDEV.S('Single data'!CW47:DA47)/SQRT(5)) -> 12.586529 | BV46: =AVERAGE('Single data'!DB47:DF47) -> 88.771657 | BW46: ± | BX46: =(_xlfn.STDEV.S('Single data'!DB47:DF47)/SQRT(5)) -> 16.524116 | BY46: =AVERAGE('Single data'!DG47:DK47) -> 84.613623 | BZ46: ± | CA46: =(_xlfn.STDEV.S('Single data'!DG47:DK47)/SQRT(5)) -> 9.7452673 | CB46: =AVERAGE('Single data'!DL47:DP47) -> 125.61588 | CC46: ± | CD46: =(_xlfn.STDEV.S('Single data'!DL47:DP47)/SQRT(5)) -> 18.979789 | CE46: =AVERAGE('Single data'!DQ47:DU47) -> 87.487168 | CF46: ± | CG46: =(_xlfn.STDEV.S('Single data'!DQ47:DU47)/SQRT(5)) -> 7.4388748 | CH46: =AVERAGE('Single data'!DV47:DZ47) -> 82.498391 | CI46: ± | CJ46: =_xlfn.STDEV.S('Single data'!DV47:DZ47)/SQRT(5) -> 19.421379 | CK46: =AVERAGE('Single data'!EA47:EE47) -> 92.175554 | CL46: ± | CM46: =(_xlfn.STDEV.S('Single data'!EA47:EE47)/SQRT(5)) -> 8.9355253 | CN46: =AVERAGE('Single data'!EF47:EJ47) -> 89.23894 | CO46: ± | CP46: =_xlfn.STDEV.S('Single data'!EF47:EJ47)/SQRT(5) -> 14.826219 | CQ46: =AVERAGE('Single data'!EK47:EO47) -> 91.283658 | CR46: ± | CS46: =(_xlfn.STDEV.S('Single data'!EK47:EO47)/SQRT(5)) -> 7.7519394 | CT46: =AVERAGE('Single data'!EP47:ET47) -> 90.458928 | CU46: ± | CV46: =_xlfn.STDEV.S('Single data'!EP47:ET47)/SQRT(5) -> 10.402137 | CW46: =AVERAGE('Single data'!EU47:EY47) -> 87.994767 | CX46: ± | CY46: =(_xlfn.STDEV.S('Single data'!EU47:EY47)/SQRT(5)) -> 4.6154148 | CZ46: =AVERAGE('Single data'!EZ47:FD47) -> 81.830701 | DA46: ± | DB46: =_xlfn.STDEV.S('Single data'!EZ47:FD47)/SQRT(5) -> 6.0472404
C47: 14-HDHA | D47: =AVERAGE('Single data'!D48:H48) -> 100 | E47: ± | F47: =(_xlfn.STDEV.S('Single data'!D48:H48)/SQRT(5)) -> 0 | G47: =AVERAGE('Single data'!I48:L48) -> 104.0445 | H47: ± | I47: =(_xlfn.STDEV.S('Single data'!I48:L48)/SQRT(4)) -> 22.088431 | J47: =AVERAGE('Single data'!M48:P48) -> 183.16304 | K47: ± | L47: =(_xlfn.STDEV.S('Single data'!M48:P48)/SQRT(4)) -> 63.508095 | M47: =AVERAGE('Single data'!Q48:T48) -> 107.77316 | N47: ± | O47: =(_xlfn.STDEV.S('Single data'!Q48:T48)/SQRT(4)) -> 25.915583 | P47: =AVERAGE('Single data'!U48:X48) -> 285.54765 | Q47: ± | R47: =_xlfn.STDEV.S('Single data'!U48:X48)/SQRT(4) -> 54.808111 | S47: =AVERAGE('Single data'!Y48:AB48) -> 97.970691 | T47: ± | U47: =(_xlfn.STDEV.S('Single data'!Y48:AB48)/SQRT(4)) -> 30.13996 | V47: =AVERAGE('Single data'!AC48:AF48) -> 229.42135 | W47: ± | X47: =(_xlfn.STDEV.S('Single data'!AC48:AF48)/SQRT(4)) -> 49.634129 | Y47: =AVERAGE('Single data'!AG48:AJ48) -> 113.79092 | Z47: ± | AA47: =(_xlfn.STDEV.S('Single data'!AG48:AJ48)/SQRT(4)) -> 10.52747 | AB47: =AVERAGE('Single data'!AK48:AN48) -> 524.01544 | AC47: ± | AD47: =(_xlfn.STDEV.S('Single data'!AK48:AN48)/SQRT(3)) -> 19.048071 | AE47: =AVERAGE('Single data'!AO48:AR48) -> 101.28012 | AF47: ± | AG47: =(_xlfn.STDEV.S('Single data'!AO48:AR48)/SQRT(4)) -> 26.567938 | AH47: =AVERAGE('Single data'!AS48:AV48) -> 297.47435 | AI47: ± | AJ47: =_xlfn.STDEV.S('Single data'!AS48:AV48)/SQRT(4) -> 65.848269 | AK47: =AVERAGE('Single data'!AW48:AZ48) -> 82.887635 | AL47: ± | AM47: =(_xlfn.STDEV.S('Single data'!AW48:AZ48)/SQRT(4)) -> 28.682524 | AN47: =AVERAGE('Single data'!BA48:BD48) -> 181.93128 | AO47: ± | AP47: =_xlfn.STDEV.S('Single data'!BA48:BD48)/SQRT(4) -> 47.280373 | AQ47: =AVERAGE('Single data'!BE48:BH48) -> 63.300352 | AR47: ± | AS47: =(_xlfn.STDEV.S('Single data'!BE48:BH48)/SQRT(4)) -> 18.472385 | AT47: =AVERAGE('Single data'!BI48:BL48) -> 228.69419 | AU47: ± | AV47: =_xlfn.STDEV.S('Single data'!BI48:BL48)/SQRT(4) -> 59.331426 | AW47: =AVERAGE('Single data'!BM48:BP48) -> 53.485748 | AX47: ± | AY47: =(_xlfn.STDEV.S('Single data'!BM48:BP48)/SQRT(3)) -> 7.4907529 | AZ47: =AVERAGE('Single data'!BQ48:BT48) -> 133.35238 | BA47: ± | BB47: =_xlfn.STDEV.S('Single data'!BQ48:BT48)/SQRT(4) -> 10.388382 | BD47: =AVERAGE('Single data'!BV48:CB48) -> 100 | BE47: ± | BF47: =(_xlfn.STDEV.S('Single data'!BV48:CB48)/SQRT(7)) -> 0 | BG47: =AVERAGE('Single data'!CC48:CG48) -> 104.23069 | BH47: ± | BI47: =(_xlfn.STDEV.S('Single data'!CC48:CG48)/SQRT(5)) -> 10.781703 | BJ47: =AVERAGE('Single data'!CH48:CL48) -> 178.04826 | BK47: ± | BL47: =(_xlfn.STDEV.S('Single data'!CH48:CL48)/SQRT(5)) -> 22.18712 | BM47: =AVERAGE('Single data'!CM48:CQ48) -> 101.58254 | BN47: ± | BO47: =(_xlfn.STDEV.S('Single data'!CM48:CQ48)/SQRT(5)) -> 11.37495 | BP47: =AVERAGE('Single data'!CR48:CV48) -> 163.43686 | BQ47: ± | BR47: =_xlfn.STDEV.S('Single data'!CR48:CV48)/SQRT(5) -> 31.758703 | BS47: =AVERAGE('Single data'!CW48:DA48) -> 82.090492 | BT47: ± | BU47: =(_xlfn.STDEV.S('Single data'!CW48:DA48)/SQRT(5)) -> 11.477222 | BV47: =AVERAGE('Single data'!DB48:DF48) -> 86.784688 | BW47: ± | BX47: =(_xlfn.STDEV.S('Single data'!DB48:DF48)/SQRT(5)) -> 14.340731 | BY47: =AVERAGE('Single data'!DG48:DK48) -> 74.469358 | BZ47: ± | CA47: =(_xlfn.STDEV.S('Single data'!DG48:DK48)/SQRT(5)) -> 8.2313814 | CB47: =AVERAGE('Single data'!DL48:DP48) -> 76.104304 | CC47: ± | CD47: =(_xlfn.STDEV.S('Single data'!DL48:DP48)/SQRT(5)) -> 5.7118558 | CE47: =AVERAGE('Single data'!DQ48:DU48) -> 73.632686 | CF47: ± | CG47: =(_xlfn.STDEV.S('Single data'!DQ48:DU48)/SQRT(5)) -> 7.3474805 | CH47: =AVERAGE('Single data'!DV48:DZ48) -> 67.844615 | CI47: ± | CJ47: =_xlfn.STDEV.S('Single data'!DV48:DZ48)/SQRT(5) -> 8.4662963 | CK47: =AVERAGE('Single data'!EA48:EE48) -> 77.758956 | CL47: ± | CM47: =(_xlfn.STDEV.S('Single data'!EA48:EE48)/SQRT(5)) -> 12.349689 | CN47: =AVERAGE('Single data'!EF48:EJ48) -> 76.643232 | CO47: ± | CP47: =_xlfn.STDEV.S('Single data'!EF48:EJ48)/SQRT(5) -> 15.408991 | CQ47: =AVERAGE('Single data'!EK48:EO48) -> 75.902091 | CR47: ± | CS47: =(_xlfn.STDEV.S('Single data'!EK48:EO48)/SQRT(5)) -> 8.9232048 | CT47: =AVERAGE('Single data'!EP48:ET48) -> 68.30131 | CU47: ± | CV47: =_xlfn.STDEV.S('Single data'!EP48:ET48)/SQRT(5) -> 11.323154 | CW47: =AVERAGE('Single data'!EU48:EY48) -> 89.861748 | CX47: ± | CY47: =(_xlfn.STDEV.S('Single data'!EU48:EY48)/SQRT(5)) -> 12.125447 | CZ47: =AVERAGE('Single data'!EZ48:FD48) -> 62.34487 | DA47: ± | DB47: =_xlfn.STDEV.S('Single data'!EZ48:FD48)/SQRT(5) -> 6.9293051
C48: 18-HEPE | D48: =AVERAGE('Single data'!D49:H49) -> 100 | E48: ± | F48: =(_xlfn.STDEV.S('Single data'!D49:H49)/SQRT(5)) -> 0 | G48: =AVERAGE('Single data'!I49:L49) -> 29.269238 | H48: ± | I48: =(_xlfn.STDEV.S('Single data'!I49:L49)/SQRT(4)) -> 4.6576182 | J48: =AVERAGE('Single data'!M49:P49) -> 29.712217 | K48: ± | L48: =(_xlfn.STDEV.S('Single data'!M49:P49)/SQRT(4)) -> 7.199819 | M48: =AVERAGE('Single data'!Q49:T49) -> 120.79182 | N48: ± | O48: =(_xlfn.STDEV.S('Single data'!Q49:T49)/SQRT(4)) -> 66.176479 | P48: =AVERAGE('Single data'!U49:X49) -> 236.08946 | Q48: ± | R48: =_xlfn.STDEV.S('Single data'!U49:X49)/SQRT(4) -> 94.450485 | S48: =AVERAGE('Single data'!Y49:AB49) -> 214.80139 | T48: ± | U48: =(_xlfn.STDEV.S('Single data'!Y49:AB49)/SQRT(4)) -> 162.09696 | V48: =AVERAGE('Single data'!AC49:AF49) -> 68.878858 | W48: ± | X48: =(_xlfn.STDEV.S('Single data'!AC49:AF49)/SQRT(4)) -> 14.932814 | Y48: =AVERAGE('Single data'!AG49:AJ49) -> 46.126912 | Z48: ± | AA48: =(_xlfn.STDEV.S('Single data'!AG49:AJ49)/SQRT(4)) -> 5.0822463 | AB48: =AVERAGE('Single data'!AK49:AN49) -> 60.50359 | AC48: ± | AD48: =(_xlfn.STDEV.S('Single data'!AK49:AN49)/SQRT(3)) -> 3.7510251 | AE48: =AVERAGE('Single data'!AO49:AR49) -> 34.418759 | AF48: ± | AG48: =(_xlfn.STDEV.S('Single data'!AO49:AR49)/SQRT(4)) -> 6.3143382 | AH48: =AVERAGE('Single data'!AS49:AV49) -> 89.128027 | AI48: ± | AJ48: =_xlfn.STDEV.S('Single data'!AS49:AV49)/SQRT(4) -> 43.516576 | AK48: =AVERAGE('Single data'!AW49:AZ49) -> 54.644253 | AL48: ± | AM48: =(_xlfn.STDEV.S('Single data'!AW49:AZ49)/SQRT(4)) -> 12.905208 | AN48: =AVERAGE('Single data'!BA49:BD49) -> 63.142356 | AO48: ± | AP48: =_xlfn.STDEV.S('Single data'!BA49:BD49)/SQRT(4) -> 24.67377 | AQ48: =AVERAGE('Single data'!BE49:BH49) -> 1122.4081 | AR48: ± | AS48: =(_xlfn.STDEV.S('Single data'!BE49:BH49)/SQRT(4)) -> 940.16272 | AT48: =AVERAGE('Single data'!BI49:BL49) -> 86.129079 | AU48: ± | AV48: =_xlfn.STDEV.S('Single data'!BI49:BL49)/SQRT(4) -> 25.011907 | AW48: =AVERAGE('Single data'!BM49:BP49) -> 113.843 | AX48: ± | AY48: =(_xlfn.STDEV.S('Single data'!BM49:BP49)/SQRT(3)) -> 64.576087 | AZ48: =AVERAGE('Single data'!BQ49:BT49) -> 59.593519 | BA48: ± | BB48: =_xlfn.STDEV.S('Single data'!BQ49:BT49)/SQRT(4) -> 24.377577 | BD48: =AVERAGE('Single data'!BV49:CB49) -> 100 | BE48: ± | BF48: =(_xlfn.STDEV.S('Single data'!BV49:CB49)/SQRT(7)) -> 0 | BG48: =AVERAGE('Single data'!CC49:CG49) -> 88.133324 | BH48: ± | BI48: =(_xlfn.STDEV.S('Single data'!CC49:CG49)/SQRT(5)) -> 18.053301 | BJ48: =AVERAGE('Single data'!CH49:CL49) -> 68.767759 | BK48: ± | BL48: =(_xlfn.STDEV.S('Single data'!CH49:CL49)/SQRT(5)) -> 12.882752 | BM48: =AVERAGE('Single data'!CM49:CQ49) -> 59.964413 | BN48: ± | BO48: =(_xlfn.STDEV.S('Single data'!CM49:CQ49)/SQRT(5)) -> 23.490972 | BP48: =AVERAGE('Single data'!CR49:CV49) -> 58.996254 | BQ48: ± | BR48: =_xlfn.STDEV.S('Single data'!CR49:CV49)/SQRT(5) -> 23.46638 | BS48: =AVERAGE('Single data'!CW49:DA49) -> 44.980198 | BT48: ± | BU48: =(_xlfn.STDEV.S('Single data'!CW49:DA49)/SQRT(5)) -> 17.48235 | BV48: =AVERAGE('Single data'!DB49:DF49) -> 46.332385 | BW48: ± | BX48: =(_xlfn.STDEV.S('Single data'!DB49:DF49)/SQRT(5)) -> 14.31833 | BY48: =AVERAGE('Single data'!DG49:DK49) -> 53.669781 | BZ48: ± | CA48: =(_xlfn.STDEV.S('Single data'!DG49:DK49)/SQRT(5)) -> 10.31982 | CB48: =AVERAGE('Single data'!DL49:DP49) -> 47.753639 | CC48: ± | CD48: =(_xlfn.STDEV.S('Single data'!DL49:DP49)/SQRT(5)) -> 7.9144589 | CE48: =AVERAGE('Single data'!DQ49:DU49) -> 168.4149 | CF48: ± | CG48: =(_xlfn.STDEV.S('Single data'!DQ49:DU49)/SQRT(5)) -> 118.28091 | CH48: =AVERAGE('Single data'!DV49:DZ49) -> 224.02373 | CI48: ± | CJ48: =_xlfn.STDEV.S('Single data'!DV49:DZ49)/SQRT(5) -> 174.4405 | CK48: =AVERAGE('Single data'!EA49:EE49) -> 51.384249 | CL48: ± | CM48: =(_xlfn.STDEV.S('Single data'!EA49:EE49)/SQRT(5)) -> 14.113225 | CN48: =AVERAGE('Single data'!EF49:EJ49) -> 58.38157 | CO48: ± | CP48: =_xlfn.STDEV.S('Single data'!EF49:EJ49)/SQRT(5) -> 16.639817 | CQ48: =AVERAGE('Single data'!EK49:EO49) -> 43.701542 | CR48: ± | CS48: =(_xlfn.STDEV.S('Single data'!EK49:EO49)/SQRT(5)) -> 12.861812 | CT48: =AVERAGE('Single data'!EP49:ET49) -> 49.578157 | CU48: ± | CV48: =_xlfn.STDEV.S('Single data'!EP49:ET49)/SQRT(5) -> 17.679334 | CW48: =AVERAGE('Single data'!EU49:EY49) -> 53.012606 | CX48: ± | CY48: =(_xlfn.STDEV.S('Single data'!EU49:EY49)/SQRT(5)) -> 20.902851 | CZ48: =AVERAGE('Single data'!EZ49:FD49) -> 37.937539 | DA48: ± | DB48: =_xlfn.STDEV.S('Single data'!EZ49:FD49)/SQRT(5) -> 11.837587
B49: ALOX 12/157 | C49: 15-HEPE | D49: =AVERAGE('Single data'!D50:H50) -> 100 | E49: ± | F49: =(_xlfn.STDEV.S('Single data'!D50:H50)/SQRT(5)) -> 0 | G49: =AVERAGE('Single data'!I50:L50) -> 38.011642 | H49: ± | I49: =(_xlfn.STDEV.S('Single data'!I50:L50)/SQRT(4)) -> 8.1036693 | J49: =AVERAGE('Single data'!M50:P50) -> 40.261996 | K49: ± | L49: =(_xlfn.STDEV.S('Single data'!M50:P50)/SQRT(4)) -> 3.6979202 | M49: =AVERAGE('Single data'!Q50:T50) -> 315.65168 | N49: ± | O49: =(_xlfn.STDEV.S('Single data'!Q50:T50)/SQRT(4)) -> 214.22346 | P49: =AVERAGE('Single data'!U50:X50) -> 259.91789 | Q49: ± | R49: =_xlfn.STDEV.S('Single data'!U50:X50)/SQRT(4) -> 93.524761 | S49: =AVERAGE('Single data'!Y50:AB50) -> 95.886162 | T49: ± | U49: =(_xlfn.STDEV.S('Single data'!Y50:AB50)/SQRT(4)) -> 37.813964 | V49: =AVERAGE('Single data'!AC50:AF50) -> 105.51771 | W49: ± | X49: =(_xlfn.STDEV.S('Single data'!AC50:AF50)/SQRT(4)) -> 18.993357 | Y49: =AVERAGE('Single data'!AG50:AJ50) -> 96.476694 | Z49: ± | AA49: =(_xlfn.STDEV.S('Single data'!AG50:AJ50)/SQRT(4)) -> 6.5351185 | AB49: =AVERAGE('Single data'!AK50:AN50) -> 175.42129 | AC49: ± | AD49: =(_xlfn.STDEV.S('Single data'!AK50:AN50)/SQRT(3)) -> 36.015609 | AE49: =AVERAGE('Single data'!AO50:AR50) -> 57.934288 | AF49: ± | AG49: =(_xlfn.STDEV.S('Single data'!AO50:AR50)/SQRT(4)) -> 19.907045 | AH49: =AVERAGE('Single data'!AS50:AV50) -> 287.76195 | AI49: ± | AJ49: =_xlfn.STDEV.S('Single data'!AS50:AV50)/SQRT(4) -> 142.33791 | AK49: =AVERAGE('Single data'!AW50:AZ50) -> 63.333545 | AL49: ± | AM49: =(_xlfn.STDEV.S('Single data'!AW50:AZ50)/SQRT(4)) -> 19.44985 | AN49: =AVERAGE('Single data'!BA50:BD50) -> 99.745668 | AO49: ± | AP49: =_xlfn.STDEV.S('Single data'!BA50:BD50)/SQRT(4) -> 31.829346 | AQ49: =AVERAGE('Single data'!BE50:BH50) -> 430.0804 | AR49: ± | AS49: =(_xlfn.STDEV.S('Single data'!BE50:BH50)/SQRT(4)) -> 287.64697 | AT49: =AVERAGE('Single data'!BI50:BL50) -> 201.4613 | AU49: ± | AV49: =_xlfn.STDEV.S('Single data'!BI50:BL50)/SQRT(4) -> 71.782599 | AW49: =AVERAGE('Single data'!BM50:BP50) -> 64.523166 | AX49: ± | AY49: =(_xlfn.STDEV.S('Single data'!BM50:BP50)/SQRT(3)) -> 25.642598 | AZ49: =AVERAGE('Single data'!BQ50:BT50) -> 87.169518 | BA49: ± | BB49: =_xlfn.STDEV.S('Single data'!BQ50:BT50)/SQRT(4) -> 22.136099 | BD49: =AVERAGE('Single data'!BV50:CB50) -> 100 | BE49: ± | BF49: =(_xlfn.STDEV.S('Single data'!BV50:CB50)/SQRT(7)) -> 0 | BG49: =AVERAGE('Single data'!CC50:CG50) -> 75.761827 | BH49: ± | BI49: =(_xlfn.STDEV.S('Single data'!CC50:CG50)/SQRT(5)) -> 14.495322 | BJ49: =AVERAGE('Single data'!CH50:CL50) -> 69.432838 | BK49: ± | BL49: =(_xlfn.STDEV.S('Single data'!CH50:CL50)/SQRT(5)) -> 8.6137222 | BM49: =AVERAGE('Single data'!CM50:CQ50) -> 53.259371 | BN49: ± | BO49: =(_xlfn.STDEV.S('Single data'!CM50:CQ50)/SQRT(5)) -> 15.960525 | BP49: =AVERAGE('Single data'!CR50:CV50) -> 55.304078 | BQ49: ± | BR49: =_xlfn.STDEV.S('Single data'!CR50:CV50)/SQRT(5) -> 16.629814 | BS49: =AVERAGE('Single data'!CW50:DA50) -> 55.943822 | BT49: ± | BU49: =(_xlfn.STDEV.S('Single data'!CW50:DA50)/SQRT(5)) -> 13.286559 | BV49: =AVERAGE('Single data'!DB50:DF50) -> 64.957155 | BW49: ± | BX49: =(_xlfn.STDEV.S('Single data'!DB50:DF50)/SQRT(5)) -> 15.65394 | BY49: =AVERAGE('Single data'!DG50:DK50) -> 67.725061 | BZ49: ± | CA49: =(_xlfn.STDEV.S('Single data'!DG50:DK50)/SQRT(5)) -> 6.2631767 | CB49: =AVERAGE('Single data'!DL50:DP50) -> 135.90109 | CC49: ± | CD49: =(_xlfn.STDEV.S('Single data'!DL50:DP50)/SQRT(5)) -> 13.778586 | CE49: =AVERAGE('Single data'!DQ50:DU50) -> 134.6198 | CF49: ± | CG49: =(_xlfn.STDEV.S('Single data'!DQ50:DU50)/SQRT(5)) -> 62.565828 | CH49: =AVERAGE('Single data'!DV50:DZ50) -> 164.22833 | CI49: ± | CJ49: =_xlfn.STDEV.S('Single data'!DV50:DZ50)/SQRT(5) -> 102.14635 | CK49: =AVERAGE('Single data'!EA50:EE50) -> 52.33197 | CL49: ± | CM49: =(_xlfn.STDEV.S('Single data'!EA50:EE50)/SQRT(5)) -> 12.565794 | CN49: =AVERAGE('Single data'!EF50:EJ50) -> 59.911477 | CO49: ± | CP49: =_xlfn.STDEV.S('Single data'!EF50:EJ50)/SQRT(5) -> 16.396246 | CQ49: =AVERAGE('Single data'!EK50:EO50) -> 59.045344 | CR49: ± | CS49: =(_xlfn.STDEV.S('Single data'!EK50:EO50)/SQRT(5)) -> 14.331488 | CT49: =AVERAGE('Single data'!EP50:ET50) -> 68.743593 | CU49: ± | CV49: =_xlfn.STDEV.S('Single data'!EP50:ET50)/SQRT(5) -> 19.758657 | CW49: =AVERAGE('Single data'!EU50:EY50) -> 53.248506 | CX49: ± | CY49: =(_xlfn.STDEV.S('Single data'!EU50:EY50)/SQRT(5)) -> 16.343139 | CZ49: =AVERAGE('Single data'!EZ50:FD50) -> 49.610514 | DA49: ± | DB49: =_xlfn.STDEV.S('Single data'!EZ50:FD50)/SQRT(5) -> 12.649461
C50: 14-HDPA | D50: =AVERAGE('Single data'!D51:H51) -> 100 | E50: ± | F50: =(_xlfn.STDEV.S('Single data'!D51:H51)/SQRT(5)) -> 0 | G50: =AVERAGE('Single data'!I51:L51) -> 100.18992 | H50: ± | I50: =(_xlfn.STDEV.S('Single data'!I51:L51)/SQRT(4)) -> 12.051714 | J50: =AVERAGE('Single data'!M51:P51) -> 143.23011 | K50: ± | L50: =(_xlfn.STDEV.S('Single data'!M51:P51)/SQRT(4)) -> 37.439927 | M50: =AVERAGE('Single data'!Q51:T51) -> 137.36355 | N50: ± | O50: =(_xlfn.STDEV.S('Single data'!Q51:T51)/SQRT(4)) -> 22.201733 | P50: =AVERAGE('Single data'!U51:X51) -> 260.75112 | Q50: ± | R50: =_xlfn.STDEV.S('Single data'!U51:X51)/SQRT(4) -> 39.221267 | S50: =AVERAGE('Single data'!Y51:AB51) -> 156.36359 | T50: ± | U50: =(_xlfn.STDEV.S('Single data'!Y51:AB51)/SQRT(4)) -> 12.745833 | V50: =AVERAGE('Single data'!AC51:AF51) -> 207.94799 | W50: ± | X50: =(_xlfn.STDEV.S('Single data'!AC51:AF51)/SQRT(4)) -> 34.516958 | Y50: =AVERAGE('Single data'!AG51:AJ51) -> 175.29188 | Z50: ± | AA50: =(_xlfn.STDEV.S('Single data'!AG51:AJ51)/SQRT(4)) -> 3.6096306 | AB50: =AVERAGE('Single data'!AK51:AN51) -> 429.07939 | AC50: ± | AD50: =(_xlfn.STDEV.S('Single data'!AK51:AN51)/SQRT(3)) -> 12.463674 | AE50: =AVERAGE('Single data'!AO51:AR51) -> 101.86732 | AF50: ± | AG50: =(_xlfn.STDEV.S('Single data'!AO51:AR51)/SQRT(4)) -> 6.4847624 | AH50: =AVERAGE('Single data'!AS51:AV51) -> 253.32303 | AI50: ± | AJ50: =_xlfn.STDEV.S('Single data'!AS51:AV51)/SQRT(4) -> 7.3640264 | AK50: =AVERAGE('Single data'!AW51:AZ51) -> 127.94152 | AL50: ± | AM50: =(_xlfn.STDEV.S('Single data'!AW51:AZ51)/SQRT(4)) -> 6.2447429 | AN50: =AVERAGE('Single data'!BA51:BD51) -> 123.9587 | AO50: ± | AP50: =_xlfn.STDEV.S('Single data'!BA51:BD51)/SQRT(4) -> 14.976152 | AQ50: =AVERAGE('Single data'!BE51:BH51) -> 83.89519 | AR50: ± | AS50: =(_xlfn.STDEV.S('Single data'!BE51:BH51)/SQRT(4)) -> 4.7749915 | AT50: =AVERAGE('Single data'!BI51:BL51) -> 209.88433 | AU50: ± | AV50: =_xlfn.STDEV.S('Single data'!BI51:BL51)/SQRT(4) -> 48.878837 | AW50: =AVERAGE('Single data'!BM51:BP51) -> 94.082928 | AX50: ± | AY50: =(_xlfn.STDEV.S('Single data'!BM51:BP51)/SQRT(3)) -> 17.473532 | AZ50: =AVERAGE('Single data'!BQ51:BT51) -> 156.80877 | BA50: ± | BB50: =_xlfn.STDEV.S('Single data'!BQ51:BT51)/SQRT(4) -> 10.938905 | BD50: =AVERAGE('Single data'!BV51:CB51) -> 100 | BE50: ± | BF50: =(_xlfn.STDEV.S('Single data'!BV51:CB51)/SQRT(7)) -> 0 | BG50: =AVERAGE('Single data'!CC51:CG51) -> 100.41068 | BH50: ± | BI50: =(_xlfn.STDEV.S('Single data'!CC51:CG51)/SQRT(5)) -> 5.0681011 | BJ50: =AVERAGE('Single data'!CH51:CL51) -> 145.78748 | BK50: ± | BL50: =(_xlfn.STDEV.S('Single data'!CH51:CL51)/SQRT(5)) -> 6.9242122 | BM50: =AVERAGE('Single data'!CM51:CQ51) -> 113.6056 | BN50: ± | BO50: =(_xlfn.STDEV.S('Single data'!CM51:CQ51)/SQRT(5)) -> 10.239131 | BP50: =AVERAGE('Single data'!CR51:CV51) -> 131.67165 | BQ50: ± | BR50: =_xlfn.STDEV.S('Single data'!CR51:CV51)/SQRT(5) -> 15.82897 | BS50: =AVERAGE('Single data'!CW51:DA51) -> 90.909909 | BT50: ± | BU50: =(_xlfn.STDEV.S('Single data'!CW51:DA51)/SQRT(5)) -> 8.9169734 | BV50: =AVERAGE('Single data'!DB51:DF51) -> 88.23824 | BW50: ± | BX50: =(_xlfn.STDEV.S('Single data'!DB51:DF51)/SQRT(5)) -> 11.858254 | BY50: =AVERAGE('Single data'!DG51:DK51) -> 95.822494 | BZ50: ± | CA50: =(_xlfn.STDEV.S('Single data'!DG51:DK51)/SQRT(5)) -> 4.7564976 | CB50: =AVERAGE('Single data'!DL51:DP51) -> 71.10379 | CC50: ± | CD50: =(_xlfn.STDEV.S('Single data'!DL51:DP51)/SQRT(5)) -> 4.8687403 | CE50: =AVERAGE('Single data'!DQ51:DU51) -> 83.149248 | CF50: ± | CG50: =(_xlfn.STDEV.S('Single data'!DQ51:DU51)/SQRT(5)) -> 9.5557736 | CH50: =AVERAGE('Single data'!DV51:DZ51) -> 72.29732 | CI50: ± | CJ50: =_xlfn.STDEV.S('Single data'!DV51:DZ51)/SQRT(5) -> 8.3901214 | CK50: =AVERAGE('Single data'!EA51:EE51) -> 86.423294 | CL50: ± | CM50: =(_xlfn.STDEV.S('Single data'!EA51:EE51)/SQRT(5)) -> 7.1745591 | CN50: =AVERAGE('Single data'!EF51:EJ51) -> 80.877938 | CO50: ± | CP50: =_xlfn.STDEV.S('Single data'!EF51:EJ51)/SQRT(5) -> 10.940483 | CQ50: =AVERAGE('Single data'!EK51:EO51) -> 96.015694 | CR50: ± | CS50: =(_xlfn.STDEV.S('Single data'!EK51:EO51)/SQRT(5)) -> 5.9510221 | CT50: =AVERAGE('Single data'!EP51:ET51) -> 75.600988 | CU50: ± | CV50: =_xlfn.STDEV.S('Single data'!EP51:ET51)/SQRT(5) -> 5.3641353 | CW50: =AVERAGE('Single data'!EU51:EY51) -> 97.474971 | CX50: ± | CY50: =(_xlfn.STDEV.S('Single data'!EU51:EY51)/SQRT(5)) -> 7.3029512 | CZ50: =AVERAGE('Single data'!EZ51:FD51) -> 71.477647 | DA50: ± | DB50: =_xlfn.STDEV.S('Single data'!EZ51:FD51)/SQRT(5) -> 6.8605492
C51: 12-HEPE | D51: =AVERAGE('Single data'!D52:H52) -> 100 | E51: ± | F51: =(_xlfn.STDEV.S('Single data'!D52:H52)/SQRT(5)) -> 0 | G51: =AVERAGE('Single data'!I52:L52) -> 46.228368 | H51: ± | I51: =(_xlfn.STDEV.S('Single data'!I52:L52)/SQRT(4)) -> 26.234919 | M51: =AVERAGE('Single data'!Q52:T52) -> 665.69084 | N51: ± | O51: =(_xlfn.STDEV.S('Single data'!Q52:T52)/SQRT(4)) -> 519.75737 | P51: =AVERAGE('Single data'!U52:X52) -> 530.88905 | Q51: ± | R51: =_xlfn.STDEV.S('Single data'!U52:X52)/SQRT(4) -> 258.32058 | S51: =AVERAGE('Single data'!Y52:AB52) -> 158.44507 | T51: ± | U51: =(_xlfn.STDEV.S('Single data'!Y52:AB52)/SQRT(4)) -> 123.82024 | V51: =AVERAGE('Single data'!AC52:AF52) -> 101.59385 | W51: ± | X51: =(_xlfn.STDEV.S('Single data'!AC52:AF52)/SQRT(4)) -> 58.174204 | Y51: =AVERAGE('Single data'!AG52:AJ52) -> 107.82724 | Z51: ± | AA51: =(_xlfn.STDEV.S('Single data'!AG52:AJ52)/SQRT(4)) -> 77.174756 | AB51: =AVERAGE('Single data'!AK52:AN52) -> 51.788148 | AC51: ± | AD51: =(_xlfn.STDEV.S('Single data'!AK52:AN52)/SQRT(3)) -> 17.325939 | AE51: =AVERAGE('Single data'!AO52:AR52) -> 51.967446 | AF51: ± | AG51: =(_xlfn.STDEV.S('Single data'!AO52:AR52)/SQRT(4)) -> 30.108794 | AH51: =AVERAGE('Single data'!AS52:AV52) -> 157.32262 | AI51: ± | AJ51: =_xlfn.STDEV.S('Single data'!AS52:AV52)/SQRT(4) -> 110.14644 | AK51: =AVERAGE('Single data'!AW52:AZ52) -> 64.481761 | AL51: ± | AM51: =(_xlfn.STDEV.S('Single data'!AW52:AZ52)/SQRT(4)) -> 39.757623 | AN51: =AVERAGE('Single data'!BA52:BD52) -> 71.31913 | AO51: ± | AP51: =_xlfn.STDEV.S('Single data'!BA52:BD52)/SQRT(4) -> 48.380557 | AQ51: =AVERAGE('Single data'!BE52:BH52) -> 493.3079 | AR51: ± | AS51: =(_xlfn.STDEV.S('Single data'!BE52:BH52)/SQRT(4)) -> 363.52733 | AT51: =AVERAGE('Single data'!BI52:BL52) -> 252.23505 | AU51: ± | AV51: =_xlfn.STDEV.S('Single data'!BI52:BL52)/SQRT(4) -> 133.62907 | AW51: =AVERAGE('Single data'!BM52:BP52) -> 92.359989 | AX51: ± | AY51: =(_xlfn.STDEV.S('Single data'!BM52:BP52)/SQRT(3)) -> 34.73336 | AZ51: =AVERAGE('Single data'!BQ52:BT52) -> 160.94949 | BA51: ± | BB51: =_xlfn.STDEV.S('Single data'!BQ52:BT52)/SQRT(4) -> 62.667495 | BD51: =AVERAGE('Single data'!BV52:CB52) -> 100 | BE51: ± | BF51: =(_xlfn.STDEV.S('Single data'!BV52:CB52)/SQRT(7)) -> 0 | BG51: =AVERAGE('Single data'!CC52:CG52) -> 61.106534 | BH51: ± | BI51: =(_xlfn.STDEV.S('Single data'!CC52:CG52)/SQRT(5)) -> 16.677381 | BJ51: =AVERAGE('Single data'!CH52:CL52) -> 79.00523 | BK51: ± | BL51: =(_xlfn.STDEV.S('Single data'!CH52:CL52)/SQRT(5)) -> 22.876003 | BM51: =AVERAGE('Single data'!CM52:CQ52) -> 41.577523 | BN51: ± | BO51: =(_xlfn.STDEV.S('Single data'!CM52:CQ52)/SQRT(5)) -> 14.387362 | BP51: =AVERAGE('Single data'!CR52:CV52) -> 48.305723 | BQ51: ± | BR51: =_xlfn.STDEV.S('Single data'!CR52:CV52)/SQRT(5) -> 18.944848 | BS51: =AVERAGE('Single data'!CW52:DA52) -> 31.468937 | BT51: ± | BU51: =(_xlfn.STDEV.S('Single data'!CW52:DA52)/SQRT(5)) -> 12.361791 | BV51: =AVERAGE('Single data'!DB52:DF52) -> 34.745855 | BW51: ± | BX51: =(_xlfn.STDEV.S('Single data'!DB52:DF52)/SQRT(5)) -> 8.7863149 | BY51: =AVERAGE('Single data'!DG52:DK52) -> 40.27319 | BZ51: ± | CA51: =(_xlfn.STDEV.S('Single data'!DG52:DK52)/SQRT(5)) -> 8.6889101 | CB51: =AVERAGE('Single data'!DL52:DP52) -> 33.840253 | CC51: ± | CD51: =(_xlfn.STDEV.S('Single data'!DL52:DP52)/SQRT(5)) -> 8.3537956 | CE51: =AVERAGE('Single data'!DQ52:DU52) -> 319.83689 | CF51: ± | CG51: =(_xlfn.STDEV.S('Single data'!DQ52:DU52)/SQRT(5)) -> 283.7781 | CH51: =AVERAGE('Single data'!DV52:DZ52) -> 410.22107 | CI51: ± | CJ51: =_xlfn.STDEV.S('Single data'!DV52:DZ52)/SQRT(5) -> 385.19143 | CK51: =AVERAGE('Single data'!EA52:EE52) -> 33.035147 | CL51: ± | CM51: =(_xlfn.STDEV.S('Single data'!EA52:EE52)/SQRT(5)) -> 9.0474436 | CN51: =AVERAGE('Single data'!EF52:EJ52) -> 38.81712 | CO51: ± | CP51: =_xlfn.STDEV.S('Single data'!EF52:EJ52)/SQRT(5) -> 11.763339 | CQ51: =AVERAGE('Single data'!EK52:EO52) -> 35.303694 | CR51: ± | CS51: =(_xlfn.STDEV.S('Single data'!EK52:EO52)/SQRT(5)) -> 10.938328 | CT51: =AVERAGE('Single data'!EP52:ET52) -> 24.934771 | CU51: ± | CV51: =_xlfn.STDEV.S('Single data'!EP52:ET52)/SQRT(5) -> 8.782583 | CW51: =AVERAGE('Single data'!EU52:EY52) -> 32.773363 | CX51: ± | CY51: =(_xlfn.STDEV.S('Single data'!EU52:EY52)/SQRT(5)) -> 18.904873 | CZ51: =AVERAGE('Single data'!EZ52:FD52) -> 19.922715 | DA51: ± | DB51: =_xlfn.STDEV.S('Single data'!EZ52:FD52)/SQRT(5) -> 9.1132665
C52: 12-HETE | D52: =AVERAGE('Single data'!D53:H53) -> 100 | E52: ± | F52: =(_xlfn.STDEV.S('Single data'!D53:H53)/SQRT(5)) -> 0 | G52: =AVERAGE('Single data'!I53:L53) -> 81.169639 | H52: ± | I52: =(_xlfn.STDEV.S('Single data'!I53:L53)/SQRT(4)) -> 7.6308657 | M52: =AVERAGE('Single data'!Q53:T53) -> 97.201544 | N52: ± | O52: =(_xlfn.STDEV.S('Single data'!Q53:T53)/SQRT(4)) -> 30.269391 | P52: =AVERAGE('Single data'!U53:X53) -> 383.05015 | Q52: ± | R52: =_xlfn.STDEV.S('Single data'!U53:X53)/SQRT(4) -> 93.004986 | S52: =AVERAGE('Single data'!Y53:AB53) -> 102.31862 | T52: ± | U52: =(_xlfn.STDEV.S('Single data'!Y53:AB53)/SQRT(4)) -> 12.708228 | V52: =AVERAGE('Single data'!AC53:AF53) -> 193.55853 | W52: ± | X52: =(_xlfn.STDEV.S('Single data'!AC53:AF53)/SQRT(4)) -> 30.532314 | Y52: =AVERAGE('Single data'!AG53:AJ53) -> 118.4314 | Z52: ± | AA52: =(_xlfn.STDEV.S('Single data'!AG53:AJ53)/SQRT(4)) -> 31.215153 | AB52: =AVERAGE('Single data'!AK53:AN53) -> 242.90328 | AC52: ± | AD52: =(_xlfn.STDEV.S('Single data'!AK53:AN53)/SQRT(3)) -> 22.902249 | AE52: =AVERAGE('Single data'!AO53:AR53) -> 86.462007 | AF52: ± | AG52: =(_xlfn.STDEV.S('Single data'!AO53:AR53)/SQRT(4)) -> 12.509628 | AH52: =AVERAGE('Single data'!AS53:AV53) -> 198.8753 | AI52: ± | AJ52: =_xlfn.STDEV.S('Single data'!AS53:AV53)/SQRT(4) -> 53.321976 | AK52: =AVERAGE('Single data'!AW53:AZ53) -> 99.063745 | AL52: ± | AM52: =(_xlfn.STDEV.S('Single data'!AW53:AZ53)/SQRT(4)) -> 17.268784 | AN52: =AVERAGE('Single data'!BA53:BD53) -> 143.51643 | AO52: ± | AP52: =_xlfn.STDEV.S('Single data'!BA53:BD53)/SQRT(4) -> 43.096047 | AQ52: =AVERAGE('Single data'!BE53:BH53) -> 81.007358 | AR52: ± | AS52: =(_xlfn.STDEV.S('Single data'!BE53:BH53)/SQRT(4)) -> 25.521358 | AT52: =AVERAGE('Single data'!BI53:BL53) -> 216.24594 | AU52: ± | AV52: =_xlfn.STDEV.S('Single data'!BI53:BL53)/SQRT(4) -> 77.151155 | AW52: =AVERAGE('Single data'!BM53:BP53) -> 74.084639 | AX52: ± | AY52: =(_xlfn.STDEV.S('Single data'!BM53:BP53)/SQRT(3)) -> 7.8108594 | AZ52: =AVERAGE('Single data'!BQ53:BT53) -> 104.6627 | BA52: ± | BB52: =_xlfn.STDEV.S('Single data'!BQ53:BT53)/SQRT(4) -> 22.484384 | BD52: =AVERAGE('Single data'!BV53:CB53) -> 100 | BE52: ± | BF52: =(_xlfn.STDEV.S('Single data'!BV53:CB53)/SQRT(7)) -> 0 | BG52: =AVERAGE('Single data'!CC53:CG53) -> 57.931895 | BH52: ± | BI52: =(_xlfn.STDEV.S('Single data'!CC53:CG53)/SQRT(5)) -> 7.9747583 | BJ52: =AVERAGE('Single data'!CH53:CL53) -> 99.526575 | BK52: ± | BL52: =(_xlfn.STDEV.S('Single data'!CH53:CL53)/SQRT(5)) -> 14.758801 | BM52: =AVERAGE('Single data'!CM53:CQ53) -> 50.282542 | BN52: ± | BO52: =(_xlfn.STDEV.S('Single data'!CM53:CQ53)/SQRT(5)) -> 7.907726 | BP52: =AVERAGE('Single data'!CR53:CV53) -> 75.791628 | BQ52: ± | BR52: =_xlfn.STDEV.S('Single data'!CR53:CV53)/SQRT(5) -> 14.694443 | BS52: =AVERAGE('Single data'!CW53:DA53) -> 44.48057 | BT52: ± | BU52: =(_xlfn.STDEV.S('Single data'!CW53:DA53)/SQRT(5)) -> 8.9669147 | BV52: =AVERAGE('Single data'!DB53:DF53) -> 50.679715 | BW52: ± | BX52: =(_xlfn.STDEV.S('Single data'!DB53:DF53)/SQRT(5)) -> 12.58093 | BY52: =AVERAGE('Single data'!DG53:DK53) -> 44.549456 | BZ52: ± | CA52: =(_xlfn.STDEV.S('Single data'!DG53:DK53)/SQRT(5)) -> 5.7769806 | CB52: =AVERAGE('Single data'!DL53:DP53) -> 41.733493 | CC52: ± | CD52: =(_xlfn.STDEV.S('Single data'!DL53:DP53)/SQRT(5)) -> 4.557426 | CE52: =AVERAGE('Single data'!DQ53:DU53) -> 57.92679 | CF52: ± | CG52: =(_xlfn.STDEV.S('Single data'!DQ53:DU53)/SQRT(5)) -> 18.682315 | CH52: =AVERAGE('Single data'!DV53:DZ53) -> 52.930253 | CI52: ± | CJ52: =_xlfn.STDEV.S('Single data'!DV53:DZ53)/SQRT(5) -> 21.566131 | CK52: =AVERAGE('Single data'!EA53:EE53) -> 40.911695 | CL52: ± | CM52: =(_xlfn.STDEV.S('Single data'!EA53:EE53)/SQRT(5)) -> 10.488025 | CN52: =AVERAGE('Single data'!EF53:EJ53) -> 40.176952 | CO52: ± | CP52: =_xlfn.STDEV.S('Single data'!EF53:EJ53)/SQRT(5) -> 11.113499 | CQ52: =AVERAGE('Single data'!EK53:EO53) -> 40.343888 | CR52: ± | CS52: =(_xlfn.STDEV.S('Single data'!EK53:EO53)/SQRT(5)) -> 6.8002288 | CT52: =AVERAGE('Single data'!EP53:ET53) -> 36.035503 | CU52: ± | CV52: =_xlfn.STDEV.S('Single data'!EP53:ET53)/SQRT(5) -> 7.116066 | CW52: =AVERAGE('Single data'!EU53:EY53) -> 50.429915 | CX52: ± | CY52: =(_xlfn.STDEV.S('Single data'!EU53:EY53)/SQRT(5)) -> 18.051791 | CZ52: =AVERAGE('Single data'!EZ53:FD53) -> 35.703535 | DA52: ± | DB52: =_xlfn.STDEV.S('Single data'!EZ53:FD53)/SQRT(5) -> 6.3597363
B53: ALOX5 | C53: et + t-LTB4 | D53: =AVERAGE('Single data'!D54:H54) -> 100 | E53: ± | F53: =(_xlfn.STDEV.S('Single data'!D54:H54)/SQRT(5)) -> 0 | G53: =AVERAGE('Single data'!I54:L54) -> 151.01215 | H53: ± | I53: =(_xlfn.STDEV.S('Single data'!I54:L54)/SQRT(4)) -> 48.64908 | J53: =AVERAGE('Single data'!M54:P54) -> 71.986167 | K53: ± | L53: =(_xlfn.STDEV.S('Single data'!M54:P54)/SQRT(4)) -> 4.4979724 | M53: =AVERAGE('Single data'!Q54:T54) -> 105.38363 | N53: ± | O53: =(_xlfn.STDEV.S('Single data'!Q54:T54)/SQRT(4)) -> 26.414718 | P53: =AVERAGE('Single data'!U54:X54) -> 100.64375 | Q53: ± | R53: =_xlfn.STDEV.S('Single data'!U54:X54)/SQRT(4) -> 20.642134 | S53: =AVERAGE('Single data'!Y54:AB54) -> 63.675389 | T53: ± | U53: =(_xlfn.STDEV.S('Single data'!Y54:AB54)/SQRT(4)) -> 19.570217 | V53: =AVERAGE('Single data'!AC54:AF54) -> 67.787178 | W53: ± | X53: =(_xlfn.STDEV.S('Single data'!AC54:AF54)/SQRT(4)) -> 19.196849 | Y53: =AVERAGE('Single data'!AG54:AJ54) -> 167.50164 | Z53: ± | AA53: =(_xlfn.STDEV.S('Single data'!AG54:AJ54)/SQRT(4)) -> 79.801183 | AB53: =AVERAGE('Single data'!AK54:AN54) -> 246.5733 | AC53: ± | AD53: =(_xlfn.STDEV.S('Single data'!AK54:AN54)/SQRT(3)) -> 28.601433 | AE53: =AVERAGE('Single data'!AO54:AR54) -> 140.89134 | AF53: ± | AG53: =(_xlfn.STDEV.S('Single data'!AO54:AR54)/SQRT(4)) -> 49.378614 | AH53: =AVERAGE('Single data'!AS54:AV54) -> 78.646494 | AI53: ± | AJ53: =_xlfn.STDEV.S('Single data'!AS54:AV54)/SQRT(4) -> 29.946373 | AK53: =AVERAGE('Single data'!AW54:AZ54) -> 59.636078 | AL53: ± | AM53: =(_xlfn.STDEV.S('Single data'!AW54:AZ54)/SQRT(4)) -> 24.414861 | AN53: =AVERAGE('Single data'!BA54:BD54) -> 86.02194 | AO53: ± | AP53: =_xlfn.STDEV.S('Single data'!BA54:BD54)/SQRT(4) -> 8.1058197 | AQ53: =AVERAGE('Single data'!BE54:BH54) -> 80.689347 | AR53: ± | AS53: =(_xlfn.STDEV.S('Single data'!BE54:BH54)/SQRT(4)) -> 18.243082 | AT53: =AVERAGE('Single data'!BI54:BL54) -> 161.84928 | AU53: ± | AV53: =_xlfn.STDEV.S('Single data'!BI54:BL54)/SQRT(4) -> 33.688277 | AW53: =AVERAGE('Single data'!BM54:BP54) -> 56.325036 | AX53: ± | AY53: =(_xlfn.STDEV.S('Single data'!BM54:BP54)/SQRT(3)) -> 5.9076444 | AZ53: =AVERAGE('Single data'!BQ54:BT54) -> 75.269397 | BA53: ± | BB53: =_xlfn.STDEV.S('Single data'!BQ54:BT54)/SQRT(4) -> 14.719713 | BD53: =AVERAGE('Single data'!BV54:CB54) -> 100 | BE53: ± | BF53: =(_xlfn.STDEV.S('Single data'!BV54:CB54)/SQRT(7)) -> 0 | BG53: =AVERAGE('Single data'!CC54:CG54) -> 75.071274 | BH53: ± | BI53: =(_xlfn.STDEV.S('Single data'!CC54:CG54)/SQRT(5)) -> 10.255836 | BJ53: =AVERAGE('Single data'!CH54:CL54) -> 38.085285 | BK53: ± | BL53: =(_xlfn.STDEV.S('Single data'!CH54:CL54)/SQRT(5)) -> 4.720023 | BM53: =AVERAGE('Single data'!CM54:CQ54) -> 49.788506 | BN53: ± | BO53: =(_xlfn.STDEV.S('Single data'!CM54:CQ54)/SQRT(5)) -> 5.311527 | BP53: =AVERAGE('Single data'!CR54:CV54) -> 3.8970453 | BQ53: ± | BR53: =_xlfn.STDEV.S('Single data'!CR54:CV54)/SQRT(5) -> 1.0362404 | BS53: =AVERAGE('Single data'!CW54:DA54) -> 77.986178 | BT53: ± | BU53: =(_xlfn.STDEV.S('Single data'!CW54:DA54)/SQRT(5)) -> 7.3646701 | BV53: =AVERAGE('Single data'!DB54:DF54) -> 15.784971 | BW53: ± | BX53: =(_xlfn.STDEV.S('Single data'!DB54:DF54)/SQRT(5)) -> 4.4154813 | BY53: =AVERAGE('Single data'!DG54:DK54) -> 58.702721 | BZ53: ± | CA53: =(_xlfn.STDEV.S('Single data'!DG54:DK54)/SQRT(5)) -> 6.5072498 | CB53: =AVERAGE('Single data'!DL54:DP54) -> 8.2088021 | CC53: ± | CD53: =(_xlfn.STDEV.S('Single data'!DL54:DP54)/SQRT(5)) -> 3.3167459 | CE53: =AVERAGE('Single data'!DQ54:DU54) -> 51.691199 | CF53: ± | CG53: =(_xlfn.STDEV.S('Single data'!DQ54:DU54)/SQRT(5)) -> 15.24082 | CH53: =AVERAGE('Single data'!DV54:DZ54) -> 7.9527371 | CI53: ± | CJ53: =_xlfn.STDEV.S('Single data'!DV54:DZ54)/SQRT(5) -> 4.1466562 | CK53: =AVERAGE('Single data'!EA54:EE54) -> 57.024094 | CL53: ± | CM53: =(_xlfn.STDEV.S('Single data'!EA54:EE54)/SQRT(5)) -> 11.287784 | CN53: =AVERAGE('Single data'!EF54:EJ54) -> 26.088689 | CO53: ± | CP53: =_xlfn.STDEV.S('Single data'!EF54:EJ54)/SQRT(5) -> 13.155881 | CQ53: =AVERAGE('Single data'!EK54:EO54) -> 53.515886 | CR53: ± | CS53: =(_xlfn.STDEV.S('Single data'!EK54:EO54)/SQRT(5)) -> 8.967303 | CT53: =AVERAGE('Single data'!EP54:ET54) -> 28.217759 | CU53: ± | CV53: =_xlfn.STDEV.S('Single data'!EP54:ET54)/SQRT(5) -> 9.4474642 | CW53: =AVERAGE('Single data'!EU54:EY54) -> 68.792537 | CX53: ± | CY53: =(_xlfn.STDEV.S('Single data'!EU54:EY54)/SQRT(5)) -> 13.161223 | CZ53: =AVERAGE('Single data'!EZ54:FD54) -> 28.23869 | DA53: ± | DB53: =_xlfn.STDEV.S('Single data'!EZ54:FD54)/SQRT(5) -> 2.4892204
C54: LTB4 | D54: =AVERAGE('Single data'!D55:H55) -> 100 | E54: ± | F54: =(_xlfn.STDEV.S('Single data'!D55:H55)/SQRT(5)) -> 0 | G54: =AVERAGE('Single data'!I55:L55) -> 463.96744 | H54: ± | I54: =(_xlfn.STDEV.S('Single data'!I55:L55)/SQRT(4)) -> 356.89477 | J54: =AVERAGE('Single data'!M55:P55) -> 411.8404 | K54: ± | L54: =(_xlfn.STDEV.S('Single data'!M55:P55)/SQRT(4)) -> 246.55712 | M54: =AVERAGE('Single data'!Q55:T55) -> 162.83547 | N54: ± | O54: =(_xlfn.STDEV.S('Single data'!Q55:T55)/SQRT(4)) -> 45.264227 | P54: =AVERAGE('Single data'!U55:X55) -> 299.72811 | Q54: ± | R54: =_xlfn.STDEV.S('Single data'!U55:X55)/SQRT(4) -> 159.45864 | S54: =AVERAGE('Single data'!Y55:AB55) -> 83.533319 | T54: ± | U54: =(_xlfn.STDEV.S('Single data'!Y55:AB55)/SQRT(4)) -> 9.1661713 | V54: =AVERAGE('Single data'!AC55:AF55) -> 118.63749 | W54: ± | X54: =(_xlfn.STDEV.S('Single data'!AC55:AF55)/SQRT(4)) -> 56.021137 | Y54: =AVERAGE('Single data'!AG55:AJ55) -> 1537.5645 | Z54: ± | AA54: =(_xlfn.STDEV.S('Single data'!AG55:AJ55)/SQRT(4)) -> 1160.4838 | AB54: =AVERAGE('Single data'!AK55:AN55) -> 1370.3388 | AC54: ± | AD54: =(_xlfn.STDEV.S('Single data'!AK55:AN55)/SQRT(3)) -> 633.13743 | AE54: =AVERAGE('Single data'!AO55:AR55) -> 522.06446 | AF54: ± | AG54: =(_xlfn.STDEV.S('Single data'!AO55:AR55)/SQRT(4)) -> 341.58026 | AH54: =AVERAGE('Single data'!AS55:AV55) -> 185.19004 | AI54: ± | AJ54: =_xlfn.STDEV.S('Single data'!AS55:AV55)/SQRT(4) -> 66.398438 | AK54: =AVERAGE('Single data'!AW55:AZ55) -> 74.940515 | AL54: ± | AM54: =(_xlfn.STDEV.S('Single data'!AW55:AZ55)/SQRT(4)) -> 15.768406 | AN54: =AVERAGE('Single data'!BA55:BD55) -> 259.79434 | AO54: ± | AP54: =_xlfn.STDEV.S('Single data'!BA55:BD55)/SQRT(4) -> 64.782111 | AQ54: =AVERAGE('Single data'!BE55:BH55) -> 55.307914 | AR54: ± | AS54: =(_xlfn.STDEV.S('Single data'!BE55:BH55)/SQRT(4)) -> 13.892406 | AT54: =AVERAGE('Single data'!BI55:BL55) -> 421.21924 | AU54: ± | AV54: =_xlfn.STDEV.S('Single data'!BI55:BL55)/SQRT(4) -> 242.92534 | AW54: =AVERAGE('Single data'!BM55:BP55) -> 49.431839 | AX54: ± | AY54: =(_xlfn.STDEV.S('Single data'!BM55:BP55)/SQRT(3)) -> 22.397031 | AZ54: =AVERAGE('Single data'!BQ55:BT55) -> 69.46025 | BA54: ± | BB54: =_xlfn.STDEV.S('Single data'!BQ55:BT55)/SQRT(4) -> 38.187097 | BD54: =AVERAGE('Single data'!BV55:CB55) -> 100 | BE54: ± | BF54: =(_xlfn.STDEV.S('Single data'!BV55:CB55)/SQRT(7)) -> 0 | BG54: =AVERAGE('Single data'!CC55:CG55) -> 90.245102 | BH54: ± | BI54: =(_xlfn.STDEV.S('Single data'!CC55:CG55)/SQRT(5)) -> 7.3523666 | BJ54: =AVERAGE('Single data'!CH55:CL55) -> 55.396673 | BK54: ± | BL54: =(_xlfn.STDEV.S('Single data'!CH55:CL55)/SQRT(5)) -> 3.6134532 | BM54: =AVERAGE('Single data'!CM55:CQ55) -> 52.651092 | BN54: ± | BO54: =(_xlfn.STDEV.S('Single data'!CM55:CQ55)/SQRT(5)) -> 4.6702865 | BP54: =AVERAGE('Single data'!CR55:CV55) -> 2.8131674 | BQ54: ± | BR54: =_xlfn.STDEV.S('Single data'!CR55:CV55)/SQRT(5) -> 1.1369941 | BS54: =AVERAGE('Single data'!CW55:DA55) -> 90.200147 | BT54: ± | BU54: =(_xlfn.STDEV.S('Single data'!CW55:DA55)/SQRT(5)) -> 9.1206102 | BV54: =AVERAGE('Single data'!DB55:DF55) -> 19.707261 | BW54: ± | BX54: =(_xlfn.STDEV.S('Single data'!DB55:DF55)/SQRT(5)) -> 4.3047156 | BY54: =AVERAGE('Single data'!DG55:DK55) -> 87.073668 | BZ54: ± | CA54: =(_xlfn.STDEV.S('Single data'!DG55:DK55)/SQRT(5)) -> 6.2867452 | CB54: =AVERAGE('Single data'!DL55:DP55) -> 9.4304802 | CC54: ± | CD54: =(_xlfn.STDEV.S('Single data'!DL55:DP55)/SQRT(5)) -> 5.08191 | CE54: =AVERAGE('Single data'!DQ55:DU55) -> 69.169462 | CF54: ± | CG54: =(_xlfn.STDEV.S('Single data'!DQ55:DU55)/SQRT(5)) -> 17.66891 | CH54: =AVERAGE('Single data'!DV55:DZ55) -> 17.128315 | CI54: ± | CJ54: =_xlfn.STDEV.S('Single data'!DV55:DZ55)/SQRT(5) -> 10.616508 | CK54: =AVERAGE('Single data'!EA55:EE55) -> 67.272351 | CL54: ± | CM54: =(_xlfn.STDEV.S('Single data'!EA55:EE55)/SQRT(5)) -> 10.902425 | CN54: =AVERAGE('Single data'!EF55:EJ55) -> 42.43316 | CO54: ± | CP54: =_xlfn.STDEV.S('Single data'!EF55:EJ55)/SQRT(5) -> 26.176338 | CQ54: =AVERAGE('Single data'!EK55:EO55) -> 67.18825 | CR54: ± | CS54: =(_xlfn.STDEV.S('Single data'!EK55:EO55)/SQRT(5)) -> 10.385959 | CT54: =AVERAGE('Single data'!EP55:ET55) -> 32.978172 | CU54: ± | CV54: =_xlfn.STDEV.S('Single data'!EP55:ET55)/SQRT(5) -> 10.67584 | CW54: =AVERAGE('Single data'!EU55:EY55) -> 77.734504 | CX54: ± | CY54: =(_xlfn.STDEV.S('Single data'!EU55:EY55)/SQRT(5)) -> 12.248194 | CZ54: =AVERAGE('Single data'!EZ55:FD55) -> 32.517994 | DA54: ± | DB54: =_xlfn.STDEV.S('Single data'!EZ55:FD55)/SQRT(5) -> 1.9667304
C55: 5-HEPE | D55: =AVERAGE('Single data'!D56:H56) -> 100 | E55: ± | F55: =(_xlfn.STDEV.S('Single data'!D56:H56)/SQRT(5)) -> 0 | G55: =AVERAGE('Single data'!I56:L56) -> 70.24793 | H55: ± | I55: =(_xlfn.STDEV.S('Single data'!I56:L56)/SQRT(4)) -> 22.920501 | J55: =AVERAGE('Single data'!M56:P56) -> 45.772614 | K55: ± | L55: =(_xlfn.STDEV.S('Single data'!M56:P56)/SQRT(4)) -> 7.641921 | M55: =AVERAGE('Single data'!Q56:T56) -> 141.86081 | N55: ± | O55: =(_xlfn.STDEV.S('Single data'!Q56:T56)/SQRT(4)) -> 74.712206 | P55: =AVERAGE('Single data'!U56:X56) -> 242.60665 | Q55: ± | R55: =_xlfn.STDEV.S('Single data'!U56:X56)/SQRT(4) -> 76.134976 | S55: =AVERAGE('Single data'!Y56:AB56) -> 177.8886 | T55: ± | U55: =(_xlfn.STDEV.S('Single data'!Y56:AB56)/SQRT(4)) -> 108.4062 | V55: =AVERAGE('Single data'!AC56:AF56) -> 92.386937 | W55: ± | X55: =(_xlfn.STDEV.S('Single data'!AC56:AF56)/SQRT(4)) -> 26.015134 | Y55: =AVERAGE('Single data'!AG56:AJ56) -> 75.889297 | Z55: ± | AA55: =(_xlfn.STDEV.S('Single data'!AG56:AJ56)/SQRT(4)) -> 11.86476 | AB55: =AVERAGE('Single data'!AK56:AN56) -> 111.98006 | AC55: ± | AD55: =(_xlfn.STDEV.S('Single data'!AK56:AN56)/SQRT(3)) -> 3.6776844 | AE55: =AVERAGE('Single data'!AO56:AR56) -> 68.027621 | AF55: ± | AG55: =(_xlfn.STDEV.S('Single data'!AO56:AR56)/SQRT(4)) -> 8.0056203 | AH55: =AVERAGE('Single data'!AS56:AV56) -> 97.59016 | AI55: ± | AJ55: =_xlfn.STDEV.S('Single data'!AS56:AV56)/SQRT(4) -> 48.191913 | AK55: =AVERAGE('Single data'!AW56:AZ56) -> 31.811436 | AL55: ± | AM55: =(_xlfn.STDEV.S('Single data'!AW56:AZ56)/SQRT(4)) -> 9.9136155 | AN55: =AVERAGE('Single data'!BA56:BD56) -> 55.746726 | AO55: ± | AP55: =_xlfn.STDEV.S('Single data'!BA56:BD56)/SQRT(4) -> 11.815836 | AQ55: =AVERAGE('Single data'!BE56:BH56) -> 530.58573 | AR55: ± | AS55: =(_xlfn.STDEV.S('Single data'!BE56:BH56)/SQRT(4)) -> 393.59211 | AT55: =AVERAGE('Single data'!BI56:BL56) -> 146.84584 | AU55: ± | AV55: =_xlfn.STDEV.S('Single data'!BI56:BL56)/SQRT(4) -> 69.837726 | AW55: =AVERAGE('Single data'!BM56:BP56) -> 84.709446 | AX55: ± | AY55: =(_xlfn.STDEV.S('Single data'!BM56:BP56)/SQRT(3)) -> 44.220228 | AZ55: =AVERAGE('Single data'!BQ56:BT56) -> 126.69339 | BA55: ± | BB55: =_xlfn.STDEV.S('Single data'!BQ56:BT56)/SQRT(4) -> 46.06071 | BD55: =AVERAGE('Single data'!BV56:CB56) -> 100 | BE55: ± | BF55: =(_xlfn.STDEV.S('Single data'!BV56:CB56)/SQRT(7)) -> 0 | BG55: =AVERAGE('Single data'!CC56:CG56) -> 81.392391 | BH55: ± | BI55: =(_xlfn.STDEV.S('Single data'!CC56:CG56)/SQRT(5)) -> 12.01494 | BJ55: =AVERAGE('Single data'!CH56:CL56) -> 35.983219 | BK55: ± | BL55: =(_xlfn.STDEV.S('Single data'!CH56:CL56)/SQRT(5)) -> 3.3676893 | BM55: =AVERAGE('Single data'!CM56:CQ56) -> 38.249362 | BN55: ± | BO55: =(_xlfn.STDEV.S('Single data'!CM56:CQ56)/SQRT(5)) -> 5.2308251 | BP55: =AVERAGE('Single data'!CR56:CV56) -> 6.8267902 | BQ55: ± | BR55: =_xlfn.STDEV.S('Single data'!CR56:CV56)/SQRT(5) -> 1.3480345 | BS55: =AVERAGE('Single data'!CW56:DA56) -> 58.143954 | BT55: ± | BU55: =(_xlfn.STDEV.S('Single data'!CW56:DA56)/SQRT(5)) -> 8.1728687 | BV55: =AVERAGE('Single data'!DB56:DF56) -> 11.512066 | BW55: ± | BX55: =(_xlfn.STDEV.S('Single data'!DB56:DF56)/SQRT(5)) -> 2.3376586 | BY55: =AVERAGE('Single data'!DG56:DK56) -> 64.335229 | BZ55: ± | CA55: =(_xlfn.STDEV.S('Single data'!DG56:DK56)/SQRT(5)) -> 5.8946962 | CB55: =AVERAGE('Single data'!DL56:DP56) -> 11.107296 | CC55: ± | CD55: =(_xlfn.STDEV.S('Single data'!DL56:DP56)/SQRT(5)) -> 2.8216081 | CE55: =AVERAGE('Single data'!DQ56:DU56) -> 42.909432 | CF55: ± | CG55: =(_xlfn.STDEV.S('Single data'!DQ56:DU56)/SQRT(5)) -> 12.338742 | CH55: =AVERAGE('Single data'!DV56:DZ56) -> 16.063277 | CI55: ± | CJ55: =_xlfn.STDEV.S('Single data'!DV56:DZ56)/SQRT(5) -> 7.7026076 | CK55: =AVERAGE('Single data'!EA56:EE56) -> 39.976668 | CL55: ± | CM55: =(_xlfn.STDEV.S('Single data'!EA56:EE56)/SQRT(5)) -> 8.4697855 | CN55: =AVERAGE('Single data'!EF56:EJ56) -> 27.301914 | CO55: ± | CP55: =_xlfn.STDEV.S('Single data'!EF56:EJ56)/SQRT(5) -> 15.361016 | CQ55: =AVERAGE('Single data'!EK56:EO56) -> 52.784635 | CR55: ± | CS55: =(_xlfn.STDEV.S('Single data'!EK56:EO56)/SQRT(5)) -> 10.743436 | CT55: =AVERAGE('Single data'!EP56:ET56) -> 24.402303 | CU55: ± | CV55: =_xlfn.STDEV.S('Single data'!EP56:ET56)/SQRT(5) -> 4.4843587 | CW55: =AVERAGE('Single data'!EU56:EY56) -> 61.621869 | CX55: ± | CY55: =(_xlfn.STDEV.S('Single data'!EU56:EY56)/SQRT(5)) -> 19.008954 | CZ55: =AVERAGE('Single data'!EZ56:FD56) -> 22.552421 | DA55: ± | DB55: =_xlfn.STDEV.S('Single data'!EZ56:FD56)/SQRT(5) -> 3.8534112
C56: 5-HETE | D56: =AVERAGE('Single data'!D57:H57) -> 100 | E56: ± | F56: =(_xlfn.STDEV.S('Single data'!D57:H57)/SQRT(5)) -> 0 | G56: =AVERAGE('Single data'!I57:L57) -> 91.130621 | H56: ± | I56: =(_xlfn.STDEV.S('Single data'!I57:L57)/SQRT(4)) -> 11.028638 | J56: =AVERAGE('Single data'!M57:P57) -> 82.157197 | K56: ± | L56: =(_xlfn.STDEV.S('Single data'!M57:P57)/SQRT(4)) -> 17.177725 | M56: =AVERAGE('Single data'!Q57:T57) -> 88.623253 | N56: ± | O56: =(_xlfn.STDEV.S('Single data'!Q57:T57)/SQRT(4)) -> 19.544953 | P56: =AVERAGE('Single data'!U57:X57) -> 186.58671 | Q56: ± | R56: =_xlfn.STDEV.S('Single data'!U57:X57)/SQRT(4) -> 19.393944 | S56: =AVERAGE('Single data'!Y57:AB57) -> 75.260152 | T56: ± | U56: =(_xlfn.STDEV.S('Single data'!Y57:AB57)/SQRT(4)) -> 21.418456 | V56: =AVERAGE('Single data'!AC57:AF57) -> 85.833315 | W56: ± | X56: =(_xlfn.STDEV.S('Single data'!AC57:AF57)/SQRT(4)) -> 13.656284 | Y56: =AVERAGE('Single data'!AG57:AJ57) -> 88.281867 | Z56: ± | AA56: =(_xlfn.STDEV.S('Single data'!AG57:AJ57)/SQRT(4)) -> 22.056925 | AB56: =AVERAGE('Single data'!AK57:AN57) -> 173.88838 | AC56: ± | AD56: =(_xlfn.STDEV.S('Single data'!AK57:AN57)/SQRT(3)) -> 52.966331 | AE56: =AVERAGE('Single data'!AO57:AR57) -> 218.8278 | AF56: ± | AG56: =(_xlfn.STDEV.S('Single data'!AO57:AR57)/SQRT(4)) -> 91.095235 | AH56: =AVERAGE('Single data'!AS57:AV57) -> 155.82414 | AI56: ± | AJ56: =_xlfn.STDEV.S('Single data'!AS57:AV57)/SQRT(4) -> 31.775823 | AK56: =AVERAGE('Single data'!AW57:AZ57) -> 84.683474 | AL56: ± | AM56: =(_xlfn.STDEV.S('Single data'!AW57:AZ57)/SQRT(4)) -> 18.096039 | AN56: =AVERAGE('Single data'!BA57:BD57) -> 83.357897 | AO56: ± | AP56: =_xlfn.STDEV.S('Single data'!BA57:BD57)/SQRT(4) -> 17.533724 | AQ56: =AVERAGE('Single data'!BE57:BH57) -> 60.718087 | AR56: ± | AS56: =(_xlfn.STDEV.S('Single data'!BE57:BH57)/SQRT(4)) -> 8.0108111 | AT56: =AVERAGE('Single data'!BI57:BL57) -> 223.69741 | AU56: ± | AV56: =_xlfn.STDEV.S('Single data'!BI57:BL57)/SQRT(4) -> 81.697935 | AW56: =AVERAGE('Single data'!BM57:BP57) -> 60.563639 | AX56: ± | AY56: =(_xlfn.STDEV.S('Single data'!BM57:BP57)/SQRT(3)) -> 23.409553 | AZ56: =AVERAGE('Single data'!BQ57:BT57) -> 99.465525 | BA56: ± | BB56: =_xlfn.STDEV.S('Single data'!BQ57:BT57)/SQRT(4) -> 43.325833 | BD56: =AVERAGE('Single data'!BV57:CB57) -> 100 | BE56: ± | BF56: =(_xlfn.STDEV.S('Single data'!BV57:CB57)/SQRT(7)) -> 0 | BG56: =AVERAGE('Single data'!CC57:CG57) -> 68.867231 | BH56: ± | BI56: =(_xlfn.STDEV.S('Single data'!CC57:CG57)/SQRT(5)) -> 4.8898321 | BJ56: =AVERAGE('Single data'!CH57:CL57) -> 32.385793 | BK56: ± | BL56: =(_xlfn.STDEV.S('Single data'!CH57:CL57)/SQRT(5)) -> 3.4736488 | BM56: =AVERAGE('Single data'!CM57:CQ57) -> 34.328368 | BN56: ± | BO56: =(_xlfn.STDEV.S('Single data'!CM57:CQ57)/SQRT(5)) -> 1.9055312 | BP56: =AVERAGE('Single data'!CR57:CV57) -> 3.3320957 | BQ56: ± | BR56: =_xlfn.STDEV.S('Single data'!CR57:CV57)/SQRT(5) -> 0.60506609 | BS56: =AVERAGE('Single data'!CW57:DA57) -> 64.328533 | BT56: ± | BU56: =(_xlfn.STDEV.S('Single data'!CW57:DA57)/SQRT(5)) -> 8.1038914 | BV56: =AVERAGE('Single data'!DB57:DF57) -> 11.252667 | BW56: ± | BX56: =(_xlfn.STDEV.S('Single data'!DB57:DF57)/SQRT(5)) -> 2.7248856 | BY56: =AVERAGE('Single data'!DG57:DK57) -> 66.031363 | BZ56: ± | CA56: =(_xlfn.STDEV.S('Single data'!DG57:DK57)/SQRT(5)) -> 7.656204 | CB56: =AVERAGE('Single data'!DL57:DP57) -> 6.6637605 | CC56: ± | CD56: =(_xlfn.STDEV.S('Single data'!DL57:DP57)/SQRT(5)) -> 2.3680233 | CE56: =AVERAGE('Single data'!DQ57:DU57) -> 49.721841 | CF56: ± | CG56: =(_xlfn.STDEV.S('Single data'!DQ57:DU57)/SQRT(5)) -> 12.96772 | CH56: =AVERAGE('Single data'!DV57:DZ57) -> 11.09222 | CI56: ± | CJ56: =_xlfn.STDEV.S('Single data'!DV57:DZ57)/SQRT(5) -> 6.3757984 | CK56: =AVERAGE('Single data'!EA57:EE57) -> 44.943029 | CL56: ± | CM56: =(_xlfn.STDEV.S('Single data'!EA57:EE57)/SQRT(5)) -> 8.4711263 | CN56: =AVERAGE('Single data'!EF57:EJ57) -> 27.801216 | CO56: ± | CP56: =_xlfn.STDEV.S('Single data'!EF57:EJ57)/SQRT(5) -> 18.832238 | CQ56: =AVERAGE('Single data'!EK57:EO57) -> 50.829671 | CR56: ± | CS56: =(_xlfn.STDEV.S('Single data'!EK57:EO57)/SQRT(5)) -> 10.092061 | CT56: =AVERAGE('Single data'!EP57:ET57) -> 23.200202 | CU56: ± | CV56: =_xlfn.STDEV.S('Single data'!EP57:ET57)/SQRT(5) -> 5.7780023 | CW56: =AVERAGE('Single data'!EU57:EY57) -> 67.650889 | CX56: ± | CY56: =(_xlfn.STDEV.S('Single data'!EU57:EY57)/SQRT(5)) -> 18.286128 | CZ56: =AVERAGE('Single data'!EZ57:FD57) -> 21.011962 | DA56: ± | DB56: =_xlfn.STDEV.S('Single data'!EZ57:FD57)/SQRT(5) -> 2.8070526
