Workbook

Sheet Mean + S.E.M.
A1: Table S5 Effect of LCMs on the lipid mediator profile of SACM-challenged and unchallenged M1 macrophages
C4: compound | D4: vehicle (0.1% DMSO) | G4: 1 | M4: 2 | S4: 3 | Y4: 4 | AE4: 5 | AK4: 6 | AQ4: 7 | AW4: 8 | BD4: vehicle (0.1% DMSO) | BG4: 1 | BM4: 2 | BS4: 3 | BY4: 4 | CE4: 5 | CK4: 6 | CQ4: 7 | CW4: 8
C5: conc [µM] | G5: 0.3 | J5: 3 | M5: 0.3 | P5: 3 | S5: 0.3 | V5: 3 | Y5: 0.3 | AB5: 3 | AE5: 0.3 | AH5: 3 | AK5: 0.3 | AN5: 3 | AQ5: 0.3 | AT5: 3 | AW5: 0.3 | AZ5: 3 | BG5: 0.3 | BJ5: 3 | BM5: 0.3 | BP5: 3 | BS5: 0.3 | BV5: 3 | BY5: 0.3 | CB5: 3 | CE5: 0.3 | CH5: 3 | CK5: 0.3 | CN5: 3 | CQ5: 0.3 | CT5: 3 | CW5: 0.3 | CZ5: 3
C6: stimulation | D6: unstim. | F6: unstim. | G6: unstim. | I6: unstim. | J6: unstim. | L6: unstim. | M6: unstim. | O6: unstim. | P6: unstim. | R6: unstim. | S6: unstim. | U6: unstim. | V6: unstim. | X6: unstim. | Y6: unstim. | AA6: unstim. | AB6: unstim. | AD6: unstim. | AE6: unstim. | AG6: unstim. | AH6: unstim. | AJ6: unstim. | AK6: unstim. | AM6: unstim. | AN6: unstim. | AP6: unstim. | AQ6: unstim. | AS6: unstim. | AT6: unstim. | AV6: unstim. | AW6: unstim. | AY6: unstim. | AZ6: unstim. | BB6: unstim. | BD6: SACM | BF6: SACM | BG6: SACM | BI6: SACM | BJ6: SACM | BL6: SACM | BM6: SACM | BO6: SACM | BP6: SACM | BR6: SACM | BS6: SACM | BU6: SACM | BV6: SACM | BX6: SACM | BY6: SACM | CA6: SACM | CB6: SACM | CD6: SACM | CE6: SACM | CG6: SACM | CH6: SACM | CJ6: SACM | CK6: SACM | CM6: SACM | CN6: SACM | CP6: SACM | CQ6: SACM | CS6: SACM | CT6: SACM | CV6: SACM | CW6: SACM | CY6: SACM | CZ6: SACM | DB6: SACM
D7: mean | E7: ± | F7: S.E.M. | G7: mean | H7: ± | I7: S.E.M. | J7: mean | K7: ± | L7: S.E.M. | M7: mean | N7: ± | O7: S.E.M. | P7: mean | Q7: ± | R7: S.E.M. | S7: mean | T7: ± | U7: S.E.M. | V7: mean | W7: ± | X7: S.E.M. | Y7: mean | Z7: ± | AA7: S.E.M. | AB7: mean | AC7: ± | AD7: S.E.M. | AE7: mean | AF7: ± | AG7: S.E.M. | AH7: mean | AI7: ± | AJ7: S.E.M. | AK7: mean | AL7: ± | AM7: S.E.M. | AN7: mean | AO7: ± | AP7: S.E.M. | AQ7: mean | AR7: ± | AS7: S.E.M. | AT7: mean | AU7: ± | AV7: S.E.M. | AW7: mean | AX7: ± | AY7: S.E.M. | AZ7: mean | BA7: ± | BB7: S.E.M. | BD7: mean | BE7: ± | BF7: S.E.M. | BG7: mean | BH7: ± | BI7: S.E.M. | BJ7: mean | BK7: ± | BL7: S.E.M. | BM7: mean | BN7: ± | BO7: S.E.M. | BP7: mean | BQ7: ± | BR7: S.E.M. | BS7: mean | BT7: ± | BU7: S.E.M. | BV7: mean | BW7: ± | BX7: S.E.M. | BY7: mean | BZ7: ± | CA7: S.E.M. | CB7: mean | CC7: ± | CD7: S.E.M. | CE7: mean | CF7: ± | CG7: S.E.M. | CH7: mean | CI7: ± | CJ7: S.E.M. | CK7: mean | CL7: ± | CM7: S.E.M. | CN7: mean | CO7: ± | CP7: S.E.M. | CQ7: mean | CR7: ± | CS7: S.E.M. | CT7: mean | CU7: ± | CV7: S.E.M. | CW7: mean | CX7: ± | CY7: S.E.M. | CZ7: mean | DA7: ± | DB7: S.E.M.
A8: pg per 2 * 106 cells | B8: SPM precursor | C8: 17-HDHA | D8: =AVERAGE('Single data'!D9:H9) -> 7.0538702 | E8: ± | F8: =(_xlfn.STDEV.S('Single data'!D9:H9)/SQRT(5)) -> 1.9614854 | G8: =AVERAGE('Single data'!I9:L9) -> 3.4226912 | H8: ± | I8: =(_xlfn.STDEV.S('Single data'!I9:L9)/SQRT(4)) -> 0.76167144 | J8: =AVERAGE('Single data'!M9:P9) -> 6.4549346 | K8: ± | L8: =(_xlfn.STDEV.S('Single data'!M9:P9)/SQRT(4)) -> 1.2361806 | M8: =AVERAGE('Single data'!Q9:T9) -> 4.1027629 | N8: ± | O8: =(_xlfn.STDEV.S('Single data'!Q9:T9)/SQRT(4)) -> 1.5099949 | P8: =AVERAGE('Single data'!U9:X9) -> 24.176457 | Q8: ± | R8: =_xlfn.STDEV.S('Single data'!U9:X9)/SQRT(4) -> 8.6390857 | S8: =AVERAGE('Single data'!Y9:AB9) -> 5.176213 | T8: ± | U8: =(_xlfn.STDEV.S('Single data'!Y9:AB9)/SQRT(4)) -> 0.88564639 | V8: =AVERAGE('Single data'!AC9:AF9) -> 16.443717 | W8: ± | X8: =(_xlfn.STDEV.S('Single data'!AC9:AF9)/SQRT(4)) -> 2.1701888 | Y8: =AVERAGE('Single data'!AG9:AJ9) -> 8.0673178 | Z8: ± | AA8: =(_xlfn.STDEV.S('Single data'!AG9:AJ9)/SQRT(4)) -> 3.262237 | AB8: =AVERAGE('Single data'!AK9:AN9) -> 60.446842 | AC8: ± | AD8: =(_xlfn.STDEV.S('Single data'!AK9:AN9)/SQRT(3)) -> 5.9032817 | AE8: =AVERAGE('Single data'!AO9:AR9) -> 5.0023631 | AF8: ± | AG8: =(_xlfn.STDEV.S('Single data'!AO9:AR9)/SQRT(4)) -> 1.2652156 | AH8: =AVERAGE('Single data'!AS9:AV9) -> 58.722108 | AI8: ± | AJ8: =_xlfn.STDEV.S('Single data'!AS9:AV9)/SQRT(4) -> 8.8803709 | AK8: =AVERAGE('Single data'!AW9:AZ9) -> 5.2950059 | AL8: ± | AM8: =(_xlfn.STDEV.S('Single data'!AW9:AZ9)/SQRT(4)) -> 0.88854924 | AN8: =AVERAGE('Single data'!BA9:BD9) -> 10.283763 | AO8: ± | AP8: =_xlfn.STDEV.S('Single data'!BA9:BD9)/SQRT(4) -> 1.7366327 | AQ8: =AVERAGE('Single data'!BE9:BH9) -> 5.6705543 | AR8: ± | AS8: =(_xlfn.STDEV.S('Single data'!BE9:BH9)/SQRT(4)) -> 1.4203677 | AT8: =AVERAGE('Single data'!BI9:BL9) -> 14.694369 | AU8: ± | AV8: =_xlfn.STDEV.S('Single data'!BI9:BL9)/SQRT(4) -> 5.0184855 | AW8: =AVERAGE('Single data'!BM9:BP9) -> 3.5698135 | AX8: ± | AY8: =(_xlfn.STDEV.S('Single data'!BM9:BP9)/SQRT(3)) -> 0.92592647 | AZ8: =AVERAGE('Single data'!BQ9:BT9) -> 11.709649 | BA8: ± | BB8: =_xlfn.STDEV.S('Single data'!BQ9:BT9)/SQRT(4) -> 5.7331254 | BD8: =AVERAGE('Single data'!BV9:CB9) -> 386.50729 | BE8: ± | BF8: =(_xlfn.STDEV.S('Single data'!BV9:CB9)/SQRT(7)) -> 99.472934 | BG8: =AVERAGE('Single data'!CC9:CG9) -> 242.52254 | BH8: ± | BI8: =(_xlfn.STDEV.S('Single data'!CC9:CG9)/SQRT(5)) -> 54.783163 | BJ8: =AVERAGE('Single data'!CH9:CL9) -> 253.13513 | BK8: ± | BL8: =(_xlfn.STDEV.S('Single data'!CH9:CL9)/SQRT(5)) -> 59.284421 | BM8: =AVERAGE('Single data'!CM9:CQ9) -> 163.4331 | BN8: ± | BO8: =(_xlfn.STDEV.S('Single data'!CM9:CQ9)/SQRT(5)) -> 38.319262 | BP8: =AVERAGE('Single data'!CR9:CV9) -> 164.51272 | BQ8: ± | BR8: =_xlfn.STDEV.S('Single data'!CR9:CV9)/SQRT(5) -> 32.989141 | BS8: =AVERAGE('Single data'!CW9:DA9) -> 178.46524 | BT8: ± | BU8: =(_xlfn.STDEV.S('Single data'!CW9:DA9)/SQRT(5)) -> 47.643327 | BV8: =AVERAGE('Single data'!DB9:DF9) -> 199.6415 | BW8: ± | BX8: =(_xlfn.STDEV.S('Single data'!DB9:DF9)/SQRT(5)) -> 43.398964 | BY8: =AVERAGE('Single data'!DG9:DK9) -> 306.02393 | BZ8: ± | CA8: =(_xlfn.STDEV.S('Single data'!DG9:DK9)/SQRT(5)) -> 110.67101 | CB8: =AVERAGE('Single data'!DL9:DP9) -> 496.29492 | CC8: ± | CD8: =(_xlfn.STDEV.S('Single data'!DL9:DP9)/SQRT(5)) -> 115.56346 | CE8: =AVERAGE('Single data'!DQ9:DU9) -> 267.45303 | CF8: ± | CG8: =(_xlfn.STDEV.S('Single data'!DQ9:DU9)/SQRT(5)) -> 67.46476 | CH8: =AVERAGE('Single data'!DV9:DZ9) -> 317.89855 | CI8: ± | CJ8: =_xlfn.STDEV.S('Single data'!DV9:DZ9)/SQRT(5) -> 110.09349 | CK8: =AVERAGE('Single data'!EA9:EE9) -> 150.10885 | CL8: ± | CM8: =(_xlfn.STDEV.S('Single data'!EA9:EE9)/SQRT(5)) -> 36.402081 | CN8: =AVERAGE('Single data'!EF9:EJ9) -> 165.05369 | CO8: ± | CP8: =_xlfn.STDEV.S('Single data'!EF9:EJ9)/SQRT(5) -> 41.505202 | CQ8: =AVERAGE('Single data'!EK9:EO9) -> 217.51934 | CR8: ± | CS8: =(_xlfn.STDEV.S('Single data'!EK9:EO9)/SQRT(5)) -> 69.142907 | CT8: =AVERAGE('Single data'!EP9:ET9) -> 171.98348 | CU8: ± | CV8: =_xlfn.STDEV.S('Single data'!EP9:ET9)/SQRT(5) -> 42.054405 | CW8: =AVERAGE('Single data'!EU9:EY9) -> 176.739 | CX8: ± | CY8: =(_xlfn.STDEV.S('Single data'!EU9:EY9)/SQRT(5)) -> 30.986426 | CZ8: =AVERAGE('Single data'!EZ9:FD9) -> 133.58937 | DA8: ± | DB8: =_xlfn.STDEV.S('Single data'!EZ9:FD9)/SQRT(5) -> 31.999303
C9: 17-HDPA | D9: =AVERAGE('Single data'!D10:H10) -> 9.5031345 | E9: ± | F9: =(_xlfn.STDEV.S('Single data'!D10:H10)/SQRT(5)) -> 1.3793301 | G9: =AVERAGE('Single data'!I10:L10) -> 5.7366812 | H9: ± | I9: =(_xlfn.STDEV.S('Single data'!I10:L10)/SQRT(4)) -> 1.6322714 | M9: =AVERAGE('Single data'!Q10:T10) -> 5.2840269 | N9: ± | O9: =(_xlfn.STDEV.S('Single data'!Q10:T10)/SQRT(4)) -> 1.0325538 | P9: =AVERAGE('Single data'!U10:X10) -> 30.312924 | Q9: ± | R9: =_xlfn.STDEV.S('Single data'!U10:X10)/SQRT(4) -> 6.4995528 | S9: =AVERAGE('Single data'!Y10:AB10) -> 9.7808982 | T9: ± | U9: =(_xlfn.STDEV.S('Single data'!Y10:AB10)/SQRT(4)) -> 1.725471 | V9: =AVERAGE('Single data'!AC10:AF10) -> 32.033209 | W9: ± | X9: =(_xlfn.STDEV.S('Single data'!AC10:AF10)/SQRT(4)) -> 5.1259681 | Y9: =AVERAGE('Single data'!AG10:AJ10) -> 21.323333 | Z9: ± | AA9: =(_xlfn.STDEV.S('Single data'!AG10:AJ10)/SQRT(4)) -> 7.2093074 | AB9: =AVERAGE('Single data'!AK10:AN10) -> 162.20391 | AC9: ± | AD9: =(_xlfn.STDEV.S('Single data'!AK10:AN10)/SQRT(3)) -> 38.287678 | AE9: =AVERAGE('Single data'!AO10:AR10) -> 5.0176988 | AF9: ± | AG9: =(_xlfn.STDEV.S('Single data'!AO10:AR10)/SQRT(4)) -> 0.76333639 | AH9: =AVERAGE('Single data'!AS10:AV10) -> 104.22025 | AI9: ± | AJ9: =_xlfn.STDEV.S('Single data'!AS10:AV10)/SQRT(4) -> 11.471278 | AK9: =AVERAGE('Single data'!AW10:AZ10) -> 7.7368475 | AL9: ± | AM9: =(_xlfn.STDEV.S('Single data'!AW10:AZ10)/SQRT(4)) -> 0.33340598 | AN9: =AVERAGE('Single data'!BA10:BD10) -> 27.560227 | AO9: ± | AP9: =_xlfn.STDEV.S('Single data'!BA10:BD10)/SQRT(4) -> 5.4139146 | AQ9: =AVERAGE('Single data'!BE10:BH10) -> 10.698589 | AR9: ± | AS9: =(_xlfn.STDEV.S('Single data'!BE10:BH10)/SQRT(4)) -> 2.9259676 | AT9: =AVERAGE('Single data'!BI10:BL10) -> 30.560305 | AU9: ± | AV9: =_xlfn.STDEV.S('Single data'!BI10:BL10)/SQRT(4) -> 9.8977638 | AW9: =AVERAGE('Single data'!BM10:BP10) -> 4.2430431 | AX9: ± | AY9: =(_xlfn.STDEV.S('Single data'!BM10:BP10)/SQRT(3)) -> 1.4222242 | AZ9: =AVERAGE('Single data'!BQ10:BT10) -> 15.954442 | BA9: ± | BB9: =_xlfn.STDEV.S('Single data'!BQ10:BT10)/SQRT(4) -> 5.5954313 | BD9: =AVERAGE('Single data'!BV10:CB10) -> 846.27325 | BE9: ± | BF9: =(_xlfn.STDEV.S('Single data'!BV10:CB10)/SQRT(7)) -> 215.49185 | BG9: =AVERAGE('Single data'!CC10:CG10) -> 556.74454 | BH9: ± | BI9: =(_xlfn.STDEV.S('Single data'!CC10:CG10)/SQRT(5)) -> 153.61677 | BJ9: =AVERAGE('Single data'!CH10:CL10) -> 607.24677 | BK9: ± | BL9: =(_xlfn.STDEV.S('Single data'!CH10:CL10)/SQRT(5)) -> 138.93231 | BM9: =AVERAGE('Single data'!CM10:CQ10) -> 385.13 | BN9: ± | BO9: =(_xlfn.STDEV.S('Single data'!CM10:CQ10)/SQRT(5)) -> 85.160412 | BP9: =AVERAGE('Single data'!CR10:CV10) -> 410.8959 | BQ9: ± | BR9: =_xlfn.STDEV.S('Single data'!CR10:CV10)/SQRT(5) -> 74.070302 | BS9: =AVERAGE('Single data'!CW10:DA10) -> 396.80679 | BT9: ± | BU9: =(_xlfn.STDEV.S('Single data'!CW10:DA10)/SQRT(5)) -> 94.000008 | BV9: =AVERAGE('Single data'!DB10:DF10) -> 481.01056 | BW9: ± | BX9: =(_xlfn.STDEV.S('Single data'!DB10:DF10)/SQRT(5)) -> 103.92703 | BY9: =AVERAGE('Single data'!DG10:DK10) -> 703.63279 | BZ9: ± | CA9: =(_xlfn.STDEV.S('Single data'!DG10:DK10)/SQRT(5)) -> 227.81955 | CB9: =AVERAGE('Single data'!DL10:DP10) -> 1287.9214 | CC9: ± | CD9: =(_xlfn.STDEV.S('Single data'!DL10:DP10)/SQRT(5)) -> 309.51671 | CE9: =AVERAGE('Single data'!DQ10:DU10) -> 590.04779 | CF9: ± | CG9: =(_xlfn.STDEV.S('Single data'!DQ10:DU10)/SQRT(5)) -> 143.21405 | CH9: =AVERAGE('Single data'!DV10:DZ10) -> 704.98187 | CI9: ± | CJ9: =_xlfn.STDEV.S('Single data'!DV10:DZ10)/SQRT(5) -> 225.66344 | CK9: =AVERAGE('Single data'!EA10:EE10) -> 362.70419 | CL9: ± | CM9: =(_xlfn.STDEV.S('Single data'!EA10:EE10)/SQRT(5)) -> 80.828292 | CN9: =AVERAGE('Single data'!EF10:EJ10) -> 387.17083 | CO9: ± | CP9: =_xlfn.STDEV.S('Single data'!EF10:EJ10)/SQRT(5) -> 94.355296 | CQ9: =AVERAGE('Single data'!EK10:EO10) -> 495.01023 | CR9: ± | CS9: =(_xlfn.STDEV.S('Single data'!EK10:EO10)/SQRT(5)) -> 154.27955 | CT9: =AVERAGE('Single data'!EP10:ET10) -> 359.86868 | CU9: ± | CV9: =_xlfn.STDEV.S('Single data'!EP10:ET10)/SQRT(5) -> 77.525042 | CW9: =AVERAGE('Single data'!EU10:EY10) -> 398.01328 | CX9: ± | CY9: =(_xlfn.STDEV.S('Single data'!EU10:EY10)/SQRT(5)) -> 65.982583 | CZ9: =AVERAGE('Single data'!EZ10:FD10) -> 329.79178 | DA9: ± | DB9: =_xlfn.STDEV.S('Single data'!EZ10:FD10)/SQRT(5) -> 75.104546
C10: 15-HETE | D10: =AVERAGE('Single data'!D11:H11) -> 13.573323 | E10: ± | F10: =(_xlfn.STDEV.S('Single data'!D11:H11)/SQRT(5)) -> 1.617385 | G10: =AVERAGE('Single data'!I11:L11) -> 8.979005 | H10: ± | I10: =(_xlfn.STDEV.S('Single data'!I11:L11)/SQRT(4)) -> 1.3796358 | M10: =AVERAGE('Single data'!Q11:T11) -> 10.193997 | N10: ± | O10: =(_xlfn.STDEV.S('Single data'!Q11:T11)/SQRT(4)) -> 1.6031981 | P10: =AVERAGE('Single data'!U11:X11) -> 85.061413 | Q10: ± | R10: =_xlfn.STDEV.S('Single data'!U11:X11)/SQRT(4) -> 42.241184 | S10: =AVERAGE('Single data'!Y11:AB11) -> 14.05967 | T10: ± | U10: =(_xlfn.STDEV.S('Single data'!Y11:AB11)/SQRT(4)) -> 1.9896427 | V10: =AVERAGE('Single data'!AC11:AF11) -> 54.614549 | W10: ± | X10: =(_xlfn.STDEV.S('Single data'!AC11:AF11)/SQRT(4)) -> 9.2598351 | Y10: =AVERAGE('Single data'!AG11:AJ11) -> 22.40622 | Z10: ± | AA10: =(_xlfn.STDEV.S('Single data'!AG11:AJ11)/SQRT(4)) -> 8.0717363 | AB10: =AVERAGE('Single data'!AK11:AN11) -> 172.0192 | AC10: ± | AD10: =(_xlfn.STDEV.S('Single data'!AK11:AN11)/SQRT(3)) -> 32.129226 | AE10: =AVERAGE('Single data'!AO11:AR11) -> 8.4971524 | AF10: ± | AG10: =(_xlfn.STDEV.S('Single data'!AO11:AR11)/SQRT(4)) -> 0.87434682 | AH10: =AVERAGE('Single data'!AS11:AV11) -> 135.5088 | AI10: ± | AJ10: =_xlfn.STDEV.S('Single data'!AS11:AV11)/SQRT(4) -> 39.455349 | AK10: =AVERAGE('Single data'!AW11:AZ11) -> 12.80646 | AL10: ± | AM10: =(_xlfn.STDEV.S('Single data'!AW11:AZ11)/SQRT(4)) -> 1.9179447 | AN10: =AVERAGE('Single data'!BA11:BD11) -> 58.60544 | AO10: ± | AP10: =_xlfn.STDEV.S('Single data'!BA11:BD11)/SQRT(4) -> 9.330153 | AQ10: =AVERAGE('Single data'!BE11:BH11) -> 15.933216 | AR10: ± | AS10: =(_xlfn.STDEV.S('Single data'!BE11:BH11)/SQRT(4)) -> 4.5781857 | AT10: =AVERAGE('Single data'!BI11:BL11) -> 53.670221 | AU10: ± | AV10: =_xlfn.STDEV.S('Single data'!BI11:BL11)/SQRT(4) -> 19.981307 | AW10: =AVERAGE('Single data'!BM11:BP11) -> 8.7599454 | AX10: ± | AY10: =(_xlfn.STDEV.S('Single data'!BM11:BP11)/SQRT(3)) -> 2.3664729 | AZ10: =AVERAGE('Single data'!BQ11:BT11) -> 23.72582 | BA10: ± | BB10: =_xlfn.STDEV.S('Single data'!BQ11:BT11)/SQRT(4) -> 7.35613 | BD10: =AVERAGE('Single data'!BV11:CB11) -> 1284.2693 | BE10: ± | BF10: =(_xlfn.STDEV.S('Single data'!BV11:CB11)/SQRT(7)) -> 231.19866 | BG10: =AVERAGE('Single data'!CC11:CG11) -> 1474.9716 | BH10: ± | BI10: =(_xlfn.STDEV.S('Single data'!CC11:CG11)/SQRT(5)) -> 436.46817 | BJ10: =AVERAGE('Single data'!CH11:CL11) -> 1158.2865 | BK10: ± | BL10: =(_xlfn.STDEV.S('Single data'!CH11:CL11)/SQRT(5)) -> 233.76473 | BM10: =AVERAGE('Single data'!CM11:CQ11) -> 1237.189 | BN10: ± | BO10: =(_xlfn.STDEV.S('Single data'!CM11:CQ11)/SQRT(5)) -> 420.83373 | BP10: =AVERAGE('Single data'!CR11:CV11) -> 875.21195 | BQ10: ± | BR10: =_xlfn.STDEV.S('Single data'!CR11:CV11)/SQRT(5) -> 227.43096 | BS10: =AVERAGE('Single data'!CW11:DA11) -> 1260.58 | BT10: ± | BU10: =(_xlfn.STDEV.S('Single data'!CW11:DA11)/SQRT(5)) -> 273.94154 | BV10: =AVERAGE('Single data'!DB11:DF11) -> 1106.3723 | BW10: ± | BX10: =(_xlfn.STDEV.S('Single data'!DB11:DF11)/SQRT(5)) -> 262.50518 | BY10: =AVERAGE('Single data'!DG11:DK11) -> 1075.9727 | BZ10: ± | CA10: =(_xlfn.STDEV.S('Single data'!DG11:DK11)/SQRT(5)) -> 271.65443 | CB10: =AVERAGE('Single data'!DL11:DP11) -> 1459.0082 | CC10: ± | CD10: =(_xlfn.STDEV.S('Single data'!DL11:DP11)/SQRT(5)) -> 243.41187 | CE10: =AVERAGE('Single data'!DQ11:DU11) -> 1126.1912 | CF10: ± | CG10: =(_xlfn.STDEV.S('Single data'!DQ11:DU11)/SQRT(5)) -> 257.17528 | CH10: =AVERAGE('Single data'!DV11:DZ11) -> 1112.628 | CI10: ± | CJ10: =_xlfn.STDEV.S('Single data'!DV11:DZ11)/SQRT(5) -> 333.44518 | CK10: =AVERAGE('Single data'!EA11:EE11) -> 1167.1067 | CL10: ± | CM10: =(_xlfn.STDEV.S('Single data'!EA11:EE11)/SQRT(5)) -> 297.20578 | CN10: =AVERAGE('Single data'!EF11:EJ11) -> 1179.995 | CO10: ± | CP10: =_xlfn.STDEV.S('Single data'!EF11:EJ11)/SQRT(5) -> 370.34937 | CQ10: =AVERAGE('Single data'!EK11:EO11) -> 1263.1658 | CR10: ± | CS10: =(_xlfn.STDEV.S('Single data'!EK11:EO11)/SQRT(5)) -> 343.29397 | CT10: =AVERAGE('Single data'!EP11:ET11) -> 1275.5034 | CU10: ± | CV10: =_xlfn.STDEV.S('Single data'!EP11:ET11)/SQRT(5) -> 445.70243 | CW10: =AVERAGE('Single data'!EU11:EY11) -> 1130.3947 | CX10: ± | CY10: =(_xlfn.STDEV.S('Single data'!EU11:EY11)/SQRT(5)) -> 243.56611 | CZ10: =AVERAGE('Single data'!EZ11:FD11) -> 1101.0051 | DA10: ± | DB10: =_xlfn.STDEV.S('Single data'!EZ11:FD11)/SQRT(5) -> 290.88722
C11: 14-HDHA | D11: =AVERAGE('Single data'!D12:H12) -> 2.6207051 | E11: ± | F11: =(_xlfn.STDEV.S('Single data'!D12:H12)/SQRT(5)) -> 1.423083 | G11: =AVERAGE('Single data'!I12:L12) -> 1.3268778 | H11: ± | I11: =(_xlfn.STDEV.S('Single data'!I12:L12)/SQRT(4)) -> 0.22784154 | M11: =AVERAGE('Single data'!Q12:T12) -> 2.4235446 | N11: ± | O11: =(_xlfn.STDEV.S('Single data'!Q12:T12)/SQRT(4)) -> 0.79377339 | P11: =AVERAGE('Single data'!U12:X12) -> 6.6269629 | Q11: ± | R11: =_xlfn.STDEV.S('Single data'!U12:X12)/SQRT(4) -> 2.2543722 | S11: =AVERAGE('Single data'!Y12:AB12) -> 1.9254247 | T11: ± | U11: =(_xlfn.STDEV.S('Single data'!Y12:AB12)/SQRT(4)) -> 0.39621074 | V11: =AVERAGE('Single data'!AC12:AF12) -> 5.2219644 | W11: ± | X11: =(_xlfn.STDEV.S('Single data'!AC12:AF12)/SQRT(4)) -> 1.4933472 | Y11: =AVERAGE('Single data'!AG12:AJ12) -> 1.5224307 | Z11: ± | AA11: =(_xlfn.STDEV.S('Single data'!AG12:AJ12)/SQRT(4)) -> 0.21905769 | AB11: =AVERAGE('Single data'!AK12:AN12) -> 6.7424147 | AC11: ± | AD11: =(_xlfn.STDEV.S('Single data'!AK12:AN12)/SQRT(3)) -> 0.80194258 | AE11: =AVERAGE('Single data'!AO12:AR12) -> 2.0294278 | AF11: ± | AG11: =(_xlfn.STDEV.S('Single data'!AO12:AR12)/SQRT(4)) -> 0.45757768 | AH11: =AVERAGE('Single data'!AS12:AV12) -> 8.3300617 | AI11: ± | AJ11: =_xlfn.STDEV.S('Single data'!AS12:AV12)/SQRT(4) -> 3.0350381 | AK11: =AVERAGE('Single data'!AW12:AZ12) -> 1.5002231 | AL11: ± | AM11: =(_xlfn.STDEV.S('Single data'!AW12:AZ12)/SQRT(4)) -> 0.72439683 | AN11: =AVERAGE('Single data'!BA12:BD12) -> 4.0702555 | AO11: ± | AP11: =_xlfn.STDEV.S('Single data'!BA12:BD12)/SQRT(4) -> 1.2726474 | AQ11: =AVERAGE('Single data'!BE12:BH12) -> 1.8395862 | AR11: ± | AS11: =(_xlfn.STDEV.S('Single data'!BE12:BH12)/SQRT(4)) -> 0.65991733 | AT11: =AVERAGE('Single data'!BI12:BL12) -> 5.1765541 | AU11: ± | AV11: =_xlfn.STDEV.S('Single data'!BI12:BL12)/SQRT(4) -> 1.5224274 | AW11: =AVERAGE('Single data'!BM12:BP12) -> 1.5005398 | AX11: ± | AY11: =(_xlfn.STDEV.S('Single data'!BM12:BP12)/SQRT(3)) -> 0.84993645 | AZ11: =AVERAGE('Single data'!BQ12:BT12) -> 4.4218334 | BA11: ± | BB11: =_xlfn.STDEV.S('Single data'!BQ12:BT12)/SQRT(4) -> 2.8097974 | BD11: =AVERAGE('Single data'!BV12:CB12) -> 29.434536 | BE11: ± | BF11: =(_xlfn.STDEV.S('Single data'!BV12:CB12)/SQRT(7)) -> 6.0911491 | BG11: =AVERAGE('Single data'!CC12:CG12) -> 25.790846 | BH11: ± | BI11: =(_xlfn.STDEV.S('Single data'!CC12:CG12)/SQRT(5)) -> 3.3066487 | BJ11: =AVERAGE('Single data'!CH12:CL12) -> 42.839511 | BK11: ± | BL11: =(_xlfn.STDEV.S('Single data'!CH12:CL12)/SQRT(5)) -> 2.5156177 | BM11: =AVERAGE('Single data'!CM12:CQ12) -> 29.54566 | BN11: ± | BO11: =(_xlfn.STDEV.S('Single data'!CM12:CQ12)/SQRT(5)) -> 4.4418024 | BP11: =AVERAGE('Single data'!CR12:CV12) -> 46.493323 | BQ11: ± | BR11: =_xlfn.STDEV.S('Single data'!CR12:CV12)/SQRT(5) -> 8.975878 | BS11: =AVERAGE('Single data'!CW12:DA12) -> 23.381626 | BT11: ± | BU11: =(_xlfn.STDEV.S('Single data'!CW12:DA12)/SQRT(5)) -> 4.2261369 | BV11: =AVERAGE('Single data'!DB12:DF12) -> 23.285812 | BW11: ± | BX11: =(_xlfn.STDEV.S('Single data'!DB12:DF12)/SQRT(5)) -> 2.4447528 | BY11: =AVERAGE('Single data'!DG12:DK12) -> 18.118273 | BZ11: ± | CA11: =(_xlfn.STDEV.S('Single data'!DG12:DK12)/SQRT(5)) -> 1.7060876 | CB11: =AVERAGE('Single data'!DL12:DP12) -> 18.606467 | CC11: ± | CD11: =(_xlfn.STDEV.S('Single data'!DL12:DP12)/SQRT(5)) -> 1.0810164 | CE11: =AVERAGE('Single data'!DQ12:DU12) -> 21.40634 | CF11: ± | CG11: =(_xlfn.STDEV.S('Single data'!DQ12:DU12)/SQRT(5)) -> 3.6346049 | CH11: =AVERAGE('Single data'!DV12:DZ12) -> 19.181529 | CI11: ± | CJ11: =_xlfn.STDEV.S('Single data'!DV12:DZ12)/SQRT(5) -> 3.165194 | CK11: =AVERAGE('Single data'!EA12:EE12) -> 21.036693 | CL11: ± | CM11: =(_xlfn.STDEV.S('Single data'!EA12:EE12)/SQRT(5)) -> 2.2504569 | CN11: =AVERAGE('Single data'!EF12:EJ12) -> 20.232646 | CO11: ± | CP11: =_xlfn.STDEV.S('Single data'!EF12:EJ12)/SQRT(5) -> 2.5853502 | CQ11: =AVERAGE('Single data'!EK12:EO12) -> 22.685051 | CR11: ± | CS11: =(_xlfn.STDEV.S('Single data'!EK12:EO12)/SQRT(5)) -> 4.2402004 | CT11: =AVERAGE('Single data'!EP12:ET12) -> 19.426011 | CU11: ± | CV11: =_xlfn.STDEV.S('Single data'!EP12:ET12)/SQRT(5) -> 3.1948185 | CW11: =AVERAGE('Single data'!EU12:EY12) -> 25.786696 | CX11: ± | CY11: =(_xlfn.STDEV.S('Single data'!EU12:EY12)/SQRT(5)) -> 3.4351261 | CZ11: =AVERAGE('Single data'!EZ12:FD12) -> 18.253722 | DA11: ± | DB11: =_xlfn.STDEV.S('Single data'!EZ12:FD12)/SQRT(5) -> 2.8329386
C12: 18-HEPE | D12: =AVERAGE('Single data'!D13:H13) -> 16.135769 | E12: ± | F12: =(_xlfn.STDEV.S('Single data'!D13:H13)/SQRT(5)) -> 3.8452751 | G12: =AVERAGE('Single data'!I13:L13) -> 5.1805332 | H12: ± | I12: =(_xlfn.STDEV.S('Single data'!I13:L13)/SQRT(4)) -> 1.7592436 | J12: =AVERAGE('Single data'!M13:P13) -> 6.5295323 | K12: ± | L12: =(_xlfn.STDEV.S('Single data'!M13:P13)/SQRT(4)) -> 2.0345213 | M12: =AVERAGE('Single data'!Q13:T13) -> 12.442922 | N12: ± | O12: =(_xlfn.STDEV.S('Single data'!Q13:T13)/SQRT(4)) -> 4.3439723 | P12: =AVERAGE('Single data'!U13:X13) -> 33.008555 | Q12: ± | R12: =_xlfn.STDEV.S('Single data'!U13:X13)/SQRT(4) -> 11.944957 | S12: =AVERAGE('Single data'!Y13:AB13) -> 29.938071 | T12: ± | U12: =(_xlfn.STDEV.S('Single data'!Y13:AB13)/SQRT(4)) -> 21.27667 | V12: =AVERAGE('Single data'!AC13:AF13) -> 12.547915 | W12: ± | X12: =(_xlfn.STDEV.S('Single data'!AC13:AF13)/SQRT(4)) -> 1.7584326 | Y12: =AVERAGE('Single data'!AG13:AJ13) -> 9.2963038 | Z12: ± | AA12: =(_xlfn.STDEV.S('Single data'!AG13:AJ13)/SQRT(4)) -> 1.6685778 | AB12: =AVERAGE('Single data'!AK13:AN13) -> 12.362995 | AC12: ± | AD12: =(_xlfn.STDEV.S('Single data'!AK13:AN13)/SQRT(3)) -> 2.4484764 | AE12: =AVERAGE('Single data'!AO13:AR13) -> 8.4111996 | AF12: ± | AG12: =(_xlfn.STDEV.S('Single data'!AO13:AR13)/SQRT(4)) -> 1.413814 | AH12: =AVERAGE('Single data'!AS13:AV13) -> 14.813534 | AI12: ± | AJ12: =_xlfn.STDEV.S('Single data'!AS13:AV13)/SQRT(4) -> 5.101827 | AK12: =AVERAGE('Single data'!AW13:AZ13) -> 8.9458873 | AL12: ± | AM12: =(_xlfn.STDEV.S('Single data'!AW13:AZ13)/SQRT(4)) -> 2.2023374 | AN12: =AVERAGE('Single data'!BA13:BD13) -> 10.154567 | AO12: ± | AP12: =_xlfn.STDEV.S('Single data'!BA13:BD13)/SQRT(4) -> 3.1293237 | AQ12: =AVERAGE('Single data'!BE13:BH13) -> 135.99905 | AR12: ± | AS12: =(_xlfn.STDEV.S('Single data'!BE13:BH13)/SQRT(4)) -> 129.08325 | AT12: =AVERAGE('Single data'!BI13:BL13) -> 13.160144 | AU12: ± | AV12: =_xlfn.STDEV.S('Single data'!BI13:BL13)/SQRT(4) -> 2.9894464 | AW12: =AVERAGE('Single data'!BM13:BP13) -> 19.566599 | AX12: ± | AY12: =(_xlfn.STDEV.S('Single data'!BM13:BP13)/SQRT(3)) -> 10.223665 | AZ12: =AVERAGE('Single data'!BQ13:BT13) -> 8.9883408 | BA12: ± | BB12: =_xlfn.STDEV.S('Single data'!BQ13:BT13)/SQRT(4) -> 3.1868145 | BD12: =AVERAGE('Single data'!BV13:CB13) -> 427.00146 | BE12: ± | BF12: =(_xlfn.STDEV.S('Single data'!BV13:CB13)/SQRT(7)) -> 339.91401 | BG12: =AVERAGE('Single data'!CC13:CG13) -> 79.464682 | BH12: ± | BI12: =(_xlfn.STDEV.S('Single data'!CC13:CG13)/SQRT(5)) -> 14.659412 | BJ12: =AVERAGE('Single data'!CH13:CL13) -> 62.2711 | BK12: ± | BL12: =(_xlfn.STDEV.S('Single data'!CH13:CL13)/SQRT(5)) -> 9.2001704 | BM12: =AVERAGE('Single data'!CM13:CQ13) -> 63.059133 | BN12: ± | BO12: =(_xlfn.STDEV.S('Single data'!CM13:CQ13)/SQRT(5)) -> 15.701905 | BP12: =AVERAGE('Single data'!CR13:CV13) -> 59.015459 | BQ12: ± | BR12: =_xlfn.STDEV.S('Single data'!CR13:CV13)/SQRT(5) -> 10.644902 | BS12: =AVERAGE('Single data'!CW13:DA13) -> 48.651238 | BT12: ± | BU12: =(_xlfn.STDEV.S('Single data'!CW13:DA13)/SQRT(5)) -> 12.341251 | BV12: =AVERAGE('Single data'!DB13:DF13) -> 48.147514 | BW12: ± | BX12: =(_xlfn.STDEV.S('Single data'!DB13:DF13)/SQRT(5)) -> 11.39017 | BY12: =AVERAGE('Single data'!DG13:DK13) -> 48.738491 | BZ12: ± | CA12: =(_xlfn.STDEV.S('Single data'!DG13:DK13)/SQRT(5)) -> 7.4593371 | CB12: =AVERAGE('Single data'!DL13:DP13) -> 43.403669 | CC12: ± | CD12: =(_xlfn.STDEV.S('Single data'!DL13:DP13)/SQRT(5)) -> 5.1532588 | CE12: =AVERAGE('Single data'!DQ13:DU13) -> 203.21159 | CF12: ± | CG12: =(_xlfn.STDEV.S('Single data'!DQ13:DU13)/SQRT(5)) -> 151.43463 | CH12: =AVERAGE('Single data'!DV13:DZ13) -> 268.1462 | CI12: ± | CJ12: =_xlfn.STDEV.S('Single data'!DV13:DZ13)/SQRT(5) -> 223.83438 | CK12: =AVERAGE('Single data'!EA13:EE13) -> 50.370702 | CL12: ± | CM12: =(_xlfn.STDEV.S('Single data'!EA13:EE13)/SQRT(5)) -> 7.1434501 | CN12: =AVERAGE('Single data'!EF13:EJ13) -> 60.507696 | CO12: ± | CP12: =_xlfn.STDEV.S('Single data'!EF13:EJ13)/SQRT(5) -> 15.977192 | CQ12: =AVERAGE('Single data'!EK13:EO13) -> 50.346044 | CR12: ± | CS12: =(_xlfn.STDEV.S('Single data'!EK13:EO13)/SQRT(5)) -> 8.7713821 | CT12: =AVERAGE('Single data'!EP13:ET13) -> 54.489649 | CU12: ± | CV12: =_xlfn.STDEV.S('Single data'!EP13:ET13)/SQRT(5) -> 16.010938 | CW12: =AVERAGE('Single data'!EU13:EY13) -> 57.949771 | CX12: ± | CY12: =(_xlfn.STDEV.S('Single data'!EU13:EY13)/SQRT(5)) -> 10.402178 | CZ12: =AVERAGE('Single data'!EZ13:FD13) -> 39.575118 | DA12: ± | DB12: =_xlfn.STDEV.S('Single data'!EZ13:FD13)/SQRT(5) -> 4.6780885
B13: ALOX 12/157 | C13: 15-HEPE | D13: =AVERAGE('Single data'!D14:H14) -> 3.031242 | E13: ± | F13: =(_xlfn.STDEV.S('Single data'!D14:H14)/SQRT(5)) -> 0.91841771 | G13: =AVERAGE('Single data'!I14:L14) -> 1.2533497 | H13: ± | I13: =(_xlfn.STDEV.S('Single data'!I14:L14)/SQRT(4)) -> 0.46798113 | J13: =AVERAGE('Single data'!M14:P14) -> 1.527779 | K13: ± | L13: =(_xlfn.STDEV.S('Single data'!M14:P14)/SQRT(4)) -> 0.5318489 | M13: =AVERAGE('Single data'!Q14:T14) -> 3.0116424 | N13: ± | O13: =(_xlfn.STDEV.S('Single data'!Q14:T14)/SQRT(4)) -> 0.80815628 | P13: =AVERAGE('Single data'!U14:X14) -> 6.150122 | Q13: ± | R13: =_xlfn.STDEV.S('Single data'!U14:X14)/SQRT(4) -> 2.0107544 | S13: =AVERAGE('Single data'!Y14:AB14) -> 3.7257872 | T13: ± | U13: =(_xlfn.STDEV.S('Single data'!Y14:AB14)/SQRT(4)) -> 1.0897499 | V13: =AVERAGE('Single data'!AC14:AF14) -> 4.0042036 | W13: ± | X13: =(_xlfn.STDEV.S('Single data'!AC14:AF14)/SQRT(4)) -> 0.54354371 | Y13: =AVERAGE('Single data'!AG14:AJ14) -> 2.6330414 | Z13: ± | AA13: =(_xlfn.STDEV.S('Single data'!AG14:AJ14)/SQRT(4)) -> 0.94696557 | AB13: =AVERAGE('Single data'!AK14:AN14) -> 7.6621897 | AC13: ± | AD13: =(_xlfn.STDEV.S('Single data'!AK14:AN14)/SQRT(3)) -> 0.13188547 | AE13: =AVERAGE('Single data'!AO14:AR14) -> 2.2278564 | AF13: ± | AG13: =(_xlfn.STDEV.S('Single data'!AO14:AR14)/SQRT(4)) -> 0.57932099 | AH13: =AVERAGE('Single data'!AS14:AV14) -> 10.119978 | AI13: ± | AJ13: =_xlfn.STDEV.S('Single data'!AS14:AV14)/SQRT(4) -> 4.1197621 | AK13: =AVERAGE('Single data'!AW14:AZ14) -> 2.1809791 | AL13: ± | AM13: =(_xlfn.STDEV.S('Single data'!AW14:AZ14)/SQRT(4)) -> 0.74107827 | AN13: =AVERAGE('Single data'!BA14:BD14) -> 3.4833621 | AO13: ± | AP13: =_xlfn.STDEV.S('Single data'!BA14:BD14)/SQRT(4) -> 0.92720786 | AQ13: =AVERAGE('Single data'!BE14:BH14) -> 11.383236 | AR13: ± | AS13: =(_xlfn.STDEV.S('Single data'!BE14:BH14)/SQRT(4)) -> 9.4746473 | AT13: =AVERAGE('Single data'!BI14:BL14) -> 4.6007777 | AU13: ± | AV13: =_xlfn.STDEV.S('Single data'!BI14:BL14)/SQRT(4) -> 1.547049 | AW13: =AVERAGE('Single data'!BM14:BP14) -> 2.6617978 | AX13: ± | AY13: =(_xlfn.STDEV.S('Single data'!BM14:BP14)/SQRT(3)) -> 1.2741072 | AZ13: =AVERAGE('Single data'!BQ14:BT14) -> 2.7037107 | BA13: ± | BB13: =_xlfn.STDEV.S('Single data'!BQ14:BT14)/SQRT(4) -> 0.88044352 | BD13: =AVERAGE('Single data'!BV14:CB14) -> 89.730535 | BE13: ± | BF13: =(_xlfn.STDEV.S('Single data'!BV14:CB14)/SQRT(7)) -> 56.240564 | BG13: =AVERAGE('Single data'!CC14:CG14) -> 25.600793 | BH13: ± | BI13: =(_xlfn.STDEV.S('Single data'!CC14:CG14)/SQRT(5)) -> 6.7760895 | BJ13: =AVERAGE('Single data'!CH14:CL14) -> 24.024474 | BK13: ± | BL13: =(_xlfn.STDEV.S('Single data'!CH14:CL14)/SQRT(5)) -> 5.5840207 | BM13: =AVERAGE('Single data'!CM14:CQ14) -> 18.894716 | BN13: ± | BO13: =(_xlfn.STDEV.S('Single data'!CM14:CQ14)/SQRT(5)) -> 5.8029301 | BP13: =AVERAGE('Single data'!CR14:CV14) -> 16.603892 | BQ13: ± | BR13: =_xlfn.STDEV.S('Single data'!CR14:CV14)/SQRT(5) -> 3.1906855 | BS13: =AVERAGE('Single data'!CW14:DA14) -> 19.574257 | BT13: ± | BU13: =(_xlfn.STDEV.S('Single data'!CW14:DA14)/SQRT(5)) -> 4.1631827 | BV13: =AVERAGE('Single data'!DB14:DF14) -> 22.040864 | BW13: ± | BX13: =(_xlfn.STDEV.S('Single data'!DB14:DF14)/SQRT(5)) -> 4.565827 | BY13: =AVERAGE('Single data'!DG14:DK14) -> 24.520455 | BZ13: ± | CA13: =(_xlfn.STDEV.S('Single data'!DG14:DK14)/SQRT(5)) -> 6.2900171 | CB13: =AVERAGE('Single data'!DL14:DP14) -> 49.290982 | CC13: ± | CD13: =(_xlfn.STDEV.S('Single data'!DL14:DP14)/SQRT(5)) -> 11.698702 | CE13: =AVERAGE('Single data'!DQ14:DU14) -> 48.952669 | CF13: ± | CG13: =(_xlfn.STDEV.S('Single data'!DQ14:DU14)/SQRT(5)) -> 26.010717 | CH13: =AVERAGE('Single data'!DV14:DZ14) -> 69.013683 | CI13: ± | CJ13: =_xlfn.STDEV.S('Single data'!DV14:DZ14)/SQRT(5) -> 42.722445 | CK13: =AVERAGE('Single data'!EA14:EE14) -> 17.758059 | CL13: ± | CM13: =(_xlfn.STDEV.S('Single data'!EA14:EE14)/SQRT(5)) -> 4.3417747 | CN13: =AVERAGE('Single data'!EF14:EJ14) -> 22.25319 | CO13: ± | CP13: =_xlfn.STDEV.S('Single data'!EF14:EJ14)/SQRT(5) -> 6.5709503 | CQ13: =AVERAGE('Single data'!EK14:EO14) -> 21.66916 | CR13: ± | CS13: =(_xlfn.STDEV.S('Single data'!EK14:EO14)/SQRT(5)) -> 4.7224343 | CT13: =AVERAGE('Single data'!EP14:ET14) -> 22.121862 | CU13: ± | CV13: =_xlfn.STDEV.S('Single data'!EP14:ET14)/SQRT(5) -> 7.4101586 | CW13: =AVERAGE('Single data'!EU14:EY14) -> 16.68727 | CX13: ± | CY13: =(_xlfn.STDEV.S('Single data'!EU14:EY14)/SQRT(5)) -> 3.2965941 | CZ13: =AVERAGE('Single data'!EZ14:FD14) -> 15.784032 | DA13: ± | DB13: =_xlfn.STDEV.S('Single data'!EZ14:FD14)/SQRT(5) -> 3.2965156
C14: 14-HDPA | D14: =AVERAGE('Single data'!D15:H15) -> 10.002296 | E14: ± | F14: =(_xlfn.STDEV.S('Single data'!D15:H15)/SQRT(5)) -> 1.9309554 | G14: =AVERAGE('Single data'!I15:L15) -> 9.0812807 | H14: ± | I14: =(_xlfn.STDEV.S('Single data'!I15:L15)/SQRT(4)) -> 1.4624256 | J14: =AVERAGE('Single data'!M15:P15) -> 9.0397691 | K14: ± | L14: =(_xlfn.STDEV.S('Single data'!M15:P15)/SQRT(4)) -> 3.4370639 | M14: =AVERAGE('Single data'!Q15:T15) -> 12.258034 | N14: ± | O14: =(_xlfn.STDEV.S('Single data'!Q15:T15)/SQRT(4)) -> 1.8949436 | P14: =AVERAGE('Single data'!U15:X15) -> 24.526804 | Q14: ± | R14: =_xlfn.STDEV.S('Single data'!U15:X15)/SQRT(4) -> 5.1422181 | S14: =AVERAGE('Single data'!Y15:AB15) -> 16.427059 | T14: ± | U14: =(_xlfn.STDEV.S('Single data'!Y15:AB15)/SQRT(4)) -> 2.8124748 | V14: =AVERAGE('Single data'!AC15:AF15) -> 21.595157 | W14: ± | X14: =(_xlfn.STDEV.S('Single data'!AC15:AF15)/SQRT(4)) -> 5.0456572 | Y14: =AVERAGE('Single data'!AG15:AJ15) -> 13.068927 | Z14: ± | AA14: =(_xlfn.STDEV.S('Single data'!AG15:AJ15)/SQRT(4)) -> 2.2260211 | AB14: =AVERAGE('Single data'!AK15:AN15) -> 37.219726 | AC14: ± | AD14: =(_xlfn.STDEV.S('Single data'!AK15:AN15)/SQRT(3)) -> 4.6533969 | AE14: =AVERAGE('Single data'!AO15:AR15) -> 11.513904 | AF14: ± | AG14: =(_xlfn.STDEV.S('Single data'!AO15:AR15)/SQRT(4)) -> 1.5405101 | AH14: =AVERAGE('Single data'!AS15:AV15) -> 29.369229 | AI14: ± | AJ14: =_xlfn.STDEV.S('Single data'!AS15:AV15)/SQRT(4) -> 4.197937 | AK14: =AVERAGE('Single data'!AW15:AZ15) -> 14.8873 | AL14: ± | AM14: =(_xlfn.STDEV.S('Single data'!AW15:AZ15)/SQRT(4)) -> 2.2997858 | AN14: =AVERAGE('Single data'!BA15:BD15) -> 13.75834 | AO14: ± | AP14: =_xlfn.STDEV.S('Single data'!BA15:BD15)/SQRT(4) -> 2.2167288 | AQ14: =AVERAGE('Single data'!BE15:BH15) -> 9.0896248 | AR14: ± | AS14: =(_xlfn.STDEV.S('Single data'!BE15:BH15)/SQRT(4)) -> 1.9261672 | AT14: =AVERAGE('Single data'!BI15:BL15) -> 21.070259 | AU14: ± | AV14: =_xlfn.STDEV.S('Single data'!BI15:BL15)/SQRT(4) -> 4.6890691 | AW14: =AVERAGE('Single data'!BM15:BP15) -> 9.1712196 | AX14: ± | AY14: =(_xlfn.STDEV.S('Single data'!BM15:BP15)/SQRT(3)) -> 2.5405216 | AZ14: =AVERAGE('Single data'!BQ15:BT15) -> 14.347915 | BA14: ± | BB14: =_xlfn.STDEV.S('Single data'!BQ15:BT15)/SQRT(4) -> 3.0302708 | BD14: =AVERAGE('Single data'!BV15:CB15) -> 235.06213 | BE14: ± | BF14: =(_xlfn.STDEV.S('Single data'!BV15:CB15)/SQRT(7)) -> 34.681065 | BG14: =AVERAGE('Single data'!CC15:CG15) -> 212.87914 | BH14: ± | BI14: =(_xlfn.STDEV.S('Single data'!CC15:CG15)/SQRT(5)) -> 10.492686 | BJ14: =AVERAGE('Single data'!CH15:CL15) -> 307.82206 | BK14: ± | BL14: =(_xlfn.STDEV.S('Single data'!CH15:CL15)/SQRT(5)) -> 3.2821747 | BM14: =AVERAGE('Single data'!CM15:CQ15) -> 263.31767 | BN14: ± | BO14: =(_xlfn.STDEV.S('Single data'!CM15:CQ15)/SQRT(5)) -> 33.233241 | BP14: =AVERAGE('Single data'!CR15:CV15) -> 301.46054 | BQ14: ± | BR14: =_xlfn.STDEV.S('Single data'!CR15:CV15)/SQRT(5) -> 39.352758 | BS14: =AVERAGE('Single data'!CW15:DA15) -> 209.51974 | BT14: ± | BU14: =(_xlfn.STDEV.S('Single data'!CW15:DA15)/SQRT(5)) -> 26.184766 | BV14: =AVERAGE('Single data'!DB15:DF15) -> 195.06812 | BW14: ± | BX14: =(_xlfn.STDEV.S('Single data'!DB15:DF15)/SQRT(5)) -> 17.100811 | BY14: =AVERAGE('Single data'!DG15:DK15) -> 203.38736 | BZ14: ± | CA14: =(_xlfn.STDEV.S('Single data'!DG15:DK15)/SQRT(5)) -> 10.83199 | CB14: =AVERAGE('Single data'!DL15:DP15) -> 150.79221 | CC14: ± | CD14: =(_xlfn.STDEV.S('Single data'!DL15:DP15)/SQRT(5)) -> 9.9604694 | CE14: =AVERAGE('Single data'!DQ15:DU15) -> 196.13773 | CF14: ± | CG14: =(_xlfn.STDEV.S('Single data'!DQ15:DU15)/SQRT(5)) -> 31.172097 | CH14: =AVERAGE('Single data'!DV15:DZ15) -> 164.12505 | CI14: ± | CJ14: =_xlfn.STDEV.S('Single data'!DV15:DZ15)/SQRT(5) -> 19.113857 | CK14: =AVERAGE('Single data'!EA15:EE15) -> 198.03927 | CL14: ± | CM14: =(_xlfn.STDEV.S('Single data'!EA15:EE15)/SQRT(5)) -> 21.160854 | CN14: =AVERAGE('Single data'!EF15:EJ15) -> 181.93812 | CO14: ± | CP14: =_xlfn.STDEV.S('Single data'!EF15:EJ15)/SQRT(5) -> 21.226021 | CQ14: =AVERAGE('Single data'!EK15:EO15) -> 228.1431 | CR14: ± | CS14: =(_xlfn.STDEV.S('Single data'!EK15:EO15)/SQRT(5)) -> 34.663326 | CT14: =AVERAGE('Single data'!EP15:ET15) -> 177.68477 | CU14: ± | CV14: =_xlfn.STDEV.S('Single data'!EP15:ET15)/SQRT(5) -> 24.796557 | CW14: =AVERAGE('Single data'!EU15:EY15) -> 226.20662 | CX14: ± | CY14: =(_xlfn.STDEV.S('Single data'!EU15:EY15)/SQRT(5)) -> 26.942961 | CZ14: =AVERAGE('Single data'!EZ15:FD15) -> 164.43722 | DA14: ± | DB14: =_xlfn.STDEV.S('Single data'!EZ15:FD15)/SQRT(5) -> 17.828714
C15: 12-HEPE | D15: =AVERAGE('Single data'!D16:H16) -> 1.8847375 | E15: ± | F15: =(_xlfn.STDEV.S('Single data'!D16:H16)/SQRT(5)) -> 0.75283828 | G15: =AVERAGE('Single data'!I16:L16) -> 0.44707574 | H15: ± | I15: =(_xlfn.STDEV.S('Single data'!I16:L16)/SQRT(4)) -> 0.099015418 | J15: =AVERAGE('Single data'!M16:P16) -> 0.50599951 | K15: ± | L15: =(_xlfn.STDEV.S('Single data'!M16:P16)/SQRT(4)) -> 0.085275121 | M15: =AVERAGE('Single data'!Q16:T16) -> 1.9067521 | N15: ± | O15: =(_xlfn.STDEV.S('Single data'!Q16:T16)/SQRT(4)) -> 0.98108092 | P15: =AVERAGE('Single data'!U16:X16) -> 4.1674675 | Q15: ± | R15: =_xlfn.STDEV.S('Single data'!U16:X16)/SQRT(4) -> 1.493381 | S15: =AVERAGE('Single data'!Y16:AB16) -> 2.5561366 | T15: ± | U15: =(_xlfn.STDEV.S('Single data'!Y16:AB16)/SQRT(4)) -> 1.5103049 | V15: =AVERAGE('Single data'!AC16:AF16) -> 1.8384051 | W15: ± | X15: =(_xlfn.STDEV.S('Single data'!AC16:AF16)/SQRT(4)) -> 0.61621891 | Y15: =AVERAGE('Single data'!AG16:AJ16) -> 0.73213979 | Z15: ± | AA15: =(_xlfn.STDEV.S('Single data'!AG16:AJ16)/SQRT(4)) -> 0.048052193 | AB15: =AVERAGE('Single data'!AK16:AN16) -> 2.0274364 | AC15: ± | AD15: =(_xlfn.STDEV.S('Single data'!AK16:AN16)/SQRT(3)) -> 0.41412365 | AE15: =AVERAGE('Single data'!AO16:AR16) -> 0.96257714 | AF15: ± | AG15: =(_xlfn.STDEV.S('Single data'!AO16:AR16)/SQRT(4)) -> 0.31336633 | AH15: =AVERAGE('Single data'!AS16:AV16) -> 2.6966917 | AI15: ± | AJ15: =_xlfn.STDEV.S('Single data'!AS16:AV16)/SQRT(4) -> 1.2718843 | AK15: =AVERAGE('Single data'!AW16:AZ16) -> 1.0036488 | AL15: ± | AM15: =(_xlfn.STDEV.S('Single data'!AW16:AZ16)/SQRT(4)) -> 0.49992848 | AN15: =AVERAGE('Single data'!BA16:BD16) -> 1.2102454 | AO15: ± | AP15: =_xlfn.STDEV.S('Single data'!BA16:BD16)/SQRT(4) -> 0.55914137 | AQ15: =AVERAGE('Single data'!BE16:BH16) -> 5.5362763 | AR15: ± | AS15: =(_xlfn.STDEV.S('Single data'!BE16:BH16)/SQRT(4)) -> 5.080924 | AT15: =AVERAGE('Single data'!BI16:BL16) -> 1.9444486 | AU15: ± | AV15: =_xlfn.STDEV.S('Single data'!BI16:BL16)/SQRT(4) -> 0.55567308 | AW15: =AVERAGE('Single data'!BM16:BP16) -> 1.721041 | AX15: ± | AY15: =(_xlfn.STDEV.S('Single data'!BM16:BP16)/SQRT(3)) -> 0.79568113 | AZ15: =AVERAGE('Single data'!BQ16:BT16) -> 1.4449168 | BA15: ± | BB15: =_xlfn.STDEV.S('Single data'!BQ16:BT16)/SQRT(4) -> 0.65358582 | BD15: =AVERAGE('Single data'!BV16:CB16) -> 65.717515 | BE15: ± | BF15: =(_xlfn.STDEV.S('Single data'!BV16:CB16)/SQRT(7)) -> 56.150537 | BG15: =AVERAGE('Single data'!CC16:CG16) -> 4.7479421 | BH15: ± | BI15: =(_xlfn.STDEV.S('Single data'!CC16:CG16)/SQRT(5)) -> 0.65033659 | BJ15: =AVERAGE('Single data'!CH16:CL16) -> 6.2058192 | BK15: ± | BL15: =(_xlfn.STDEV.S('Single data'!CH16:CL16)/SQRT(5)) -> 0.84989668 | BM15: =AVERAGE('Single data'!CM16:CQ16) -> 5.0047969 | BN15: ± | BO15: =(_xlfn.STDEV.S('Single data'!CM16:CQ16)/SQRT(5)) -> 0.90489655 | BP15: =AVERAGE('Single data'!CR16:CV16) -> 5.5535629 | BQ15: ± | BR15: =_xlfn.STDEV.S('Single data'!CR16:CV16)/SQRT(5) -> 0.99405824 | BS15: =AVERAGE('Single data'!CW16:DA16) -> 4.0909642 | BT15: ± | BU15: =(_xlfn.STDEV.S('Single data'!CW16:DA16)/SQRT(5)) -> 1.1313753 | BV15: =AVERAGE('Single data'!DB16:DF16) -> 3.6320756 | BW15: ± | BX15: =(_xlfn.STDEV.S('Single data'!DB16:DF16)/SQRT(5)) -> 0.33244467 | BY15: =AVERAGE('Single data'!DG16:DK16) -> 3.3577566 | BZ15: ± | CA15: =(_xlfn.STDEV.S('Single data'!DG16:DK16)/SQRT(5)) -> 0.12912156 | CB15: =AVERAGE('Single data'!DL16:DP16) -> 2.7960673 | CC15: ± | CD15: =(_xlfn.STDEV.S('Single data'!DL16:DP16)/SQRT(5)) -> 0.20778607 | CE15: =AVERAGE('Single data'!DQ16:DU16) -> 30.289366 | CF15: ± | CG15: =(_xlfn.STDEV.S('Single data'!DQ16:DU16)/SQRT(5)) -> 26.354556 | CH15: =AVERAGE('Single data'!DV16:DZ16) -> 38.677057 | CI15: ± | CJ15: =_xlfn.STDEV.S('Single data'!DV16:DZ16)/SQRT(5) -> 35.842716 | CK15: =AVERAGE('Single data'!EA16:EE16) -> 3.5395219 | CL15: ± | CM15: =(_xlfn.STDEV.S('Single data'!EA16:EE16)/SQRT(5)) -> 0.36953525 | CN15: =AVERAGE('Single data'!EF16:EJ16) -> 4.1132585 | CO15: ± | CP15: =_xlfn.STDEV.S('Single data'!EF16:EJ16)/SQRT(5) -> 0.81887923 | CQ15: =AVERAGE('Single data'!EK16:EO16) -> 4.204363 | CR15: ± | CS15: =(_xlfn.STDEV.S('Single data'!EK16:EO16)/SQRT(5)) -> 0.44122489 | CT15: =AVERAGE('Single data'!EP16:ET16) -> 3.6128896 | CU15: ± | CV15: =_xlfn.STDEV.S('Single data'!EP16:ET16)/SQRT(5) -> 0.96870027 | CW15: =AVERAGE('Single data'!EU16:EY16) -> 3.9398256 | CX15: ± | CY15: =(_xlfn.STDEV.S('Single data'!EU16:EY16)/SQRT(5)) -> 1.1635522 | CZ15: =AVERAGE('Single data'!EZ16:FD16) -> 2.6673151 | DA15: ± | DB15: =_xlfn.STDEV.S('Single data'!EZ16:FD16)/SQRT(5) -> 0.67980157
C16: 12-HETE | D16: =AVERAGE('Single data'!D17:H17) -> 2.307018 | E16: ± | F16: =(_xlfn.STDEV.S('Single data'!D17:H17)/SQRT(5)) -> 0.2023055 | G16: =AVERAGE('Single data'!I17:L17) -> 1.6948785 | H16: ± | I16: =(_xlfn.STDEV.S('Single data'!I17:L17)/SQRT(4)) -> 0.16465983 | M16: =AVERAGE('Single data'!Q17:T17) -> 2.2275922 | N16: ± | O16: =(_xlfn.STDEV.S('Single data'!Q17:T17)/SQRT(4)) -> 0.48576045 | P16: =AVERAGE('Single data'!U17:X17) -> 9.0307767 | Q16: ± | R16: =_xlfn.STDEV.S('Single data'!U17:X17)/SQRT(4) -> 2.4544424 | S16: =AVERAGE('Single data'!Y17:AB17) -> 2.647107 | T16: ± | U16: =(_xlfn.STDEV.S('Single data'!Y17:AB17)/SQRT(4)) -> 0.36840205 | V16: =AVERAGE('Single data'!AC17:AF17) -> 4.3887863 | W16: ± | X16: =(_xlfn.STDEV.S('Single data'!AC17:AF17)/SQRT(4)) -> 1.0325048 | Y16: =AVERAGE('Single data'!AG17:AJ17) -> 2.6006977 | Z16: ± | AA16: =(_xlfn.STDEV.S('Single data'!AG17:AJ17)/SQRT(4)) -> 0.58421252 | AB16: =AVERAGE('Single data'!AK17:AN17) -> 7.2359552 | AC16: ± | AD16: =(_xlfn.STDEV.S('Single data'!AK17:AN17)/SQRT(3)) -> 1.3900898 | AE16: =AVERAGE('Single data'!AO17:AR17) -> 2.363122 | AF16: ± | AG16: =(_xlfn.STDEV.S('Single data'!AO17:AR17)/SQRT(4)) -> 0.30603915 | AH16: =AVERAGE('Single data'!AS17:AV17) -> 6.1274331 | AI16: ± | AJ16: =_xlfn.STDEV.S('Single data'!AS17:AV17)/SQRT(4) -> 1.6168404 | AK16: =AVERAGE('Single data'!AW17:AZ17) -> 2.0143565 | AL16: ± | AM16: =(_xlfn.STDEV.S('Single data'!AW17:AZ17)/SQRT(4)) -> 0.79459963 | AN16: =AVERAGE('Single data'!BA17:BD17) -> 3.5982423 | AO16: ± | AP16: =_xlfn.STDEV.S('Single data'!BA17:BD17)/SQRT(4) -> 1.1412287 | AQ16: =AVERAGE('Single data'!BE17:BH17) -> 2.8511488 | AR16: ± | AS16: =(_xlfn.STDEV.S('Single data'!BE17:BH17)/SQRT(4)) -> 1.0276282 | AT16: =AVERAGE('Single data'!BI17:BL17) -> 6.1456692 | AU16: ± | AV16: =_xlfn.STDEV.S('Single data'!BI17:BL17)/SQRT(4) -> 2.0338475 | AW16: =AVERAGE('Single data'!BM17:BP17) -> 1.8381247 | AX16: ± | AY16: =(_xlfn.STDEV.S('Single data'!BM17:BP17)/SQRT(3)) -> 0.27697144 | AZ16: =AVERAGE('Single data'!BQ17:BT17) -> 2.8651345 | BA16: ± | BB16: =_xlfn.STDEV.S('Single data'!BQ17:BT17)/SQRT(4) -> 0.64284177 | BD16: =AVERAGE('Single data'!BV17:CB17) -> 89.150862 | BE16: ± | BF16: =(_xlfn.STDEV.S('Single data'!BV17:CB17)/SQRT(7)) -> 33.716859 | BG16: =AVERAGE('Single data'!CC17:CG17) -> 30.821166 | BH16: ± | BI16: =(_xlfn.STDEV.S('Single data'!CC17:CG17)/SQRT(5)) -> 3.3272486 | BJ16: =AVERAGE('Single data'!CH17:CL17) -> 52.644815 | BK16: ± | BL16: =(_xlfn.STDEV.S('Single data'!CH17:CL17)/SQRT(5)) -> 5.1202888 | BM16: =AVERAGE('Single data'!CM17:CQ17) -> 41.444034 | BN16: ± | BO16: =(_xlfn.STDEV.S('Single data'!CM17:CQ17)/SQRT(5)) -> 8.8223909 | BP16: =AVERAGE('Single data'!CR17:CV17) -> 61.623886 | BQ16: ± | BR16: =_xlfn.STDEV.S('Single data'!CR17:CV17)/SQRT(5) -> 13.292848 | BS16: =AVERAGE('Single data'!CW17:DA17) -> 34.63555 | BT16: ± | BU16: =(_xlfn.STDEV.S('Single data'!CW17:DA17)/SQRT(5)) -> 6.3776863 | BV16: =AVERAGE('Single data'!DB17:DF17) -> 35.782251 | BW16: ± | BX16: =(_xlfn.STDEV.S('Single data'!DB17:DF17)/SQRT(5)) -> 3.8300265 | BY16: =AVERAGE('Single data'!DG17:DK17) -> 23.755994 | BZ16: ± | CA16: =(_xlfn.STDEV.S('Single data'!DG17:DK17)/SQRT(5)) -> 2.3456361 | CB16: =AVERAGE('Single data'!DL17:DP17) -> 22.211682 | CC16: ± | CD16: =(_xlfn.STDEV.S('Single data'!DL17:DP17)/SQRT(5)) -> 1.3996496 | CE16: =AVERAGE('Single data'!DQ17:DU17) -> 41.641068 | CF16: ± | CG16: =(_xlfn.STDEV.S('Single data'!DQ17:DU17)/SQRT(5)) -> 10.340172 | CH16: =AVERAGE('Single data'!DV17:DZ17) -> 38.270007 | CI16: ± | CJ16: =_xlfn.STDEV.S('Single data'!DV17:DZ17)/SQRT(5) -> 12.708721 | CK16: =AVERAGE('Single data'!EA17:EE17) -> 29.865595 | CL16: ± | CM16: =(_xlfn.STDEV.S('Single data'!EA17:EE17)/SQRT(5)) -> 4.6517807 | CN16: =AVERAGE('Single data'!EF17:EJ17) -> 30.04181 | CO16: ± | CP16: =_xlfn.STDEV.S('Single data'!EF17:EJ17)/SQRT(5) -> 6.0036739 | CQ16: =AVERAGE('Single data'!EK17:EO17) -> 32.982895 | CR16: ± | CS16: =(_xlfn.STDEV.S('Single data'!EK17:EO17)/SQRT(5)) -> 6.8412008 | CT16: =AVERAGE('Single data'!EP17:ET17) -> 28.903251 | CU16: ± | CV16: =_xlfn.STDEV.S('Single data'!EP17:ET17)/SQRT(5) -> 5.8597649 | CW16: =AVERAGE('Single data'!EU17:EY17) -> 36.83297 | CX16: ± | CY16: =(_xlfn.STDEV.S('Single data'!EU17:EY17)/SQRT(5)) -> 9.6641443 | CZ16: =AVERAGE('Single data'!EZ17:FD17) -> 27.665009 | DA16: ± | DB16: =_xlfn.STDEV.S('Single data'!EZ17:FD17)/SQRT(5) -> 4.0896681
B17: ALOX5 | C17: LTB4 isomers | D17: =AVERAGE('Single data'!D18:H18) -> 5.1886359 | E17: ± | F17: =(_xlfn.STDEV.S('Single data'!D18:H18)/SQRT(5)) -> 1.7033582 | G17: =AVERAGE('Single data'!I18:L18) -> 6.9356854 | H17: ± | I17: =(_xlfn.STDEV.S('Single data'!I18:L18)/SQRT(4)) -> 3.6546131 | J17: =AVERAGE('Single data'!M18:P18) -> 2.9064727 | K17: ± | L17: =(_xlfn.STDEV.S('Single data'!M18:P18)/SQRT(4)) -> 1.185664 | M17: =AVERAGE('Single data'!Q18:T18) -> 5.0564099 | N17: ± | O17: =(_xlfn.STDEV.S('Single data'!Q18:T18)/SQRT(4)) -> 2.7474859 | P17: =AVERAGE('Single data'!U18:X18) -> 5.78363 | Q17: ± | R17: =_xlfn.STDEV.S('Single data'!U18:X18)/SQRT(4) -> 2.8376366 | S17: =AVERAGE('Single data'!Y18:AB18) -> 2.5911093 | T17: ± | U17: =(_xlfn.STDEV.S('Single data'!Y18:AB18)/SQRT(4)) -> 1.4532664 | V17: =AVERAGE('Single data'!AC18:AF18) -> 2.6393827 | W17: ± | X17: =(_xlfn.STDEV.S('Single data'!AC18:AF18)/SQRT(4)) -> 1.2192624 | Y17: =AVERAGE('Single data'!AG18:AJ18) -> 7.1664807 | Z17: ± | AA17: =(_xlfn.STDEV.S('Single data'!AG18:AJ18)/SQRT(4)) -> 4.8833018 | AB17: =AVERAGE('Single data'!AK18:AN18) -> 7.2746273 | AC17: ± | AD17: =(_xlfn.STDEV.S('Single data'!AK18:AN18)/SQRT(3)) -> 5.1426026 | AE17: =AVERAGE('Single data'!AO18:AR18) -> 5.9924006 | AF17: ± | AG17: =(_xlfn.STDEV.S('Single data'!AO18:AR18)/SQRT(4)) -> 3.4349437 | AH17: =AVERAGE('Single data'!AS18:AV18) -> 2.4915338 | AI17: ± | AJ17: =_xlfn.STDEV.S('Single data'!AS18:AV18)/SQRT(4) -> 0.65442929 | AK17: =AVERAGE('Single data'!AW18:AZ18) -> 2.1396784 | AL17: ± | AM17: =(_xlfn.STDEV.S('Single data'!AW18:AZ18)/SQRT(4)) -> 0.93352674 | AN17: =AVERAGE('Single data'!BA18:BD18) -> 3.5547057 | AO17: ± | AP17: =_xlfn.STDEV.S('Single data'!BA18:BD18)/SQRT(4) -> 1.5190496 | AQ17: =AVERAGE('Single data'!BE18:BH18) -> 3.9996266 | AR17: ± | AS17: =(_xlfn.STDEV.S('Single data'!BE18:BH18)/SQRT(4)) -> 2.0488893 | AT17: =AVERAGE('Single data'!BI18:BL18) -> 8.2457984 | AU17: ± | AV17: =_xlfn.STDEV.S('Single data'!BI18:BL18)/SQRT(4) -> 4.3449046 | AW17: =AVERAGE('Single data'!BM18:BP18) -> 2.846584 | AX17: ± | AY17: =(_xlfn.STDEV.S('Single data'!BM18:BP18)/SQRT(3)) -> 1.4799916 | AZ17: =AVERAGE('Single data'!BQ18:BT18) -> 3.9784735 | BA17: ± | BB17: =_xlfn.STDEV.S('Single data'!BQ18:BT18)/SQRT(4) -> 1.9329181 | BD17: =AVERAGE('Single data'!BV18:CB18) -> 1188.5073 | BE17: ± | BF17: =(_xlfn.STDEV.S('Single data'!BV18:CB18)/SQRT(7)) -> 356.70244 | BG17: =AVERAGE('Single data'!CC18:CG18) -> 1086.7133 | BH17: ± | BI17: =(_xlfn.STDEV.S('Single data'!CC18:CG18)/SQRT(5)) -> 530.43564 | BJ17: =AVERAGE('Single data'!CH18:CL18) -> 498.16808 | BK17: ± | BL17: =(_xlfn.STDEV.S('Single data'!CH18:CL18)/SQRT(5)) -> 226.23328 | BM17: =AVERAGE('Single data'!CM18:CQ18) -> 734.86597 | BN17: ± | BO17: =(_xlfn.STDEV.S('Single data'!CM18:CQ18)/SQRT(5)) -> 234.75555 | BP17: =AVERAGE('Single data'!CR18:CV18) -> 59.784415 | BQ17: ± | BR17: =_xlfn.STDEV.S('Single data'!CR18:CV18)/SQRT(5) -> 30.617235 | BS17: =AVERAGE('Single data'!CW18:DA18) -> 1318.7874 | BT17: ± | BU17: =(_xlfn.STDEV.S('Single data'!CW18:DA18)/SQRT(5)) -> 410.72799 | BV17: =AVERAGE('Single data'!DB18:DF18) -> 305.60543 | BW17: ± | BX17: =(_xlfn.STDEV.S('Single data'!DB18:DF18)/SQRT(5)) -> 125.17854 | BY17: =AVERAGE('Single data'!DG18:DK18) -> 765.72394 | BZ17: ± | CA17: =(_xlfn.STDEV.S('Single data'!DG18:DK18)/SQRT(5)) -> 339.84605 | CB17: =AVERAGE('Single data'!DL18:DP18) -> 112.50442 | CC17: ± | CD17: =(_xlfn.STDEV.S('Single data'!DL18:DP18)/SQRT(5)) -> 75.056381 | CE17: =AVERAGE('Single data'!DQ18:DU18) -> 1024.2955 | CF17: ± | CG17: =(_xlfn.STDEV.S('Single data'!DQ18:DU18)/SQRT(5)) -> 394.55117 | CH17: =AVERAGE('Single data'!DV18:DZ18) -> 121.3829 | CI17: ± | CJ17: =_xlfn.STDEV.S('Single data'!DV18:DZ18)/SQRT(5) -> 83.755816 | CK17: =AVERAGE('Single data'!EA18:EE18) -> 984.13409 | CL17: ± | CM17: =(_xlfn.STDEV.S('Single data'!EA18:EE18)/SQRT(5)) -> 326.06766 | CN17: =AVERAGE('Single data'!EF18:EJ18) -> 328.12585 | CO17: ± | CP17: =_xlfn.STDEV.S('Single data'!EF18:EJ18)/SQRT(5) -> 105.13517 | CQ17: =AVERAGE('Single data'!EK18:EO18) -> 738.27859 | CR17: ± | CS17: =(_xlfn.STDEV.S('Single data'!EK18:EO18)/SQRT(5)) -> 283.32317 | CT17: =AVERAGE('Single data'!EP18:ET18) -> 431.85682 | CU17: ± | CV17: =_xlfn.STDEV.S('Single data'!EP18:ET18)/SQRT(5) -> 195.54815 | CW17: =AVERAGE('Single data'!EU18:EY18) -> 902.46532 | CX17: ± | CY17: =(_xlfn.STDEV.S('Single data'!EU18:EY18)/SQRT(5)) -> 239.89007 | CZ17: =AVERAGE('Single data'!EZ18:FD18) -> 375.94039 | DA17: ± | DB17: =_xlfn.STDEV.S('Single data'!EZ18:FD18)/SQRT(5) -> 117.20483
C18: LTB4 | D18: =AVERAGE('Single data'!D19:H19) -> 3.9876668 | E18: ± | F18: =(_xlfn.STDEV.S('Single data'!D19:H19)/SQRT(5)) -> 2.2885205 | G18: =AVERAGE('Single data'!I19:L19) -> 41.86843 | H18: ± | I18: =(_xlfn.STDEV.S('Single data'!I19:L19)/SQRT(4)) -> 41.22632 | J18: =AVERAGE('Single data'!M19:P19) -> 32.211238 | K18: ± | L18: =(_xlfn.STDEV.S('Single data'!M19:P19)/SQRT(4)) -> 30.679534 | M18: =AVERAGE('Single data'!Q19:T19) -> 2.8947125 | N18: ± | O18: =(_xlfn.STDEV.S('Single data'!Q19:T19)/SQRT(4)) -> 1.4582185 | P18: =AVERAGE('Single data'!U19:X19) -> 4.1133478 | Q18: ± | R18: =_xlfn.STDEV.S('Single data'!U19:X19)/SQRT(4) -> 2.061094 | S18: =AVERAGE('Single data'!Y19:AB19) -> 3.7845361 | T18: ± | U18: =(_xlfn.STDEV.S('Single data'!Y19:AB19)/SQRT(4)) -> 2.3843525 | V18: =AVERAGE('Single data'!AC19:AF19) -> 3.5399995 | W18: ± | X18: =(_xlfn.STDEV.S('Single data'!AC19:AF19)/SQRT(4)) -> 0.87487197 | Y18: =AVERAGE('Single data'!AG19:AJ19) -> 137.03544 | Z18: ± | AA18: =(_xlfn.STDEV.S('Single data'!AG19:AJ19)/SQRT(4)) -> 134.82474 | AB18: =AVERAGE('Single data'!AK19:AN19) -> 95.567299 | AC18: ± | AD18: =(_xlfn.STDEV.S('Single data'!AK19:AN19)/SQRT(3)) -> 90.199948 | AE18: =AVERAGE('Single data'!AO19:AR19) -> 44.090137 | AF18: ± | AG18: =(_xlfn.STDEV.S('Single data'!AO19:AR19)/SQRT(4)) -> 41.492387 | AH18: =AVERAGE('Single data'!AS19:AV19) -> 11.415877 | AI18: ± | AJ18: =_xlfn.STDEV.S('Single data'!AS19:AV19)/SQRT(4) -> 8.6269493 | AK18: =AVERAGE('Single data'!AW19:AZ19) -> 2.9450233 | AL18: ± | AM18: =(_xlfn.STDEV.S('Single data'!AW19:AZ19)/SQRT(4)) -> 0.84890699 | AN18: =AVERAGE('Single data'!BA19:BD19) -> 14.170377 | AO18: ± | AP18: =_xlfn.STDEV.S('Single data'!BA19:BD19)/SQRT(4) -> 10.917308 | AQ18: =AVERAGE('Single data'!BE19:BH19) -> 1.1502943 | AR18: ± | AS18: =(_xlfn.STDEV.S('Single data'!BE19:BH19)/SQRT(4)) -> 0.63509938 | AT18: =AVERAGE('Single data'!BI19:BL19) -> 6.1052775 | AU18: ± | AV18: =_xlfn.STDEV.S('Single data'!BI19:BL19)/SQRT(4) -> 3.4430507 | AW18: =AVERAGE('Single data'!BM19:BP19) -> 1.4170272 | AX18: ± | AY18: =(_xlfn.STDEV.S('Single data'!BM19:BP19)/SQRT(3)) -> 0.98361288 | AZ18: =AVERAGE('Single data'!BQ19:BT19) -> 1.1704549 | BA18: ± | BB18: =_xlfn.STDEV.S('Single data'!BQ19:BT19)/SQRT(4) -> 0.52145917 | BD18: =AVERAGE('Single data'!BV19:CB19) -> 5195.8487 | BE18: ± | BF18: =(_xlfn.STDEV.S('Single data'!BV19:CB19)/SQRT(7)) -> 1086.3076 | BG18: =AVERAGE('Single data'!CC19:CG19) -> 5565.0936 | BH18: ± | BI18: =(_xlfn.STDEV.S('Single data'!CC19:CG19)/SQRT(5)) -> 1658.7963 | BJ18: =AVERAGE('Single data'!CH19:CL19) -> 3374.0144 | BK18: ± | BL18: =(_xlfn.STDEV.S('Single data'!CH19:CL19)/SQRT(5)) -> 782.39932 | BM18: =AVERAGE('Single data'!CM19:CQ19) -> 3027.2217 | BN18: ± | BO18: =(_xlfn.STDEV.S('Single data'!CM19:CQ19)/SQRT(5)) -> 646.32741 | BP18: =AVERAGE('Single data'!CR19:CV19) -> 186.10703 | BQ18: ± | BR18: =_xlfn.STDEV.S('Single data'!CR19:CV19)/SQRT(5) -> 102.64096 | BS18: =AVERAGE('Single data'!CW19:DA19) -> 5782.8188 | BT18: ± | BU18: =(_xlfn.STDEV.S('Single data'!CW19:DA19)/SQRT(5)) -> 1419.3036 | BV18: =AVERAGE('Single data'!DB19:DF19) -> 1355.1722 | BW18: ± | BX18: =(_xlfn.STDEV.S('Single data'!DB19:DF19)/SQRT(5)) -> 460.67944 | BY18: =AVERAGE('Single data'!DG19:DK19) -> 5234.2334 | BZ18: ± | CA18: =(_xlfn.STDEV.S('Single data'!DG19:DK19)/SQRT(5)) -> 1203.919 | CB18: =AVERAGE('Single data'!DL19:DP19) -> 646.01852 | CC18: ± | CD18: =(_xlfn.STDEV.S('Single data'!DL19:DP19)/SQRT(5)) -> 439.92316 | CE18: =AVERAGE('Single data'!DQ19:DU19) -> 4865.2526 | CF18: ± | CG18: =(_xlfn.STDEV.S('Single data'!DQ19:DU19)/SQRT(5)) -> 1565.0345 | CH18: =AVERAGE('Single data'!DV19:DZ19) -> 790.31457 | CI18: ± | CJ18: =_xlfn.STDEV.S('Single data'!DV19:DZ19)/SQRT(5) -> 464.62815 | CK18: =AVERAGE('Single data'!EA19:EE19) -> 4073.1452 | CL18: ± | CM18: =(_xlfn.STDEV.S('Single data'!EA19:EE19)/SQRT(5)) -> 1132.8699 | CN18: =AVERAGE('Single data'!EF19:EJ19) -> 2712.039 | CO18: ± | CP18: =_xlfn.STDEV.S('Single data'!EF19:EJ19)/SQRT(5) -> 1626.0015 | CQ18: =AVERAGE('Single data'!EK19:EO19) -> 3932.4667 | CR18: ± | CS18: =(_xlfn.STDEV.S('Single data'!EK19:EO19)/SQRT(5)) -> 1005.3319 | CT18: =AVERAGE('Single data'!EP19:ET19) -> 1744.6437 | CU18: ± | CV18: =_xlfn.STDEV.S('Single data'!EP19:ET19)/SQRT(5) -> 469.00064 | CW18: =AVERAGE('Single data'!EU19:EY19) -> 4057.1161 | CX18: ± | CY18: =(_xlfn.STDEV.S('Single data'!EU19:EY19)/SQRT(5)) -> 569.15548 | CZ18: =AVERAGE('Single data'!EZ19:FD19) -> 1862.4899 | DA18: ± | DB18: =_xlfn.STDEV.S('Single data'!EZ19:FD19)/SQRT(5) -> 382.19919
C19: 5-HEPE | D19: =AVERAGE('Single data'!D20:H20) -> 2.0466446 | E19: ± | F19: =(_xlfn.STDEV.S('Single data'!D20:H20)/SQRT(5)) -> 0.5309697 | G19: =AVERAGE('Single data'!I20:L20) -> 1.0977544 | H19: ± | I19: =(_xlfn.STDEV.S('Single data'!I20:L20)/SQRT(4)) -> 0.16214982 | J19: =AVERAGE('Single data'!M20:P20) -> 0.96160167 | K19: ± | L19: =(_xlfn.STDEV.S('Single data'!M20:P20)/SQRT(4)) -> 0.39827431 | M19: =AVERAGE('Single data'!Q20:T20) -> 1.5799871 | N19: ± | O19: =(_xlfn.STDEV.S('Single data'!Q20:T20)/SQRT(4)) -> 0.11276623 | P19: =AVERAGE('Single data'!U20:X20) -> 4.538468 | Q19: ± | R19: =_xlfn.STDEV.S('Single data'!U20:X20)/SQRT(4) -> 2.024241 | S19: =AVERAGE('Single data'!Y20:AB20) -> 4.1912672 | T19: ± | U19: =(_xlfn.STDEV.S('Single data'!Y20:AB20)/SQRT(4)) -> 2.4734517 | V19: =AVERAGE('Single data'!AC20:AF20) -> 2.4591337 | W19: ± | X19: =(_xlfn.STDEV.S('Single data'!AC20:AF20)/SQRT(4)) -> 0.56013538 | Y19: =AVERAGE('Single data'!AG20:AJ20) -> 1.6201919 | Z19: ± | AA19: =(_xlfn.STDEV.S('Single data'!AG20:AJ20)/SQRT(4)) -> 0.45172369 | AB19: =AVERAGE('Single data'!AK20:AN20) -> 2.9661175 | AC19: ± | AD19: =(_xlfn.STDEV.S('Single data'!AK20:AN20)/SQRT(3)) -> 0.42616267 | AE19: =AVERAGE('Single data'!AO20:AR20) -> 1.6307341 | AF19: ± | AG19: =(_xlfn.STDEV.S('Single data'!AO20:AR20)/SQRT(4)) -> 0.41547029 | AH19: =AVERAGE('Single data'!AS20:AV20) -> 2.283997 | AI19: ± | AJ19: =_xlfn.STDEV.S('Single data'!AS20:AV20)/SQRT(4) -> 1.1267784 | AK19: =AVERAGE('Single data'!AW20:AZ20) -> 0.83962138 | AL19: ± | AM19: =(_xlfn.STDEV.S('Single data'!AW20:AZ20)/SQRT(4)) -> 0.27425919 | AN19: =AVERAGE('Single data'!BA20:BD20) -> 1.3063882 | AO19: ± | AP19: =_xlfn.STDEV.S('Single data'!BA20:BD20)/SQRT(4) -> 0.37033228 | AQ19: =AVERAGE('Single data'!BE20:BH20) -> 10.560025 | AR19: ± | AS19: =(_xlfn.STDEV.S('Single data'!BE20:BH20)/SQRT(4)) -> 9.4697011 | AT19: =AVERAGE('Single data'!BI20:BL20) -> 1.7943972 | AU19: ± | AV19: =_xlfn.STDEV.S('Single data'!BI20:BL20)/SQRT(4) -> 0.27006284 | AW19: =AVERAGE('Single data'!BM20:BP20) -> 2.2309849 | AX19: ± | AY19: =(_xlfn.STDEV.S('Single data'!BM20:BP20)/SQRT(3)) -> 1.2989175 | AZ19: =AVERAGE('Single data'!BQ20:BT20) -> 1.6233779 | BA19: ± | BB19: =_xlfn.STDEV.S('Single data'!BQ20:BT20)/SQRT(4) -> 0.4547379 | BD19: =AVERAGE('Single data'!BV20:CB20) -> 457.2912 | BE19: ± | BF19: =(_xlfn.STDEV.S('Single data'!BV20:CB20)/SQRT(7)) -> 77.842122 | BG19: =AVERAGE('Single data'!CC20:CG20) -> 388.32418 | BH19: ± | BI19: =(_xlfn.STDEV.S('Single data'!CC20:CG20)/SQRT(5)) -> 120.83377 | BJ19: =AVERAGE('Single data'!CH20:CL20) -> 153.0428 | BK19: ± | BL19: =(_xlfn.STDEV.S('Single data'!CH20:CL20)/SQRT(5)) -> 27.670598 | BM19: =AVERAGE('Single data'!CM20:CQ20) -> 196.65131 | BN19: ± | BO19: =(_xlfn.STDEV.S('Single data'!CM20:CQ20)/SQRT(5)) -> 53.449741 | BP19: =AVERAGE('Single data'!CR20:CV20) -> 34.129928 | BQ19: ± | BR19: =_xlfn.STDEV.S('Single data'!CR20:CV20)/SQRT(5) -> 8.7202672 | BS19: =AVERAGE('Single data'!CW20:DA20) -> 320.55697 | BT19: ± | BU19: =(_xlfn.STDEV.S('Single data'!CW20:DA20)/SQRT(5)) -> 60.256521 | BV19: =AVERAGE('Single data'!DB20:DF20) -> 67.874338 | BW19: ± | BX19: =(_xlfn.STDEV.S('Single data'!DB20:DF20)/SQRT(5)) -> 22.368926 | BY19: =AVERAGE('Single data'!DG20:DK20) -> 277.8396 | BZ19: ± | CA19: =(_xlfn.STDEV.S('Single data'!DG20:DK20)/SQRT(5)) -> 51.627123 | CB19: =AVERAGE('Single data'!DL20:DP20) -> 45.901612 | CC19: ± | CD19: =(_xlfn.STDEV.S('Single data'!DL20:DP20)/SQRT(5)) -> 16.890524 | CE19: =AVERAGE('Single data'!DQ20:DU20) -> 259.40753 | CF19: ± | CG19: =(_xlfn.STDEV.S('Single data'!DQ20:DU20)/SQRT(5)) -> 86.30679 | CH19: =AVERAGE('Single data'!DV20:DZ20) -> 84.80207 | CI19: ± | CJ19: =_xlfn.STDEV.S('Single data'!DV20:DZ20)/SQRT(5) -> 44.617819 | CK19: =AVERAGE('Single data'!EA20:EE20) -> 222.3981 | CL19: ± | CM19: =(_xlfn.STDEV.S('Single data'!EA20:EE20)/SQRT(5)) -> 59.764826 | CN19: =AVERAGE('Single data'!EF20:EJ20) -> 143.0179 | CO19: ± | CP19: =_xlfn.STDEV.S('Single data'!EF20:EJ20)/SQRT(5) -> 70.021498 | CQ19: =AVERAGE('Single data'!EK20:EO20) -> 243.48845 | CR19: ± | CS19: =(_xlfn.STDEV.S('Single data'!EK20:EO20)/SQRT(5)) -> 44.637166 | CT19: =AVERAGE('Single data'!EP20:ET20) -> 131.68468 | CU19: ± | CV19: =_xlfn.STDEV.S('Single data'!EP20:ET20)/SQRT(5) -> 41.869657 | CW19: =AVERAGE('Single data'!EU20:EY20) -> 267.05946 | CX19: ± | CY19: =(_xlfn.STDEV.S('Single data'!EU20:EY20)/SQRT(5)) -> 45.136442 | CZ19: =AVERAGE('Single data'!EZ20:FD20) -> 108.29745 | DA19: ± | DB19: =_xlfn.STDEV.S('Single data'!EZ20:FD20)/SQRT(5) -> 21.579215
