Workbook

Sheet Load 12%
B1: Test 1 (Pressure kPa) | H1: Test 2 (Pressure kPa) | N1: Test 3 (Pressure kPa) | T1: Average
A2: Crank Angle [deg] | B2: Cylinder 1 | C2: Cylinder 2 | D2: Cylinder 3 | E2: Cylinder 4 | F2: Cylinder 5 | G2: Cylinder 6 | H2: Cylinder 1 | I2: Cylinder 2 | J2: Cylinder 3 | K2: Cylinder 4 | L2: Cylinder 5 | M2: Cylinder 6 | N2: Cylinder 1 | O2: Cylinder 2 | P2: Cylinder 3 | Q2: Cylinder 4 | R2: Cylinder 5 | S2: Cylinder 6 | T2: Pressure (kPa)
A3: -360 | B3: 81.62793 | C3: 87.603882 | D3: 90.739601 | E3: 101.44704 | F3: 89.892433 | G3: 92.467628 | H3: 82.225746 | I3: 89.248405 | J3: 90.488487 | K3: 105.98981 | L3: 90.993393 | M3: 88.600914 | N3: 81.592087 | O3: 87.371544 | P3: 91.614456 | Q3: 104.73543 | R3: 88.990913 | S3: 88.035118 | T3: =AVERAGE(B3:S3) -> 90.759156
A4: -359.75 | B4: 81.120613 | C4: 88.773117 | D4: 90.452126 | E4: 101.7168 | F4: 89.228096 | G4: 88.020187 | H4: 81.780434 | I4: 87.480049 | J4: 86.584579 | K4: 100.83857 | L4: 89.911118 | M4: 88.034813 | N4: 81.013107 | O4: 86.577568 | P4: 90.082047 | Q4: 102.2834 | R4: 88.999771 | S4: 89.495033 | T4: =AVERAGE(B4:S4) -> 89.577302
A5: -359.5 | B5: 80.738922 | C5: 87.088516 | D5: 91.428909 | E5: 104.58595 | F5: 89.014702 | G5: 87.411407 | H5: 81.719238 | I5: 87.785248 | J5: 91.287292 | K5: 99.543694 | L5: 90.364487 | M5: 88.007439 | N5: 80.54686 | O5: 85.522675 | P5: 92.757927 | Q5: 100.49894 | R5: 88.443336 | S5: 88.689774 | T5: =AVERAGE(B5:S5) -> 89.746406
A6: -359.25 | B6: 79.324081 | C6: 86.302574 | D6: 89.571976 | E6: 104.75747 | F6: 89.169312 | G6: 86.371819 | H6: 80.169922 | I6: 87.012199 | J6: 88.009895 | K6: 100.84258 | L6: 90.867767 | M6: 91.230896 | N6: 80.5839 | O6: 85.332626 | P6: 88.997368 | Q6: 101.47814 | R6: 88.940186 | S6: 88.468338 | T6: =AVERAGE(B6:S6) -> 89.301725
A7: -359 | B7: 79.462585 | C7: 85.478798 | D7: 88.686188 | E7: 102.15326 | F7: 88.210251 | G7: 90.339325 | H7: 80.409889 | I7: 84.56662 | J7: 88.238602 | K7: 100.00834 | L7: 88.950439 | M7: 87.331825 | N7: 79.074043 | O7: 85.446976 | P7: 87.871613 | Q7: 101.7318 | R7: 87.291817 | S7: 85.722397 | T7: =AVERAGE(B7:S7) -> 88.387487
A8: -358.75 | B8: 79.421516 | C8: 86.268753 | D8: 88.362473 | E8: 100.21016 | F8: 86.418541 | G8: 86.936295 | H8: 79.471764 | I8: 86.249619 | J8: 84.983734 | K8: 98.83667 | L8: 87.673294 | M8: 90.887047 | N8: 78.079552 | O8: 83.450737 | P8: 87.481873 | Q8: 99.434387 | R8: 86.825569 | S8: 86.476929 | T8: =AVERAGE(B8:S8) -> 87.637162
A9: -358.5 | B9: 77.690216 | C9: 85.931351 | D9: 88.265831 | E9: 101.04845 | F9: 86.872711 | G9: 84.20887 | H9: 78.142281 | I9: 86.637749 | J9: 87.634651 | K9: 99.789291 | L9: 87.60244 | M9: 89.790283 | N9: 78.106117 | O9: 83.405647 | P9: 90.183517 | Q9: 98.313454 | R9: 85.305244 | S9: 86.41333 | T9: =AVERAGE(B9:S9) -> 87.518968
A10: -358.25 | B10: 77.605659 | C10: 84.518929 | D10: 88.206238 | E10: 103.31445 | F10: 86.834862 | G10: 87.851875 | H10: 78.817085 | I10: 84.391876 | J10: 88.647675 | K10: 101.76138 | L10: 88.82724 | M10: 88.452744 | N10: 78.153625 | O10: 83.17292 | P10: 87.037369 | Q10: 97.788429 | R10: 86.076675 | S10: 88.258972 | T10: =AVERAGE(B10:S10) -> 87.762111
A11: -358 | B11: 76.265709 | C11: 82.773926 | D11: 86.929901 | E11: 100.36962 | F11: 86.506317 | G11: 87.151306 | H11: 78.174492 | I11: 83.051117 | J11: 85.868721 | K11: 100.09689 | L11: 85.249474 | M11: 87.740906 | N11: 77.536804 | O11: 82.396652 | P11: 87.231438 | Q11: 99.117912 | R11: 84.557144 | S11: 86.334404 | T11: =AVERAGE(B11:S11) -> 86.519596
A12: -357.75 | B12: 76.806839 | C12: 81.949348 | D12: 87.596649 | E12: 96.354591 | F12: 83.575172 | G12: 84.054283 | H12: 77.125237 | I12: 81.868996 | J12: 85.920258 | K12: 99.42128 | L12: 84.924133 | M12: 87.542007 | N12: 76.601089 | O12: 81.734726 | P12: 87.299881 | Q12: 100.24286 | R12: 85.828651 | S12: 84.188385 | T12: =AVERAGE(B12:S12) -> 85.724133
A13: -357.5 | B13: 75.258331 | C13: 82.470352 | D13: 85.048004 | E13: 98.751038 | F13: 86.611809 | G13: 79.379745 | H13: 77.638992 | I13: 81.799744 | J13: 85.189888 | K13: 98.318893 | L13: 87.382599 | M13: 83.485092 | N13: 76.086533 | O13: 80.471275 | P13: 83.576363 | Q13: 96.113503 | R13: 81.837784 | S13: 83.553024 | T13: =AVERAGE(B13:S13) -> 84.609609
A14: -357.25 | B14: 74.184113 | C14: 81.823723 | D14: 85.151878 | E14: 97.088982 | F14: 83.166908 | G14: 82.553276 | H14: 76.203217 | I14: 82.311081 | J14: 84.158356 | K14: 95.28788 | L14: 83.803215 | M14: 81.853638 | N14: 74.122505 | O14: 81.611519 | P14: 86.687889 | Q14: 95.931503 | R14: 83.306587 | S14: 83.737427 | T14: =AVERAGE(B14:S14) -> 84.05465
... A2882: 359.75 | B2882: 81.485397 | C2882: 86.800232 | D2882: 94.614517 | E2882: 102.83369 | F2882: 91.115623 | G2882: 88.363213 | H2882: 81.33271 | I2882: 89.225052 | J2882: 90.172028 | K2882: 102.99424 | L2882: 91.357361 | M2882: 90.035896 | N2882: 81.721733 | O2882: 88.242035 | P2882: 90.931602 | Q2882: 104.0131 | R2882: 91.313286 | S2882: 91.352783 | T2882: =AVERAGE(B2882:S2882) -> 90.994695

Sheet Load 25%
B1: Test 1 (Pressure kPa) | H1: Test 2 (Pressure kPa) | N1: Test 3 (Pressure kPa) | T1: Average
A2: Crank Angle [deg] | B2: Cylinder 1 | C2: Cylinder 2 | D2: Cylinder 3 | E2: Cylinder 4 | F2: Cylinder 5 | G2: Cylinder 6 | H2: Cylinder 1 | I2: Cylinder 2 | J2: Cylinder 3 | K2: Cylinder 4 | L2: Cylinder 5 | M2: Cylinder 6 | N2: Cylinder 1 | O2: Cylinder 2 | P2: Cylinder 3 | Q2: Cylinder 4 | R2: Cylinder 5 | S2: Cylinder 6 | T2: Pressure (kPa)
A3: -360 | B3: 73.177513 | C3: 71.108826 | D3: 80.131813 | E3: 89.669296 | F3: 73.614807 | G3: 78.015587 | H3: 73.122353 | I3: 70.701622 | J3: 81.107246 | K3: 91.210022 | L3: 71.474739 | M3: 77.175949 | N3: 76.260071 | O3: 70.623169 | P3: 81.091675 | Q3: 101.22314 | R3: 97.196777 | S3: 74.649658 | T3: =AVERAGE(B3:S3) -> 79.530793
A4: -359.75 | B4: 72.616249 | C4: 71.840805 | D4: 78.840981 | E4: 90.857056 | F4: 73.056763 | G4: 77.015457 | H4: 71.419228 | I4: 67.86631 | J4: 79.116646 | K4: 90.886307 | L4: 71.010101 | M4: 77.663132 | N4: 84.312622 | O4: 64.986328 | P4: 71.428589 | Q4: 56.93396 | R4: 71.428467 | S4: 26.334106 | T4: =AVERAGE(B4:S4) -> 72.089617
A5: -359.5 | B5: 72.618668 | C5: 69.269615 | D5: 79.504517 | E5: 92.720428 | F5: 70.075684 | G5: 77.293274 | H5: 70.324883 | I5: 68.919586 | J5: 79.031288 | K5: 93.10318 | L5: 73.101357 | M5: 77.649437 | N5: 79.481079 | O5: 60.960083 | P5: 76.260132 | Q5: 96.391602 | R5: 71.428467 | S5: 159.2019 | T5: =AVERAGE(B5:S5) -> 81.518621
A6: -359.25 | B6: 71.760262 | C6: 68.780823 | D6: 77.319038 | E6: 90.784576 | F6: 70.677216 | G6: 76.914803 | H6: 69.943184 | I6: 68.119156 | J6: 76.53418 | K6: 94.283691 | L6: 71.125252 | M6: 75.960808 | N6: 77.065308 | O6: 71.428467 | P6: 89.949463 | Q6: 212.34912 | R6: 30.360229 | S6: 98.002197 | T6: =AVERAGE(B6:S6) -> 82.85321
A7: -359 | B7: 71.786026 | C7: 69.662582 | D7: 76.868904 | E7: 89.43335 | F7: 69.667419 | G7: 74.298515 | H7: 69.80629 | I7: 67.790611 | J7: 77.862045 | K7: 90.970856 | L7: 70.547081 | M7: 75.173264 | N7: 77.870544 | O7: 91.560059 | P7: 71.428589 | Q7: 123.77051 | R7: 78.675903 | S7: 65.791748 | T7: =AVERAGE(B7:S7) -> 78.498016
A8: -358.75 | B8: 70.920372 | C8: 68.0746 | D8: 75.805153 | E8: 90.789406 | F8: 70.345451 | G8: 77.908493 | H8: 69.502708 | I8: 67.259148 | J8: 77.10833 | K8: 88.729012 | L8: 71.585861 | M8: 75.603271 | N8: 84.312622 | O8: 59.349487 | P8: 76.260132 | Q8: 18.281494 | R8: 85.923218 | S8: 127.79675 | T8: =AVERAGE(B8:S8) -> 75.30864
A9: -358.5 | B9: 70.12236 | C9: 68.291222 | D9: 76.034653 | E9: 90.022003 | F9: 68.770363 | G9: 75.193962 | H9: 69.300591 | I9: 66.369324 | J9: 75.001778 | K9: 86.396179 | L9: 69.316643 | M9: 74.446114 | N9: 40.828674 | O9: 110.88623 | P9: 93.97583 | Q9: 50.491821 | R9: 69.012695 | S9: 109.27576 | T9: =AVERAGE(B9:S9) -> 75.763122
A10: -358.25 | B10: 69.229332 | C10: 67.64782 | D10: 74.755096 | E10: 85.954636 | F10: 69.292175 | G10: 72.672699 | H10: 67.012047 | I10: 63.806992 | J10: 75.534851 | K10: 92.269737 | L10: 68.948631 | M10: 72.076233 | N10: 80.286316 | O10: 69.817871 | P10: 73.84436 | Q10: 144.70728 | R10: 62.570557 | S10: 40.02356 | T10: =AVERAGE(B10:S10) -> 75.02501
A11: -358 | B11: 68.329857 | C11: 67.028572 | D11: 73.55043 | E11: 86.498184 | F11: 67.845924 | G11: 72.146858 | H11: 66.749527 | I11: 64.431068 | J11: 74.067673 | K11: 91.099701 | L11: 69.149948 | M11: 73.833313 | N11: 73.039001 | O11: 55.323242 | P11: 72.233765 | Q11: 154.37036 | R11: 66.596924 | S11: 72.233887 | T11: =AVERAGE(B11:S11) -> 76.029346
A12: -357.75 | B12: 67.667931 | C12: 65.269081 | D12: 74.077072 | E12: 87.592537 | F12: 67.801636 | G12: 71.572708 | H12: 67.00238 | I12: 63.146683 | J12: 74.089417 | K12: 86.43 | L12: 66.87912 | M12: 71.73159 | N12: 31.970825 | O12: 74.649414 | P12: 78.675903 | Q12: 50.491821 | R12: 90.754761 | S12: 100.41797 | T12: =AVERAGE(B12:S12) -> 71.678936
A13: -357.5 | B13: 66.321541 | C13: 64.829414 | D13: 72.150085 | E13: 86.410408 | F13: 66.357803 | G13: 73.574585 | H13: 64.996483 | I13: 64.102524 | J13: 73.652969 | K13: 85.078781 | L13: 67.099762 | M13: 69.432571 | N13: 71.428467 | O13: 41.633911 | P13: 84.312622 | Q13: 96.391602 | R13: 78.675903 | S13: 99.612671 | T13: =AVERAGE(B13:S13) -> 73.670117
A14: -357.25 | B14: 66.633171 | C14: 64.01046 | D14: 70.356773 | E14: 86.049652 | F14: 65.56543 | G14: 73.166313 | H14: 65.188133 | I14: 61.689968 | J14: 73.794693 | K14: 87.359268 | L14: 64.491524 | M14: 69.790909 | N14: 74.649536 | O14: 73.03894 | P14: 45.660278 | Q14: 149.53882 | R14: 27.944458 | S14: 77.870728 | T14: =AVERAGE(B14:S14) -> 72.044392
... A2882: 359.75 | B2882: 74.238846 | C2882: 70.291489 | D2882: 79.759781 | E2882: 91.615608 | F2882: 70.748085 | G2882: 78.237839 | H2882: 72.350914 | I2882: 69.227997 | J2882: 79.793877 | K2882: 92.478302 | L2882: 74.96151 | M2882: 77.086563 | N2882: 84.312622 | O2882: 71.428467 | P2882: 76.260132 | Q2882: 100.41797 | R2882: 75.454834 | S2882: 31.970947 | T2882: =AVERAGE(B2882:S2882) -> 76.146432

Sheet Load 50%
B1: Test 1 (Pressure kPa) | H1: Test 2 (Pressure kPa) | N1: Test 3 (Pressure kPa) | T1: Average
A2: Crank Angle [deg] | B2: Cylinder 1 | C2: Cylinder 2 | D2: Cylinder 3 | E2: Cylinder 4 | F2: Cylinder 5 | G2: Cylinder 6 | H2: Cylinder 1 | I2: Cylinder 2 | J2: Cylinder 3 | K2: Cylinder 4 | L2: Cylinder 5 | M2: Cylinder 6 | N2: Cylinder 1 | O2: Cylinder 2 | P2: Cylinder 3 | Q2: Cylinder 4 | R2: Cylinder 5 | S2: Cylinder 6 | T2: Pressure (kPa)
A3: -360 | B3: 41.964378 | C3: 46.40295 | D3: 60.74786 | E3: 60.345253 | F3: 40.339382 | G3: 49.006386 | H3: 40.933762 | I3: 45.845829 | J3: 60.484673 | K3: 62.472054 | L3: 36.5741 | M3: 49.55328 | N3: 42.039249 | O3: 45.809437 | P3: 60.999886 | Q3: 60.623814 | R3: 37.437996 | S3: 48.127781 | T3: =AVERAGE(B3:S3) -> 49.428226
A4: -359.75 | B4: 41.287155 | C4: 45.411674 | D4: 61.728668 | E4: 63.151585 | F4: 40.324081 | G4: 47.613285 | H4: 41.163261 | I4: 44.833618 | J4: 59.864624 | K4: 60.55312 | L4: 36.02169 | M4: 49.389008 | N4: 41.04073 | O4: 45.175694 | P4: 60.535252 | Q4: 57.847279 | R4: 38.617702 | S4: 46.334469 | T4: =AVERAGE(B4:S4) -> 48.938494
A5: -359.5 | B5: 41.453842 | C5: 44.105545 | D5: 60.039234 | E5: 62.993752 | F5: 40.072842 | G5: 47.540009 | H5: 40.060863 | I5: 44.485748 | J5: 60.66827 | K5: 61.478363 | L5: 38.546986 | M5: 47.354923 | N5: 40.545494 | O5: 44.878555 | P5: 60.110077 | Q5: 61.446785 | R5: 37.511276 | S5: 48.823524 | T5: =AVERAGE(B5:S5) -> 49.006449
A6: -359.25 | B6: 39.242599 | C6: 43.812435 | D6: 59.909584 | E6: 62.182049 | F6: 37.425953 | G6: 48.915386 | H6: 39.064758 | I6: 44.781277 | J6: 58.399857 | K6: 60.489506 | L6: 36.195629 | M6: 47.904919 | N6: 39.016308 | O6: 44.516994 | P6: 59.501301 | Q6: 59.212997 | R6: 34.973907 | S6: 47.889423 | T6: =AVERAGE(B6:S6) -> 47.968605
A7: -359 | B7: 39.203949 | C7: 44.095078 | D7: 58.890125 | E7: 58.54147 | F7: 39.456818 | G7: 47.877411 | H7: 39.78788 | I7: 43.346306 | J7: 58.472328 | K7: 58.764641 | L7: 36.587791 | M7: 47.766411 | N7: 39.439068 | O7: 44.194084 | P7: 58.586529 | Q7: 58.049397 | R7: 37.596638 | S7: 45.081486 | T7: =AVERAGE(B7:S7) -> 47.540967
A8: -358.75 | B8: 38.915665 | C8: 43.60709 | D8: 59.081776 | E8: 60.076294 | F8: 38.066135 | G8: 47.850838 | H8: 38.205547 | I8: 42.838993 | J8: 57.156536 | K8: 59.72612 | L8: 35.625504 | M8: 46.208237 | N8: 38.467121 | O8: 43.729446 | P8: 57.848907 | Q8: 59.336201 | R8: 35.211456 | S8: 45.336754 | T8: =AVERAGE(B8:S8) -> 47.07159
A9: -358.5 | B9: 38.628994 | C9: 43.874439 | D9: 57.550175 | E9: 57.282852 | F9: 37.774632 | G9: 46.296688 | H9: 37.140995 | I9: 41.217201 | J9: 57.551109 | K9: 60.838985 | L9: 36.071617 | M9: 46.117241 | N9: 37.855125 | O9: 42.02552 | P9: 57.23772 | Q9: 56.854393 | R9: 34.283798 | S9: 46.71133 | T9: =AVERAGE(B9:S9) -> 46.406268
A10: -358.25 | B10: 38.549274 | C10: 41.750164 | D10: 57.579964 | E10: 56.785202 | F10: 35.515072 | G10: 45.647648 | H10: 35.623886 | I10: 40.60762 | J10: 56.609764 | K10: 59.362144 | L10: 34.706703 | M10: 44.634762 | N10: 36.578789 | O10: 40.922318 | P10: 56.935745 | Q10: 56.17717 | R10: 33.764408 | S10: 44.54921 | T10: =AVERAGE(B10:S10) -> 45.349991
A11: -358 | B11: 36.619068 | C11: 41.339481 | D11: 55.491123 | E11: 56.922897 | F11: 35.062515 | G11: 44.368896 | H11: 36.573288 | I11: 40.596344 | J11: 55.235184 | K11: 55.410736 | L11: 34.370106 | M11: 43.364868 | N11: 36.574764 | O11: 40.760456 | P11: 54.867035 | Q11: 57.642742 | R11: 35.309704 | S11: 41.745296 | T11: =AVERAGE(B11:S11) -> 44.569695
A12: -357.75 | B12: 36.94117 | C12: 40.878071 | D12: 56.27383 | E12: 56.012955 | F12: 34.58419 | G12: 43.852726 | H12: 35.49424 | I12: 39.503609 | J12: 54.169022 | K12: 55.020992 | L12: 32.984253 | M12: 41.851784 | N12: 35.92009 | O12: 40.54948 | P12: 55.261612 | Q12: 54.571484 | R12: 33.089603 | S12: 43.890511 | T12: =AVERAGE(B12:S12) -> 43.93609
A13: -357.5 | B13: 35.701878 | C13: 39.125019 | D13: 54.595673 | E13: 55.032959 | F13: 34.2033 | G13: 44.898758 | H13: 34.831512 | I13: 39.650166 | J13: 52.775116 | K13: 59.352482 | L13: 31.079813 | M13: 41.040085 | N13: 36.613419 | O13: 40.031696 | P13: 54.721283 | Q13: 52.319981 | R13: 31.176308 | S13: 42.540089 | T13: =AVERAGE(B13:S13) -> 43.316085
A14: -357.25 | B14: 35.493317 | C14: 39.335194 | D14: 53.07856 | E14: 55.150524 | F14: 33.692768 | G14: 41.554516 | H14: 34.828289 | I14: 39.082458 | J14: 53.945156 | K14: 57.770145 | L14: 33.22583 | M14: 40.035927 | N14: 34.46579 | O14: 39.116119 | P14: 53.396633 | Q14: 54.493374 | R14: 31.234285 | S14: 39.783688 | T14: =AVERAGE(B14:S14) -> 42.760143
... A2882: 359.75 | B2882: 42.298561 | C2882: 47.297592 | D2882: 62.192497 | E2882: 62.823841 | F2882: 39.960102 | G2882: 52.5769 | H2882: 41.830822 | I2882: 45.557545 | J2882: 59.95723 | K2882: 63.330463 | L2882: 39.737961 | M2882: 53.197884 | N2882: 42.640778 | O2882: 46.583286 | P2882: 61.18832 | Q2882: 62.233524 | R2882: 37.834183 | S2882: 50.183609 | T2882: =AVERAGE(B2882:S2882) -> 50.634728

Sheet Load 75%
B1: Test 1 (Pressure kPa) | H1: Test 2 (Pressure kPa) | N1: Test 3 (Pressure kPa) | T1: Average
A2: Crank Angle [deg] | B2: Cylinder 1 | C2: Cylinder 2 | D2: Cylinder 3 | E2: Cylinder 4 | F2: Cylinder 5 | G2: Cylinder 6 | H2: Cylinder 1 | I2: Cylinder 2 | J2: Cylinder 3 | K2: Cylinder 4 | L2: Cylinder 5 | M2: Cylinder 6 | N2: Cylinder 1 | O2: Cylinder 2 | P2: Cylinder 3 | Q2: Cylinder 4 | R2: Cylinder 5 | S2: Cylinder 6 | T2: Pressure (kPa)
A3: -360 | B3: 18.515947 | C3: 20.663576 | D3: 33.209507 | E3: 36.473225 | F3: 16.841013 | G3: 17.027027 | H3: 17.321159 | I3: 21.964283 | J3: 33.452099 | K3: 36.741585 | L3: 17.987909 | M3: 16.08671 | N3: 19.074116 | O3: 19.612835 | P3: 33.229755 | Q3: 35.636681 | R3: 19.090218 | S3: 15.907043 | T3: =AVERAGE(B3:S3) -> 23.824149
A4: -359.75 | B4: 19.351807 | C4: 19.998432 | D4: 33.335129 | E4: 35.948196 | F4: 15.571924 | G4: 15.722508 | H4: 16.627026 | I4: 21.216196 | J4: 32.931904 | K4: 35.786549 | L4: 16.37417 | M4: 17.431494 | N4: 17.778454 | O4: 19.868906 | P4: 31.880144 | Q4: 34.870071 | R4: 16.302412 | S4: 14.593665 | T4: =AVERAGE(B4:S4) -> 23.088277
A5: -359.5 | B5: 18.147943 | C5: 19.826912 | D5: 31.553896 | E5: 35.105896 | F5: 17.620502 | G5: 15.317464 | H5: 16.629442 | I5: 21.022129 | J5: 33.432774 | K5: 35.411297 | L5: 16.783243 | M5: 16.30574 | N5: 17.558617 | O5: 18.766508 | P5: 31.611187 | Q5: 33.518044 | R5: 16.663973 | S5: 15.201635 | T5: =AVERAGE(B5:S5) -> 22.804289
A6: -359.25 | B6: 18.259069 | C6: 20.828655 | D6: 31.720585 | E6: 34.151661 | F6: 15.216805 | G6: 14.769082 | H6: 16.498186 | I6: 19.808605 | J6: 32.950424 | K6: 34.879021 | L6: 16.842026 | M6: 15.712264 | N6: 17.137468 | O6: 18.721413 | P6: 30.761639 | Q6: 33.705669 | R6: 17.288048 | S6: 14.989047 | T6: =AVERAGE(B6:S6) -> 22.457759
A7: -359 | B7: 16.304707 | C7: 19.859928 | D7: 31.107782 | E7: 34.156494 | F7: 15.348867 | G7: 12.991071 | H7: 17.309887 | I7: 19.378597 | J7: 31.889896 | K7: 34.379761 | L7: 15.391755 | M7: 15.698575 | N7: 17.081903 | O7: 18.314756 | P7: 29.800159 | Q7: 33.751568 | R7: 16.57781 | S7: 13.285924 | T7: =AVERAGE(B7:S7) -> 21.812747
A8: -358.75 | B8: 16.738741 | C8: 17.895903 | D8: 30.368555 | E8: 34.228966 | F8: 15.813502 | G8: 13.622395 | H8: 15.630116 | I8: 19.678152 | J8: 30.4662 | K8: 34.837955 | L8: 15.639774 | M8: 14.931164 | N8: 16.314493 | O8: 18.967823 | P8: 29.02389 | Q8: 32.380215 | R8: 15.815229 | S8: 12.791495 | T8: =AVERAGE(B8:S8) -> 21.39692
A9: -358.5 | B9: 17.59473 | C9: 18.160831 | D9: 28.580074 | E9: 32.690117 | F9: 17.327389 | G9: 13.498384 | H9: 15.933699 | I9: 18.672384 | J9: 29.254286 | K9: 32.662144 | L9: 15.592264 | M9: 13.699118 | N9: 16.563318 | O9: 17.300131 | P9: 28.922428 | Q9: 31.713459 | R9: 16.007687 | S9: 13.617691 | T9: =AVERAGE(B9:S9) -> 20.988341
A10: -358.25 | B10: 17.577015 | C10: 16.973076 | D10: 29.199318 | E10: 32.855999 | F10: 14.128096 | G10: 13.334917 | H10: 15.613206 | I10: 19.508244 | J10: 30.347021 | K10: 32.429424 | L10: 13.538855 | M10: 13.143488 | N10: 16.114788 | O10: 17.263895 | P10: 28.221046 | Q10: 31.241577 | R10: 13.929314 | S10: 11.071463 | T10: =AVERAGE(B10:S10) -> 20.360597
A11: -358 | B11: 15.861814 | C11: 17.962738 | D11: 28.762062 | E11: 31.898548 | F11: 13.226206 | G11: 11.343512 | H11: 14.823247 | I11: 17.776131 | J11: 28.956339 | K11: 32.739449 | L11: 13.535633 | M11: 14.022027 | N11: 15.284566 | O11: 16.580231 | P11: 27.277285 | Q11: 30.627165 | R11: 14.034802 | S11: 11.517575 | T11: =AVERAGE(B11:S11) -> 19.790518
A12: -357.75 | B12: 16.574469 | C12: 16.429525 | D12: 27.022703 | E12: 31.560339 | F12: 15.471268 | G12: 11.314524 | H12: 15.068046 | I12: 17.553074 | J12: 29.05619 | K12: 31.734486 | L12: 14.743522 | M12: 13.649997 | N12: 16.062447 | O12: 16.793623 | P12: 27.632402 | Q12: 30.859884 | R12: 14.136265 | S12: 10.662391 | T12: =AVERAGE(B12:S12) -> 19.795842
A13: -357.5 | B13: 15.985825 | C13: 17.243643 | D13: 27.346418 | E13: 31.336477 | F13: 12.987849 | G13: 11.506174 | H13: 14.02443 | I13: 17.165745 | J13: 27.56002 | K13: 31.572628 | L13: 12.7956 | M13: 12.022568 | N13: 15.232224 | O13: 15.472999 | P13: 26.141869 | Q13: 30.077173 | R13: 13.934145 | S13: 9.2515774 | T13: =AVERAGE(B13:S13) -> 18.980965
A14: -357.25 | B14: 15.459185 | C14: 15.980191 | D14: 27.069408 | E14: 30.606913 | F14: 11.549657 | G14: 11.186486 | H14: 15.535901 | I14: 16.738153 | J14: 26.54781 | K14: 29.858232 | L14: 12.09422 | M14: 12.016127 | N14: 14.525207 | O14: 14.069433 | P14: 26.424515 | Q14: 30.317945 | R14: 11.238138 | S14: 10.247682 | T14: =AVERAGE(B14:S14) -> 18.414734
... A2882: 359.75 | B2882: 18.920992 | C2882: 21.650824 | D2882: 32.633747 | E2882: 36.486916 | F2882: 17.949854 | G2882: 14.890676 | H2882: 18.427586 | I2882: 21.865236 | J2882: 34.946659 | K2882: 36.114288 | L2882: 18.304377 | M2882: 16.962831 | N2882: 18.706917 | O2882: 21.225767 | P2882: 33.098499 | Q2882: 36.127888 | R2882: 17.338779 | S2882: 16.213041 | T2882: =AVERAGE(B2882:S2882) -> 23.992493

Sheet Load 100%
B1: Test 1 (Pressure kPa) | H1: Test 2 (Pressure kPa) | N1: Test 3 (Pressure kPa) | T1: Average
A2: Crank Angle [deg] | B2: Cylinder 1 | C2: Cylinder 2 | D2: Cylinder 3 | E2: Cylinder 4 | F2: Cylinder 5 | G2: Cylinder 6 | H2: Cylinder 1 | I2: Cylinder 2 | J2: Cylinder 3 | K2: Cylinder 4 | L2: Cylinder 5 | M2: Cylinder 6 | N2: Cylinder 1 | O2: Cylinder 2 | P2: Cylinder 3 | Q2: Cylinder 4 | R2: Cylinder 5 | S2: Cylinder 6 | T2: Pressure (kPa)
A3: -360 | B3: -7.7430596 | C3: -3.5420258 | D3: 3.4097743 | E3: 18.997196 | F3: -9.0588531 | G3: -9.4042435 | H3: -6.120502 | I3: -2.729564 | J3: 2.0464268 | K3: 19.539093 | L3: -7.624733 | M3: -8.7415648 | N3: -5.644824 | O3: -1.5935683 | P3: 4.2848201 | Q3: 19.642742 | R3: -4.8516488 | S3: -7.3527131 | T3: =AVERAGE(B3:S3) -> -0.36040264
A4: -359.75 | B4: -8.0104055 | C4: -5.4359946 | D4: 2.494195 | E4: 17.616179 | F4: -8.3011055 | G4: -10.014629 | H4: -6.5078316 | I4: -3.0516675 | J4: 2.0021374 | K4: 19.968296 | L4: -7.4958916 | M4: -8.2261982 | N4: -3.9247911 | O4: -3.0969868 | P4: 3.1759787 | Q4: 19.183746 | R4: -5.3637934 | S4: -7.5556388 | T4: =AVERAGE(B4:S4) -> -0.69691122
A5: -359.5 | B5: -8.1150894 | C5: -4.1467752 | D5: 2.3790431 | E5: 17.380239 | F5: -10.069453 | G5: -9.6860838 | H5: -6.6825728 | I5: -3.9938204 | J5: 2.0327373 | K5: 19.787113 | L5: -8.2190142 | M5: -8.5958138 | N5: -4.5392036 | O5: -2.7088518 | P5: 2.4246721 | Q5: 18.35755 | R5: -6.1956258 | S5: -7.2746038 | T5: =AVERAGE(B5:S5) -> -0.99253073
A6: -359.25 | B6: -9.64186 | C6: -5.5390677 | D6: 0.85066164 | E6: 17.554174 | F6: -9.9019594 | G6: -9.6860847 | H6: -7.0747337 | I6: -4.0517988 | J6: 1.0124744 | K6: 18.888445 | L6: -7.2076087 | M6: -9.8640947 | N6: -5.7954073 | O6: -2.220865 | P6: 1.9672852 | Q6: 18.819767 | R6: -6.3768091 | S6: -8.8424425 | T6: =AVERAGE(B6:S6) -> -1.5061069
A7: -359 | B7: -9.0902576 | C7: -5.8136611 | D7: 1.0286239 | E7: 17.307766 | F7: -10.557441 | G7: -10.638704 | H7: -7.395227 | I7: -4.0292516 | J7: 0.48019814 | K7: 19.195246 | L7: -7.0562201 | M7: -9.3600025 | N7: -7.0411425 | O7: -4.1647601 | P7: 2.7661018 | Q7: 19.294065 | R7: -3.9658644 | S7: -7.7021952 | T7: =AVERAGE(B7:S7) -> -1.485707
A8: -358.75 | B8: -9.5299292 | C8: -6.2404485 | D8: 0.94326651 | E8: 16.846352 | F8: -10.310225 | G8: -11.283717 | H8: -7.557889 | I8: -3.893163 | J8: 0.8055228 | K8: 17.951927 | L8: -7.7922268 | M8: -9.0644732 | N8: -6.5797296 | O8: -3.2137492 | P8: 3.1606789 | Q8: 17.715759 | R8: -8.9045172 | S8: -9.8554583 | T8: =AVERAGE(B8:S8) -> -2.0445567
A9: -358.5 | B9: -8.7907009 | C9: -5.3731847 | D9: 1.6003577 | E9: 15.885677 | F9: -10.836865 | G9: -12.903897 | H9: -7.5039368 | I9: -4.4785862 | J9: -0.17528254 | K9: 17.889921 | L9: -8.7754478 | M9: -10.650833 | N9: -6.784265 | O9: -4.4522371 | P9: 0.38897777 | Q9: 18.238371 | R9: -8.9649115 | S9: -10.029393 | T9: =AVERAGE(B9:S9) -> -2.5397909
A10: -358.25 | B10: -10.298146 | C10: -6.9531026 | D10: 0.94165593 | E10: 15.95493 | F10: -12.061664 | G10: -12.246001 | H10: -7.0586286 | I10: -4.4608703 | J10: -1.1061618 | K10: 17.190151 | L10: -10.395629 | M10: -10.388318 | N10: -6.0313482 | O10: -5.7028046 | P10: 0.64746583 | Q10: 17.007936 | R10: -6.2817888 | S10: -10.590659 | T10: =AVERAGE(B10:S10) -> -2.8796101
A11: -358 | B11: -9.6950073 | C11: -7.6448197 | D11: 0.14364445 | E11: 15.190739 | F11: -12.095485 | G11: -11.609847 | H11: -8.6200256 | I11: -5.7492847 | J11: 0.16131574 | K11: 16.476694 | L11: -10.525275 | M11: -10.363357 | N11: -7.4075356 | O11: -4.8806348 | P11: 0.42118815 | Q11: 15.96996 | R11: -9.5382557 | S11: -9.8280792 | T11: =AVERAGE(B11:S11) -> -3.3107814
A12: -357.75 | B12: -10.517982 | C12: -6.434516 | D12: -0.70187736 | E12: 15.945268 | F12: -11.976306 | G12: -11.891688 | H12: -8.6498203 | I12: -5.3063922 | J12: -1.4580599 | K12: 16.855165 | L12: -11.138078 | M12: -12.832278 | N12: -6.7278972 | O12: -6.3800268 | P12: -1.1933559 | Q12: 16.817089 | R12: -12.028116 | S12: -10.46987 | T12: =AVERAGE(B12:S12) -> -3.7827078
A13: -357.5 | B13: -10.229699 | C13: -7.3798895 | D13: -0.83716089 | E13: 14.98862 | F13: -11.496372 | G13: -13.562599 | H13: -7.2857118 | I13: -6.9917989 | J13: -2.1731298 | K13: 16.756922 | L13: -10.967362 | M13: -12.469107 | N13: -7.2126627 | O13: -7.5822787 | P13: 0.32375181 | Q13: 16.903254 | R13: -8.6395864 | S13: -11.478054 | T13: =AVERAGE(B13:S13) -> -3.8518259
A14: -357.25 | B14: -9.6362228 | C14: -8.4790678 | D14: -0.78240323 | E14: 15.188322 | F14: -13.071459 | G14: -12.273378 | H14: -8.4670267 | I14: -5.809679 | J14: -2.7649949 | K14: 16.286652 | L14: -12.46756 | M14: -11.903009 | N14: -7.3576093 | O14: -5.5079317 | P14: -1.6161168 | Q14: 16.681 | R14: -9.8740492 | S14: -12.886451 | T14: =AVERAGE(B14:S14) -> -4.152277
... A2882: 359.75 | B2882: -8.1529369 | C2882: -2.8044088 | D2882: 2.8203249 | E2882: 19.510147 | F2882: -8.4210882 | G2882: -8.7648678 | H2882: -7.589294 | I2882: -3.8271317 | J2882: 1.4843562 | K2882: 20.941048 | L2882: -6.5899754 | M2882: -7.3210878 | N2882: -5.2341418 | O2882: -3.5551789 | P2882: 4.0657897 | Q2882: 20.89653 | R2882: -6.9010329 | S2882: -6.7133369 | T2882: =AVERAGE(B2882:S2882) -> -0.34201586

Sheet Summary
A1: Crank Angle [deg] | B1: Load 12% | C1: Load 25% | D1: Load 50% | E1: Load 75% | F1: Load 100%
A2: -360 | B2: ='Load 12%'!T3 -> 90.759156 | C2: ='Load 25%'!T3 -> 79.530793 | D2: ='Load 50%'!T3 -> 49.428226 | E2: ='Load 75%'!T3 -> 23.824149 | F2: ='Load 100%'!T3 -> -0.36040264
A3: -359.75 | B3: ='Load 12%'!T4 -> 89.577302 | C3: ='Load 25%'!T4 -> 72.089617 | D3: ='Load 50%'!T4 -> 48.938494 | E3: ='Load 75%'!T4 -> 23.088277 | F3: ='Load 100%'!T4 -> -0.69691122
A4: -359.5 | B4: ='Load 12%'!T5 -> 89.746406 | C4: ='Load 25%'!T5 -> 81.518621 | D4: ='Load 50%'!T5 -> 49.006449 | E4: ='Load 75%'!T5 -> 22.804289 | F4: ='Load 100%'!T5 -> -0.99253073
A5: -359.25 | B5: ='Load 12%'!T6 -> 89.301725 | C5: ='Load 25%'!T6 -> 82.85321 | D5: ='Load 50%'!T6 -> 47.968605 | E5: ='Load 75%'!T6 -> 22.457759 | F5: ='Load 100%'!T6 -> -1.5061069
A6: -359 | B6: ='Load 12%'!T7 -> 88.387487 | C6: ='Load 25%'!T7 -> 78.498016 | D6: ='Load 50%'!T7 -> 47.540967 | E6: ='Load 75%'!T7 -> 21.812747 | F6: ='Load 100%'!T7 -> -1.485707
A7: -358.75 | B7: ='Load 12%'!T8 -> 87.637162 | C7: ='Load 25%'!T8 -> 75.30864 | D7: ='Load 50%'!T8 -> 47.07159 | E7: ='Load 75%'!T8 -> 21.39692 | F7: ='Load 100%'!T8 -> -2.0445567
A8: -358.5 | B8: ='Load 12%'!T9 -> 87.518968 | C8: ='Load 25%'!T9 -> 75.763122 | D8: ='Load 50%'!T9 -> 46.406268 | E8: ='Load 75%'!T9 -> 20.988341 | F8: ='Load 100%'!T9 -> -2.5397909
A9: -358.25 | B9: ='Load 12%'!T10 -> 87.762111 | C9: ='Load 25%'!T10 -> 75.02501 | D9: ='Load 50%'!T10 -> 45.349991 | E9: ='Load 75%'!T10 -> 20.360597 | F9: ='Load 100%'!T10 -> -2.8796101
A10: -358 | B10: ='Load 12%'!T11 -> 86.519596 | C10: ='Load 25%'!T11 -> 76.029346 | D10: ='Load 50%'!T11 -> 44.569695 | E10: ='Load 75%'!T11 -> 19.790518 | F10: ='Load 100%'!T11 -> -3.3107814
A11: -357.75 | B11: ='Load 12%'!T12 -> 85.724133 | C11: ='Load 25%'!T12 -> 71.678936 | D11: ='Load 50%'!T12 -> 43.93609 | E11: ='Load 75%'!T12 -> 19.795842 | F11: ='Load 100%'!T12 -> -3.7827078
A12: -357.5 | B12: ='Load 12%'!T13 -> 84.609609 | C12: ='Load 25%'!T13 -> 73.670117 | D12: ='Load 50%'!T13 -> 43.316085 | E12: ='Load 75%'!T13 -> 18.980965 | F12: ='Load 100%'!T13 -> -3.8518259
A13: -357.25 | B13: ='Load 12%'!T14 -> 84.05465 | C13: ='Load 25%'!T14 -> 72.044392 | D13: ='Load 50%'!T14 -> 42.760143 | E13: ='Load 75%'!T14 -> 18.414734 | F13: ='Load 100%'!T14 -> -4.152277
... A2881: 359.75 | B2881: ='Load 12%'!T2882 -> 90.994695 | C2881: ='Load 25%'!T2882 -> 76.146432 | D2881: ='Load 50%'!T2882 -> 50.634728 | E2881: ='Load 75%'!T2882 -> 23.992493 | F2881: ='Load 100%'!T2882 -> -0.34201586
