Workbook

Sheet Work Sheet
A1: Work sheet | G1: Start of Project | H1: 44986 | I1: 45352 | J1: 45717 | K1: 46082
A2: Components | B2: 1 - Not Started | C2: 2 – Beginning | D2: 3 - Intermediate | E2: 4 - Mature | F2: 5 - Idealized State | G2: Enter 1,2,3,4,5, N/A as appropriate | H2: Enter 1,2,3,4,5, N/A as appropriate | I2: Enter 1,2,3,4,5, N/A as appropriate | J2: Enter 1,2,3,4,5, N/A as appropriate | K2: Enter 1,2,3,4,5, N/A as appropriate
A3: Engagement of People | B3: No contact with stakeholders | C3: Consultation with less than three of: consumers, carers, clinicians, managers, executive, CEO's, researchers/ academics, government, funders, others (Nominate one of these that must be included) | D3: Engagement with at least three of: consumers, carers, clinicians, managers, executive, CEO's, researchers/ academics, government, funders, others (must include the nominated mandatory group) | E3: Collaborative inclusion with at least three of: consumers, carers, clinicians, managers, executive, CEO's, researchers/ academics, government, funders, others (must include the nominated mandatory group) | F3: Co-design with at least three of: consumers, carers, clinicians, managers, executive, CEO's, researchers/ academics, government, funders, others (must include the nominated mandatory group) | G3: 2 | H3: 3
A4: Identifying Priorities | B4: Identification of priorities not commenced and/or does not include stakeholders | C4: Formal engagement with less than three stakeholder groups to create a priority list for discussion | D4: Formally agreed priorities with at least three stakeholder groups prviding input | E4: Priorities ranked (in a formal process) with greater than three stakeholder groups providing input | F4: Outcome measures/ Evaluation linked to agreed priorities | G4: 1 | H4: 2
A5: Evidence Based Information | B5: No inclusion of any research based evidence of any type | C5: Unstructured non systematic approaches to accessing information from research evidence | D5: Structured and systematic approaches to accessing research evidence - but without consideration of stakeholder priority areas | E5: Structured and systematic approaches to accessing research evidence - with stakeholder agreed priorities directing some areas of focus | F5: Structured and systematic approaches to accessing research evidence - with stakeholder agreed priorities directing all areas of focus | G5: 2 | H5: 3
A6: Evidence Synthesis and Guidelines | B6: No inclusion of existing systematic reviews or clinical guidelines or Unstructured non systematic approaches to accessing information about systematic reviews or clinical guidelines | C6: Evidence base includes some stakeholder priority informed systematic reviews, clinical guidelines, standards or policies - but the search is still underway | D6: Evidence base includes some stakeholder informed search priorities. Initial systematic reviews, clinical guidelines, standards or policies have been completed, but systems for inclusion of new evidence are not yet in place | E6: Evidence base is fully informed by stakeholder priorities. Systematic reviews, clinical guidelines, standards or policies have been completed but systems for inclusion of new evidence are not yet in place | F6: Evidence base is fully informed by stakeholder priorities. Systematic reviews, clinical guidelines, standards or policies have been completed and systems are in place for inclusion of new evidence as it occurs | G6: 2 | H6: 3
A7: Data and Information Systems | B7: No Data from Healthcare or other sources has been included | C7: Relevant existing data sources are identified and accessed at some sites/ organisations/ services | D7: Relevant existing data sources are identified and accessed at all sites/ organisations/ services | E7: Relevant existing data sources are identified and accessed at all sites/ organisations/ services AND external data such as Population based data (PBS, MBS, economic, Vic Government data) | F7: Data includes that from sources, mentioned at previous ranking and also includes PROMs and PREMs, considers data privacy and includes data analysis | G7: 1 | H7: 2
A8: Benchmarking | B8: No benchmarking against published best practise, national data or across services is occurring for identified data requirements | C8: Idenified data is provided (for this project) for benchmarking purposes but no reports are available for any aspects related to the stakeholder priority areas | D8: Data is provided (for this project) for benchmarking purposes and some reports are available for aspects related to the stakeholder priority areas | E8: Benchmarking reports are available on an ongoing cycle, with clear links to stakeholder priorities for all aspects related to priority areas | F8: Benchmarking is occurring as per the previous ranking, in an open and transparent manner and includes an evaluative component | G8: 1 | H8: 1
A9: Implementation | B9: No consideration of the burden of data collection/ provision, barriers and enablers for changes in practise, economic/costs aspects or sponsorship/ support from senior leaders | C9: Some consideration of the burden of at least one of the following: data collection/ provision, barriers and enablers for changes in practise, economic/costs aspects or sponsorship/ support from senior leaders | D9: Consideration (need to alter this to include action) of the burden of at least three of the following: data collection/ provision, barriers and enablers for changes in practise, economic/costs aspects or sponsorship/ support from senior leaders | E9: Consideration of the burden of all of the following: data collection/ provision, barriers and enablers for changes in practise, economic/costs aspects or sponsorship/ support from senior leaders | F9: Leadership and theory driven implementation strategies are in place and address all of the following: data collection/ provision, barriers and enablers for changes in practise and economic aspects/costs. Sustained changes in practise are occurring and a reportable. | G9: 1 | H9: 2
A10: Healthcare Improvement | B10: No evidence of evaluation of health outcomes, quality improvement activities or changes in care delivery as a result of these evaluations at either local or system level - for the targed priority areas | C10: Some evidence of local evaluation of health outcomes, quality improvement activities or changes in care delivery as a result of these evaluations - for the targed priority areas | D10: Widespread evidence of evaluation of health outcomes, quality improvement activities or changes in care delivery as a result of these evaluations - for the targed priority areas Minimal to no use of the LHS cyclical approach | E10: Measurable improvement in health outcomes for targeted areas. Clear involvement of leadership. Pragmatic approaches with consideration of local/ contextual aspects. Ongoing cycles of the LHS is either inconsistent or incomplete | F10: Measurable improvement in health outcomes for targeted areas. Clear involvement of leadership. Pragmatic approaches with consideration of local/ contextual aspects. Evidence of ongoing cycles of the LHS - with Stakeholder input, updated review of research evidence, integration of evidence from locally produced data and consideration of implementation aspects. | G10: 1 | H10: 2
A14: LHS Components
A15: Engagement of People | B15: Identifying Priorities | C15: Evidence Based Information | D15: Evidence Synthesis and Guidelines
A16: Consult | B16: Formal Engagement | C16: Cohort trials | D16: Systematic reviews
A17: Engage | B17: Agreed Priorities | C17: Randomised and pragmatic clinical trials | D17: Meta- analysis: aggregate and individual data
A18: Involve | B18: Ranked Priorities | C18: Epidemiology based research | D18: Secondary research | F18: Discuss with Helena - the LHS is a framework of frameworks:
A19: Collaborate | B19: Prioritised outcome measures | C19: Economic analysis | D19: Consideration of stakeholder and evidence based priorities
A20: Empower | C20: Qualitative and quantitative research | D20: Guidelines, standards and policies | F20: Priority setting | G20: STICKE
A21: Inform | F21: Research Evidence | G21: ?
F22: Data | G22: NASS
F23: Implementation | G23: CFIR
A24: Data and Information Systems | B24: Benchmarking | C24: Implementation | D24: Healthcare Improvement
A25: Quality, timely, harmonised, meaningful and actionable data | B25: Transparency and equity | C25: Leadership | D25: Leadership | F25: Do we then do a detailed sheet for each quadrant? Either still using our stakeholder components and more detail? Or using these other frameworks…
A26: Data from healthcare and other sources | B26: Adjustments for service variation | C26: Theory driven | D26: Pragmatism
A27: Patient reported experience and out come measures | B27: Real time visual representation at individual, service and organisational levels | C27: Economically sound | D27: Contextual/ local
A28: Compliance with 5 safes*, FAIR data principles** and legislative and privacy requirements | B28: Measurement to iteratively and continuously drive improvement | C28: Methodologically rigorous | D28: Outcome improvement
A29: Governance, data sharing, linkage, analysis and interpretation | B29: Evaluation | C29: Addressing barriers and enablers | D29: Quality improvement
A30: Big data analytics, machine learning | B30: Learning Feedback | C30: Capability in change management | D30: Change management
A31: Technology and infrastructure | C31: Consideration of the Burden of data collection | D31: Evaluation
C32: Sustainable and scalable
C33: Demonstrating healthcare improvement
A36: *Five Safes: Safe Projects, People, Settings, Data and Outputs
A37: ** FAIR data principles: Findable, Accessible , Interoperable and Reusable
A41: © 2025 Monash University

Sheet Summary Sheet
A1: Learning Health System Maturity Matrix
A2: Domain | B2: Component | C2: Maturity score - Project Start | D2: Maturity score - March 2023 | E2: Maturity score - March 2024 | F2: Maturity score - March 2025 | G2: Maturity score - March 2026
A3: Stakeholder Derived Evidence | B3: Engagement of People | C3: ='Work Sheet'!G3 -> 2 | D3: ='Work Sheet'!H3 -> 3 | E3: ='Work Sheet'!I3 -> 0 | F3: ='Work Sheet'!J3 -> 0 | G3: ='Work Sheet'!K3 -> 0
B4: Indentifying Priorities | C4: ='Work Sheet'!G4 -> 1 | D4: ='Work Sheet'!H4 -> 2 | E4: ='Work Sheet'!I4 -> 0 | F4: ='Work Sheet'!J4 -> 0 | G4: ='Work Sheet'!K4 -> 0
A5: Research Derived Evidence | B5: Evidence Based Information | C5: ='Work Sheet'!G5 -> 2 | D5: ='Work Sheet'!H5 -> 3 | E5: ='Work Sheet'!I5 -> 0 | F5: ='Work Sheet'!J5 -> 0 | G5: ='Work Sheet'!K5 -> 0
B6: Evidence Synthesis and Guidelines | C6: ='Work Sheet'!G6 -> 2 | D6: ='Work Sheet'!H6 -> 3 | E6: ='Work Sheet'!I6 -> 0 | F6: ='Work Sheet'!J6 -> 0 | G6: ='Work Sheet'!K6 -> 0
A7: Data Derived Evidence | B7: Data and Information Systems | C7: ='Work Sheet'!G7 -> 1 | D7: ='Work Sheet'!H7 -> 2 | E7: ='Work Sheet'!I7 -> 0 | F7: ='Work Sheet'!J7 -> 0 | G7: ='Work Sheet'!K7 -> 0
B8: Benchmarking | C8: ='Work Sheet'!G8 -> 1 | D8: ='Work Sheet'!H8 -> 1 | E8: ='Work Sheet'!I8 -> 0 | F8: ='Work Sheet'!J8 -> 0 | G8: ='Work Sheet'!K8 -> 0
A9: Implementation Evidence | B9: Implementation | C9: ='Work Sheet'!G9 -> 1 | D9: ='Work Sheet'!H9 -> 2 | E9: ='Work Sheet'!I9 -> 0 | F9: ='Work Sheet'!J9 -> 0 | G9: ='Work Sheet'!K9 -> 0
B10: Healthcare Improvement | C10: ='Work Sheet'!G10 -> 1 | D10: ='Work Sheet'!H10 -> 2 | E10: ='Work Sheet'!I10 -> 0 | F10: ='Work Sheet'!J10 -> 0 | G10: ='Work Sheet'!K10 -> 0
