Workbook

Sheet Mean + S.E.M.
A1: Table S4 Effect of LCMs on the lipid mediator profile of SACM-challenged M2LPS macrophages
C4: compound | D4: vehicle (0.1% DMSO) | G4: 1 | M4: 2 | S4: 3 | Y4: 4 | AE4: 5 | AK4: 6 | AQ4: 7 | AW4: 8 | BD4: vehicle (0.1% DMSO) | BG4: 1 | BM4: 2 | BS4: 3 | BY4: 4 | CE4: 5 | CK4: 6 | CQ4: 7 | CW4: 8
C5: conc [µM] | G5: 0.3 | J5: 3 | M5: 0.3 | P5: 3 | S5: 0.3 | V5: 3 | Y5: 0.3 | AB5: 3 | AE5: 0.3 | AH5: 3 | AK5: 0.3 | AN5: 3 | AQ5: 0.3 | AT5: 3 | AW5: 0.3 | AZ5: 3 | BG5: 0.3 | BJ5: 3 | BM5: 0.3 | BP5: 3 | BS5: 0.3 | BV5: 3 | BY5: 0.3 | CB5: 3 | CE5: 0.3 | CH5: 3 | CK5: 0.3 | CN5: 3 | CQ5: 0.3 | CT5: 3 | CW5: 0.3 | CZ5: 3
C6: stimulation | D6: unstim. | F6: unstim. | G6: unstim. | I6: unstim. | J6: unstim. | L6: unstim. | M6: unstim. | O6: unstim. | P6: unstim. | R6: unstim. | S6: unstim. | U6: unstim. | V6: unstim. | X6: unstim. | Y6: unstim. | AA6: unstim. | AB6: unstim. | AD6: unstim. | AE6: unstim. | AG6: unstim. | AH6: unstim. | AJ6: unstim. | AK6: unstim. | AM6: unstim. | AN6: unstim. | AP6: unstim. | AQ6: unstim. | AS6: unstim. | AT6: unstim. | AV6: unstim. | AW6: unstim. | AY6: unstim. | AZ6: unstim. | BB6: unstim. | BD6: SACM | BF6: SACM | BG6: SACM | BI6: SACM | BJ6: SACM | BL6: SACM | BM6: SACM | BO6: SACM | BP6: SACM | BR6: SACM | BS6: SACM | BU6: SACM | BV6: SACM | BX6: SACM | BY6: SACM | CA6: SACM | CB6: SACM | CD6: SACM | CE6: SACM | CG6: SACM | CH6: SACM | CJ6: SACM | CK6: SACM | CM6: SACM | CN6: SACM | CP6: SACM | CQ6: SACM | CS6: SACM | CT6: SACM | CV6: SACM | CW6: SACM | CY6: SACM | CZ6: SACM | DB6: SACM
D7: mean | E7: ± | F7: S.E.M. | G7: mean | H7: ± | I7: S.E.M. | J7: mean | K7: ± | L7: S.E.M. | M7: mean | N7: ± | O7: S.E.M. | P7: mean | Q7: ± | R7: S.E.M. | S7: mean | T7: ± | U7: S.E.M. | V7: mean | W7: ± | X7: S.E.M. | Y7: mean | Z7: ± | AA7: S.E.M. | AB7: mean | AC7: ± | AD7: S.E.M. | AE7: mean | AF7: ± | AG7: S.E.M. | AH7: mean | AI7: ± | AJ7: S.E.M. | AK7: mean | AL7: ± | AM7: S.E.M. | AN7: mean | AO7: ± | AP7: S.E.M. | AQ7: mean | AR7: ± | AS7: S.E.M. | AT7: mean | AU7: ± | AV7: S.E.M. | AW7: mean | AX7: ± | AY7: S.E.M. | AZ7: mean | BA7: ± | BB7: S.E.M. | BD7: mean | BE7: ± | BF7: S.E.M. | BG7: mean | BH7: ± | BI7: S.E.M. | BJ7: mean | BK7: ± | BL7: S.E.M. | BM7: mean | BN7: ± | BO7: S.E.M. | BP7: mean | BQ7: ± | BR7: S.E.M. | BS7: mean | BT7: ± | BU7: S.E.M. | BV7: mean | BW7: ± | BX7: S.E.M. | BY7: mean | BZ7: ± | CA7: S.E.M. | CB7: mean | CC7: ± | CD7: S.E.M. | CE7: mean | CF7: ± | CG7: S.E.M. | CH7: mean | CI7: ± | CJ7: S.E.M. | CK7: mean | CL7: ± | CM7: S.E.M. | CN7: mean | CO7: ± | CP7: S.E.M. | CQ7: mean | CR7: ± | CS7: S.E.M. | CT7: mean | CU7: ± | CV7: S.E.M. | CW7: mean | CX7: ± | CY7: S.E.M. | CZ7: mean | DA7: ± | DB7: S.E.M.
A8: pg per 2 * 106 cells | B8: SPM/iso | C8: PD1 | D8: =AVERAGE('Single data'!D8:O8) -> 7328.1607 | E8: ± | F8: =(_xlfn.STDEV.S('Single data'!D8:O8)/SQRT(12)) -> 5504.0252 | G8: =AVERAGE('Single data'!P8:S8) -> 0.88823572 | H8: ± | I8: =(_xlfn.STDEV.S('Single data'!P8:S8)/SQRT(4)) -> 0.58844206 | J8: =AVERAGE('Single data'!T8:W8) -> 1.258191 | K8: ± | L8: =(_xlfn.STDEV.S('Single data'!T8:W8)/SQRT(4)) -> 0.64009554 | M8: =AVERAGE('Single data'!X8:AA8) -> 1.3638822 | N8: ± | O8: =(_xlfn.STDEV.S('Single data'!X8:AA8)/SQRT(4)) -> 0.95971287 | P8: =AVERAGE('Single data'!AB8:AE8) -> 1.7248482 | Q8: ± | R8: {=_xlfn.STDEV.S('Single data'!AB8:AE8/SQRT(4))} -> 0.84363387 | S8: =AVERAGE('Single data'!AF8:AI8) -> 0.57146101 | T8: ± | U8: =(_xlfn.STDEV.S('Single data'!AF8:AI8)/SQRT(4)) -> 0.17456721 | V8: =AVERAGE('Single data'!AJ8:AM8) -> 1.0022464 | W8: ± | X8: =(_xlfn.STDEV.S('Single data'!AJ8:AM8)/SQRT(4)) -> 0.15397348 | Y8: =AVERAGE('Single data'!AN8:AQ8) -> 1.2880437 | Z8: ± | AA8: =(_xlfn.STDEV.S('Single data'!AN8:AQ8)/SQRT(4)) -> 0.79275354 | AB8: =AVERAGE('Single data'!AR8:AU8) -> 4.6647879 | AC8: ± | AD8: =(_xlfn.STDEV.S('Single data'!AR8:AU8)/SQRT(4)) -> 1.0457295 | AE8: =AVERAGE('Single data'!AV8:AY8) -> 0.66919777 | AF8: ± | AG8: =(_xlfn.STDEV.S('Single data'!AV8:AY8)/SQRT(4)) -> 0.1681303 | AH8: =AVERAGE('Single data'!AZ8:BC8) -> 2.6700226 | AI8: ± | AJ8: =_xlfn.STDEV.S('Single data'!AZ8:BC8)/SQRT(4) -> 0.66565406 | AK8: =AVERAGE('Single data'!BD8:BG8) -> 0.62146082 | AL8: ± | AM8: =(_xlfn.STDEV.S('Single data'!BD8:BG8)/SQRT(4)) -> 0.30162442 | AN8: =AVERAGE('Single data'!BH8:BK8) -> 1.5290615 | AO8: ± | AP8: =_xlfn.STDEV.S('Single data'!BH8:BK8)/SQRT(4) -> 0.67856571 | AQ8: =AVERAGE('Single data'!BL8:BO8) -> 0.76654947 | AR8: ± | AS8: =(_xlfn.STDEV.S('Single data'!BL8:BO8)/SQRT(4)) -> 0.19822901 | AT8: =AVERAGE('Single data'!BP8:BS8) -> 1.5854905 | AU8: ± | AV8: =_xlfn.STDEV.S('Single data'!BP8:BS8)/SQRT(4) -> 0.32883196 | AW8: =AVERAGE('Single data'!BT8:BW8) -> 1.3934547 | AX8: ± | AY8: =(_xlfn.STDEV.S('Single data'!BT8:BW8)/SQRT(4)) -> 0.92790342 | AZ8: =AVERAGE('Single data'!BX8:CA8) -> 2.0671376 | BA8: ± | BB8: =_xlfn.STDEV.S('Single data'!BX8:CA8)/SQRT(4) -> 0.75149955 | BD8: =AVERAGE('Single data'!CG8:CR8) -> 64117.935 | BE8: ± | BF8: =(_xlfn.STDEV.S('Single data'!CG8:CR8)/SQRT(12)) -> 36694.884 | BG8: =AVERAGE('Single data'!CS8:CW8) -> 10.174802 | BH8: ± | BI8: =(_xlfn.STDEV.S('Single data'!CS8:CW8)/SQRT(5)) -> 3.0790207 | BJ8: =AVERAGE('Single data'!CX8:DB8) -> 10.237963 | BK8: ± | BL8: =(_xlfn.STDEV.S('Single data'!CX8:DB8)/SQRT(5)) -> 3.0257892 | BM8: =AVERAGE('Single data'!DC8:DH8) -> 22.280472 | BN8: ± | BO8: =(_xlfn.STDEV.S('Single data'!DC8:DH8)/SQRT(6)) -> 8.3016443 | BP8: =AVERAGE('Single data'!DI8:DN8) -> 31.278972 | BQ8: ± | BR8: =_xlfn.STDEV.S('Single data'!DI8:DN8)/SQRT(6) -> 10.587042 | BS8: =AVERAGE('Single data'!DO8:DS8) -> 19.307262 | BT8: ± | BU8: =(_xlfn.STDEV.S('Single data'!DI8:DN8)/SQRT(6)) -> 10.587042 | BV8: =AVERAGE('Single data'!DT8:DX8) -> 23.027192 | BW8: ± | BX8: =(_xlfn.STDEV.S('Single data'!DT8:DX8)/SQRT(5)) -> 5.7026551 | BY8: =AVERAGE('Single data'!DY8:EC8) -> 18.256795 | BZ8: ± | CA8: =(_xlfn.STDEV.S('Single data'!DY8:EC8)/SQRT(5)) -> 6.5796334 | CB8: =AVERAGE('Single data'!ED8:EH8) -> 18.023807 | CC8: ± | CD8: =(_xlfn.STDEV.S('Single data'!ED8:EH8)/SQRT(5)) -> 7.0063946 | CE8: =AVERAGE('Single data'!EI8:EM8) -> 16.852243 | CF8: ± | CG8: =(_xlfn.STDEV.S('Single data'!EI8:EM8)/SQRT(5)) -> 5.6885209 | CH8: =AVERAGE('Single data'!EN8:ER8) -> 14.627946 | CI8: ± | CJ8: =_xlfn.STDEV.S('Single data'!EN8:ER8)/SQRT(5) -> 4.7809273 | CK8: =AVERAGE('Single data'!ES8:EW8) -> 16.514996 | CL8: ± | CM8: =(_xlfn.STDEV.S('Single data'!ES8:EW8)/SQRT(5)) -> 4.3213613 | CN8: =AVERAGE('Single data'!EX8:FB8) -> 20.002523 | CO8: ± | CP8: =_xlfn.STDEV.S('Single data'!EX8:FB8)/SQRT(5) -> 6.7134265 | CQ8: =AVERAGE('Single data'!FC8:FH8) -> 22.580859 | CR8: ± | CS8: =(_xlfn.STDEV.S('Single data'!FC8:FH8)/SQRT(6)) -> 8.2961655 | CT8: =AVERAGE('Single data'!FI8:FN8) -> 33.95049 | CU8: ± | CV8: =_xlfn.STDEV.S('Single data'!FI8:FN8)/SQRT(6) -> 13.182806 | CW8: =AVERAGE('Single data'!FO8:FT8) -> 19.862652 | CX8: ± | CY8: =(_xlfn.STDEV.S('Single data'!FO8:FT8)/SQRT(6)) -> 6.7423119 | CZ8: =AVERAGE('Single data'!FU8:FY8) -> 16.813833 | DA8: ± | DB8: =_xlfn.STDEV.S('Single data'!FU8:FY8)/SQRT(5) -> 5.0369223
C9: AT-PD1 | D9: =AVERAGE('Single data'!D9:O9) -> 10.501865 | E9: ± | F9: =(_xlfn.STDEV.S('Single data'!D9:O9)/SQRT(12)) -> 3.7907679 | G9: =AVERAGE('Single data'!P9:S9) -> 5.990015 | H9: ± | I9: =(_xlfn.STDEV.S('Single data'!P9:S9)/SQRT(4)) -> 2.1587048 | J9: =AVERAGE('Single data'!T9:W9) -> 7.2499076 | K9: ± | L9: =(_xlfn.STDEV.S('Single data'!T9:W9)/SQRT(4)) -> 3.022483 | M9: =AVERAGE('Single data'!X9:AA9) -> 6.602644 | N9: ± | O9: =(_xlfn.STDEV.S('Single data'!X9:AA9)/SQRT(4)) -> 3.4120732 | P9: =AVERAGE('Single data'!AB9:AE9) -> 19.959188 | Q9: ± | R9: {=_xlfn.STDEV.S('Single data'!AB9:AE9/SQRT(4))} -> 9.0844963 | S9: =AVERAGE('Single data'!AF9:AI9) -> 3.5123177 | T9: ± | U9: =(_xlfn.STDEV.S('Single data'!AF9:AI9)/SQRT(4)) -> 0.33609243 | V9: =AVERAGE('Single data'!AJ9:AM9) -> 10.830892 | W9: ± | X9: =(_xlfn.STDEV.S('Single data'!AJ9:AM9)/SQRT(4)) -> 1.7350194 | Y9: =AVERAGE('Single data'!AN9:AQ9) -> 7.2317232 | Z9: ± | AA9: =(_xlfn.STDEV.S('Single data'!AN9:AQ9)/SQRT(4)) -> 2.0051482 | AB9: =AVERAGE('Single data'!AR9:AU9) -> 32.824381 | AC9: ± | AD9: =(_xlfn.STDEV.S('Single data'!AR9:AU9)/SQRT(4)) -> 9.3964711 | AE9: =AVERAGE('Single data'!AV9:AY9) -> 4.7117941 | AF9: ± | AG9: =(_xlfn.STDEV.S('Single data'!AV9:AY9)/SQRT(4)) -> 0.48496544 | AH9: =AVERAGE('Single data'!AZ9:BC9) -> 20.746231 | AI9: ± | AJ9: =_xlfn.STDEV.S('Single data'!AZ9:BC9)/SQRT(4) -> 4.5883071 | AK9: =AVERAGE('Single data'!BD9:BG9) -> 5.0463179 | AL9: ± | AM9: =(_xlfn.STDEV.S('Single data'!BD9:BG9)/SQRT(4)) -> 1.8556863 | AN9: =AVERAGE('Single data'!BH9:BK9) -> 9.6805807 | AO9: ± | AP9: =_xlfn.STDEV.S('Single data'!BH9:BK9)/SQRT(4) -> 1.2139791 | AQ9: =AVERAGE('Single data'!BL9:BO9) -> 3.8332774 | AR9: ± | AS9: =(_xlfn.STDEV.S('Single data'!BL9:BO9)/SQRT(4)) -> 0.48989191 | AT9: =AVERAGE('Single data'!BP9:BS9) -> 13.214708 | AU9: ± | AV9: =_xlfn.STDEV.S('Single data'!BP9:BS9)/SQRT(4) -> 2.1765269 | AW9: =AVERAGE('Single data'!BT9:BW9) -> 5.6183182 | AX9: ± | AY9: =(_xlfn.STDEV.S('Single data'!BT9:BW9)/SQRT(4)) -> 2.1963361 | AZ9: =AVERAGE('Single data'!BX9:CA9) -> 18.51289 | BA9: ± | BB9: =_xlfn.STDEV.S('Single data'!BX9:CA9)/SQRT(4) -> 6.6219322 | BD9: =AVERAGE('Single data'!CG9:CR9) -> 94.296434 | BE9: ± | BF9: =(_xlfn.STDEV.S('Single data'!CG9:CR9)/SQRT(12)) -> 15.709579 | BG9: =AVERAGE('Single data'!CS9:CW9) -> 85.193146 | BH9: ± | BI9: =(_xlfn.STDEV.S('Single data'!CS9:CW9)/SQRT(5)) -> 42.031712 | BJ9: =AVERAGE('Single data'!CX9:DB9) -> 84.734996 | BK9: ± | BL9: =(_xlfn.STDEV.S('Single data'!CX9:DB9)/SQRT(5)) -> 33.236073 | BM9: =AVERAGE('Single data'!DC9:DH9) -> 151.34178 | BN9: ± | BO9: =(_xlfn.STDEV.S('Single data'!DC9:DH9)/SQRT(6)) -> 56.508135 | BP9: =AVERAGE('Single data'!DI9:DN9) -> 203.09317 | BQ9: ± | BR9: =_xlfn.STDEV.S('Single data'!DI9:DN9)/SQRT(6) -> 64.70035 | BS9: =AVERAGE('Single data'!DO9:DS9) -> 129.59441 | BT9: ± | BU9: =(_xlfn.STDEV.S('Single data'!DI9:DN9)/SQRT(6)) -> 64.70035 | BV9: =AVERAGE('Single data'!DT9:DX9) -> 161.54801 | BW9: ± | BX9: =(_xlfn.STDEV.S('Single data'!DT9:DX9)/SQRT(5)) -> 39.195537 | BY9: =AVERAGE('Single data'!DY9:EC9) -> 122.25167 | BZ9: ± | CA9: =(_xlfn.STDEV.S('Single data'!DY9:EC9)/SQRT(5)) -> 40.089055 | CB9: =AVERAGE('Single data'!ED9:EH9) -> 120.05235 | CC9: ± | CD9: =(_xlfn.STDEV.S('Single data'!ED9:EH9)/SQRT(5)) -> 42.117001 | CE9: =AVERAGE('Single data'!EI9:EM9) -> 116.97748 | CF9: ± | CG9: =(_xlfn.STDEV.S('Single data'!EI9:EM9)/SQRT(5)) -> 36.672452 | CH9: =AVERAGE('Single data'!EN9:ER9) -> 94.366098 | CI9: ± | CJ9: =_xlfn.STDEV.S('Single data'!EN9:ER9)/SQRT(5) -> 25.580155 | CK9: =AVERAGE('Single data'!ES9:EW9) -> 93.002934 | CL9: ± | CM9: =(_xlfn.STDEV.S('Single data'!ES9:EW9)/SQRT(5)) -> 32.315217 | CN9: =AVERAGE('Single data'!EX9:FB9) -> 133.90364 | CO9: ± | CP9: =_xlfn.STDEV.S('Single data'!EX9:FB9)/SQRT(5) -> 42.768098 | CQ9: =AVERAGE('Single data'!FC9:FH9) -> 150.23479 | CR9: ± | CS9: =(_xlfn.STDEV.S('Single data'!FC9:FH9)/SQRT(6)) -> 49.735126 | CT9: =AVERAGE('Single data'!FI9:FN9) -> 205.19512 | CU9: ± | CV9: =_xlfn.STDEV.S('Single data'!FI9:FN9)/SQRT(6) -> 73.540334 | CW9: =AVERAGE('Single data'!FO9:FT9) -> 113.30643 | CX9: ± | CY9: =(_xlfn.STDEV.S('Single data'!FO9:FT9)/SQRT(6)) -> 39.535949 | CZ9: =AVERAGE('Single data'!FU9:FY9) -> 100.80756 | DA9: ± | DB9: =_xlfn.STDEV.S('Single data'!FU9:FY9)/SQRT(5) -> 31.493316
C10: PDX | D10: =AVERAGE('Single data'!D10:O10) -> 38.919783 | E10: ± | F10: =(_xlfn.STDEV.S('Single data'!D10:O10)/SQRT(12)) -> 20.845106 | G10: =AVERAGE('Single data'!P10:S10) -> 30.085195 | H10: ± | I10: =(_xlfn.STDEV.S('Single data'!P10:S10)/SQRT(4)) -> 14.648264 | J10: =AVERAGE('Single data'!T10:W10) -> 58.731478 | K10: ± | L10: =(_xlfn.STDEV.S('Single data'!T10:W10)/SQRT(4)) -> 25.192377 | M10: =AVERAGE('Single data'!X10:AA10) -> 44.484659 | N10: ± | O10: =(_xlfn.STDEV.S('Single data'!X10:AA10)/SQRT(4)) -> 22.379603 | P10: =AVERAGE('Single data'!AB10:AE10) -> 138.68397 | Q10: ± | R10: {=_xlfn.STDEV.S('Single data'!AB10:AE10/SQRT(4))} -> 50.697436 | S10: =AVERAGE('Single data'!AF10:AI10) -> 19.069689 | T10: ± | U10: =(_xlfn.STDEV.S('Single data'!AF10:AI10)/SQRT(4)) -> 5.6540335 | V10: =AVERAGE('Single data'!AJ10:AM10) -> 80.59706 | W10: ± | X10: =(_xlfn.STDEV.S('Single data'!AJ10:AM10)/SQRT(4)) -> 25.280188 | Y10: =AVERAGE('Single data'!AN10:AQ10) -> 46.734135 | Z10: ± | AA10: =(_xlfn.STDEV.S('Single data'!AN10:AQ10)/SQRT(4)) -> 17.768017 | AB10: =AVERAGE('Single data'!AR10:AU10) -> 233.64196 | AC10: ± | AD10: =(_xlfn.STDEV.S('Single data'!AR10:AU10)/SQRT(4)) -> 120.66022 | AE10: =AVERAGE('Single data'!AV10:AY10) -> 13.217481 | AF10: ± | AG10: =(_xlfn.STDEV.S('Single data'!AV10:AY10)/SQRT(4)) -> 4.3345754 | AH10: =AVERAGE('Single data'!AZ10:BC10) -> 170.92007 | AI10: ± | AJ10: =_xlfn.STDEV.S('Single data'!AZ10:BC10)/SQRT(4) -> 64.522367 | AK10: =AVERAGE('Single data'!BD10:BG10) -> 18.525385 | AL10: ± | AM10: =(_xlfn.STDEV.S('Single data'!BD10:BG10)/SQRT(4)) -> 6.8515772 | AN10: =AVERAGE('Single data'!BH10:BK10) -> 130.22794 | AO10: ± | AP10: =_xlfn.STDEV.S('Single data'!BH10:BK10)/SQRT(4) -> 41.798893 | AQ10: =AVERAGE('Single data'!BL10:BO10) -> 11.016999 | AR10: ± | AS10: =(_xlfn.STDEV.S('Single data'!BL10:BO10)/SQRT(4)) -> 2.7457875 | AT10: =AVERAGE('Single data'!BP10:BS10) -> 84.986424 | AU10: ± | AV10: =_xlfn.STDEV.S('Single data'!BP10:BS10)/SQRT(4) -> 23.683865 | AW10: =AVERAGE('Single data'!BT10:BW10) -> 34.184814 | AX10: ± | AY10: =(_xlfn.STDEV.S('Single data'!BT10:BW10)/SQRT(4)) -> 24.184798 | AZ10: =AVERAGE('Single data'!BX10:CA10) -> 85.021345 | BA10: ± | BB10: =_xlfn.STDEV.S('Single data'!BX10:CA10)/SQRT(4) -> 28.643273 | BD10: =AVERAGE('Single data'!CG10:CR10) -> 521.12283 | BE10: ± | BF10: =(_xlfn.STDEV.S('Single data'!CG10:CR10)/SQRT(12)) -> 113.57639 | BG10: =AVERAGE('Single data'!CS10:CW10) -> 362.47782 | BH10: ± | BI10: =(_xlfn.STDEV.S('Single data'!CS10:CW10)/SQRT(5)) -> 161.10087 | BJ10: =AVERAGE('Single data'!CX10:DB10) -> 408.32582 | BK10: ± | BL10: =(_xlfn.STDEV.S('Single data'!CX10:DB10)/SQRT(5)) -> 190.36471 | BM10: =AVERAGE('Single data'!DC10:DH10) -> 798.8508 | BN10: ± | BO10: =(_xlfn.STDEV.S('Single data'!DC10:DH10)/SQRT(6)) -> 334.61424 | BP10: =AVERAGE('Single data'!DI10:DN10) -> 1368.7649 | BQ10: ± | BR10: =_xlfn.STDEV.S('Single data'!DI10:DN10)/SQRT(6) -> 568.45089 | BS10: =AVERAGE('Single data'!DO10:DS10) -> 606.47537 | BT10: ± | BU10: =(_xlfn.STDEV.S('Single data'!DI10:DN10)/SQRT(6)) -> 568.45089 | BV10: =AVERAGE('Single data'!DT10:DX10) -> 671.01534 | BW10: ± | BX10: =(_xlfn.STDEV.S('Single data'!DT10:DX10)/SQRT(5)) -> 322.18867 | BY10: =AVERAGE('Single data'!DY10:EC10) -> 611.63945 | BZ10: ± | CA10: =(_xlfn.STDEV.S('Single data'!DY10:EC10)/SQRT(5)) -> 245.99563 | CB10: =AVERAGE('Single data'!ED10:EH10) -> 863.93718 | CC10: ± | CD10: =(_xlfn.STDEV.S('Single data'!ED10:EH10)/SQRT(5)) -> 374.09382 | CE10: =AVERAGE('Single data'!EI10:EM10) -> 530.73329 | CF10: ± | CG10: =(_xlfn.STDEV.S('Single data'!EI10:EM10)/SQRT(5)) -> 209.06741 | CH10: =AVERAGE('Single data'!EN10:ER10) -> 739.58217 | CI10: ± | CJ10: =_xlfn.STDEV.S('Single data'!EN10:ER10)/SQRT(5) -> 280.51627 | CK10: =AVERAGE('Single data'!ES10:EW10) -> 470.03002 | CL10: ± | CM10: =(_xlfn.STDEV.S('Single data'!ES10:EW10)/SQRT(5)) -> 196.84617 | CN10: =AVERAGE('Single data'!EX10:FB10) -> 684.83679 | CO10: ± | CP10: =_xlfn.STDEV.S('Single data'!EX10:FB10)/SQRT(5) -> 346.55804 | CQ10: =AVERAGE('Single data'!FC10:FH10) -> 763.7134 | CR10: ± | CS10: =(_xlfn.STDEV.S('Single data'!FC10:FH10)/SQRT(6)) -> 291.89635 | CT10: =AVERAGE('Single data'!FI10:FN10) -> 1030.6079 | CU10: ± | CV10: =_xlfn.STDEV.S('Single data'!FI10:FN10)/SQRT(6) -> 448.05666 | CW10: =AVERAGE('Single data'!FO10:FT10) -> 512.11815 | CX10: ± | CY10: =(_xlfn.STDEV.S('Single data'!FO10:FT10)/SQRT(6)) -> 243.80798 | CZ10: =AVERAGE('Single data'!FU10:FY10) -> 313.13409 | DA10: ± | DB10: =_xlfn.STDEV.S('Single data'!FU10:FY10)/SQRT(5) -> 193.09754
C11: RvD5 DPA | D11: =AVERAGE('Single data'!D11:O11) -> 58.968988 | E11: ± | F11: =(_xlfn.STDEV.S('Single data'!D11:O11)/SQRT(12)) -> 36.114926 | G11: =AVERAGE('Single data'!P11:S11) -> 21.936397 | H11: ± | I11: =(_xlfn.STDEV.S('Single data'!P11:S11)/SQRT(4)) -> 13.680365 | J11: =AVERAGE('Single data'!T11:W11) -> 36.302577 | K11: ± | L11: =(_xlfn.STDEV.S('Single data'!T11:W11)/SQRT(4)) -> 23.2478 | M11: =AVERAGE('Single data'!X11:AA11) -> 24.363862 | N11: ± | O11: =(_xlfn.STDEV.S('Single data'!X11:AA11)/SQRT(4)) -> 19.749907 | P11: =AVERAGE('Single data'!AB11:AE11) -> 30.593257 | Q11: ± | R11: {=_xlfn.STDEV.S('Single data'!AB11:AE11/SQRT(4))} -> 22.168004 | S11: =AVERAGE('Single data'!AF11:AI11) -> 7.5797778 | T11: ± | U11: =(_xlfn.STDEV.S('Single data'!AF11:AI11)/SQRT(4)) -> 3.2304781 | V11: =AVERAGE('Single data'!AJ11:AM11) -> 12.828311 | W11: ± | X11: =(_xlfn.STDEV.S('Single data'!AJ11:AM11)/SQRT(4)) -> 4.2490457 | Y11: =AVERAGE('Single data'!AN11:AQ11) -> 38.091217 | Z11: ± | AA11: =(_xlfn.STDEV.S('Single data'!AN11:AQ11)/SQRT(4)) -> 25.972663 | AB11: =AVERAGE('Single data'!AR11:AU11) -> 214.331 | AC11: ± | AD11: =(_xlfn.STDEV.S('Single data'!AR11:AU11)/SQRT(4)) -> 77.410857 | AE11: =AVERAGE('Single data'!AV11:AY11) -> 9.9574649 | AF11: ± | AG11: =(_xlfn.STDEV.S('Single data'!AV11:AY11)/SQRT(4)) -> 4.6646916 | AH11: =AVERAGE('Single data'!AZ11:BC11) -> 115.49063 | AI11: ± | AJ11: =_xlfn.STDEV.S('Single data'!AZ11:BC11)/SQRT(4) -> 45.70443 | AK11: =AVERAGE('Single data'!BD11:BG11) -> 7.0350376 | AL11: ± | AM11: =(_xlfn.STDEV.S('Single data'!BD11:BG11)/SQRT(4)) -> 3.437719 | AN11: =AVERAGE('Single data'!BH11:BK11) -> 15.859324 | AO11: ± | AP11: =_xlfn.STDEV.S('Single data'!BH11:BK11)/SQRT(4) -> 8.2356592 | AQ11: =AVERAGE('Single data'!BL11:BO11) -> 4.2474301 | AR11: ± | AS11: =(_xlfn.STDEV.S('Single data'!BL11:BO11)/SQRT(4)) -> 1.1577354 | AT11: =AVERAGE('Single data'!BP11:BS11) -> 51.557964 | AU11: ± | AV11: =_xlfn.STDEV.S('Single data'!BP11:BS11)/SQRT(4) -> 15.392723 | AW11: =AVERAGE('Single data'!BT11:BW11) -> 14.916758 | AX11: ± | AY11: =(_xlfn.STDEV.S('Single data'!BT11:BW11)/SQRT(4)) -> 12.872359 | AZ11: =AVERAGE('Single data'!BX11:CA11) -> 31.292928 | BA11: ± | BB11: =_xlfn.STDEV.S('Single data'!BX11:CA11)/SQRT(4) -> 13.210285 | BD11: =AVERAGE('Single data'!CG11:CR11) -> 1025.044 | BE11: ± | BF11: =(_xlfn.STDEV.S('Single data'!CG11:CR11)/SQRT(12)) -> 235.95569 | BG11: =AVERAGE('Single data'!CS11:CW11) -> 545.37461 | BH11: ± | BI11: =(_xlfn.STDEV.S('Single data'!CS11:CW11)/SQRT(5)) -> 295.02693 | BJ11: =AVERAGE('Single data'!CX11:DB11) -> 480.80944 | BK11: ± | BL11: =(_xlfn.STDEV.S('Single data'!CX11:DB11)/SQRT(5)) -> 249.9739 | BM11: =AVERAGE('Single data'!DC11:DH11) -> 1093.4653 | BN11: ± | BO11: =(_xlfn.STDEV.S('Single data'!DC11:DH11)/SQRT(6)) -> 401.69644 | BP11: =AVERAGE('Single data'!DI11:DN11) -> 598.75012 | BQ11: ± | BR11: =_xlfn.STDEV.S('Single data'!DI11:DN11)/SQRT(6) -> 223.06792 | BS11: =AVERAGE('Single data'!DO11:DS11) -> 849.96094 | BT11: ± | BU11: =(_xlfn.STDEV.S('Single data'!DI11:DN11)/SQRT(6)) -> 223.06792 | BV11: =AVERAGE('Single data'!DT11:DX11) -> 569.77173 | BW11: ± | BX11: =(_xlfn.STDEV.S('Single data'!DT11:DX11)/SQRT(5)) -> 194.41164 | BY11: =AVERAGE('Single data'!DY11:EC11) -> 938.0337 | BZ11: ± | CA11: =(_xlfn.STDEV.S('Single data'!DY11:EC11)/SQRT(5)) -> 335.92996 | CB11: =AVERAGE('Single data'!ED11:EH11) -> 714.32685 | CC11: ± | CD11: =(_xlfn.STDEV.S('Single data'!ED11:EH11)/SQRT(5)) -> 251.75925 | CE11: =AVERAGE('Single data'!EI11:EM11) -> 872.32576 | CF11: ± | CG11: =(_xlfn.STDEV.S('Single data'!EI11:EM11)/SQRT(5)) -> 313.38574 | CH11: =AVERAGE('Single data'!EN11:ER11) -> 544.78318 | CI11: ± | CJ11: =_xlfn.STDEV.S('Single data'!EN11:ER11)/SQRT(5) -> 167.76529 | CK11: =AVERAGE('Single data'!ES11:EW11) -> 731.67 | CL11: ± | CM11: =(_xlfn.STDEV.S('Single data'!ES11:EW11)/SQRT(5)) -> 244.59015 | CN11: =AVERAGE('Single data'!EX11:FB11) -> 428.50498 | CO11: ± | CP11: =_xlfn.STDEV.S('Single data'!EX11:FB11)/SQRT(5) -> 151.67891 | CQ11: =AVERAGE('Single data'!FC11:FH11) -> 1024.8108 | CR11: ± | CS11: =(_xlfn.STDEV.S('Single data'!FC11:FH11)/SQRT(6)) -> 361.52981 | CT11: =AVERAGE('Single data'!FI11:FN11) -> 838.37311 | CU11: ± | CV11: =_xlfn.STDEV.S('Single data'!FI11:FN11)/SQRT(6) -> 298.69659 | CW11: =AVERAGE('Single data'!FO11:FT11) -> 625.97297 | CX11: ± | CY11: =(_xlfn.STDEV.S('Single data'!FO11:FT11)/SQRT(6)) -> 290.83233 | CZ11: =AVERAGE('Single data'!FU11:FY11) -> 373.5614 | DA11: ± | DB11: =_xlfn.STDEV.S('Single data'!FU11:FY11)/SQRT(5) -> 208.96787
C12: MaR2 | BD12: =AVERAGE('Single data'!CG12:CR12) -> 100.19455 | BE12: ± | BF12: =(_xlfn.STDEV.S('Single data'!CG12:CR12)/SQRT(12)) -> 26.475193 | BG12: =AVERAGE('Single data'!CS12:CW12) -> 49.235944 | BH12: ± | BI12: =(_xlfn.STDEV.S('Single data'!CS12:CW12)/SQRT(5)) -> 14.495507 | BJ12: =AVERAGE('Single data'!CX12:DB12) -> 76.104131 | BK12: ± | BL12: =(_xlfn.STDEV.S('Single data'!CX12:DB12)/SQRT(5)) -> 24.602961 | BM12: =AVERAGE('Single data'!DC12:DH12) -> 139.55573 | BN12: ± | BO12: =(_xlfn.STDEV.S('Single data'!DC12:DH12)/SQRT(6)) -> 45.680129 | BP12: =AVERAGE('Single data'!DI12:DN12) -> 251.50076 | BQ12: ± | BR12: =_xlfn.STDEV.S('Single data'!DI12:DN12)/SQRT(6) -> 79.942425 | BS12: =AVERAGE('Single data'!DO12:DS12) -> 98.883357 | BT12: ± | BU12: =(_xlfn.STDEV.S('Single data'!DI12:DN12)/SQRT(6)) -> 79.942425 | BV12: =AVERAGE('Single data'!DT12:DX12) -> 137.32908 | BW12: ± | BX12: =(_xlfn.STDEV.S('Single data'!DT12:DX12)/SQRT(5)) -> 33.721989 | BY12: =AVERAGE('Single data'!DY12:EC12) -> 85.510224 | BZ12: ± | CA12: =(_xlfn.STDEV.S('Single data'!DY12:EC12)/SQRT(5)) -> 30.185547 | CB12: =AVERAGE('Single data'!ED12:EH12) -> 167.88718 | CC12: ± | CD12: =(_xlfn.STDEV.S('Single data'!ED12:EH12)/SQRT(5)) -> 56.87637 | CE12: =AVERAGE('Single data'!EI12:EM12) -> 87.342531 | CF12: ± | CG12: =(_xlfn.STDEV.S('Single data'!EI12:EM12)/SQRT(5)) -> 25.473567 | CH12: =AVERAGE('Single data'!EN12:ER12) -> 163.63175 | CI12: ± | CJ12: =_xlfn.STDEV.S('Single data'!EN12:ER12)/SQRT(5) -> 52.195139 | CK12: =AVERAGE('Single data'!ES12:EW12) -> 87.084532 | CL12: ± | CM12: =(_xlfn.STDEV.S('Single data'!ES12:EW12)/SQRT(5)) -> 24.615759 | CN12: =AVERAGE('Single data'!EX12:FB12) -> 153.7612 | CO12: ± | CP12: =_xlfn.STDEV.S('Single data'!EX12:FB12)/SQRT(5) -> 37.498869 | CQ12: =AVERAGE('Single data'!FC12:FH12) -> 100.19185 | CR12: ± | CS12: =(_xlfn.STDEV.S('Single data'!FC12:FH12)/SQRT(6)) -> 34.525995 | CT12: =AVERAGE('Single data'!FI12:FN12) -> 143.50421 | CU12: ± | CV12: =_xlfn.STDEV.S('Single data'!FI12:FN12)/SQRT(6) -> 47.496444 | CW12: =AVERAGE('Single data'!FO12:FT12) -> 72.850258 | CX12: ± | CY12: =(_xlfn.STDEV.S('Single data'!FO12:FT12)/SQRT(6)) -> 19.861973 | CZ12: =AVERAGE('Single data'!FU12:FY12) -> 79.122989 | DA12: ± | DB12: =_xlfn.STDEV.S('Single data'!FU12:FY12)/SQRT(5) -> 28.591546
C13: RvD1 | BD13: =AVERAGE('Single data'!CG13:CR13) -> 50.035884 | BE13: ± | BF13: =(_xlfn.STDEV.S('Single data'!CG13:CR13)/SQRT(12)) -> 28.525838 | BG13: =AVERAGE('Single data'!CS13:CW13) -> 15.740904 | BH13: ± | BI13: =(_xlfn.STDEV.S('Single data'!CS13:CW13)/SQRT(5)) -> 4.8561355 | BJ13: =AVERAGE('Single data'!CX13:DB13) -> 16.945229 | BK13: ± | BL13: =(_xlfn.STDEV.S('Single data'!CX13:DB13)/SQRT(5)) -> 4.7559851 | BM13: =AVERAGE('Single data'!DC13:DH13) -> 24.013117 | BN13: ± | BO13: =(_xlfn.STDEV.S('Single data'!DC13:DH13)/SQRT(6)) -> 7.1415725 | BP13: =AVERAGE('Single data'!DI13:DN13) -> 20.269339 | BQ13: ± | BR13: =_xlfn.STDEV.S('Single data'!DI13:DN13)/SQRT(6) -> 5.3935085 | BS13: =AVERAGE('Single data'!DO13:DS13) -> 20.41322 | BT13: ± | BU13: =(_xlfn.STDEV.S('Single data'!DI13:DN13)/SQRT(6)) -> 5.3935085 | BV13: =AVERAGE('Single data'!DT13:DX13) -> 18.557639 | BW13: ± | BX13: =(_xlfn.STDEV.S('Single data'!DT13:DX13)/SQRT(5)) -> 4.260887 | BY13: =AVERAGE('Single data'!DY13:EC13) -> 21.270643 | BZ13: ± | CA13: =(_xlfn.STDEV.S('Single data'!DY13:EC13)/SQRT(5)) -> 4.5093543 | CB13: =AVERAGE('Single data'!ED13:EH13) -> 21.657757 | CC13: ± | CD13: =(_xlfn.STDEV.S('Single data'!ED13:EH13)/SQRT(5)) -> 5.6155628 | CE13: =AVERAGE('Single data'!EI13:EM13) -> 21.302763 | CF13: ± | CG13: =(_xlfn.STDEV.S('Single data'!EI13:EM13)/SQRT(5)) -> 4.7936697 | CH13: =AVERAGE('Single data'!EN13:ER13) -> 20.562992 | CI13: ± | CJ13: =_xlfn.STDEV.S('Single data'!EN13:ER13)/SQRT(5) -> 3.782029 | CK13: =AVERAGE('Single data'!ES13:EW13) -> 16.316547 | CL13: ± | CM13: =(_xlfn.STDEV.S('Single data'!ES13:EW13)/SQRT(5)) -> 2.9694851 | CN13: =AVERAGE('Single data'!EX13:FB13) -> 16.524032 | CO13: ± | CP13: =_xlfn.STDEV.S('Single data'!EX13:FB13)/SQRT(5) -> 2.8277973 | CQ13: =AVERAGE('Single data'!FC13:FH13) -> 19.422572 | CR13: ± | CS13: =(_xlfn.STDEV.S('Single data'!FC13:FH13)/SQRT(6)) -> 3.7866436 | CT13: =AVERAGE('Single data'!FI13:FN13) -> 19.813658 | CU13: ± | CV13: =_xlfn.STDEV.S('Single data'!FI13:FN13)/SQRT(6) -> 4.8854777 | CW13: =AVERAGE('Single data'!FO13:FT13) -> 18.323351 | CX13: ± | CY13: =(_xlfn.STDEV.S('Single data'!FO13:FT13)/SQRT(6)) -> 4.5653018 | CZ13: =AVERAGE('Single data'!FU13:FY13) -> 11.878401 | DA13: ± | DB13: =_xlfn.STDEV.S('Single data'!FU13:FY13)/SQRT(5) -> 2.8305654
C14: RvD2 | D14: =AVERAGE('Single data'!D14:O14) -> 6.320997 | E14: ± | F14: =(_xlfn.STDEV.S('Single data'!D14:O14)/SQRT(12)) -> 2.5515063 | G14: =AVERAGE('Single data'!P14:S14) -> 14.81461 | H14: ± | I14: =(_xlfn.STDEV.S('Single data'!P14:S14)/SQRT(4)) -> 2.3571973 | J14: =AVERAGE('Single data'!T14:W14) -> 9.4500963 | K14: ± | L14: =(_xlfn.STDEV.S('Single data'!T14:W14)/SQRT(4)) -> 4.3853993 | M14: =AVERAGE('Single data'!X14:AA14) -> 11.743721 | N14: ± | O14: =(_xlfn.STDEV.S('Single data'!X14:AA14)/SQRT(4)) -> 3.7003399 | P14: =AVERAGE('Single data'!AB14:AE14) -> 11.633957 | Q14: ± | R14: {=_xlfn.STDEV.S('Single data'!AB14:AE14/SQRT(4))} -> 2.9101254 | S14: =AVERAGE('Single data'!AF14:AI14) -> 8.9167332 | T14: ± | U14: =(_xlfn.STDEV.S('Single data'!AF14:AI14)/SQRT(4)) -> 3.5787009 | V14: =AVERAGE('Single data'!AJ14:AM14) -> 13.879591 | W14: ± | X14: =(_xlfn.STDEV.S('Single data'!AJ14:AM14)/SQRT(4)) -> 2.4511892 | Y14: =AVERAGE('Single data'!AN14:AQ14) -> 7.3339132 | Z14: ± | AA14: =(_xlfn.STDEV.S('Single data'!AN14:AQ14)/SQRT(4)) -> 3.4116286 | AB14: =AVERAGE('Single data'!AR14:AU14) -> 19.768162 | AC14: ± | AD14: =(_xlfn.STDEV.S('Single data'!AR14:AU14)/SQRT(4)) -> 6.0013788 | AE14: =AVERAGE('Single data'!AV14:AY14) -> 10.704429 | AF14: ± | AG14: =(_xlfn.STDEV.S('Single data'!AV14:AY14)/SQRT(4)) -> 1.7525584 | AH14: =AVERAGE('Single data'!AZ14:BC14) -> 13.20084 | AI14: ± | AJ14: =_xlfn.STDEV.S('Single data'!AZ14:BC14)/SQRT(4) -> 6.5994034 | AK14: =AVERAGE('Single data'!BD14:BG14) -> 13.73819 | AL14: ± | AM14: =(_xlfn.STDEV.S('Single data'!BD14:BG14)/SQRT(4)) -> 2.4836406 | AN14: =AVERAGE('Single data'!BH14:BK14) -> 11.659787 | AO14: ± | AP14: =_xlfn.STDEV.S('Single data'!BH14:BK14)/SQRT(4) -> 3.7465395 | AQ14: =AVERAGE('Single data'!BL14:BO14) -> 11.856429 | AR14: ± | AS14: =(_xlfn.STDEV.S('Single data'!BL14:BO14)/SQRT(4)) -> 1.570772 | AT14: =AVERAGE('Single data'!BP14:BS14) -> 12.32076 | AU14: ± | AV14: =_xlfn.STDEV.S('Single data'!BP14:BS14)/SQRT(4) -> 1.8234937 | AW14: =AVERAGE('Single data'!BT14:BW14) -> 11.118278 | AX14: ± | AY14: =(_xlfn.STDEV.S('Single data'!BT14:BW14)/SQRT(4)) -> 3.006079 | AZ14: =AVERAGE('Single data'!BX14:CA14) -> 11.693878 | BA14: ± | BB14: =_xlfn.STDEV.S('Single data'!BX14:CA14)/SQRT(4) -> 1.446856 | BD14: =AVERAGE('Single data'!CG14:CR14) -> 94.135283 | BE14: ± | BF14: =(_xlfn.STDEV.S('Single data'!CG14:CR14)/SQRT(12)) -> 59.134368 | BG14: =AVERAGE('Single data'!CS14:CW14) -> 60.826174 | BH14: ± | BI14: =(_xlfn.STDEV.S('Single data'!CS14:CW14)/SQRT(5)) -> 27.693145 | BJ14: =AVERAGE('Single data'!CX14:DB14) -> 55.735847 | BK14: ± | BL14: =(_xlfn.STDEV.S('Single data'!CX14:DB14)/SQRT(5)) -> 31.332451 | BM14: =AVERAGE('Single data'!DC14:DH14) -> 111.28079 | BN14: ± | BO14: =(_xlfn.STDEV.S('Single data'!DC14:DH14)/SQRT(6)) -> 41.712511 | BP14: =AVERAGE('Single data'!DI14:DN14) -> 75.220833 | BQ14: ± | BR14: =_xlfn.STDEV.S('Single data'!DI14:DN14)/SQRT(6) -> 26.408775 | BS14: =AVERAGE('Single data'!DO14:DS14) -> 86.880622 | BT14: ± | BU14: =(_xlfn.STDEV.S('Single data'!DI14:DN14)/SQRT(6)) -> 26.408775 | BV14: =AVERAGE('Single data'!DT14:DX14) -> 51.491264 | BW14: ± | BX14: =(_xlfn.STDEV.S('Single data'!DT14:DX14)/SQRT(5)) -> 20.101676 | BY14: =AVERAGE('Single data'!DY14:EC14) -> 73.54989 | BZ14: ± | CA14: =(_xlfn.STDEV.S('Single data'!DY14:EC14)/SQRT(5)) -> 30.123044 | CB14: =AVERAGE('Single data'!ED14:EH14) -> 52.541096 | CC14: ± | CD14: =(_xlfn.STDEV.S('Single data'!ED14:EH14)/SQRT(5)) -> 30.320924 | CE14: =AVERAGE('Single data'!EI14:EM14) -> 72.241062 | CF14: ± | CG14: =(_xlfn.STDEV.S('Single data'!EI14:EM14)/SQRT(5)) -> 26.333309 | CH14: =AVERAGE('Single data'!EN14:ER14) -> 54.016815 | CI14: ± | CJ14: =_xlfn.STDEV.S('Single data'!EN14:ER14)/SQRT(5) -> 18.930253 | CK14: =AVERAGE('Single data'!ES14:EW14) -> 68.563749 | CL14: ± | CM14: =(_xlfn.STDEV.S('Single data'!ES14:EW14)/SQRT(5)) -> 21.139939 | CN14: =AVERAGE('Single data'!EX14:FB14) -> 42.475441 | CO14: ± | CP14: =_xlfn.STDEV.S('Single data'!EX14:FB14)/SQRT(5) -> 15.109937 | CQ14: =AVERAGE('Single data'!FC14:FH14) -> 81.397598 | CR14: ± | CS14: =(_xlfn.STDEV.S('Single data'!FC14:FH14)/SQRT(6)) -> 30.151933 | CT14: =AVERAGE('Single data'!FI14:FN14) -> 76.533255 | CU14: ± | CV14: =_xlfn.STDEV.S('Single data'!FI14:FN14)/SQRT(6) -> 28.766834 | CW14: =AVERAGE('Single data'!FO14:FT14) -> 60.776453 | CX14: ± | CY14: =(_xlfn.STDEV.S('Single data'!FO14:FT14)/SQRT(6)) -> 25.502675 | CZ14: =AVERAGE('Single data'!FU14:FY14) -> 38.795013 | DA14: ± | DB14: =_xlfn.STDEV.S('Single data'!FU14:FY14)/SQRT(5) -> 18.173915
C15: RvD5 n3-DPA | D15: =AVERAGE('Single data'!D15:O15) -> 19.989753 | E15: ± | F15: =(_xlfn.STDEV.S('Single data'!D15:O15)/SQRT(12)) -> 9.5451143 | G15: =AVERAGE('Single data'!P15:S15) -> 12.97282 | H15: ± | I15: =(_xlfn.STDEV.S('Single data'!P15:S15)/SQRT(4)) -> 3.4541486 | J15: =AVERAGE('Single data'!T15:W15) -> 13.908923 | K15: ± | L15: =(_xlfn.STDEV.S('Single data'!T15:W15)/SQRT(4)) -> 2.6653958 | M15: =AVERAGE('Single data'!X15:AA15) -> 17.584504 | N15: ± | O15: =(_xlfn.STDEV.S('Single data'!X15:AA15)/SQRT(4)) -> 2.4075906 | P15: =AVERAGE('Single data'!AB15:AE15) -> 12.468968 | Q15: ± | R15: {=_xlfn.STDEV.S('Single data'!AB15:AE15/SQRT(4))} -> 4.0937177 | S15: =AVERAGE('Single data'!AF15:AI15) -> 16.797872 | T15: ± | U15: =(_xlfn.STDEV.S('Single data'!AF15:AI15)/SQRT(4)) -> 1.0945136 | V15: =AVERAGE('Single data'!AJ15:AM15) -> 18.141398 | W15: ± | X15: =(_xlfn.STDEV.S('Single data'!AJ15:AM15)/SQRT(4)) -> 1.5758951 | Y15: =AVERAGE('Single data'!AN15:AQ15) -> 14.935344 | Z15: ± | AA15: =(_xlfn.STDEV.S('Single data'!AN15:AQ15)/SQRT(4)) -> 2.4879719 | AB15: =AVERAGE('Single data'!AR15:AU15) -> 18.877494 | AC15: ± | AD15: =(_xlfn.STDEV.S('Single data'!AR15:AU15)/SQRT(4)) -> 2.2369491 | AE15: =AVERAGE('Single data'!AV15:AY15) -> 19.590447 | AF15: ± | AG15: =(_xlfn.STDEV.S('Single data'!AV15:AY15)/SQRT(4)) -> 2.5633595 | AH15: =AVERAGE('Single data'!AZ15:BC15) -> 11.903881 | AI15: ± | AJ15: =_xlfn.STDEV.S('Single data'!AZ15:BC15)/SQRT(4) -> 4.7004536 | AK15: =AVERAGE('Single data'!BD15:BG15) -> 14.183861 | AL15: ± | AM15: =(_xlfn.STDEV.S('Single data'!BD15:BG15)/SQRT(4)) -> 4.2549029 | AN15: =AVERAGE('Single data'!BH15:BK15) -> 14.629023 | AO15: ± | AP15: =_xlfn.STDEV.S('Single data'!BH15:BK15)/SQRT(4) -> 3.5753635 | AQ15: =AVERAGE('Single data'!BL15:BO15) -> 15.1938 | AR15: ± | AS15: =(_xlfn.STDEV.S('Single data'!BL15:BO15)/SQRT(4)) -> 2.9530765 | AT15: =AVERAGE('Single data'!BP15:BS15) -> 17.01109 | AU15: ± | AV15: =_xlfn.STDEV.S('Single data'!BP15:BS15)/SQRT(4) -> 2.5195224 | AW15: =AVERAGE('Single data'!BT15:BW15) -> 14.278321 | AX15: ± | AY15: =(_xlfn.STDEV.S('Single data'!BT15:BW15)/SQRT(4)) -> 2.8991644 | AZ15: =AVERAGE('Single data'!BX15:CA15) -> 16.942944 | BA15: ± | BB15: =_xlfn.STDEV.S('Single data'!BX15:CA15)/SQRT(4) -> 3.9912876 | BD15: =AVERAGE('Single data'!CG15:CR15) -> 244.64634 | BE15: ± | BF15: =(_xlfn.STDEV.S('Single data'!CG15:CR15)/SQRT(12)) -> 65.703986 | BG15: =AVERAGE('Single data'!CS15:CW15) -> 144.48961 | BH15: ± | BI15: =(_xlfn.STDEV.S('Single data'!CS15:CW15)/SQRT(5)) -> 84.352683 | BJ15: =AVERAGE('Single data'!CX15:DB15) -> 144.41827 | BK15: ± | BL15: =(_xlfn.STDEV.S('Single data'!CX15:DB15)/SQRT(5)) -> 81.133883 | BM15: =AVERAGE('Single data'!DC15:DH15) -> 308.71652 | BN15: ± | BO15: =(_xlfn.STDEV.S('Single data'!DC15:DH15)/SQRT(6)) -> 116.93684 | BP15: =AVERAGE('Single data'!DI15:DN15) -> 191.10636 | BQ15: ± | BR15: =_xlfn.STDEV.S('Single data'!DI15:DN15)/SQRT(6) -> 71.513752 | BS15: =AVERAGE('Single data'!DO15:DS15) -> 229.39827 | BT15: ± | BU15: =(_xlfn.STDEV.S('Single data'!DI15:DN15)/SQRT(6)) -> 71.513752 | BV15: =AVERAGE('Single data'!DT15:DX15) -> 163.88891 | BW15: ± | BX15: =(_xlfn.STDEV.S('Single data'!DT15:DX15)/SQRT(5)) -> 66.594007 | BY15: =AVERAGE('Single data'!DY15:EC15) -> 255.8361 | BZ15: ± | CA15: =(_xlfn.STDEV.S('Single data'!DY15:EC15)/SQRT(5)) -> 100.10592 | CB15: =AVERAGE('Single data'!ED15:EH15) -> 261.24605 | CC15: ± | CD15: =(_xlfn.STDEV.S('Single data'!ED15:EH15)/SQRT(5)) -> 107.63374 | CE15: =AVERAGE('Single data'!EI15:EM15) -> 248.09437 | CF15: ± | CG15: =(_xlfn.STDEV.S('Single data'!EI15:EM15)/SQRT(5)) -> 103.12148 | CH15: =AVERAGE('Single data'!EN15:ER15) -> 185.44201 | CI15: ± | CJ15: =_xlfn.STDEV.S('Single data'!EN15:ER15)/SQRT(5) -> 64.685119 | CK15: =AVERAGE('Single data'!ES15:EW15) -> 190.47208 | CL15: ± | CM15: =(_xlfn.STDEV.S('Single data'!ES15:EW15)/SQRT(5)) -> 71.859714 | CN15: =AVERAGE('Single data'!EX15:FB15) -> 127.70546 | CO15: ± | CP15: =_xlfn.STDEV.S('Single data'!EX15:FB15)/SQRT(5) -> 50.118411 | CQ15: =AVERAGE('Single data'!FC15:FH15) -> 251.64127 | CR15: ± | CS15: =(_xlfn.STDEV.S('Single data'!FC15:FH15)/SQRT(6)) -> 91.373898 | CT15: =AVERAGE('Single data'!FI15:FN15) -> 238.83841 | CU15: ± | CV15: =_xlfn.STDEV.S('Single data'!FI15:FN15)/SQRT(6) -> 87.186961 | CW15: =AVERAGE('Single data'!FO15:FT15) -> 162.84042 | CX15: ± | CY15: =(_xlfn.STDEV.S('Single data'!FO15:FT15)/SQRT(6)) -> 76.08794 | CZ15: =AVERAGE('Single data'!FU15:FY15) -> 111.03374 | DA15: ± | DB15: =_xlfn.STDEV.S('Single data'!FU15:FY15)/SQRT(5) -> 67.25586
C16: LXA4 | BD16: =AVERAGE('Single data'!CG16:CR16) -> 163.1662 | BE16: ± | BF16: =(_xlfn.STDEV.S('Single data'!CG16:CR16)/SQRT(12)) -> 103.31414 | BG16: =AVERAGE('Single data'!CS16:CW16) -> 36.984945 | BH16: ± | BI16: =(_xlfn.STDEV.S('Single data'!CS16:CW16)/SQRT(5)) -> 8.9545103 | BJ16: =AVERAGE('Single data'!CX16:DB16) -> 36.578601 | BK16: ± | BL16: =(_xlfn.STDEV.S('Single data'!CX16:DB16)/SQRT(5)) -> 10.296452 | BM16: =AVERAGE('Single data'!DC16:DH16) -> 41.456885 | BN16: ± | BO16: =(_xlfn.STDEV.S('Single data'!DC16:DH16)/SQRT(6)) -> 17.799898 | BP16: =AVERAGE('Single data'!DI16:DN16) -> 13.878473 | BQ16: ± | BR16: =_xlfn.STDEV.S('Single data'!DI16:DN16)/SQRT(6) -> 4.0402158 | BS16: =AVERAGE('Single data'!DO16:DS16) -> 43.320042 | BT16: ± | BU16: =(_xlfn.STDEV.S('Single data'!DI16:DN16)/SQRT(6)) -> 4.0402158 | BV16: =AVERAGE('Single data'!DT16:DX16) -> 26.81514 | BW16: ± | BX16: =(_xlfn.STDEV.S('Single data'!DT16:DX16)/SQRT(5)) -> 8.4929931 | BY16: =AVERAGE('Single data'!DY16:EC16) -> 35.561821 | BZ16: ± | CA16: =(_xlfn.STDEV.S('Single data'!DY16:EC16)/SQRT(5)) -> 6.1200416 | CB16: =AVERAGE('Single data'!ED16:EH16) -> 25.260936 | CC16: ± | CD16: =(_xlfn.STDEV.S('Single data'!ED16:EH16)/SQRT(5)) -> 5.2966291 | CE16: =AVERAGE('Single data'!EI16:EM16) -> 34.095427 | CF16: ± | CG16: =(_xlfn.STDEV.S('Single data'!EI16:EM16)/SQRT(5)) -> 6.0560209 | CH16: =AVERAGE('Single data'!EN16:ER16) -> 23.441779 | CI16: ± | CJ16: =_xlfn.STDEV.S('Single data'!EN16:ER16)/SQRT(5) -> 4.3249499 | CK16: =AVERAGE('Single data'!ES16:EW16) -> 37.851198 | CL16: ± | CM16: =(_xlfn.STDEV.S('Single data'!ES16:EW16)/SQRT(5)) -> 9.2523699 | CN16: =AVERAGE('Single data'!EX16:FB16) -> 21.65896 | CO16: ± | CP16: =_xlfn.STDEV.S('Single data'!EX16:FB16)/SQRT(5) -> 5.6019872 | CQ16: =AVERAGE('Single data'!FC16:FH16) -> 40.923877 | CR16: ± | CS16: =(_xlfn.STDEV.S('Single data'!FC16:FH16)/SQRT(6)) -> 9.2807599 | CT16: =AVERAGE('Single data'!FI16:FN16) -> 31.142091 | CU16: ± | CV16: =_xlfn.STDEV.S('Single data'!FI16:FN16)/SQRT(6) -> 8.2616161 | CW16: =AVERAGE('Single data'!FO16:FT16) -> 34.929601 | CX16: ± | CY16: =(_xlfn.STDEV.S('Single data'!FO16:FT16)/SQRT(6)) -> 9.3622212 | CZ16: =AVERAGE('Single data'!FU16:FY16) -> 22.515949 | DA16: ± | DB16: =_xlfn.STDEV.S('Single data'!FU16:FY16)/SQRT(5) -> 7.7650102
B17: SPM - precursor | C17: 17-HDHA | D17: =AVERAGE('Single data'!D17:O17) -> 1535.9533 | E17: ± | F17: =(_xlfn.STDEV.S('Single data'!D17:O17)/SQRT(12)) -> 1026.3591 | G17: =AVERAGE('Single data'!P17:S17) -> 200.34103 | H17: ± | I17: =(_xlfn.STDEV.S('Single data'!P17:S17)/SQRT(4)) -> 161.87589 | J17: =AVERAGE('Single data'!T17:W17) -> 272.16128 | K17: ± | L17: =(_xlfn.STDEV.S('Single data'!T17:W17)/SQRT(4)) -> 228.22815 | M17: =AVERAGE('Single data'!X17:AA17) -> 158.53799 | N17: ± | O17: =(_xlfn.STDEV.S('Single data'!X17:AA17)/SQRT(4)) -> 134.40302 | P17: =AVERAGE('Single data'!AB17:AE17) -> 392.57747 | Q17: ± | R17: {=_xlfn.STDEV.S('Single data'!AB17:AE17/SQRT(4))} -> 270.793 | S17: =AVERAGE('Single data'!AF17:AI17) -> 49.766102 | T17: ± | U17: =(_xlfn.STDEV.S('Single data'!AF17:AI17)/SQRT(4)) -> 22.137443 | V17: =AVERAGE('Single data'!AJ17:AM17) -> 133.67161 | W17: ± | X17: =(_xlfn.STDEV.S('Single data'!AJ17:AM17)/SQRT(4)) -> 24.170652 | Y17: =AVERAGE('Single data'!AN17:AQ17) -> 728.25064 | Z17: ± | AA17: =(_xlfn.STDEV.S('Single data'!AN17:AQ17)/SQRT(4)) -> 617.27401 | AB17: =AVERAGE('Single data'!AR17:AU17) -> 1939.5226 | AC17: ± | AD17: =(_xlfn.STDEV.S('Single data'!AR17:AU17)/SQRT(4)) -> 607.16868 | AE17: =AVERAGE('Single data'!AV17:AY17) -> 54.853412 | AF17: ± | AG17: =(_xlfn.STDEV.S('Single data'!AV17:AY17)/SQRT(4)) -> 21.745339 | AH17: =AVERAGE('Single data'!AZ17:BC17) -> 1195.7665 | AI17: ± | AJ17: =_xlfn.STDEV.S('Single data'!AZ17:BC17)/SQRT(4) -> 369.12197 | AK17: =AVERAGE('Single data'!BD17:BG17) -> 42.862623 | AL17: ± | AM17: =(_xlfn.STDEV.S('Single data'!BD17:BG17)/SQRT(4)) -> 22.548501 | AN17: =AVERAGE('Single data'!BH17:BK17) -> 211.43031 | AO17: ± | AP17: =_xlfn.STDEV.S('Single data'!BH17:BK17)/SQRT(4) -> 90.10603 | AQ17: =AVERAGE('Single data'!BL17:BO17) -> 36.704466 | AR17: ± | AS17: =(_xlfn.STDEV.S('Single data'!BL17:BO17)/SQRT(4)) -> 15.179578 | AT17: =AVERAGE('Single data'!BP17:BS17) -> 452.62988 | AU17: ± | AV17: =_xlfn.STDEV.S('Single data'!BP17:BS17)/SQRT(4) -> 76.897877 | AW17: =AVERAGE('Single data'!BT17:BW17) -> 201.60082 | AX17: ± | AY17: =(_xlfn.STDEV.S('Single data'!BT17:BW17)/SQRT(4)) -> 185.51465 | AZ17: =AVERAGE('Single data'!BX17:CA17) -> 429.67544 | BA17: ± | BB17: =_xlfn.STDEV.S('Single data'!BX17:CA17)/SQRT(4) -> 228.664 | BD17: =AVERAGE('Single data'!CG17:CR17) -> 16317.377 | BE17: ± | BF17: =(_xlfn.STDEV.S('Single data'!CG17:CR17)/SQRT(12)) -> 2012.5586 | BG17: =AVERAGE('Single data'!CS17:CW17) -> 8553.4272 | BH17: ± | BI17: =(_xlfn.STDEV.S('Single data'!CS17:CW17)/SQRT(5)) -> 2735.1347 | BJ17: =AVERAGE('Single data'!CX17:DB17) -> 4834.5607 | BK17: ± | BL17: =(_xlfn.STDEV.S('Single data'!CX17:DB17)/SQRT(5)) -> 1300.1856 | BM17: =AVERAGE('Single data'!DC17:DH17) -> 7456.5266 | BN17: ± | BO17: =(_xlfn.STDEV.S('Single data'!DC17:DH17)/SQRT(6)) -> 2034.8293 | BP17: =AVERAGE('Single data'!DI17:DN17) -> 4513.4854 | BQ17: ± | BR17: =_xlfn.STDEV.S('Single data'!DI17:DN17)/SQRT(6) -> 1241.5348 | BS17: =AVERAGE('Single data'!DO17:DS17) -> 10107.09 | BT17: ± | BU17: =(_xlfn.STDEV.S('Single data'!DI17:DN17)/SQRT(6)) -> 1241.5348 | BV17: =AVERAGE('Single data'!DT17:DX17) -> 5751.5969 | BW17: ± | BX17: =(_xlfn.STDEV.S('Single data'!DT17:DX17)/SQRT(5)) -> 854.86998 | BY17: =AVERAGE('Single data'!DY17:EC17) -> 12506.54 | BZ17: ± | CA17: =(_xlfn.STDEV.S('Single data'!DY17:EC17)/SQRT(5)) -> 3020.0721 | CB17: =AVERAGE('Single data'!ED17:EH17) -> 9456.1235 | CC17: ± | CD17: =(_xlfn.STDEV.S('Single data'!ED17:EH17)/SQRT(5)) -> 1981.4191 | CE17: =AVERAGE('Single data'!EI17:EM17) -> 11884.284 | CF17: ± | CG17: =(_xlfn.STDEV.S('Single data'!EI17:EM17)/SQRT(5)) -> 2823.5718 | CH17: =AVERAGE('Single data'!EN17:ER17) -> 8234.0927 | CI17: ± | CJ17: =_xlfn.STDEV.S('Single data'!EN17:ER17)/SQRT(5) -> 2050.4135 | CK17: =AVERAGE('Single data'!ES17:EW17) -> 9918.9386 | CL17: ± | CM17: =(_xlfn.STDEV.S('Single data'!ES17:EW17)/SQRT(5)) -> 1578.8165 | CN17: =AVERAGE('Single data'!EX17:FB17) -> 5066.6139 | CO17: ± | CP17: =_xlfn.STDEV.S('Single data'!EX17:FB17)/SQRT(5) -> 848.06916 | CQ17: =AVERAGE('Single data'!FC17:FH17) -> 11960.175 | CR17: ± | CS17: =(_xlfn.STDEV.S('Single data'!FC17:FH17)/SQRT(6)) -> 2074.8596 | CT17: =AVERAGE('Single data'!FI17:FN17) -> 7363.0748 | CU17: ± | CV17: =_xlfn.STDEV.S('Single data'!FI17:FN17)/SQRT(6) -> 1558.7784 | CW17: =AVERAGE('Single data'!FO17:FT17) -> 7804.7188 | CX17: ± | CY17: =(_xlfn.STDEV.S('Single data'!FO17:FT17)/SQRT(6)) -> 1504.1879 | CZ17: =AVERAGE('Single data'!FU17:FY17) -> 4525.6322 | DA17: ± | DB17: =_xlfn.STDEV.S('Single data'!FU17:FY17)/SQRT(5) -> 1091.2885
C18: 17-HDPA | D18: =AVERAGE('Single data'!D18:O18) -> 1799.675 | E18: ± | F18: =(_xlfn.STDEV.S('Single data'!D18:O18)/SQRT(12)) -> 1146.3807 | G18: =AVERAGE('Single data'!P18:S18) -> 280.7357 | H18: ± | I18: =(_xlfn.STDEV.S('Single data'!P18:S18)/SQRT(4)) -> 184.33365 | J18: =AVERAGE('Single data'!T18:W18) -> 319.5718 | K18: ± | L18: =(_xlfn.STDEV.S('Single data'!T18:W18)/SQRT(4)) -> 243.16379 | M18: =AVERAGE('Single data'!X18:AA18) -> 161.55 | N18: ± | O18: =(_xlfn.STDEV.S('Single data'!X18:AA18)/SQRT(4)) -> 133.76292 | P18: =AVERAGE('Single data'!AB18:AE18) -> 656.42672 | Q18: ± | R18: {=_xlfn.STDEV.S('Single data'!AB18:AE18/SQRT(4))} -> 436.98451 | S18: =AVERAGE('Single data'!AF18:AI18) -> 92.783644 | T18: ± | U18: =(_xlfn.STDEV.S('Single data'!AF18:AI18)/SQRT(4)) -> 44.015139 | V18: =AVERAGE('Single data'!AJ18:AM18) -> 223.70984 | W18: ± | X18: =(_xlfn.STDEV.S('Single data'!AJ18:AM18)/SQRT(4)) -> 62.526171 | Y18: =AVERAGE('Single data'!AN18:AQ18) -> 679.36234 | Z18: ± | AA18: =(_xlfn.STDEV.S('Single data'!AN18:AQ18)/SQRT(4)) -> 495.2421 | AB18: =AVERAGE('Single data'!AR18:AU18) -> 4256.8044 | AC18: ± | AD18: =(_xlfn.STDEV.S('Single data'!AR18:AU18)/SQRT(4)) -> 1627.6897 | AE18: =AVERAGE('Single data'!AV18:AY18) -> 82.810893 | AF18: ± | AG18: =(_xlfn.STDEV.S('Single data'!AV18:AY18)/SQRT(4)) -> 33.107985 | AH18: =AVERAGE('Single data'!AZ18:BC18) -> 2327.6741 | AI18: ± | AJ18: =_xlfn.STDEV.S('Single data'!AZ18:BC18)/SQRT(4) -> 684.30079 | AK18: =AVERAGE('Single data'!BD18:BG18) -> 69.227072 | AL18: ± | AM18: =(_xlfn.STDEV.S('Single data'!BD18:BG18)/SQRT(4)) -> 37.33222 | AN18: =AVERAGE('Single data'!BH18:BK18) -> 388.70719 | AO18: ± | AP18: =_xlfn.STDEV.S('Single data'!BH18:BK18)/SQRT(4) -> 177.383 | AQ18: =AVERAGE('Single data'!BL18:BO18) -> 59.259515 | AR18: ± | AS18: =(_xlfn.STDEV.S('Single data'!BL18:BO18)/SQRT(4)) -> 20.982695 | AT18: =AVERAGE('Single data'!BP18:BS18) -> 986.49189 | AU18: ± | AV18: =_xlfn.STDEV.S('Single data'!BP18:BS18)/SQRT(4) -> 192.75241 | AW18: =AVERAGE('Single data'!BT18:BW18) -> 296.01158 | AX18: ± | AY18: =(_xlfn.STDEV.S('Single data'!BT18:BW18)/SQRT(4)) -> 266.14723 | AZ18: =AVERAGE('Single data'!BX18:CA18) -> 763.96169 | BA18: ± | BB18: =_xlfn.STDEV.S('Single data'!BX18:CA18)/SQRT(4) -> 384.93558 | BD18: =AVERAGE('Single data'!CG18:CR18) -> 26031.491 | BE18: ± | BF18: =(_xlfn.STDEV.S('Single data'!CG18:CR18)/SQRT(12)) -> 3598.7374 | BG18: =AVERAGE('Single data'!CS18:CW18) -> 14963.267 | BH18: ± | BI18: =(_xlfn.STDEV.S('Single data'!CS18:CW18)/SQRT(5)) -> 5196.7978 | BJ18: =AVERAGE('Single data'!CX18:DB18) -> 10364.09 | BK18: ± | BL18: =(_xlfn.STDEV.S('Single data'!CX18:DB18)/SQRT(5)) -> 3425.9899 | BM18: =AVERAGE('Single data'!DC18:DH18) -> 13026.087 | BN18: ± | BO18: =(_xlfn.STDEV.S('Single data'!DC18:DH18)/SQRT(6)) -> 3611.6227 | BP18: =AVERAGE('Single data'!DI18:DN18) -> 8871.9226 | BQ18: ± | BR18: =_xlfn.STDEV.S('Single data'!DI18:DN18)/SQRT(6) -> 2397.5901 | BS18: =AVERAGE('Single data'!DO18:DS18) -> 18517.331 | BT18: ± | BU18: =(_xlfn.STDEV.S('Single data'!DI18:DN18)/SQRT(6)) -> 2397.5901 | BV18: =AVERAGE('Single data'!DT18:DX18) -> 11635.234 | BW18: ± | BX18: =(_xlfn.STDEV.S('Single data'!DT18:DX18)/SQRT(5)) -> 2169.355 | BY18: =AVERAGE('Single data'!DY18:EC18) -> 23033.856 | BZ18: ± | CA18: =(_xlfn.STDEV.S('Single data'!DY18:EC18)/SQRT(5)) -> 6093.229 | CB18: =AVERAGE('Single data'!ED18:EH18) -> 19058.569 | CC18: ± | CD18: =(_xlfn.STDEV.S('Single data'!ED18:EH18)/SQRT(5)) -> 4634.4215 | CE18: =AVERAGE('Single data'!EI18:EM18) -> 22467.058 | CF18: ± | CG18: =(_xlfn.STDEV.S('Single data'!EI18:EM18)/SQRT(5)) -> 5623.3043 | CH18: =AVERAGE('Single data'!EN18:ER18) -> 17256.53 | CI18: ± | CJ18: =_xlfn.STDEV.S('Single data'!EN18:ER18)/SQRT(5) -> 4756.5372 | CK18: =AVERAGE('Single data'!ES18:EW18) -> 17335.437 | CL18: ± | CM18: =(_xlfn.STDEV.S('Single data'!ES18:EW18)/SQRT(5)) -> 4013.0958 | CN18: =AVERAGE('Single data'!EX18:FB18) -> 9572.6806 | CO18: ± | CP18: =_xlfn.STDEV.S('Single data'!EX18:FB18)/SQRT(5) -> 1840.7573 | CQ18: =AVERAGE('Single data'!FC18:FH18) -> 20678.934 | CR18: ± | CS18: =(_xlfn.STDEV.S('Single data'!FC18:FH18)/SQRT(6)) -> 4617.1059 | CT18: =AVERAGE('Single data'!FI18:FN18) -> 14278.684 | CU18: ± | CV18: =_xlfn.STDEV.S('Single data'!FI18:FN18)/SQRT(6) -> 3290.9461 | CW18: =AVERAGE('Single data'!FO18:FT18) -> 13291.863 | CX18: ± | CY18: =(_xlfn.STDEV.S('Single data'!FO18:FT18)/SQRT(6)) -> 2894.8288 | CZ18: =AVERAGE('Single data'!FU18:FY18) -> 8367.6094 | DA18: ± | DB18: =_xlfn.STDEV.S('Single data'!FU18:FY18)/SQRT(5) -> 2484.8561
C19: 15-HETE | D19: =AVERAGE('Single data'!D19:O19) -> 1802.0267 | E19: ± | F19: =(_xlfn.STDEV.S('Single data'!D19:O19)/SQRT(12)) -> 1171.0683 | G19: =AVERAGE('Single data'!P19:S19) -> 285.66157 | H19: ± | I19: =(_xlfn.STDEV.S('Single data'!P19:S19)/SQRT(4)) -> 202.18188 | J19: =AVERAGE('Single data'!T19:W19) -> 584.63246 | K19: ± | L19: =(_xlfn.STDEV.S('Single data'!T19:W19)/SQRT(4)) -> 467.50777 | M19: =AVERAGE('Single data'!X19:AA19) -> 271.83078 | N19: ± | O19: =(_xlfn.STDEV.S('Single data'!X19:AA19)/SQRT(4)) -> 226.74696 | P19: =AVERAGE('Single data'!AB19:AE19) -> 1275.9474 | Q19: ± | R19: {=_xlfn.STDEV.S('Single data'!AB19:AE19/SQRT(4))} -> 933.09167 | S19: =AVERAGE('Single data'!AF19:AI19) -> 90.944252 | T19: ± | U19: =(_xlfn.STDEV.S('Single data'!AF19:AI19)/SQRT(4)) -> 41.814936 | V19: =AVERAGE('Single data'!AJ19:AM19) -> 339.86207 | W19: ± | X19: =(_xlfn.STDEV.S('Single data'!AJ19:AM19)/SQRT(4)) -> 82.703976 | Y19: =AVERAGE('Single data'!AN19:AQ19) -> 959.43547 | Z19: ± | AA19: =(_xlfn.STDEV.S('Single data'!AN19:AQ19)/SQRT(4)) -> 729.08171 | AB19: =AVERAGE('Single data'!AR19:AU19) -> 4978.3795 | AC19: ± | AD19: =(_xlfn.STDEV.S('Single data'!AR19:AU19)/SQRT(4)) -> 1799.7934 | AE19: =AVERAGE('Single data'!AV19:AY19) -> 113.19641 | AF19: ± | AG19: =(_xlfn.STDEV.S('Single data'!AV19:AY19)/SQRT(4)) -> 45.844598 | AH19: =AVERAGE('Single data'!AZ19:BC19) -> 3104.8861 | AI19: ± | AJ19: =_xlfn.STDEV.S('Single data'!AZ19:BC19)/SQRT(4) -> 936.6733 | AK19: =AVERAGE('Single data'!BD19:BG19) -> 76.713251 | AL19: ± | AM19: =(_xlfn.STDEV.S('Single data'!BD19:BG19)/SQRT(4)) -> 40.958805 | AN19: =AVERAGE('Single data'!BH19:BK19) -> 694.6512 | AO19: ± | AP19: =_xlfn.STDEV.S('Single data'!BH19:BK19)/SQRT(4) -> 315.17861 | AQ19: =AVERAGE('Single data'!BL19:BO19) -> 37.861933 | AR19: ± | AS19: =(_xlfn.STDEV.S('Single data'!BL19:BO19)/SQRT(4)) -> 13.507347 | AT19: =AVERAGE('Single data'!BP19:BS19) -> 1271.3961 | AU19: ± | AV19: =_xlfn.STDEV.S('Single data'!BP19:BS19)/SQRT(4) -> 219.93079 | AW19: =AVERAGE('Single data'!BT19:BW19) -> 229.7719 | AX19: ± | AY19: =(_xlfn.STDEV.S('Single data'!BT19:BW19)/SQRT(4)) -> 208.4602 | AZ19: =AVERAGE('Single data'!BX19:CA19) -> 1019.0839 | BA19: ± | BB19: =_xlfn.STDEV.S('Single data'!BX19:CA19)/SQRT(4) -> 432.34984 | BD19: =AVERAGE('Single data'!CG19:CR19) -> 32901.034 | BE19: ± | BF19: =(_xlfn.STDEV.S('Single data'!CG19:CR19)/SQRT(12)) -> 3957.857 | BG19: =AVERAGE('Single data'!CS19:CW19) -> 18600.315 | BH19: ± | BI19: =(_xlfn.STDEV.S('Single data'!CS19:CW19)/SQRT(5)) -> 6493.2274 | BJ19: =AVERAGE('Single data'!CX19:DB19) -> 17582.294 | BK19: ± | BL19: =(_xlfn.STDEV.S('Single data'!CX19:DB19)/SQRT(5)) -> 6353.167 | BM19: =AVERAGE('Single data'!DC19:DH19) -> 27358.94 | BN19: ± | BO19: =(_xlfn.STDEV.S('Single data'!DC19:DH19)/SQRT(6)) -> 7614.0345 | BP19: =AVERAGE('Single data'!DI19:DN19) -> 25403.752 | BQ19: ± | BR19: =_xlfn.STDEV.S('Single data'!DI19:DN19)/SQRT(6) -> 7574.7912 | BS19: =AVERAGE('Single data'!DO19:DS19) -> 28085.245 | BT19: ± | BU19: =(_xlfn.STDEV.S('Single data'!DI19:DN19)/SQRT(6)) -> 7574.7912 | BV19: =AVERAGE('Single data'!DT19:DX19) -> 28034.425 | BW19: ± | BX19: =(_xlfn.STDEV.S('Single data'!DT19:DX19)/SQRT(5)) -> 6019.0551 | BY19: =AVERAGE('Single data'!DY19:EC19) -> 29133.634 | BZ19: ± | CA19: =(_xlfn.STDEV.S('Single data'!DY19:EC19)/SQRT(5)) -> 6861.4158 | CB19: =AVERAGE('Single data'!ED19:EH19) -> 33193.349 | CC19: ± | CD19: =(_xlfn.STDEV.S('Single data'!ED19:EH19)/SQRT(5)) -> 6538.763 | CE19: =AVERAGE('Single data'!EI19:EM19) -> 28755.042 | CF19: ± | CG19: =(_xlfn.STDEV.S('Single data'!EI19:EM19)/SQRT(5)) -> 6773.1635 | CH19: =AVERAGE('Single data'!EN19:ER19) -> 27044.18 | CI19: ± | CJ19: =_xlfn.STDEV.S('Single data'!EN19:ER19)/SQRT(5) -> 6418.7738 | CK19: =AVERAGE('Single data'!ES19:EW19) -> 29234.55 | CL19: ± | CM19: =(_xlfn.STDEV.S('Single data'!ES19:EW19)/SQRT(5)) -> 6336.5694 | CN19: =AVERAGE('Single data'!EX19:FB19) -> 24059.57 | CO19: ± | CP19: =_xlfn.STDEV.S('Single data'!EX19:FB19)/SQRT(5) -> 5080.0533 | CQ19: =AVERAGE('Single data'!FC19:FH19) -> 29020.259 | CR19: ± | CS19: =(_xlfn.STDEV.S('Single data'!FC19:FH19)/SQRT(6)) -> 6047.5037 | CT19: =AVERAGE('Single data'!FI19:FN19) -> 29135.812 | CU19: ± | CV19: =_xlfn.STDEV.S('Single data'!FI19:FN19)/SQRT(6) -> 7226.5141 | CW19: =AVERAGE('Single data'!FO19:FT19) -> 20926.274 | CX19: ± | CY19: =(_xlfn.STDEV.S('Single data'!FO19:FT19)/SQRT(6)) -> 5579.3886 | CZ19: =AVERAGE('Single data'!FU19:FY19) -> 19417.037 | DA19: ± | DB19: =_xlfn.STDEV.S('Single data'!FU19:FY19)/SQRT(5) -> 6679.7933
C20: 14-HDHA | D20: =AVERAGE('Single data'!D20:O20) -> 61.118894 | E20: ± | F20: =(_xlfn.STDEV.S('Single data'!D20:O20)/SQRT(12)) -> 33.995278 | G20: =AVERAGE('Single data'!P20:S20) -> 24.058826 | H20: ± | I20: =(_xlfn.STDEV.S('Single data'!P20:S20)/SQRT(4)) -> 12.735428 | J20: =AVERAGE('Single data'!T20:W20) -> 42.479074 | K20: ± | L20: =(_xlfn.STDEV.S('Single data'!T20:W20)/SQRT(4)) -> 31.259177 | M20: =AVERAGE('Single data'!X20:AA20) -> 20.510586 | N20: ± | O20: =(_xlfn.STDEV.S('Single data'!X20:AA20)/SQRT(4)) -> 14.869566 | P20: =AVERAGE('Single data'!AB20:AE20) -> 76.67294 | Q20: ± | R20: {=_xlfn.STDEV.S('Single data'!AB20:AE20/SQRT(4))} -> 43.940522 | S20: =AVERAGE('Single data'!AF20:AI20) -> 10.804027 | T20: ± | U20: =(_xlfn.STDEV.S('Single data'!AF20:AI20)/SQRT(4)) -> 4.0976061 | V20: =AVERAGE('Single data'!AJ20:AM20) -> 28.668552 | W20: ± | X20: =(_xlfn.STDEV.S('Single data'!AJ20:AM20)/SQRT(4)) -> 5.6463058 | Y20: =AVERAGE('Single data'!AN20:AQ20) -> 63.944769 | Z20: ± | AA20: =(_xlfn.STDEV.S('Single data'!AN20:AQ20)/SQRT(4)) -> 41.535573 | AB20: =AVERAGE('Single data'!AR20:AU20) -> 429.57698 | AC20: ± | AD20: =(_xlfn.STDEV.S('Single data'!AR20:AU20)/SQRT(4)) -> 149.42907 | AE20: =AVERAGE('Single data'!AV20:AY20) -> 13.855017 | AF20: ± | AG20: =(_xlfn.STDEV.S('Single data'!AV20:AY20)/SQRT(4)) -> 4.5528735 | AH20: =AVERAGE('Single data'!AZ20:BC20) -> 290.34613 | AI20: ± | AJ20: =_xlfn.STDEV.S('Single data'!AZ20:BC20)/SQRT(4) -> 82.932271 | AK20: =AVERAGE('Single data'!BD20:BG20) -> 8.4668502 | AL20: ± | AM20: =(_xlfn.STDEV.S('Single data'!BD20:BG20)/SQRT(4)) -> 4.6074403 | AN20: =AVERAGE('Single data'!BH20:BK20) -> 36.668634 | AO20: ± | AP20: =_xlfn.STDEV.S('Single data'!BH20:BK20)/SQRT(4) -> 15.878288 | AQ20: =AVERAGE('Single data'!BL20:BO20) -> 4.2766765 | AR20: ± | AS20: =(_xlfn.STDEV.S('Single data'!BL20:BO20)/SQRT(4)) -> 1.2359501 | AT20: =AVERAGE('Single data'!BP20:BS20) -> 60.34081 | AU20: ± | AV20: =_xlfn.STDEV.S('Single data'!BP20:BS20)/SQRT(4) -> 12.595879 | AW20: =AVERAGE('Single data'!BT20:BW20) -> 12.597232 | AX20: ± | AY20: =(_xlfn.STDEV.S('Single data'!BT20:BW20)/SQRT(4)) -> 9.7164408 | AZ20: =AVERAGE('Single data'!BX20:CA20) -> 33.956606 | BA20: ± | BB20: =_xlfn.STDEV.S('Single data'!BX20:CA20)/SQRT(4) -> 13.136067 | BD20: =AVERAGE('Single data'!CG20:CR20) -> 2115.8779 | BE20: ± | BF20: =(_xlfn.STDEV.S('Single data'!CG20:CR20)/SQRT(12)) -> 426.64085 | BG20: =AVERAGE('Single data'!CS20:CW20) -> 1078.6217 | BH20: ± | BI20: =(_xlfn.STDEV.S('Single data'!CS20:CW20)/SQRT(5)) -> 448.09479 | BJ20: =AVERAGE('Single data'!CX20:DB20) -> 780.74172 | BK20: ± | BL20: =(_xlfn.STDEV.S('Single data'!CX20:DB20)/SQRT(5)) -> 291.65343 | BM20: =AVERAGE('Single data'!DC20:DH20) -> 1582.1544 | BN20: ± | BO20: =(_xlfn.STDEV.S('Single data'!DC20:DH20)/SQRT(6)) -> 493.3487 | BP20: =AVERAGE('Single data'!DI20:DN20) -> 1026.5563 | BQ20: ± | BR20: =_xlfn.STDEV.S('Single data'!DI20:DN20)/SQRT(6) -> 313.25158 | BS20: =AVERAGE('Single data'!DO20:DS20) -> 1460.7439 | BT20: ± | BU20: =(_xlfn.STDEV.S('Single data'!DI20:DN20)/SQRT(6)) -> 313.25158 | BV20: =AVERAGE('Single data'!DT20:DX20) -> 979.44129 | BW20: ± | BX20: =(_xlfn.STDEV.S('Single data'!DT20:DX20)/SQRT(5)) -> 248.60077 | BY20: =AVERAGE('Single data'!DY20:EC20) -> 1544.2568 | BZ20: ± | CA20: =(_xlfn.STDEV.S('Single data'!DY20:EC20)/SQRT(5)) -> 448.53263 | CB20: =AVERAGE('Single data'!ED20:EH20) -> 1343.1789 | CC20: ± | CD20: =(_xlfn.STDEV.S('Single data'!ED20:EH20)/SQRT(5)) -> 362.315 | CE20: =AVERAGE('Single data'!EI20:EM20) -> 1483.7215 | CF20: ± | CG20: =(_xlfn.STDEV.S('Single data'!EI20:EM20)/SQRT(5)) -> 408.26727 | CH20: =AVERAGE('Single data'!EN20:ER20) -> 1244.2505 | CI20: ± | CJ20: =_xlfn.STDEV.S('Single data'!EN20:ER20)/SQRT(5) -> 332.15006 | CK20: =AVERAGE('Single data'!ES20:EW20) -> 1328.2238 | CL20: ± | CM20: =(_xlfn.STDEV.S('Single data'!ES20:EW20)/SQRT(5)) -> 344.15847 | CN20: =AVERAGE('Single data'!EX20:FB20) -> 864.00862 | CO20: ± | CP20: =_xlfn.STDEV.S('Single data'!EX20:FB20)/SQRT(5) -> 205.98818 | CQ20: =AVERAGE('Single data'!FC20:FH20) -> 1636.0292 | CR20: ± | CS20: =(_xlfn.STDEV.S('Single data'!FC20:FH20)/SQRT(6)) -> 506.19639 | CT20: =AVERAGE('Single data'!FI20:FN20) -> 1177.788 | CU20: ± | CV20: =_xlfn.STDEV.S('Single data'!FI20:FN20)/SQRT(6) -> 358.73752 | CW20: =AVERAGE('Single data'!FO20:FT20) -> 1143.2407 | CX20: ± | CY20: =(_xlfn.STDEV.S('Single data'!FO20:FT20)/SQRT(6)) -> 430.2872 | CZ20: =AVERAGE('Single data'!FU20:FY20) -> 637.97593 | DA20: ± | DB20: =_xlfn.STDEV.S('Single data'!FU20:FY20)/SQRT(5) -> 263.84879
C21: 18-HEPE | D21: =AVERAGE('Single data'!D21:O21) -> 45.371706 | E21: ± | F21: =(_xlfn.STDEV.S('Single data'!D21:O21)/SQRT(12)) -> 12.535977 | G21: =AVERAGE('Single data'!P21:S21) -> 26.861659 | H21: ± | I21: =(_xlfn.STDEV.S('Single data'!P21:S21)/SQRT(4)) -> 11.222014 | J21: =AVERAGE('Single data'!T21:W21) -> 34.763377 | K21: ± | L21: =(_xlfn.STDEV.S('Single data'!T21:W21)/SQRT(4)) -> 16.634129 | M21: =AVERAGE('Single data'!X21:AA21) -> 26.296239 | N21: ± | O21: =(_xlfn.STDEV.S('Single data'!X21:AA21)/SQRT(4)) -> 12.193081 | P21: =AVERAGE('Single data'!AB21:AE21) -> 26.295406 | Q21: ± | R21: {=_xlfn.STDEV.S('Single data'!AB21:AE21/SQRT(4))} -> 3.1870811 | S21: =AVERAGE('Single data'!AF21:AI21) -> 18.64368 | T21: ± | U21: =(_xlfn.STDEV.S('Single data'!AF21:AI21)/SQRT(4)) -> 6.1953059 | V21: =AVERAGE('Single data'!AJ21:AM21) -> 29.893561 | W21: ± | X21: =(_xlfn.STDEV.S('Single data'!AJ21:AM21)/SQRT(4)) -> 4.1334882 | Y21: =AVERAGE('Single data'!AN21:AQ21) -> 36.825514 | Z21: ± | AA21: =(_xlfn.STDEV.S('Single data'!AN21:AQ21)/SQRT(4)) -> 10.957994 | AB21: =AVERAGE('Single data'!AR21:AU21) -> 31.239307 | AC21: ± | AD21: =(_xlfn.STDEV.S('Single data'!AR21:AU21)/SQRT(4)) -> 6.2963511 | AE21: =AVERAGE('Single data'!AV21:AY21) -> 26.211691 | AF21: ± | AG21: =(_xlfn.STDEV.S('Single data'!AV21:AY21)/SQRT(4)) -> 6.8236424 | AH21: =AVERAGE('Single data'!AZ21:BC21) -> 28.107357 | AI21: ± | AJ21: =_xlfn.STDEV.S('Single data'!AZ21:BC21)/SQRT(4) -> 6.8691476 | AK21: =AVERAGE('Single data'!BD21:BG21) -> 22.314041 | AL21: ± | AM21: =(_xlfn.STDEV.S('Single data'!BD21:BG21)/SQRT(4)) -> 2.3614539 | AN21: =AVERAGE('Single data'!BH21:BK21) -> 18.384646 | AO21: ± | AP21: =_xlfn.STDEV.S('Single data'!BH21:BK21)/SQRT(4) -> 3.2522753 | AQ21: =AVERAGE('Single data'!BL21:BO21) -> 18.055516 | AR21: ± | AS21: =(_xlfn.STDEV.S('Single data'!BL21:BO21)/SQRT(4)) -> 1.4067079 | AT21: =AVERAGE('Single data'!BP21:BS21) -> 22.451044 | AU21: ± | AV21: =_xlfn.STDEV.S('Single data'!BP21:BS21)/SQRT(4) -> 3.5221642 | AW21: =AVERAGE('Single data'!BT21:BW21) -> 31.456844 | AX21: ± | AY21: =(_xlfn.STDEV.S('Single data'!BT21:BW21)/SQRT(4)) -> 9.0674298 | AZ21: =AVERAGE('Single data'!BX21:CA21) -> 23.681508 | BA21: ± | BB21: =_xlfn.STDEV.S('Single data'!BX21:CA21)/SQRT(4) -> 5.4304294 | BD21: =AVERAGE('Single data'!CG21:CR21) -> 380.3271 | BE21: ± | BF21: =(_xlfn.STDEV.S('Single data'!CG21:CR21)/SQRT(12)) -> 112.01086 | BG21: =AVERAGE('Single data'!CS21:CW21) -> 137.62445 | BH21: ± | BI21: =(_xlfn.STDEV.S('Single data'!CS21:CW21)/SQRT(5)) -> 13.951916 | BJ21: =AVERAGE('Single data'!CX21:DB21) -> 136.81873 | BK21: ± | BL21: =(_xlfn.STDEV.S('Single data'!CX21:DB21)/SQRT(5)) -> 11.415748 | BM21: =AVERAGE('Single data'!DC21:DH21) -> 146.75264 | BN21: ± | BO21: =(_xlfn.STDEV.S('Single data'!DC21:DH21)/SQRT(6)) -> 27.200287 | BP21: =AVERAGE('Single data'!DI21:DN21) -> 131.63017 | BQ21: ± | BR21: =_xlfn.STDEV.S('Single data'!DI21:DN21)/SQRT(6) -> 16.596171 | BS21: =AVERAGE('Single data'!DO21:DS21) -> 104.93625 | BT21: ± | BU21: =(_xlfn.STDEV.S('Single data'!DI21:DN21)/SQRT(6)) -> 16.596171 | BV21: =AVERAGE('Single data'!DT21:DX21) -> 76.302948 | BW21: ± | BX21: =(_xlfn.STDEV.S('Single data'!DT21:DX21)/SQRT(5)) -> 7.9724941 | BY21: =AVERAGE('Single data'!DY21:EC21) -> 128.4084 | BZ21: ± | CA21: =(_xlfn.STDEV.S('Single data'!DY21:EC21)/SQRT(5)) -> 15.078567 | CB21: =AVERAGE('Single data'!ED21:EH21) -> 86.555335 | CC21: ± | CD21: =(_xlfn.STDEV.S('Single data'!ED21:EH21)/SQRT(5)) -> 8.9530873 | CE21: =AVERAGE('Single data'!EI21:EM21) -> 126.39881 | CF21: ± | CG21: =(_xlfn.STDEV.S('Single data'!EI21:EM21)/SQRT(5)) -> 14.965837 | CH21: =AVERAGE('Single data'!EN21:ER21) -> 77.482075 | CI21: ± | CJ21: =_xlfn.STDEV.S('Single data'!EN21:ER21)/SQRT(5) -> 10.678456 | CK21: =AVERAGE('Single data'!ES21:EW21) -> 122.77434 | CL21: ± | CM21: =(_xlfn.STDEV.S('Single data'!ES21:EW21)/SQRT(5)) -> 26.580821 | CN21: =AVERAGE('Single data'!EX21:FB21) -> 63.66165 | CO21: ± | CP21: =_xlfn.STDEV.S('Single data'!EX21:FB21)/SQRT(5) -> 4.2532284 | CQ21: =AVERAGE('Single data'!FC21:FH21) -> 145.45176 | CR21: ± | CS21: =(_xlfn.STDEV.S('Single data'!FC21:FH21)/SQRT(6)) -> 19.190796 | CT21: =AVERAGE('Single data'!FI21:FN21) -> 73.508036 | CU21: ± | CV21: =_xlfn.STDEV.S('Single data'!FI21:FN21)/SQRT(6) -> 8.1859806 | CW21: =AVERAGE('Single data'!FO21:FT21) -> 103.47537 | CX21: ± | CY21: =(_xlfn.STDEV.S('Single data'!FO21:FT21)/SQRT(6)) -> 16.290336 | CZ21: =AVERAGE('Single data'!FU21:FY21) -> 70.235796 | DA21: ± | DB21: =_xlfn.STDEV.S('Single data'!FU21:FY21)/SQRT(5) -> 12.716314
