Workbook

Sheet Mean + S.E.M.
A1: Table S4 Effect of LCMs on the lipid mediator profile of SACM-challenged M2LPS macrophages
C4: compound | D4: vehicle (0.1% DMSO) | G4: 1 | M4: 2 | S4: 3 | Y4: 4 | AE4: 5 | AK4: 6 | AQ4: 7 | AW4: 8 | BD4: vehicle (0.1% DMSO) | BG4: 1 | BM4: 2 | BS4: 3 | BY4: 4 | CE4: 5 | CK4: 6 | CQ4: 7 | CW4: 8
C5: conc [µM] | G5: 0.3 | J5: 3 | M5: 0.3 | P5: 3 | S5: 0.3 | V5: 3 | Y5: 0.3 | AB5: 3 | AE5: 0.3 | AH5: 3 | AK5: 0.3 | AN5: 3 | AQ5: 0.3 | AT5: 3 | AW5: 0.3 | AZ5: 3 | BG5: 0.3 | BJ5: 3 | BM5: 0.3 | BP5: 3 | BS5: 0.3 | BV5: 3 | BY5: 0.3 | CB5: 3 | CE5: 0.3 | CH5: 3 | CK5: 0.3 | CN5: 3 | CQ5: 0.3 | CT5: 3 | CW5: 0.3 | CZ5: 3
C6: stimulation | D6: unstim. | F6: unstim. | G6: unstim. | I6: unstim. | J6: unstim. | L6: unstim. | M6: unstim. | O6: unstim. | P6: unstim. | R6: unstim. | S6: unstim. | U6: unstim. | V6: unstim. | X6: unstim. | Y6: unstim. | AA6: unstim. | AB6: unstim. | AD6: unstim. | AE6: unstim. | AG6: unstim. | AH6: unstim. | AJ6: unstim. | AK6: unstim. | AM6: unstim. | AN6: unstim. | AP6: unstim. | AQ6: unstim. | AS6: unstim. | AT6: unstim. | AV6: unstim. | AW6: unstim. | AY6: unstim. | AZ6: unstim. | BB6: unstim. | BD6: SACM | BF6: SACM | BG6: SACM | BI6: SACM | BJ6: SACM | BL6: SACM | BM6: SACM | BO6: SACM | BP6: SACM | BR6: SACM | BS6: SACM | BU6: SACM | BV6: SACM | BX6: SACM | BY6: SACM | CA6: SACM | CB6: SACM | CD6: SACM | CE6: SACM | CG6: SACM | CH6: SACM | CJ6: SACM | CK6: SACM | CM6: SACM | CN6: SACM | CP6: SACM | CQ6: SACM | CS6: SACM | CT6: SACM | CV6: SACM | CW6: SACM | CY6: SACM | CZ6: SACM | DB6: SACM
D7: mean | E7: ± | F7: S.E.M. | G7: mean | H7: ± | I7: S.E.M. | J7: mean | K7: ± | L7: S.E.M. | M7: mean | N7: ± | O7: S.E.M. | P7: mean | Q7: ± | R7: S.E.M. | S7: mean | T7: ± | U7: S.E.M. | V7: mean | W7: ± | X7: S.E.M. | Y7: mean | Z7: ± | AA7: S.E.M. | AB7: mean | AC7: ± | AD7: S.E.M. | AE7: mean | AF7: ± | AG7: S.E.M. | AH7: mean | AI7: ± | AJ7: S.E.M. | AK7: mean | AL7: ± | AM7: S.E.M. | AN7: mean | AO7: ± | AP7: S.E.M. | AQ7: mean | AR7: ± | AS7: S.E.M. | AT7: mean | AU7: ± | AV7: S.E.M. | AW7: mean | AX7: ± | AY7: S.E.M. | AZ7: mean | BA7: ± | BB7: S.E.M. | BD7: mean | BE7: ± | BF7: S.E.M. | BG7: mean | BH7: ± | BI7: S.E.M. | BJ7: mean | BK7: ± | BL7: S.E.M. | BM7: mean | BN7: ± | BO7: S.E.M. | BP7: mean | BQ7: ± | BR7: S.E.M. | BS7: mean | BT7: ± | BU7: S.E.M. | BV7: mean | BW7: ± | BX7: S.E.M. | BY7: mean | BZ7: ± | CA7: S.E.M. | CB7: mean | CC7: ± | CD7: S.E.M. | CE7: mean | CF7: ± | CG7: S.E.M. | CH7: mean | CI7: ± | CJ7: S.E.M. | CK7: mean | CL7: ± | CM7: S.E.M. | CN7: mean | CO7: ± | CP7: S.E.M. | CQ7: mean | CR7: ± | CS7: S.E.M. | CT7: mean | CU7: ± | CV7: S.E.M. | CW7: mean | CX7: ± | CY7: S.E.M. | CZ7: mean | DA7: ± | DB7: S.E.M.
A8: pg per 2 * 106 cells | B8: SPM/iso | C8: PD1 | D8: =AVERAGE('Single data'!D8:O8) -> 7328.1607 | E8: ± | F8: =(_xlfn.STDEV.S('Single data'!D8:O8)/SQRT(12)) -> 5504.0252 | G8: =AVERAGE('Single data'!P8:S8) -> 0.88823572 | H8: ± | I8: =(_xlfn.STDEV.S('Single data'!P8:S8)/SQRT(4)) -> 0.58844206 | J8: =AVERAGE('Single data'!T8:W8) -> 1.258191 | K8: ± | L8: =(_xlfn.STDEV.S('Single data'!T8:W8)/SQRT(4)) -> 0.64009554 | M8: =AVERAGE('Single data'!X8:AA8) -> 1.3638822 | N8: ± | O8: =(_xlfn.STDEV.S('Single data'!X8:AA8)/SQRT(4)) -> 0.95971287 | P8: =AVERAGE('Single data'!AB8:AE8) -> 1.7248482 | Q8: ± | R8: {=_xlfn.STDEV.S('Single data'!AB8:AE8/SQRT(4))} -> 0.84363387 | S8: =AVERAGE('Single data'!AF8:AI8) -> 0.57146101 | T8: ± | U8: =(_xlfn.STDEV.S('Single data'!AF8:AI8)/SQRT(4)) -> 0.17456721 | V8: =AVERAGE('Single data'!AJ8:AM8) -> 1.0022464 | W8: ± | X8: =(_xlfn.STDEV.S('Single data'!AJ8:AM8)/SQRT(4)) -> 0.15397348 | Y8: =AVERAGE('Single data'!AN8:AQ8) -> 1.2880437 | Z8: ± | AA8: =(_xlfn.STDEV.S('Single data'!AN8:AQ8)/SQRT(4)) -> 0.79275354 | AB8: =AVERAGE('Single data'!AR8:AU8) -> 4.6647879 | AC8: ± | AD8: =(_xlfn.STDEV.S('Single data'!AR8:AU8)/SQRT(4)) -> 1.0457295 | AE8: =AVERAGE('Single data'!AV8:AY8) -> 0.66919777 | AF8: ± | AG8: =(_xlfn.STDEV.S('Single data'!AV8:AY8)/SQRT(4)) -> 0.1681303 | AH8: =AVERAGE('Single data'!AZ8:BC8) -> 2.6700226 | AI8: ± | AJ8: =_xlfn.STDEV.S('Single data'!AZ8:BC8)/SQRT(4) -> 0.66565406 | AK8: =AVERAGE('Single data'!BD8:BG8) -> 0.62146082 | AL8: ± | AM8: =(_xlfn.STDEV.S('Single data'!BD8:BG8)/SQRT(4)) -> 0.30162442 | AN8: =AVERAGE('Single data'!BH8:BK8) -> 1.5290615 | AO8: ± | AP8: =_xlfn.STDEV.S('Single data'!BH8:BK8)/SQRT(4) -> 0.67856571 | AQ8: =AVERAGE('Single data'!BL8:BO8) -> 0.76654947 | AR8: ± | AS8: =(_xlfn.STDEV.S('Single data'!BL8:BO8)/SQRT(4)) -> 0.19822901 | AT8: =AVERAGE('Single data'!BP8:BS8) -> 1.5854905 | AU8: ± | AV8: =_xlfn.STDEV.S('Single data'!BP8:BS8)/SQRT(4) -> 0.32883196 | AW8: =AVERAGE('Single data'!BT8:BW8) -> 1.3934547 | AX8: ± | AY8: =(_xlfn.STDEV.S('Single data'!BT8:BW8)/SQRT(4)) -> 0.92790342 | AZ8: =AVERAGE('Single data'!BX8:CA8) -> 2.0671376 | BA8: ± | BB8: =_xlfn.STDEV.S('Single data'!BX8:CA8)/SQRT(4) -> 0.75149955 | BD8: =AVERAGE('Single data'!CG8:CR8) -> 64117.935 | BE8: ± | BF8: =(_xlfn.STDEV.S('Single data'!CG8:CR8)/SQRT(12)) -> 36694.884 | BG8: =AVERAGE('Single data'!CS8:CW8) -> 10.174802 | BH8: ± | BI8: =(_xlfn.STDEV.S('Single data'!CS8:CW8)/SQRT(5)) -> 3.0790207 | BJ8: =AVERAGE('Single data'!CX8:DB8) -> 10.237963 | BK8: ± | BL8: =(_xlfn.STDEV.S('Single data'!CX8:DB8)/SQRT(5)) -> 3.0257892 | BM8: =AVERAGE('Single data'!DC8:DH8) -> 22.280472 | BN8: ± | BO8: =(_xlfn.STDEV.S('Single data'!DC8:DH8)/SQRT(6)) -> 8.3016443 | BP8: =AVERAGE('Single data'!DI8:DN8) -> 31.278972 | BQ8: ± | BR8: =_xlfn.STDEV.S('Single data'!DI8:DN8)/SQRT(6) -> 10.587042 | BS8: =AVERAGE('Single data'!DO8:DS8) -> 19.307262 | BT8: ± | BU8: =(_xlfn.STDEV.S('Single data'!DI8:DN8)/SQRT(6)) -> 10.587042 | BV8: =AVERAGE('Single data'!DT8:DX8) -> 23.027192 | BW8: ± | BX8: =(_xlfn.STDEV.S('Single data'!DT8:DX8)/SQRT(5)) -> 5.7026551 | BY8: =AVERAGE('Single data'!DY8:EC8) -> 18.256795 | BZ8: ± | CA8: =(_xlfn.STDEV.S('Single data'!DY8:EC8)/SQRT(5)) -> 6.5796334 | CB8: =AVERAGE('Single data'!ED8:EH8) -> 18.023807 | CC8: ± | CD8: =(_xlfn.STDEV.S('Single data'!ED8:EH8)/SQRT(5)) -> 7.0063946 | CE8: =AVERAGE('Single data'!EI8:EM8) -> 16.852243 | CF8: ± | CG8: =(_xlfn.STDEV.S('Single data'!EI8:EM8)/SQRT(5)) -> 5.6885209 | CH8: =AVERAGE('Single data'!EN8:ER8) -> 14.627946 | CI8: ± | CJ8: =_xlfn.STDEV.S('Single data'!EN8:ER8)/SQRT(5) -> 4.7809273 | CK8: =AVERAGE('Single data'!ES8:EW8) -> 16.514996 | CL8: ± | CM8: =(_xlfn.STDEV.S('Single data'!ES8:EW8)/SQRT(5)) -> 4.3213613 | CN8: =AVERAGE('Single data'!EX8:FB8) -> 20.002523 | CO8: ± | CP8: =_xlfn.STDEV.S('Single data'!EX8:FB8)/SQRT(5) -> 6.7134265 | CQ8: =AVERAGE('Single data'!FC8:FH8) -> 22.580859 | CR8: ± | CS8: =(_xlfn.STDEV.S('Single data'!FC8:FH8)/SQRT(6)) -> 8.2961655 | CT8: =AVERAGE('Single data'!FI8:FN8) -> 33.95049 | CU8: ± | CV8: =_xlfn.STDEV.S('Single data'!FI8:FN8)/SQRT(6) -> 13.182806 | CW8: =AVERAGE('Single data'!FO8:FT8) -> 19.862652 | CX8: ± | CY8: =(_xlfn.STDEV.S('Single data'!FO8:FT8)/SQRT(6)) -> 6.7423119 | CZ8: =AVERAGE('Single data'!FU8:FY8) -> 16.813833 | DA8: ± | DB8: =_xlfn.STDEV.S('Single data'!FU8:FY8)/SQRT(5) -> 5.0369223
C9: AT-PD1 | D9: =AVERAGE('Single data'!D9:O9) -> 10.501865 | E9: ± | F9: =(_xlfn.STDEV.S('Single data'!D9:O9)/SQRT(12)) -> 3.7907679 | G9: =AVERAGE('Single data'!P9:S9) -> 5.990015 | H9: ± | I9: =(_xlfn.STDEV.S('Single data'!P9:S9)/SQRT(4)) -> 2.1587048 | J9: =AVERAGE('Single data'!T9:W9) -> 7.2499076 | K9: ± | L9: =(_xlfn.STDEV.S('Single data'!T9:W9)/SQRT(4)) -> 3.022483 | M9: =AVERAGE('Single data'!X9:AA9) -> 6.602644 | N9: ± | O9: =(_xlfn.STDEV.S('Single data'!X9:AA9)/SQRT(4)) -> 3.4120732 | P9: =AVERAGE('Single data'!AB9:AE9) -> 19.959188 | Q9: ± | R9: {=_xlfn.STDEV.S('Single data'!AB9:AE9/SQRT(4))} -> 9.0844963 | S9: =AVERAGE('Single data'!AF9:AI9) -> 3.5123177 | T9: ± | U9: =(_xlfn.STDEV.S('Single data'!AF9:AI9)/SQRT(4)) -> 0.33609243 | V9: =AVERAGE('Single data'!AJ9:AM9) -> 10.830892 | W9: ± | X9: =(_xlfn.STDEV.S('Single data'!AJ9:AM9)/SQRT(4)) -> 1.7350194 | Y9: =AVERAGE('Single data'!AN9:AQ9) -> 7.2317232 | Z9: ± | AA9: =(_xlfn.STDEV.S('Single data'!AN9:AQ9)/SQRT(4)) -> 2.0051482 | AB9: =AVERAGE('Single data'!AR9:AU9) -> 32.824381 | AC9: ± | AD9: =(_xlfn.STDEV.S('Single data'!AR9:AU9)/SQRT(4)) -> 9.3964711 | AE9: =AVERAGE('Single data'!AV9:AY9) -> 4.7117941 | AF9: ± | AG9: =(_xlfn.STDEV.S('Single data'!AV9:AY9)/SQRT(4)) -> 0.48496544 | AH9: =AVERAGE('Single data'!AZ9:BC9) -> 20.746231 | AI9: ± | AJ9: =_xlfn.STDEV.S('Single data'!AZ9:BC9)/SQRT(4) -> 4.5883071 | AK9: =AVERAGE('Single data'!BD9:BG9) -> 5.0463179 | AL9: ± | AM9: =(_xlfn.STDEV.S('Single data'!BD9:BG9)/SQRT(4)) -> 1.8556863 | AN9: =AVERAGE('Single data'!BH9:BK9) -> 9.6805807 | AO9: ± | AP9: =_xlfn.STDEV.S('Single data'!BH9:BK9)/SQRT(4) -> 1.2139791 | AQ9: =AVERAGE('Single data'!BL9:BO9) -> 3.8332774 | AR9: ± | AS9: =(_xlfn.STDEV.S('Single data'!BL9:BO9)/SQRT(4)) -> 0.48989191 | AT9: =AVERAGE('Single data'!BP9:BS9) -> 13.214708 | AU9: ± | AV9: =_xlfn.STDEV.S('Single data'!BP9:BS9)/SQRT(4) -> 2.1765269 | AW9: =AVERAGE('Single data'!BT9:BW9) -> 5.6183182 | AX9: ± | AY9: =(_xlfn.STDEV.S('Single data'!BT9:BW9)/SQRT(4)) -> 2.1963361 | AZ9: =AVERAGE('Single data'!BX9:CA9) -> 18.51289 | BA9: ± | BB9: =_xlfn.STDEV.S('Single data'!BX9:CA9)/SQRT(4) -> 6.6219322 | BD9: =AVERAGE('Single data'!CG9:CR9) -> 94.296434 | BE9: ± | BF9: =(_xlfn.STDEV.S('Single data'!CG9:CR9)/SQRT(12)) -> 15.709579 | BG9: =AVERAGE('Single data'!CS9:CW9) -> 85.193146 | BH9: ± | BI9: =(_xlfn.STDEV.S('Single data'!CS9:CW9)/SQRT(5)) -> 42.031712 | BJ9: =AVERAGE('Single data'!CX9:DB9) -> 84.734996 | BK9: ± | BL9: =(_xlfn.STDEV.S('Single data'!CX9:DB9)/SQRT(5)) -> 33.236073 | BM9: =AVERAGE('Single data'!DC9:DH9) -> 151.34178 | BN9: ± | BO9: =(_xlfn.STDEV.S('Single data'!DC9:DH9)/SQRT(6)) -> 56.508135 | BP9: =AVERAGE('Single data'!DI9:DN9) -> 203.09317 | BQ9: ± | BR9: =_xlfn.STDEV.S('Single data'!DI9:DN9)/SQRT(6) -> 64.70035 | BS9: =AVERAGE('Single data'!DO9:DS9) -> 129.59441 | BT9: ± | BU9: =(_xlfn.STDEV.S('Single data'!DI9:DN9)/SQRT(6)) -> 64.70035 | BV9: =AVERAGE('Single data'!DT9:DX9) -> 161.54801 | BW9: ± | BX9: =(_xlfn.STDEV.S('Single data'!DT9:DX9)/SQRT(5)) -> 39.195537 | BY9: =AVERAGE('Single data'!DY9:EC9) -> 122.25167 | BZ9: ± | CA9: =(_xlfn.STDEV.S('Single data'!DY9:EC9)/SQRT(5)) -> 40.089055 | CB9: =AVERAGE('Single data'!ED9:EH9) -> 120.05235 | CC9: ± | CD9: =(_xlfn.STDEV.S('Single data'!ED9:EH9)/SQRT(5)) -> 42.117001 | CE9: =AVERAGE('Single data'!EI9:EM9) -> 116.97748 | CF9: ± | CG9: =(_xlfn.STDEV.S('Single data'!EI9:EM9)/SQRT(5)) -> 36.672452 | CH9: =AVERAGE('Single data'!EN9:ER9) -> 94.366098 | CI9: ± | CJ9: =_xlfn.STDEV.S('Single data'!EN9:ER9)/SQRT(5) -> 25.580155 | CK9: =AVERAGE('Single data'!ES9:EW9) -> 93.002934 | CL9: ± | CM9: =(_xlfn.STDEV.S('Single data'!ES9:EW9)/SQRT(5)) -> 32.315217 | CN9: =AVERAGE('Single data'!EX9:FB9) -> 133.90364 | CO9: ± | CP9: =_xlfn.STDEV.S('Single data'!EX9:FB9)/SQRT(5) -> 42.768098 | CQ9: =AVERAGE('Single data'!FC9:FH9) -> 150.23479 | CR9: ± | CS9: =(_xlfn.STDEV.S('Single data'!FC9:FH9)/SQRT(6)) -> 49.735126 | CT9: =AVERAGE('Single data'!FI9:FN9) -> 205.19512 | CU9: ± | CV9: =_xlfn.STDEV.S('Single data'!FI9:FN9)/SQRT(6) -> 73.540334 | CW9: =AVERAGE('Single data'!FO9:FT9) -> 113.30643 | CX9: ± | CY9: =(_xlfn.STDEV.S('Single data'!FO9:FT9)/SQRT(6)) -> 39.535949 | CZ9: =AVERAGE('Single data'!FU9:FY9) -> 100.80756 | DA9: ± | DB9: =_xlfn.STDEV.S('Single data'!FU9:FY9)/SQRT(5) -> 31.493316
C10: PDX | D10: =AVERAGE('Single data'!D10:O10) -> 38.919783 | E10: ± | F10: =(_xlfn.STDEV.S('Single data'!D10:O10)/SQRT(12)) -> 20.845106 | G10: =AVERAGE('Single data'!P10:S10) -> 30.085195 | H10: ± | I10: =(_xlfn.STDEV.S('Single data'!P10:S10)/SQRT(4)) -> 14.648264 | J10: =AVERAGE('Single data'!T10:W10) -> 58.731478 | K10: ± | L10: =(_xlfn.STDEV.S('Single data'!T10:W10)/SQRT(4)) -> 25.192377 | M10: =AVERAGE('Single data'!X10:AA10) -> 44.484659 | N10: ± | O10: =(_xlfn.STDEV.S('Single data'!X10:AA10)/SQRT(4)) -> 22.379603 | P10: =AVERAGE('Single data'!AB10:AE10) -> 138.68397 | Q10: ± | R10: {=_xlfn.STDEV.S('Single data'!AB10:AE10/SQRT(4))} -> 50.697436 | S10: =AVERAGE('Single data'!AF10:AI10) -> 19.069689 | T10: ± | U10: =(_xlfn.STDEV.S('Single data'!AF10:AI10)/SQRT(4)) -> 5.6540335 | V10: =AVERAGE('Single data'!AJ10:AM10) -> 80.59706 | W10: ± | X10: =(_xlfn.STDEV.S('Single data'!AJ10:AM10)/SQRT(4)) -> 25.280188 | Y10: =AVERAGE('Single data'!AN10:AQ10) -> 46.734135 | Z10: ± | AA10: =(_xlfn.STDEV.S('Single data'!AN10:AQ10)/SQRT(4)) -> 17.768017 | AB10: =AVERAGE('Single data'!AR10:AU10) -> 233.64196 | AC10: ± | AD10: =(_xlfn.STDEV.S('Single data'!AR10:AU10)/SQRT(4)) -> 120.66022 | AE10: =AVERAGE('Single data'!AV10:AY10) -> 13.217481 | AF10: ± | AG10: =(_xlfn.STDEV.S('Single data'!AV10:AY10)/SQRT(4)) -> 4.3345754 | AH10: =AVERAGE('Single data'!AZ10:BC10) -> 170.92007 | AI10: ± | AJ10: =_xlfn.STDEV.S('Single data'!AZ10:BC10)/SQRT(4) -> 64.522367 | AK10: =AVERAGE('Single data'!BD10:BG10) -> 18.525385 | AL10: ± | AM10: =(_xlfn.STDEV.S('Single data'!BD10:BG10)/SQRT(4)) -> 6.8515772 | AN10: =AVERAGE('Single data'!BH10:BK10) -> 130.22794 | AO10: ± | AP10: =_xlfn.STDEV.S('Single data'!BH10:BK10)/SQRT(4) -> 41.798893 | AQ10: =AVERAGE('Single data'!BL10:BO10) -> 11.016999 | AR10: ± | AS10: =(_xlfn.STDEV.S('Single data'!BL10:BO10)/SQRT(4)) -> 2.7457875 | AT10: =AVERAGE('Single data'!BP10:BS10) -> 84.986424 | AU10: ± | AV10: =_xlfn.STDEV.S('Single data'!BP10:BS10)/SQRT(4) -> 23.683865 | AW10: =AVERAGE('Single data'!BT10:BW10) -> 34.184814 | AX10: ± | AY10: =(_xlfn.STDEV.S('Single data'!BT10:BW10)/SQRT(4)) -> 24.184798 | AZ10: =AVERAGE('Single data'!BX10:CA10) -> 85.021345 | BA10: ± | BB10: =_xlfn.STDEV.S('Single data'!BX10:CA10)/SQRT(4) -> 28.643273 | BD10: =AVERAGE('Single data'!CG10:CR10) -> 521.12283 | BE10: ± | BF10: =(_xlfn.STDEV.S('Single data'!CG10:CR10)/SQRT(12)) -> 113.57639 | BG10: =AVERAGE('Single data'!CS10:CW10) -> 362.47782 | BH10: ± | BI10: =(_xlfn.STDEV.S('Single data'!CS10:CW10)/SQRT(5)) -> 161.10087 | BJ10: =AVERAGE('Single data'!CX10:DB10) -> 408.32582 | BK10: ± | BL10: =(_xlfn.STDEV.S('Single data'!CX10:DB10)/SQRT(5)) -> 190.36471 | BM10: =AVERAGE('Single data'!DC10:DH10) -> 798.8508 | BN10: ± | BO10: =(_xlfn.STDEV.S('Single data'!DC10:DH10)/SQRT(6)) -> 334.61424 | BP10: =AVERAGE('Single data'!DI10:DN10) -> 1368.7649 | BQ10: ± | BR10: =_xlfn.STDEV.S('Single data'!DI10:DN10)/SQRT(6) -> 568.45089 | BS10: =AVERAGE('Single data'!DO10:DS10) -> 606.47537 | BT10: ± | BU10: =(_xlfn.STDEV.S('Single data'!DI10:DN10)/SQRT(6)) -> 568.45089 | BV10: =AVERAGE('Single data'!DT10:DX10) -> 671.01534 | BW10: ± | BX10: =(_xlfn.STDEV.S('Single data'!DT10:DX10)/SQRT(5)) -> 322.18867 | BY10: =AVERAGE('Single data'!DY10:EC10) -> 611.63945 | BZ10: ± | CA10: =(_xlfn.STDEV.S('Single data'!DY10:EC10)/SQRT(5)) -> 245.99563 | CB10: =AVERAGE('Single data'!ED10:EH10) -> 863.93718 | CC10: ± | CD10: =(_xlfn.STDEV.S('Single data'!ED10:EH10)/SQRT(5)) -> 374.09382 | CE10: =AVERAGE('Single data'!EI10:EM10) -> 530.73329 | CF10: ± | CG10: =(_xlfn.STDEV.S('Single data'!EI10:EM10)/SQRT(5)) -> 209.06741 | CH10: =AVERAGE('Single data'!EN10:ER10) -> 739.58217 | CI10: ± | CJ10: =_xlfn.STDEV.S('Single data'!EN10:ER10)/SQRT(5) -> 280.51627 | CK10: =AVERAGE('Single data'!ES10:EW10) -> 470.03002 | CL10: ± | CM10: =(_xlfn.STDEV.S('Single data'!ES10:EW10)/SQRT(5)) -> 196.84617 | CN10: =AVERAGE('Single data'!EX10:FB10) -> 684.83679 | CO10: ± | CP10: =_xlfn.STDEV.S('Single data'!EX10:FB10)/SQRT(5) -> 346.55804 | CQ10: =AVERAGE('Single data'!FC10:FH10) -> 763.7134 | CR10: ± | CS10: =(_xlfn.STDEV.S('Single data'!FC10:FH10)/SQRT(6)) -> 291.89635 | CT10: =AVERAGE('Single data'!FI10:FN10) -> 1030.6079 | CU10: ± | CV10: =_xlfn.STDEV.S('Single data'!FI10:FN10)/SQRT(6) -> 448.05666 | CW10: =AVERAGE('Single data'!FO10:FT10) -> 512.11815 | CX10: ± | CY10: =(_xlfn.STDEV.S('Single data'!FO10:FT10)/SQRT(6)) -> 243.80798 | CZ10: =AVERAGE('Single data'!FU10:FY10) -> 313.13409 | DA10: ± | DB10: =_xlfn.STDEV.S('Single data'!FU10:FY10)/SQRT(5) -> 193.09754
C11: RvD5 DPA | D11: =AVERAGE('Single data'!D11:O11) -> 58.968988 | E11: ± | F11: =(_xlfn.STDEV.S('Single data'!D11:O11)/SQRT(12)) -> 36.114926 | G11: =AVERAGE('Single data'!P11:S11) -> 21.936397 | H11: ± | I11: =(_xlfn.STDEV.S('Single data'!P11:S11)/SQRT(4)) -> 13.680365 | J11: =AVERAGE('Single data'!T11:W11) -> 36.302577 | K11: ± | L11: =(_xlfn.STDEV.S('Single data'!T11:W11)/SQRT(4)) -> 23.2478 | M11: =AVERAGE('Single data'!X11:AA11) -> 24.363862 | N11: ± | O11: =(_xlfn.STDEV.S('Single data'!X11:AA11)/SQRT(4)) -> 19.749907 | P11: =AVERAGE('Single data'!AB11:AE11) -> 30.593257 | Q11: ± | R11: {=_xlfn.STDEV.S('Single data'!AB11:AE11/SQRT(4))} -> 22.168004 | S11: =AVERAGE('Single data'!AF11:AI11) -> 7.5797778 | T11: ± | U11: =(_xlfn.STDEV.S('Single data'!AF11:AI11)/SQRT(4)) -> 3.2304781 | V11: =AVERAGE('Single data'!AJ11:AM11) -> 12.828311 | W11: ± | X11: =(_xlfn.STDEV.S('Single data'!AJ11:AM11)/SQRT(4)) -> 4.2490457 | Y11: =AVERAGE('Single data'!AN11:AQ11) -> 38.091217 | Z11: ± | AA11: =(_xlfn.STDEV.S('Single data'!AN11:AQ11)/SQRT(4)) -> 25.972663 | AB11: =AVERAGE('Single data'!AR11:AU11) -> 214.331 | AC11: ± | AD11: =(_xlfn.STDEV.S('Single data'!AR11:AU11)/SQRT(4)) -> 77.410857 | AE11: =AVERAGE('Single data'!AV11:AY11) -> 9.9574649 | AF11: ± | AG11: =(_xlfn.STDEV.S('Single data'!AV11:AY11)/SQRT(4)) -> 4.6646916 | AH11: =AVERAGE('Single data'!AZ11:BC11) -> 115.49063 | AI11: ± | AJ11: =_xlfn.STDEV.S('Single data'!AZ11:BC11)/SQRT(4) -> 45.70443 | AK11: =AVERAGE('Single data'!BD11:BG11) -> 7.0350376 | AL11: ± | AM11: =(_xlfn.STDEV.S('Single data'!BD11:BG11)/SQRT(4)) -> 3.437719 | AN11: =AVERAGE('Single data'!BH11:BK11) -> 15.859324 | AO11: ± | AP11: =_xlfn.STDEV.S('Single data'!BH11:BK11)/SQRT(4) -> 8.2356592 | AQ11: =AVERAGE('Single data'!BL11:BO11) -> 4.2474301 | AR11: ± | AS11: =(_xlfn.STDEV.S('Single data'!BL11:BO11)/SQRT(4)) -> 1.1577354 | AT11: =AVERAGE('Single data'!BP11:BS11) -> 51.557964 | AU11: ± | AV11: =_xlfn.STDEV.S('Single data'!BP11:BS11)/SQRT(4) -> 15.392723 | AW11: =AVERAGE('Single data'!BT11:BW11) -> 14.916758 | AX11: ± | AY11: =(_xlfn.STDEV.S('Single data'!BT11:BW11)/SQRT(4)) -> 12.872359 | AZ11: =AVERAGE('Single data'!BX11:CA11) -> 31.292928 | BA11: ± | BB11: =_xlfn.STDEV.S('Single data'!BX11:CA11)/SQRT(4) -> 13.210285 | BD11: =AVERAGE('Single data'!CG11:CR11) -> 1025.044 | BE11: ± | BF11: =(_xlfn.STDEV.S('Single data'!CG11:CR11)/SQRT(12)) -> 235.95569 | BG11: =AVERAGE('Single data'!CS11:CW11) -> 545.37461 | BH11: ± | BI11: =(_xlfn.STDEV.S('Single data'!CS11:CW11)/SQRT(5)) -> 295.02693 | BJ11: =AVERAGE('Single data'!CX11:DB11) -> 480.80944 | BK11: ± | BL11: =(_xlfn.STDEV.S('Single data'!CX11:DB11)/SQRT(5)) -> 249.9739 | BM11: =AVERAGE('Single data'!DC11:DH11) -> 1093.4653 | BN11: ± | BO11: =(_xlfn.STDEV.S('Single data'!DC11:DH11)/SQRT(6)) -> 401.69644 | BP11: =AVERAGE('Single data'!DI11:DN11) -> 598.75012 | BQ11: ± | BR11: =_xlfn.STDEV.S('Single data'!DI11:DN11)/SQRT(6) -> 223.06792 | BS11: =AVERAGE('Single data'!DO11:DS11) -> 849.96094 | BT11: ± | BU11: =(_xlfn.STDEV.S('Single data'!DI11:DN11)/SQRT(6)) -> 223.06792 | BV11: =AVERAGE('Single data'!DT11:DX11) -> 569.77173 | BW11: ± | BX11: =(_xlfn.STDEV.S('Single data'!DT11:DX11)/SQRT(5)) -> 194.41164 | BY11: =AVERAGE('Single data'!DY11:EC11) -> 938.0337 | BZ11: ± | CA11: =(_xlfn.STDEV.S('Single data'!DY11:EC11)/SQRT(5)) -> 335.92996 | CB11: =AVERAGE('Single data'!ED11:EH11) -> 714.32685 | CC11: ± | CD11: =(_xlfn.STDEV.S('Single data'!ED11:EH11)/SQRT(5)) -> 251.75925 | CE11: =AVERAGE('Single data'!EI11:EM11) -> 872.32576 | CF11: ± | CG11: =(_xlfn.STDEV.S('Single data'!EI11:EM11)/SQRT(5)) -> 313.38574 | CH11: =AVERAGE('Single data'!EN11:ER11) -> 544.78318 | CI11: ± | CJ11: =_xlfn.STDEV.S('Single data'!EN11:ER11)/SQRT(5) -> 167.76529 | CK11: =AVERAGE('Single data'!ES11:EW11) -> 731.67 | CL11: ± | CM11: =(_xlfn.STDEV.S('Single data'!ES11:EW11)/SQRT(5)) -> 244.59015 | CN11: =AVERAGE('Single data'!EX11:FB11) -> 428.50498 | CO11: ± | CP11: =_xlfn.STDEV.S('Single data'!EX11:FB11)/SQRT(5) -> 151.67891 | CQ11: =AVERAGE('Single data'!FC11:FH11) -> 1024.8108 | CR11: ± | CS11: =(_xlfn.STDEV.S('Single data'!FC11:FH11)/SQRT(6)) -> 361.52981 | CT11: =AVERAGE('Single data'!FI11:FN11) -> 838.37311 | CU11: ± | CV11: =_xlfn.STDEV.S('Single data'!FI11:FN11)/SQRT(6) -> 298.69659 | CW11: =AVERAGE('Single data'!FO11:FT11) -> 625.97297 | CX11: ± | CY11: =(_xlfn.STDEV.S('Single data'!FO11:FT11)/SQRT(6)) -> 290.83233 | CZ11: =AVERAGE('Single data'!FU11:FY11) -> 373.5614 | DA11: ± | DB11: =_xlfn.STDEV.S('Single data'!FU11:FY11)/SQRT(5) -> 208.96787
C12: MaR2 | BD12: =AVERAGE('Single data'!CG12:CR12) -> 100.19455 | BE12: ± | BF12: =(_xlfn.STDEV.S('Single data'!CG12:CR12)/SQRT(12)) -> 26.475193 | BG12: =AVERAGE('Single data'!CS12:CW12) -> 49.235944 | BH12: ± | BI12: =(_xlfn.STDEV.S('Single data'!CS12:CW12)/SQRT(5)) -> 14.495507 | BJ12: =AVERAGE('Single data'!CX12:DB12) -> 76.104131 | BK12: ± | BL12: =(_xlfn.STDEV.S('Single data'!CX12:DB12)/SQRT(5)) -> 24.602961 | BM12: =AVERAGE('Single data'!DC12:DH12) -> 139.55573 | BN12: ± | BO12: =(_xlfn.STDEV.S('Single data'!DC12:DH12)/SQRT(6)) -> 45.680129 | BP12: =AVERAGE('Single data'!DI12:DN12) -> 251.50076 | BQ12: ± | BR12: =_xlfn.STDEV.S('Single data'!DI12:DN12)/SQRT(6) -> 79.942425 | BS12: =AVERAGE('Single data'!DO12:DS12) -> 98.883357 | BT12: ± | BU12: =(_xlfn.STDEV.S('Single data'!DI12:DN12)/SQRT(6)) -> 79.942425 | BV12: =AVERAGE('Single data'!DT12:DX12) -> 137.32908 | BW12: ± | BX12: =(_xlfn.STDEV.S('Single data'!DT12:DX12)/SQRT(5)) -> 33.721989 | BY12: =AVERAGE('Single data'!DY12:EC12) -> 85.510224 | BZ12: ± | CA12: =(_xlfn.STDEV.S('Single data'!DY12:EC12)/SQRT(5)) -> 30.185547 | CB12: =AVERAGE('Single data'!ED12:EH12) -> 167.88718 | CC12: ± | CD12: =(_xlfn.STDEV.S('Single data'!ED12:EH12)/SQRT(5)) -> 56.87637 | CE12: =AVERAGE('Single data'!EI12:EM12) -> 87.342531 | CF12: ± | CG12: =(_xlfn.STDEV.S('Single data'!EI12:EM12)/SQRT(5)) -> 25.473567 | CH12: =AVERAGE('Single data'!EN12:ER12) -> 163.63175 | CI12: ± | CJ12: =_xlfn.STDEV.S('Single data'!EN12:ER12)/SQRT(5) -> 52.195139 | CK12: =AVERAGE('Single data'!ES12:EW12) -> 87.084532 | CL12: ± | CM12: =(_xlfn.STDEV.S('Single data'!ES12:EW12)/SQRT(5)) -> 24.615759 | CN12: =AVERAGE('Single data'!EX12:FB12) -> 153.7612 | CO12: ± | CP12: =_xlfn.STDEV.S('Single data'!EX12:FB12)/SQRT(5) -> 37.498869 | CQ12: =AVERAGE('Single data'!FC12:FH12) -> 100.19185 | CR12: ± | CS12: =(_xlfn.STDEV.S('Single data'!FC12:FH12)/SQRT(6)) -> 34.525995 | CT12: =AVERAGE('Single data'!FI12:FN12) -> 143.50421 | CU12: ± | CV12: =_xlfn.STDEV.S('Single data'!FI12:FN12)/SQRT(6) -> 47.496444 | CW12: =AVERAGE('Single data'!FO12:FT12) -> 72.850258 | CX12: ± | CY12: =(_xlfn.STDEV.S('Single data'!FO12:FT12)/SQRT(6)) -> 19.861973 | CZ12: =AVERAGE('Single data'!FU12:FY12) -> 79.122989 | DA12: ± | DB12: =_xlfn.STDEV.S('Single data'!FU12:FY12)/SQRT(5) -> 28.591546
C13: RvD1 | BD13: =AVERAGE('Single data'!CG13:CR13) -> 50.035884 | BE13: ± | BF13: =(_xlfn.STDEV.S('Single data'!CG13:CR13)/SQRT(12)) -> 28.525838 | BG13: =AVERAGE('Single data'!CS13:CW13) -> 15.740904 | BH13: ± | BI13: =(_xlfn.STDEV.S('Single data'!CS13:CW13)/SQRT(5)) -> 4.8561355 | BJ13: =AVERAGE('Single data'!CX13:DB13) -> 16.945229 | BK13: ± | BL13: =(_xlfn.STDEV.S('Single data'!CX13:DB13)/SQRT(5)) -> 4.7559851 | BM13: =AVERAGE('Single data'!DC13:DH13) -> 24.013117 | BN13: ± | BO13: =(_xlfn.STDEV.S('Single data'!DC13:DH13)/SQRT(6)) -> 7.1415725 | BP13: =AVERAGE('Single data'!DI13:DN13) -> 20.269339 | BQ13: ± | BR13: =_xlfn.STDEV.S('Single data'!DI13:DN13)/SQRT(6) -> 5.3935085 | BS13: =AVERAGE('Single data'!DO13:DS13) -> 20.41322 | BT13: ± | BU13: =(_xlfn.STDEV.S('Single data'!DI13:DN13)/SQRT(6)) -> 5.3935085 | BV13: =AVERAGE('Single data'!DT13:DX13) -> 18.557639 | BW13: ± | BX13: =(_xlfn.STDEV.S('Single data'!DT13:DX13)/SQRT(5)) -> 4.260887 | BY13: =AVERAGE('Single data'!DY13:EC13) -> 21.270643 | BZ13: ± | CA13: =(_xlfn.STDEV.S('Single data'!DY13:EC13)/SQRT(5)) -> 4.5093543 | CB13: =AVERAGE('Single data'!ED13:EH13) -> 21.657757 | CC13: ± | CD13: =(_xlfn.STDEV.S('Single data'!ED13:EH13)/SQRT(5)) -> 5.6155628 | CE13: =AVERAGE('Single data'!EI13:EM13) -> 21.302763 | CF13: ± | CG13: =(_xlfn.STDEV.S('Single data'!EI13:EM13)/SQRT(5)) -> 4.7936697 | CH13: =AVERAGE('Single data'!EN13:ER13) -> 20.562992 | CI13: ± | CJ13: =_xlfn.STDEV.S('Single data'!EN13:ER13)/SQRT(5) -> 3.782029 | CK13: =AVERAGE('Single data'!ES13:EW13) -> 16.316547 | CL13: ± | CM13: =(_xlfn.STDEV.S('Single data'!ES13:EW13)/SQRT(5)) -> 2.9694851 | CN13: =AVERAGE('Single data'!EX13:FB13) -> 16.524032 | CO13: ± | CP13: =_xlfn.STDEV.S('Single data'!EX13:FB13)/SQRT(5) -> 2.8277973 | CQ13: =AVERAGE('Single data'!FC13:FH13) -> 19.422572 | CR13: ± | CS13: =(_xlfn.STDEV.S('Single data'!FC13:FH13)/SQRT(6)) -> 3.7866436 | CT13: =AVERAGE('Single data'!FI13:FN13) -> 19.813658 | CU13: ± | CV13: =_xlfn.STDEV.S('Single data'!FI13:FN13)/SQRT(6) -> 4.8854777 | CW13: =AVERAGE('Single data'!FO13:FT13) -> 18.323351 | CX13: ± | CY13: =(_xlfn.STDEV.S('Single data'!FO13:FT13)/SQRT(6)) -> 4.5653018 | CZ13: =AVERAGE('Single data'!FU13:FY13) -> 11.878401 | DA13: ± | DB13: =_xlfn.STDEV.S('Single data'!FU13:FY13)/SQRT(5) -> 2.8305654
C14: RvD2 | D14: =AVERAGE('Single data'!D14:O14) -> 6.320997 | E14: ± | F14: =(_xlfn.STDEV.S('Single data'!D14:O14)/SQRT(12)) -> 2.5515063 | G14: =AVERAGE('Single data'!P14:S14) -> 14.81461 | H14: ± | I14: =(_xlfn.STDEV.S('Single data'!P14:S14)/SQRT(4)) -> 2.3571973 | J14: =AVERAGE('Single data'!T14:W14) -> 9.4500963 | K14: ± | L14: =(_xlfn.STDEV.S('Single data'!T14:W14)/SQRT(4)) -> 4.3853993 | M14: =AVERAGE('Single data'!X14:AA14) -> 11.743721 | N14: ± | O14: =(_xlfn.STDEV.S('Single data'!X14:AA14)/SQRT(4)) -> 3.7003399 | P14: =AVERAGE('Single data'!AB14:AE14) -> 11.633957 | Q14: ± | R14: {=_xlfn.STDEV.S('Single data'!AB14:AE14/SQRT(4))} -> 2.9101254 | S14: =AVERAGE('Single data'!AF14:AI14) -> 8.9167332 | T14: ± | U14: =(_xlfn.STDEV.S('Single data'!AF14:AI14)/SQRT(4)) -> 3.5787009 | V14: =AVERAGE('Single data'!AJ14:AM14) -> 13.879591 | W14: ± | X14: =(_xlfn.STDEV.S('Single data'!AJ14:AM14)/SQRT(4)) -> 2.4511892 | Y14: =AVERAGE('Single data'!AN14:AQ14) -> 7.3339132 | Z14: ± | AA14: =(_xlfn.STDEV.S('Single data'!AN14:AQ14)/SQRT(4)) -> 3.4116286 | AB14: =AVERAGE('Single data'!AR14:AU14) -> 19.768162 | AC14: ± | AD14: =(_xlfn.STDEV.S('Single data'!AR14:AU14)/SQRT(4)) -> 6.0013788 | AE14: =AVERAGE('Single data'!AV14:AY14) -> 10.704429 | AF14: ± | AG14: =(_xlfn.STDEV.S('Single data'!AV14:AY14)/SQRT(4)) -> 1.7525584 | AH14: =AVERAGE('Single data'!AZ14:BC14) -> 13.20084 | AI14: ± | AJ14: =_xlfn.STDEV.S('Single data'!AZ14:BC14)/SQRT(4) -> 6.5994034 | AK14: =AVERAGE('Single data'!BD14:BG14) -> 13.73819 | AL14: ± | AM14: =(_xlfn.STDEV.S('Single data'!BD14:BG14)/SQRT(4)) -> 2.4836406 | AN14: =AVERAGE('Single data'!BH14:BK14) -> 11.659787 | AO14: ± | AP14: =_xlfn.STDEV.S('Single data'!BH14:BK14)/SQRT(4) -> 3.7465395 | AQ14: =AVERAGE('Single data'!BL14:BO14) -> 11.856429 | AR14: ± | AS14: =(_xlfn.STDEV.S('Single data'!BL14:BO14)/SQRT(4)) -> 1.570772 | AT14: =AVERAGE('Single data'!BP14:BS14) -> 12.32076 | AU14: ± | AV14: =_xlfn.STDEV.S('Single data'!BP14:BS14)/SQRT(4) -> 1.8234937 | AW14: =AVERAGE('Single data'!BT14:BW14) -> 11.118278 | AX14: ± | AY14: =(_xlfn.STDEV.S('Single data'!BT14:BW14)/SQRT(4)) -> 3.006079 | AZ14: =AVERAGE('Single data'!BX14:CA14) -> 11.693878 | BA14: ± | BB14: =_xlfn.STDEV.S('Single data'!BX14:CA14)/SQRT(4) -> 1.446856 | BD14: =AVERAGE('Single data'!CG14:CR14) -> 94.135283 | BE14: ± | BF14: =(_xlfn.STDEV.S('Single data'!CG14:CR14)/SQRT(12)) -> 59.134368 | BG14: =AVERAGE('Single data'!CS14:CW14) -> 60.826174 | BH14: ± | BI14: =(_xlfn.STDEV.S('Single data'!CS14:CW14)/SQRT(5)) -> 27.693145 | BJ14: =AVERAGE('Single data'!CX14:DB14) -> 55.735847 | BK14: ± | BL14: =(_xlfn.STDEV.S('Single data'!CX14:DB14)/SQRT(5)) -> 31.332451 | BM14: =AVERAGE('Single data'!DC14:DH14) -> 111.28079 | BN14: ± | BO14: =(_xlfn.STDEV.S('Single data'!DC14:DH14)/SQRT(6)) -> 41.712511 | BP14: =AVERAGE('Single data'!DI14:DN14) -> 75.220833 | BQ14: ± | BR14: =_xlfn.STDEV.S('Single data'!DI14:DN14)/SQRT(6) -> 26.408775 | BS14: =AVERAGE('Single data'!DO14:DS14) -> 86.880622 | BT14: ± | BU14: =(_xlfn.STDEV.S('Single data'!DI14:DN14)/SQRT(6)) -> 26.408775 | BV14: =AVERAGE('Single data'!DT14:DX14) -> 51.491264 | BW14: ± | BX14: =(_xlfn.STDEV.S('Single data'!DT14:DX14)/SQRT(5)) -> 20.101676 | BY14: =AVERAGE('Single data'!DY14:EC14) -> 73.54989 | BZ14: ± | CA14: =(_xlfn.STDEV.S('Single data'!DY14:EC14)/SQRT(5)) -> 30.123044 | CB14: =AVERAGE('Single data'!ED14:EH14) -> 52.541096 | CC14: ± | CD14: =(_xlfn.STDEV.S('Single data'!ED14:EH14)/SQRT(5)) -> 30.320924 | CE14: =AVERAGE('Single data'!EI14:EM14) -> 72.241062 | CF14: ± | CG14: =(_xlfn.STDEV.S('Single data'!EI14:EM14)/SQRT(5)) -> 26.333309 | CH14: =AVERAGE('Single data'!EN14:ER14) -> 54.016815 | CI14: ± | CJ14: =_xlfn.STDEV.S('Single data'!EN14:ER14)/SQRT(5) -> 18.930253 | CK14: =AVERAGE('Single data'!ES14:EW14) -> 68.563749 | CL14: ± | CM14: =(_xlfn.STDEV.S('Single data'!ES14:EW14)/SQRT(5)) -> 21.139939 | CN14: =AVERAGE('Single data'!EX14:FB14) -> 42.475441 | CO14: ± | CP14: =_xlfn.STDEV.S('Single data'!EX14:FB14)/SQRT(5) -> 15.109937 | CQ14: =AVERAGE('Single data'!FC14:FH14) -> 81.397598 | CR14: ± | CS14: =(_xlfn.STDEV.S('Single data'!FC14:FH14)/SQRT(6)) -> 30.151933 | CT14: =AVERAGE('Single data'!FI14:FN14) -> 76.533255 | CU14: ± | CV14: =_xlfn.STDEV.S('Single data'!FI14:FN14)/SQRT(6) -> 28.766834 | CW14: =AVERAGE('Single data'!FO14:FT14) -> 60.776453 | CX14: ± | CY14: =(_xlfn.STDEV.S('Single data'!FO14:FT14)/SQRT(6)) -> 25.502675 | CZ14: =AVERAGE('Single data'!FU14:FY14) -> 38.795013 | DA14: ± | DB14: =_xlfn.STDEV.S('Single data'!FU14:FY14)/SQRT(5) -> 18.173915
C15: RvD5 n3-DPA | D15: =AVERAGE('Single data'!D15:O15) -> 19.989753 | E15: ± | F15: =(_xlfn.STDEV.S('Single data'!D15:O15)/SQRT(12)) -> 9.5451143 | G15: =AVERAGE('Single data'!P15:S15) -> 12.97282 | H15: ± | I15: =(_xlfn.STDEV.S('Single data'!P15:S15)/SQRT(4)) -> 3.4541486 | J15: =AVERAGE('Single data'!T15:W15) -> 13.908923 | K15: ± | L15: =(_xlfn.STDEV.S('Single data'!T15:W15)/SQRT(4)) -> 2.6653958 | M15: =AVERAGE('Single data'!X15:AA15) -> 17.584504 | N15: ± | O15: =(_xlfn.STDEV.S('Single data'!X15:AA15)/SQRT(4)) -> 2.4075906 | P15: =AVERAGE('Single data'!AB15:AE15) -> 12.468968 | Q15: ± | R15: {=_xlfn.STDEV.S('Single data'!AB15:AE15/SQRT(4))} -> 4.0937177 | S15: =AVERAGE('Single data'!AF15:AI15) -> 16.797872 | T15: ± | U15: =(_xlfn.STDEV.S('Single data'!AF15:AI15)/SQRT(4)) -> 1.0945136 | V15: =AVERAGE('Single data'!AJ15:AM15) -> 18.141398 | W15: ± | X15: =(_xlfn.STDEV.S('Single data'!AJ15:AM15)/SQRT(4)) -> 1.5758951 | Y15: =AVERAGE('Single data'!AN15:AQ15) -> 14.935344 | Z15: ± | AA15: =(_xlfn.STDEV.S('Single data'!AN15:AQ15)/SQRT(4)) -> 2.4879719 | AB15: =AVERAGE('Single data'!AR15:AU15) -> 18.877494 | AC15: ± | AD15: =(_xlfn.STDEV.S('Single data'!AR15:AU15)/SQRT(4)) -> 2.2369491 | AE15: =AVERAGE('Single data'!AV15:AY15) -> 19.590447 | AF15: ± | AG15: =(_xlfn.STDEV.S('Single data'!AV15:AY15)/SQRT(4)) -> 2.5633595 | AH15: =AVERAGE('Single data'!AZ15:BC15) -> 11.903881 | AI15: ± | AJ15: =_xlfn.STDEV.S('Single data'!AZ15:BC15)/SQRT(4) -> 4.7004536 | AK15: =AVERAGE('Single data'!BD15:BG15) -> 14.183861 | AL15: ± | AM15: =(_xlfn.STDEV.S('Single data'!BD15:BG15)/SQRT(4)) -> 4.2549029 | AN15: =AVERAGE('Single data'!BH15:BK15) -> 14.629023 | AO15: ± | AP15: =_xlfn.STDEV.S('Single data'!BH15:BK15)/SQRT(4) -> 3.5753635 | AQ15: =AVERAGE('Single data'!BL15:BO15) -> 15.1938 | AR15: ± | AS15: =(_xlfn.STDEV.S('Single data'!BL15:BO15)/SQRT(4)) -> 2.9530765 | AT15: =AVERAGE('Single data'!BP15:BS15) -> 17.01109 | AU15: ± | AV15: =_xlfn.STDEV.S('Single data'!BP15:BS15)/SQRT(4) -> 2.5195224 | AW15: =AVERAGE('Single data'!BT15:BW15) -> 14.278321 | AX15: ± | AY15: =(_xlfn.STDEV.S('Single data'!BT15:BW15)/SQRT(4)) -> 2.8991644 | AZ15: =AVERAGE('Single data'!BX15:CA15) -> 16.942944 | BA15: ± | BB15: =_xlfn.STDEV.S('Single data'!BX15:CA15)/SQRT(4) -> 3.9912876 | BD15: =AVERAGE('Single data'!CG15:CR15) -> 244.64634 | BE15: ± | BF15: =(_xlfn.STDEV.S('Single data'!CG15:CR15)/SQRT(12)) -> 65.703986 | BG15: =AVERAGE('Single data'!CS15:CW15) -> 144.48961 | BH15: ± | BI15: =(_xlfn.STDEV.S('Single data'!CS15:CW15)/SQRT(5)) -> 84.352683 | BJ15: =AVERAGE('Single data'!CX15:DB15) -> 144.41827 | BK15: ± | BL15: =(_xlfn.STDEV.S('Single data'!CX15:DB15)/SQRT(5)) -> 81.133883 | BM15: =AVERAGE('Single data'!DC15:DH15) -> 308.71652 | BN15: ± | BO15: =(_xlfn.STDEV.S('Single data'!DC15:DH15)/SQRT(6)) -> 116.93684 | BP15: =AVERAGE('Single data'!DI15:DN15) -> 191.10636 | BQ15: ± | BR15: =_xlfn.STDEV.S('Single data'!DI15:DN15)/SQRT(6) -> 71.513752 | BS15: =AVERAGE('Single data'!DO15:DS15) -> 229.39827 | BT15: ± | BU15: =(_xlfn.STDEV.S('Single data'!DI15:DN15)/SQRT(6)) -> 71.513752 | BV15: =AVERAGE('Single data'!DT15:DX15) -> 163.88891 | BW15: ± | BX15: =(_xlfn.STDEV.S('Single data'!DT15:DX15)/SQRT(5)) -> 66.594007 | BY15: =AVERAGE('Single data'!DY15:EC15) -> 255.8361 | BZ15: ± | CA15: =(_xlfn.STDEV.S('Single data'!DY15:EC15)/SQRT(5)) -> 100.10592 | CB15: =AVERAGE('Single data'!ED15:EH15) -> 261.24605 | CC15: ± | CD15: =(_xlfn.STDEV.S('Single data'!ED15:EH15)/SQRT(5)) -> 107.63374 | CE15: =AVERAGE('Single data'!EI15:EM15) -> 248.09437 | CF15: ± | CG15: =(_xlfn.STDEV.S('Single data'!EI15:EM15)/SQRT(5)) -> 103.12148 | CH15: =AVERAGE('Single data'!EN15:ER15) -> 185.44201 | CI15: ± | CJ15: =_xlfn.STDEV.S('Single data'!EN15:ER15)/SQRT(5) -> 64.685119 | CK15: =AVERAGE('Single data'!ES15:EW15) -> 190.47208 | CL15: ± | CM15: =(_xlfn.STDEV.S('Single data'!ES15:EW15)/SQRT(5)) -> 71.859714 | CN15: =AVERAGE('Single data'!EX15:FB15) -> 127.70546 | CO15: ± | CP15: =_xlfn.STDEV.S('Single data'!EX15:FB15)/SQRT(5) -> 50.118411 | CQ15: =AVERAGE('Single data'!FC15:FH15) -> 251.64127 | CR15: ± | CS15: =(_xlfn.STDEV.S('Single data'!FC15:FH15)/SQRT(6)) -> 91.373898 | CT15: =AVERAGE('Single data'!FI15:FN15) -> 238.83841 | CU15: ± | CV15: =_xlfn.STDEV.S('Single data'!FI15:FN15)/SQRT(6) -> 87.186961 | CW15: =AVERAGE('Single data'!FO15:FT15) -> 162.84042 | CX15: ± | CY15: =(_xlfn.STDEV.S('Single data'!FO15:FT15)/SQRT(6)) -> 76.08794 | CZ15: =AVERAGE('Single data'!FU15:FY15) -> 111.03374 | DA15: ± | DB15: =_xlfn.STDEV.S('Single data'!FU15:FY15)/SQRT(5) -> 67.25586
C16: LXA4 | BD16: =AVERAGE('Single data'!CG16:CR16) -> 163.1662 | BE16: ± | BF16: =(_xlfn.STDEV.S('Single data'!CG16:CR16)/SQRT(12)) -> 103.31414 | BG16: =AVERAGE('Single data'!CS16:CW16) -> 36.984945 | BH16: ± | BI16: =(_xlfn.STDEV.S('Single data'!CS16:CW16)/SQRT(5)) -> 8.9545103 | BJ16: =AVERAGE('Single data'!CX16:DB16) -> 36.578601 | BK16: ± | BL16: =(_xlfn.STDEV.S('Single data'!CX16:DB16)/SQRT(5)) -> 10.296452 | BM16: =AVERAGE('Single data'!DC16:DH16) -> 41.456885 | BN16: ± | BO16: =(_xlfn.STDEV.S('Single data'!DC16:DH16)/SQRT(6)) -> 17.799898 | BP16: =AVERAGE('Single data'!DI16:DN16) -> 13.878473 | BQ16: ± | BR16: =_xlfn.STDEV.S('Single data'!DI16:DN16)/SQRT(6) -> 4.0402158 | BS16: =AVERAGE('Single data'!DO16:DS16) -> 43.320042 | BT16: ± | BU16: =(_xlfn.STDEV.S('Single data'!DI16:DN16)/SQRT(6)) -> 4.0402158 | BV16: =AVERAGE('Single data'!DT16:DX16) -> 26.81514 | BW16: ± | BX16: =(_xlfn.STDEV.S('Single data'!DT16:DX16)/SQRT(5)) -> 8.4929931 | BY16: =AVERAGE('Single data'!DY16:EC16) -> 35.561821 | BZ16: ± | CA16: =(_xlfn.STDEV.S('Single data'!DY16:EC16)/SQRT(5)) -> 6.1200416 | CB16: =AVERAGE('Single data'!ED16:EH16) -> 25.260936 | CC16: ± | CD16: =(_xlfn.STDEV.S('Single data'!ED16:EH16)/SQRT(5)) -> 5.2966291 | CE16: =AVERAGE('Single data'!EI16:EM16) -> 34.095427 | CF16: ± | CG16: =(_xlfn.STDEV.S('Single data'!EI16:EM16)/SQRT(5)) -> 6.0560209 | CH16: =AVERAGE('Single data'!EN16:ER16) -> 23.441779 | CI16: ± | CJ16: =_xlfn.STDEV.S('Single data'!EN16:ER16)/SQRT(5) -> 4.3249499 | CK16: =AVERAGE('Single data'!ES16:EW16) -> 37.851198 | CL16: ± | CM16: =(_xlfn.STDEV.S('Single data'!ES16:EW16)/SQRT(5)) -> 9.2523699 | CN16: =AVERAGE('Single data'!EX16:FB16) -> 21.65896 | CO16: ± | CP16: =_xlfn.STDEV.S('Single data'!EX16:FB16)/SQRT(5) -> 5.6019872 | CQ16: =AVERAGE('Single data'!FC16:FH16) -> 40.923877 | CR16: ± | CS16: =(_xlfn.STDEV.S('Single data'!FC16:FH16)/SQRT(6)) -> 9.2807599 | CT16: =AVERAGE('Single data'!FI16:FN16) -> 31.142091 | CU16: ± | CV16: =_xlfn.STDEV.S('Single data'!FI16:FN16)/SQRT(6) -> 8.2616161 | CW16: =AVERAGE('Single data'!FO16:FT16) -> 34.929601 | CX16: ± | CY16: =(_xlfn.STDEV.S('Single data'!FO16:FT16)/SQRT(6)) -> 9.3622212 | CZ16: =AVERAGE('Single data'!FU16:FY16) -> 22.515949 | DA16: ± | DB16: =_xlfn.STDEV.S('Single data'!FU16:FY16)/SQRT(5) -> 7.7650102
B17: SPM - precursor | C17: 17-HDHA | D17: =AVERAGE('Single data'!D17:O17) -> 1535.9533 | E17: ± | F17: =(_xlfn.STDEV.S('Single data'!D17:O17)/SQRT(12)) -> 1026.3591 | G17: =AVERAGE('Single data'!P17:S17) -> 200.34103 | H17: ± | I17: =(_xlfn.STDEV.S('Single data'!P17:S17)/SQRT(4)) -> 161.87589 | J17: =AVERAGE('Single data'!T17:W17) -> 272.16128 | K17: ± | L17: =(_xlfn.STDEV.S('Single data'!T17:W17)/SQRT(4)) -> 228.22815 | M17: =AVERAGE('Single data'!X17:AA17) -> 158.53799 | N17: ± | O17: =(_xlfn.STDEV.S('Single data'!X17:AA17)/SQRT(4)) -> 134.40302 | P17: =AVERAGE('Single data'!AB17:AE17) -> 392.57747 | Q17: ± | R17: {=_xlfn.STDEV.S('Single data'!AB17:AE17/SQRT(4))} -> 270.793 | S17: =AVERAGE('Single data'!AF17:AI17) -> 49.766102 | T17: ± | U17: =(_xlfn.STDEV.S('Single data'!AF17:AI17)/SQRT(4)) -> 22.137443 | V17: =AVERAGE('Single data'!AJ17:AM17) -> 133.67161 | W17: ± | X17: =(_xlfn.STDEV.S('Single data'!AJ17:AM17)/SQRT(4)) -> 24.170652 | Y17: =AVERAGE('Single data'!AN17:AQ17) -> 728.25064 | Z17: ± | AA17: =(_xlfn.STDEV.S('Single data'!AN17:AQ17)/SQRT(4)) -> 617.27401 | AB17: =AVERAGE('Single data'!AR17:AU17) -> 1939.5226 | AC17: ± | AD17: =(_xlfn.STDEV.S('Single data'!AR17:AU17)/SQRT(4)) -> 607.16868 | AE17: =AVERAGE('Single data'!AV17:AY17) -> 54.853412 | AF17: ± | AG17: =(_xlfn.STDEV.S('Single data'!AV17:AY17)/SQRT(4)) -> 21.745339 | AH17: =AVERAGE('Single data'!AZ17:BC17) -> 1195.7665 | AI17: ± | AJ17: =_xlfn.STDEV.S('Single data'!AZ17:BC17)/SQRT(4) -> 369.12197 | AK17: =AVERAGE('Single data'!BD17:BG17) -> 42.862623 | AL17: ± | AM17: =(_xlfn.STDEV.S('Single data'!BD17:BG17)/SQRT(4)) -> 22.548501 | AN17: =AVERAGE('Single data'!BH17:BK17) -> 211.43031 | AO17: ± | AP17: =_xlfn.STDEV.S('Single data'!BH17:BK17)/SQRT(4) -> 90.10603 | AQ17: =AVERAGE('Single data'!BL17:BO17) -> 36.704466 | AR17: ± | AS17: =(_xlfn.STDEV.S('Single data'!BL17:BO17)/SQRT(4)) -> 15.179578 | AT17: =AVERAGE('Single data'!BP17:BS17) -> 452.62988 | AU17: ± | AV17: =_xlfn.STDEV.S('Single data'!BP17:BS17)/SQRT(4) -> 76.897877 | AW17: =AVERAGE('Single data'!BT17:BW17) -> 201.60082 | AX17: ± | AY17: =(_xlfn.STDEV.S('Single data'!BT17:BW17)/SQRT(4)) -> 185.51465 | AZ17: =AVERAGE('Single data'!BX17:CA17) -> 429.67544 | BA17: ± | BB17: =_xlfn.STDEV.S('Single data'!BX17:CA17)/SQRT(4) -> 228.664 | BD17: =AVERAGE('Single data'!CG17:CR17) -> 16317.377 | BE17: ± | BF17: =(_xlfn.STDEV.S('Single data'!CG17:CR17)/SQRT(12)) -> 2012.5586 | BG17: =AVERAGE('Single data'!CS17:CW17) -> 8553.4272 | BH17: ± | BI17: =(_xlfn.STDEV.S('Single data'!CS17:CW17)/SQRT(5)) -> 2735.1347 | BJ17: =AVERAGE('Single data'!CX17:DB17) -> 4834.5607 | BK17: ± | BL17: =(_xlfn.STDEV.S('Single data'!CX17:DB17)/SQRT(5)) -> 1300.1856 | BM17: =AVERAGE('Single data'!DC17:DH17) -> 7456.5266 | BN17: ± | BO17: =(_xlfn.STDEV.S('Single data'!DC17:DH17)/SQRT(6)) -> 2034.8293 | BP17: =AVERAGE('Single data'!DI17:DN17) -> 4513.4854 | BQ17: ± | BR17: =_xlfn.STDEV.S('Single data'!DI17:DN17)/SQRT(6) -> 1241.5348 | BS17: =AVERAGE('Single data'!DO17:DS17) -> 10107.09 | BT17: ± | BU17: =(_xlfn.STDEV.S('Single data'!DI17:DN17)/SQRT(6)) -> 1241.5348 | BV17: =AVERAGE('Single data'!DT17:DX17) -> 5751.5969 | BW17: ± | BX17: =(_xlfn.STDEV.S('Single data'!DT17:DX17)/SQRT(5)) -> 854.86998 | BY17: =AVERAGE('Single data'!DY17:EC17) -> 12506.54 | BZ17: ± | CA17: =(_xlfn.STDEV.S('Single data'!DY17:EC17)/SQRT(5)) -> 3020.0721 | CB17: =AVERAGE('Single data'!ED17:EH17) -> 9456.1235 | CC17: ± | CD17: =(_xlfn.STDEV.S('Single data'!ED17:EH17)/SQRT(5)) -> 1981.4191 | CE17: =AVERAGE('Single data'!EI17:EM17) -> 11884.284 | CF17: ± | CG17: =(_xlfn.STDEV.S('Single data'!EI17:EM17)/SQRT(5)) -> 2823.5718 | CH17: =AVERAGE('Single data'!EN17:ER17) -> 8234.0927 | CI17: ± | CJ17: =_xlfn.STDEV.S('Single data'!EN17:ER17)/SQRT(5) -> 2050.4135 | CK17: =AVERAGE('Single data'!ES17:EW17) -> 9918.9386 | CL17: ± | CM17: =(_xlfn.STDEV.S('Single data'!ES17:EW17)/SQRT(5)) -> 1578.8165 | CN17: =AVERAGE('Single data'!EX17:FB17) -> 5066.6139 | CO17: ± | CP17: =_xlfn.STDEV.S('Single data'!EX17:FB17)/SQRT(5) -> 848.06916 | CQ17: =AVERAGE('Single data'!FC17:FH17) -> 11960.175 | CR17: ± | CS17: =(_xlfn.STDEV.S('Single data'!FC17:FH17)/SQRT(6)) -> 2074.8596 | CT17: =AVERAGE('Single data'!FI17:FN17) -> 7363.0748 | CU17: ± | CV17: =_xlfn.STDEV.S('Single data'!FI17:FN17)/SQRT(6) -> 1558.7784 | CW17: =AVERAGE('Single data'!FO17:FT17) -> 7804.7188 | CX17: ± | CY17: =(_xlfn.STDEV.S('Single data'!FO17:FT17)/SQRT(6)) -> 1504.1879 | CZ17: =AVERAGE('Single data'!FU17:FY17) -> 4525.6322 | DA17: ± | DB17: =_xlfn.STDEV.S('Single data'!FU17:FY17)/SQRT(5) -> 1091.2885
C18: 17-HDPA | D18: =AVERAGE('Single data'!D18:O18) -> 1799.675 | E18: ± | F18: =(_xlfn.STDEV.S('Single data'!D18:O18)/SQRT(12)) -> 1146.3807 | G18: =AVERAGE('Single data'!P18:S18) -> 280.7357 | H18: ± | I18: =(_xlfn.STDEV.S('Single data'!P18:S18)/SQRT(4)) -> 184.33365 | J18: =AVERAGE('Single data'!T18:W18) -> 319.5718 | K18: ± | L18: =(_xlfn.STDEV.S('Single data'!T18:W18)/SQRT(4)) -> 243.16379 | M18: =AVERAGE('Single data'!X18:AA18) -> 161.55 | N18: ± | O18: =(_xlfn.STDEV.S('Single data'!X18:AA18)/SQRT(4)) -> 133.76292 | P18: =AVERAGE('Single data'!AB18:AE18) -> 656.42672 | Q18: ± | R18: {=_xlfn.STDEV.S('Single data'!AB18:AE18/SQRT(4))} -> 436.98451 | S18: =AVERAGE('Single data'!AF18:AI18) -> 92.783644 | T18: ± | U18: =(_xlfn.STDEV.S('Single data'!AF18:AI18)/SQRT(4)) -> 44.015139 | V18: =AVERAGE('Single data'!AJ18:AM18) -> 223.70984 | W18: ± | X18: =(_xlfn.STDEV.S('Single data'!AJ18:AM18)/SQRT(4)) -> 62.526171 | Y18: =AVERAGE('Single data'!AN18:AQ18) -> 679.36234 | Z18: ± | AA18: =(_xlfn.STDEV.S('Single data'!AN18:AQ18)/SQRT(4)) -> 495.2421 | AB18: =AVERAGE('Single data'!AR18:AU18) -> 4256.8044 | AC18: ± | AD18: =(_xlfn.STDEV.S('Single data'!AR18:AU18)/SQRT(4)) -> 1627.6897 | AE18: =AVERAGE('Single data'!AV18:AY18) -> 82.810893 | AF18: ± | AG18: =(_xlfn.STDEV.S('Single data'!AV18:AY18)/SQRT(4)) -> 33.107985 | AH18: =AVERAGE('Single data'!AZ18:BC18) -> 2327.6741 | AI18: ± | AJ18: =_xlfn.STDEV.S('Single data'!AZ18:BC18)/SQRT(4) -> 684.30079 | AK18: =AVERAGE('Single data'!BD18:BG18) -> 69.227072 | AL18: ± | AM18: =(_xlfn.STDEV.S('Single data'!BD18:BG18)/SQRT(4)) -> 37.33222 | AN18: =AVERAGE('Single data'!BH18:BK18) -> 388.70719 | AO18: ± | AP18: =_xlfn.STDEV.S('Single data'!BH18:BK18)/SQRT(4) -> 177.383 | AQ18: =AVERAGE('Single data'!BL18:BO18) -> 59.259515 | AR18: ± | AS18: =(_xlfn.STDEV.S('Single data'!BL18:BO18)/SQRT(4)) -> 20.982695 | AT18: =AVERAGE('Single data'!BP18:BS18) -> 986.49189 | AU18: ± | AV18: =_xlfn.STDEV.S('Single data'!BP18:BS18)/SQRT(4) -> 192.75241 | AW18: =AVERAGE('Single data'!BT18:BW18) -> 296.01158 | AX18: ± | AY18: =(_xlfn.STDEV.S('Single data'!BT18:BW18)/SQRT(4)) -> 266.14723 | AZ18: =AVERAGE('Single data'!BX18:CA18) -> 763.96169 | BA18: ± | BB18: =_xlfn.STDEV.S('Single data'!BX18:CA18)/SQRT(4) -> 384.93558 | BD18: =AVERAGE('Single data'!CG18:CR18) -> 26031.491 | BE18: ± | BF18: =(_xlfn.STDEV.S('Single data'!CG18:CR18)/SQRT(12)) -> 3598.7374 | BG18: =AVERAGE('Single data'!CS18:CW18) -> 14963.267 | BH18: ± | BI18: =(_xlfn.STDEV.S('Single data'!CS18:CW18)/SQRT(5)) -> 5196.7978 | BJ18: =AVERAGE('Single data'!CX18:DB18) -> 10364.09 | BK18: ± | BL18: =(_xlfn.STDEV.S('Single data'!CX18:DB18)/SQRT(5)) -> 3425.9899 | BM18: =AVERAGE('Single data'!DC18:DH18) -> 13026.087 | BN18: ± | BO18: =(_xlfn.STDEV.S('Single data'!DC18:DH18)/SQRT(6)) -> 3611.6227 | BP18: =AVERAGE('Single data'!DI18:DN18) -> 8871.9226 | BQ18: ± | BR18: =_xlfn.STDEV.S('Single data'!DI18:DN18)/SQRT(6) -> 2397.5901 | BS18: =AVERAGE('Single data'!DO18:DS18) -> 18517.331 | BT18: ± | BU18: =(_xlfn.STDEV.S('Single data'!DI18:DN18)/SQRT(6)) -> 2397.5901 | BV18: =AVERAGE('Single data'!DT18:DX18) -> 11635.234 | BW18: ± | BX18: =(_xlfn.STDEV.S('Single data'!DT18:DX18)/SQRT(5)) -> 2169.355 | BY18: =AVERAGE('Single data'!DY18:EC18) -> 23033.856 | BZ18: ± | CA18: =(_xlfn.STDEV.S('Single data'!DY18:EC18)/SQRT(5)) -> 6093.229 | CB18: =AVERAGE('Single data'!ED18:EH18) -> 19058.569 | CC18: ± | CD18: =(_xlfn.STDEV.S('Single data'!ED18:EH18)/SQRT(5)) -> 4634.4215 | CE18: =AVERAGE('Single data'!EI18:EM18) -> 22467.058 | CF18: ± | CG18: =(_xlfn.STDEV.S('Single data'!EI18:EM18)/SQRT(5)) -> 5623.3043 | CH18: =AVERAGE('Single data'!EN18:ER18) -> 17256.53 | CI18: ± | CJ18: =_xlfn.STDEV.S('Single data'!EN18:ER18)/SQRT(5) -> 4756.5372 | CK18: =AVERAGE('Single data'!ES18:EW18) -> 17335.437 | CL18: ± | CM18: =(_xlfn.STDEV.S('Single data'!ES18:EW18)/SQRT(5)) -> 4013.0958 | CN18: =AVERAGE('Single data'!EX18:FB18) -> 9572.6806 | CO18: ± | CP18: =_xlfn.STDEV.S('Single data'!EX18:FB18)/SQRT(5) -> 1840.7573 | CQ18: =AVERAGE('Single data'!FC18:FH18) -> 20678.934 | CR18: ± | CS18: =(_xlfn.STDEV.S('Single data'!FC18:FH18)/SQRT(6)) -> 4617.1059 | CT18: =AVERAGE('Single data'!FI18:FN18) -> 14278.684 | CU18: ± | CV18: =_xlfn.STDEV.S('Single data'!FI18:FN18)/SQRT(6) -> 3290.9461 | CW18: =AVERAGE('Single data'!FO18:FT18) -> 13291.863 | CX18: ± | CY18: =(_xlfn.STDEV.S('Single data'!FO18:FT18)/SQRT(6)) -> 2894.8288 | CZ18: =AVERAGE('Single data'!FU18:FY18) -> 8367.6094 | DA18: ± | DB18: =_xlfn.STDEV.S('Single data'!FU18:FY18)/SQRT(5) -> 2484.8561
C19: 15-HETE | D19: =AVERAGE('Single data'!D19:O19) -> 1802.0267 | E19: ± | F19: =(_xlfn.STDEV.S('Single data'!D19:O19)/SQRT(12)) -> 1171.0683 | G19: =AVERAGE('Single data'!P19:S19) -> 285.66157 | H19: ± | I19: =(_xlfn.STDEV.S('Single data'!P19:S19)/SQRT(4)) -> 202.18188 | J19: =AVERAGE('Single data'!T19:W19) -> 584.63246 | K19: ± | L19: =(_xlfn.STDEV.S('Single data'!T19:W19)/SQRT(4)) -> 467.50777 | M19: =AVERAGE('Single data'!X19:AA19) -> 271.83078 | N19: ± | O19: =(_xlfn.STDEV.S('Single data'!X19:AA19)/SQRT(4)) -> 226.74696 | P19: =AVERAGE('Single data'!AB19:AE19) -> 1275.9474 | Q19: ± | R19: {=_xlfn.STDEV.S('Single data'!AB19:AE19/SQRT(4))} -> 933.09167 | S19: =AVERAGE('Single data'!AF19:AI19) -> 90.944252 | T19: ± | U19: =(_xlfn.STDEV.S('Single data'!AF19:AI19)/SQRT(4)) -> 41.814936 | V19: =AVERAGE('Single data'!AJ19:AM19) -> 339.86207 | W19: ± | X19: =(_xlfn.STDEV.S('Single data'!AJ19:AM19)/SQRT(4)) -> 82.703976 | Y19: =AVERAGE('Single data'!AN19:AQ19) -> 959.43547 | Z19: ± | AA19: =(_xlfn.STDEV.S('Single data'!AN19:AQ19)/SQRT(4)) -> 729.08171 | AB19: =AVERAGE('Single data'!AR19:AU19) -> 4978.3795 | AC19: ± | AD19: =(_xlfn.STDEV.S('Single data'!AR19:AU19)/SQRT(4)) -> 1799.7934 | AE19: =AVERAGE('Single data'!AV19:AY19) -> 113.19641 | AF19: ± | AG19: =(_xlfn.STDEV.S('Single data'!AV19:AY19)/SQRT(4)) -> 45.844598 | AH19: =AVERAGE('Single data'!AZ19:BC19) -> 3104.8861 | AI19: ± | AJ19: =_xlfn.STDEV.S('Single data'!AZ19:BC19)/SQRT(4) -> 936.6733 | AK19: =AVERAGE('Single data'!BD19:BG19) -> 76.713251 | AL19: ± | AM19: =(_xlfn.STDEV.S('Single data'!BD19:BG19)/SQRT(4)) -> 40.958805 | AN19: =AVERAGE('Single data'!BH19:BK19) -> 694.6512 | AO19: ± | AP19: =_xlfn.STDEV.S('Single data'!BH19:BK19)/SQRT(4) -> 315.17861 | AQ19: =AVERAGE('Single data'!BL19:BO19) -> 37.861933 | AR19: ± | AS19: =(_xlfn.STDEV.S('Single data'!BL19:BO19)/SQRT(4)) -> 13.507347 | AT19: =AVERAGE('Single data'!BP19:BS19) -> 1271.3961 | AU19: ± | AV19: =_xlfn.STDEV.S('Single data'!BP19:BS19)/SQRT(4) -> 219.93079 | AW19: =AVERAGE('Single data'!BT19:BW19) -> 229.7719 | AX19: ± | AY19: =(_xlfn.STDEV.S('Single data'!BT19:BW19)/SQRT(4)) -> 208.4602 | AZ19: =AVERAGE('Single data'!BX19:CA19) -> 1019.0839 | BA19: ± | BB19: =_xlfn.STDEV.S('Single data'!BX19:CA19)/SQRT(4) -> 432.34984 | BD19: =AVERAGE('Single data'!CG19:CR19) -> 32901.034 | BE19: ± | BF19: =(_xlfn.STDEV.S('Single data'!CG19:CR19)/SQRT(12)) -> 3957.857 | BG19: =AVERAGE('Single data'!CS19:CW19) -> 18600.315 | BH19: ± | BI19: =(_xlfn.STDEV.S('Single data'!CS19:CW19)/SQRT(5)) -> 6493.2274 | BJ19: =AVERAGE('Single data'!CX19:DB19) -> 17582.294 | BK19: ± | BL19: =(_xlfn.STDEV.S('Single data'!CX19:DB19)/SQRT(5)) -> 6353.167 | BM19: =AVERAGE('Single data'!DC19:DH19) -> 27358.94 | BN19: ± | BO19: =(_xlfn.STDEV.S('Single data'!DC19:DH19)/SQRT(6)) -> 7614.0345 | BP19: =AVERAGE('Single data'!DI19:DN19) -> 25403.752 | BQ19: ± | BR19: =_xlfn.STDEV.S('Single data'!DI19:DN19)/SQRT(6) -> 7574.7912 | BS19: =AVERAGE('Single data'!DO19:DS19) -> 28085.245 | BT19: ± | BU19: =(_xlfn.STDEV.S('Single data'!DI19:DN19)/SQRT(6)) -> 7574.7912 | BV19: =AVERAGE('Single data'!DT19:DX19) -> 28034.425 | BW19: ± | BX19: =(_xlfn.STDEV.S('Single data'!DT19:DX19)/SQRT(5)) -> 6019.0551 | BY19: =AVERAGE('Single data'!DY19:EC19) -> 29133.634 | BZ19: ± | CA19: =(_xlfn.STDEV.S('Single data'!DY19:EC19)/SQRT(5)) -> 6861.4158 | CB19: =AVERAGE('Single data'!ED19:EH19) -> 33193.349 | CC19: ± | CD19: =(_xlfn.STDEV.S('Single data'!ED19:EH19)/SQRT(5)) -> 6538.763 | CE19: =AVERAGE('Single data'!EI19:EM19) -> 28755.042 | CF19: ± | CG19: =(_xlfn.STDEV.S('Single data'!EI19:EM19)/SQRT(5)) -> 6773.1635 | CH19: =AVERAGE('Single data'!EN19:ER19) -> 27044.18 | CI19: ± | CJ19: =_xlfn.STDEV.S('Single data'!EN19:ER19)/SQRT(5) -> 6418.7738 | CK19: =AVERAGE('Single data'!ES19:EW19) -> 29234.55 | CL19: ± | CM19: =(_xlfn.STDEV.S('Single data'!ES19:EW19)/SQRT(5)) -> 6336.5694 | CN19: =AVERAGE('Single data'!EX19:FB19) -> 24059.57 | CO19: ± | CP19: =_xlfn.STDEV.S('Single data'!EX19:FB19)/SQRT(5) -> 5080.0533 | CQ19: =AVERAGE('Single data'!FC19:FH19) -> 29020.259 | CR19: ± | CS19: =(_xlfn.STDEV.S('Single data'!FC19:FH19)/SQRT(6)) -> 6047.5037 | CT19: =AVERAGE('Single data'!FI19:FN19) -> 29135.812 | CU19: ± | CV19: =_xlfn.STDEV.S('Single data'!FI19:FN19)/SQRT(6) -> 7226.5141 | CW19: =AVERAGE('Single data'!FO19:FT19) -> 20926.274 | CX19: ± | CY19: =(_xlfn.STDEV.S('Single data'!FO19:FT19)/SQRT(6)) -> 5579.3886 | CZ19: =AVERAGE('Single data'!FU19:FY19) -> 19417.037 | DA19: ± | DB19: =_xlfn.STDEV.S('Single data'!FU19:FY19)/SQRT(5) -> 6679.7933
C20: 14-HDHA | D20: =AVERAGE('Single data'!D20:O20) -> 61.118894 | E20: ± | F20: =(_xlfn.STDEV.S('Single data'!D20:O20)/SQRT(12)) -> 33.995278 | G20: =AVERAGE('Single data'!P20:S20) -> 24.058826 | H20: ± | I20: =(_xlfn.STDEV.S('Single data'!P20:S20)/SQRT(4)) -> 12.735428 | J20: =AVERAGE('Single data'!T20:W20) -> 42.479074 | K20: ± | L20: =(_xlfn.STDEV.S('Single data'!T20:W20)/SQRT(4)) -> 31.259177 | M20: =AVERAGE('Single data'!X20:AA20) -> 20.510586 | N20: ± | O20: =(_xlfn.STDEV.S('Single data'!X20:AA20)/SQRT(4)) -> 14.869566 | P20: =AVERAGE('Single data'!AB20:AE20) -> 76.67294 | Q20: ± | R20: {=_xlfn.STDEV.S('Single data'!AB20:AE20/SQRT(4))} -> 43.940522 | S20: =AVERAGE('Single data'!AF20:AI20) -> 10.804027 | T20: ± | U20: =(_xlfn.STDEV.S('Single data'!AF20:AI20)/SQRT(4)) -> 4.0976061 | V20: =AVERAGE('Single data'!AJ20:AM20) -> 28.668552 | W20: ± | X20: =(_xlfn.STDEV.S('Single data'!AJ20:AM20)/SQRT(4)) -> 5.6463058 | Y20: =AVERAGE('Single data'!AN20:AQ20) -> 63.944769 | Z20: ± | AA20: =(_xlfn.STDEV.S('Single data'!AN20:AQ20)/SQRT(4)) -> 41.535573 | AB20: =AVERAGE('Single data'!AR20:AU20) -> 429.57698 | AC20: ± | AD20: =(_xlfn.STDEV.S('Single data'!AR20:AU20)/SQRT(4)) -> 149.42907 | AE20: =AVERAGE('Single data'!AV20:AY20) -> 13.855017 | AF20: ± | AG20: =(_xlfn.STDEV.S('Single data'!AV20:AY20)/SQRT(4)) -> 4.5528735 | AH20: =AVERAGE('Single data'!AZ20:BC20) -> 290.34613 | AI20: ± | AJ20: =_xlfn.STDEV.S('Single data'!AZ20:BC20)/SQRT(4) -> 82.932271 | AK20: =AVERAGE('Single data'!BD20:BG20) -> 8.4668502 | AL20: ± | AM20: =(_xlfn.STDEV.S('Single data'!BD20:BG20)/SQRT(4)) -> 4.6074403 | AN20: =AVERAGE('Single data'!BH20:BK20) -> 36.668634 | AO20: ± | AP20: =_xlfn.STDEV.S('Single data'!BH20:BK20)/SQRT(4) -> 15.878288 | AQ20: =AVERAGE('Single data'!BL20:BO20) -> 4.2766765 | AR20: ± | AS20: =(_xlfn.STDEV.S('Single data'!BL20:BO20)/SQRT(4)) -> 1.2359501 | AT20: =AVERAGE('Single data'!BP20:BS20) -> 60.34081 | AU20: ± | AV20: =_xlfn.STDEV.S('Single data'!BP20:BS20)/SQRT(4) -> 12.595879 | AW20: =AVERAGE('Single data'!BT20:BW20) -> 12.597232 | AX20: ± | AY20: =(_xlfn.STDEV.S('Single data'!BT20:BW20)/SQRT(4)) -> 9.7164408 | AZ20: =AVERAGE('Single data'!BX20:CA20) -> 33.956606 | BA20: ± | BB20: =_xlfn.STDEV.S('Single data'!BX20:CA20)/SQRT(4) -> 13.136067 | BD20: =AVERAGE('Single data'!CG20:CR20) -> 2115.8779 | BE20: ± | BF20: =(_xlfn.STDEV.S('Single data'!CG20:CR20)/SQRT(12)) -> 426.64085 | BG20: =AVERAGE('Single data'!CS20:CW20) -> 1078.6217 | BH20: ± | BI20: =(_xlfn.STDEV.S('Single data'!CS20:CW20)/SQRT(5)) -> 448.09479 | BJ20: =AVERAGE('Single data'!CX20:DB20) -> 780.74172 | BK20: ± | BL20: =(_xlfn.STDEV.S('Single data'!CX20:DB20)/SQRT(5)) -> 291.65343 | BM20: =AVERAGE('Single data'!DC20:DH20) -> 1582.1544 | BN20: ± | BO20: =(_xlfn.STDEV.S('Single data'!DC20:DH20)/SQRT(6)) -> 493.3487 | BP20: =AVERAGE('Single data'!DI20:DN20) -> 1026.5563 | BQ20: ± | BR20: =_xlfn.STDEV.S('Single data'!DI20:DN20)/SQRT(6) -> 313.25158 | BS20: =AVERAGE('Single data'!DO20:DS20) -> 1460.7439 | BT20: ± | BU20: =(_xlfn.STDEV.S('Single data'!DI20:DN20)/SQRT(6)) -> 313.25158 | BV20: =AVERAGE('Single data'!DT20:DX20) -> 979.44129 | BW20: ± | BX20: =(_xlfn.STDEV.S('Single data'!DT20:DX20)/SQRT(5)) -> 248.60077 | BY20: =AVERAGE('Single data'!DY20:EC20) -> 1544.2568 | BZ20: ± | CA20: =(_xlfn.STDEV.S('Single data'!DY20:EC20)/SQRT(5)) -> 448.53263 | CB20: =AVERAGE('Single data'!ED20:EH20) -> 1343.1789 | CC20: ± | CD20: =(_xlfn.STDEV.S('Single data'!ED20:EH20)/SQRT(5)) -> 362.315 | CE20: =AVERAGE('Single data'!EI20:EM20) -> 1483.7215 | CF20: ± | CG20: =(_xlfn.STDEV.S('Single data'!EI20:EM20)/SQRT(5)) -> 408.26727 | CH20: =AVERAGE('Single data'!EN20:ER20) -> 1244.2505 | CI20: ± | CJ20: =_xlfn.STDEV.S('Single data'!EN20:ER20)/SQRT(5) -> 332.15006 | CK20: =AVERAGE('Single data'!ES20:EW20) -> 1328.2238 | CL20: ± | CM20: =(_xlfn.STDEV.S('Single data'!ES20:EW20)/SQRT(5)) -> 344.15847 | CN20: =AVERAGE('Single data'!EX20:FB20) -> 864.00862 | CO20: ± | CP20: =_xlfn.STDEV.S('Single data'!EX20:FB20)/SQRT(5) -> 205.98818 | CQ20: =AVERAGE('Single data'!FC20:FH20) -> 1636.0292 | CR20: ± | CS20: =(_xlfn.STDEV.S('Single data'!FC20:FH20)/SQRT(6)) -> 506.19639 | CT20: =AVERAGE('Single data'!FI20:FN20) -> 1177.788 | CU20: ± | CV20: =_xlfn.STDEV.S('Single data'!FI20:FN20)/SQRT(6) -> 358.73752 | CW20: =AVERAGE('Single data'!FO20:FT20) -> 1143.2407 | CX20: ± | CY20: =(_xlfn.STDEV.S('Single data'!FO20:FT20)/SQRT(6)) -> 430.2872 | CZ20: =AVERAGE('Single data'!FU20:FY20) -> 637.97593 | DA20: ± | DB20: =_xlfn.STDEV.S('Single data'!FU20:FY20)/SQRT(5) -> 263.84879
C21: 18-HEPE | D21: =AVERAGE('Single data'!D21:O21) -> 45.371706 | E21: ± | F21: =(_xlfn.STDEV.S('Single data'!D21:O21)/SQRT(12)) -> 12.535977 | G21: =AVERAGE('Single data'!P21:S21) -> 26.861659 | H21: ± | I21: =(_xlfn.STDEV.S('Single data'!P21:S21)/SQRT(4)) -> 11.222014 | J21: =AVERAGE('Single data'!T21:W21) -> 34.763377 | K21: ± | L21: =(_xlfn.STDEV.S('Single data'!T21:W21)/SQRT(4)) -> 16.634129 | M21: =AVERAGE('Single data'!X21:AA21) -> 26.296239 | N21: ± | O21: =(_xlfn.STDEV.S('Single data'!X21:AA21)/SQRT(4)) -> 12.193081 | P21: =AVERAGE('Single data'!AB21:AE21) -> 26.295406 | Q21: ± | R21: {=_xlfn.STDEV.S('Single data'!AB21:AE21/SQRT(4))} -> 3.1870811 | S21: =AVERAGE('Single data'!AF21:AI21) -> 18.64368 | T21: ± | U21: =(_xlfn.STDEV.S('Single data'!AF21:AI21)/SQRT(4)) -> 6.1953059 | V21: =AVERAGE('Single data'!AJ21:AM21) -> 29.893561 | W21: ± | X21: =(_xlfn.STDEV.S('Single data'!AJ21:AM21)/SQRT(4)) -> 4.1334882 | Y21: =AVERAGE('Single data'!AN21:AQ21) -> 36.825514 | Z21: ± | AA21: =(_xlfn.STDEV.S('Single data'!AN21:AQ21)/SQRT(4)) -> 10.957994 | AB21: =AVERAGE('Single data'!AR21:AU21) -> 31.239307 | AC21: ± | AD21: =(_xlfn.STDEV.S('Single data'!AR21:AU21)/SQRT(4)) -> 6.2963511 | AE21: =AVERAGE('Single data'!AV21:AY21) -> 26.211691 | AF21: ± | AG21: =(_xlfn.STDEV.S('Single data'!AV21:AY21)/SQRT(4)) -> 6.8236424 | AH21: =AVERAGE('Single data'!AZ21:BC21) -> 28.107357 | AI21: ± | AJ21: =_xlfn.STDEV.S('Single data'!AZ21:BC21)/SQRT(4) -> 6.8691476 | AK21: =AVERAGE('Single data'!BD21:BG21) -> 22.314041 | AL21: ± | AM21: =(_xlfn.STDEV.S('Single data'!BD21:BG21)/SQRT(4)) -> 2.3614539 | AN21: =AVERAGE('Single data'!BH21:BK21) -> 18.384646 | AO21: ± | AP21: =_xlfn.STDEV.S('Single data'!BH21:BK21)/SQRT(4) -> 3.2522753 | AQ21: =AVERAGE('Single data'!BL21:BO21) -> 18.055516 | AR21: ± | AS21: =(_xlfn.STDEV.S('Single data'!BL21:BO21)/SQRT(4)) -> 1.4067079 | AT21: =AVERAGE('Single data'!BP21:BS21) -> 22.451044 | AU21: ± | AV21: =_xlfn.STDEV.S('Single data'!BP21:BS21)/SQRT(4) -> 3.5221642 | AW21: =AVERAGE('Single data'!BT21:BW21) -> 31.456844 | AX21: ± | AY21: =(_xlfn.STDEV.S('Single data'!BT21:BW21)/SQRT(4)) -> 9.0674298 | AZ21: =AVERAGE('Single data'!BX21:CA21) -> 23.681508 | BA21: ± | BB21: =_xlfn.STDEV.S('Single data'!BX21:CA21)/SQRT(4) -> 5.4304294 | BD21: =AVERAGE('Single data'!CG21:CR21) -> 380.3271 | BE21: ± | BF21: =(_xlfn.STDEV.S('Single data'!CG21:CR21)/SQRT(12)) -> 112.01086 | BG21: =AVERAGE('Single data'!CS21:CW21) -> 137.62445 | BH21: ± | BI21: =(_xlfn.STDEV.S('Single data'!CS21:CW21)/SQRT(5)) -> 13.951916 | BJ21: =AVERAGE('Single data'!CX21:DB21) -> 136.81873 | BK21: ± | BL21: =(_xlfn.STDEV.S('Single data'!CX21:DB21)/SQRT(5)) -> 11.415748 | BM21: =AVERAGE('Single data'!DC21:DH21) -> 146.75264 | BN21: ± | BO21: =(_xlfn.STDEV.S('Single data'!DC21:DH21)/SQRT(6)) -> 27.200287 | BP21: =AVERAGE('Single data'!DI21:DN21) -> 131.63017 | BQ21: ± | BR21: =_xlfn.STDEV.S('Single data'!DI21:DN21)/SQRT(6) -> 16.596171 | BS21: =AVERAGE('Single data'!DO21:DS21) -> 104.93625 | BT21: ± | BU21: =(_xlfn.STDEV.S('Single data'!DI21:DN21)/SQRT(6)) -> 16.596171 | BV21: =AVERAGE('Single data'!DT21:DX21) -> 76.302948 | BW21: ± | BX21: =(_xlfn.STDEV.S('Single data'!DT21:DX21)/SQRT(5)) -> 7.9724941 | BY21: =AVERAGE('Single data'!DY21:EC21) -> 128.4084 | BZ21: ± | CA21: =(_xlfn.STDEV.S('Single data'!DY21:EC21)/SQRT(5)) -> 15.078567 | CB21: =AVERAGE('Single data'!ED21:EH21) -> 86.555335 | CC21: ± | CD21: =(_xlfn.STDEV.S('Single data'!ED21:EH21)/SQRT(5)) -> 8.9530873 | CE21: =AVERAGE('Single data'!EI21:EM21) -> 126.39881 | CF21: ± | CG21: =(_xlfn.STDEV.S('Single data'!EI21:EM21)/SQRT(5)) -> 14.965837 | CH21: =AVERAGE('Single data'!EN21:ER21) -> 77.482075 | CI21: ± | CJ21: =_xlfn.STDEV.S('Single data'!EN21:ER21)/SQRT(5) -> 10.678456 | CK21: =AVERAGE('Single data'!ES21:EW21) -> 122.77434 | CL21: ± | CM21: =(_xlfn.STDEV.S('Single data'!ES21:EW21)/SQRT(5)) -> 26.580821 | CN21: =AVERAGE('Single data'!EX21:FB21) -> 63.66165 | CO21: ± | CP21: =_xlfn.STDEV.S('Single data'!EX21:FB21)/SQRT(5) -> 4.2532284 | CQ21: =AVERAGE('Single data'!FC21:FH21) -> 145.45176 | CR21: ± | CS21: =(_xlfn.STDEV.S('Single data'!FC21:FH21)/SQRT(6)) -> 19.190796 | CT21: =AVERAGE('Single data'!FI21:FN21) -> 73.508036 | CU21: ± | CV21: =_xlfn.STDEV.S('Single data'!FI21:FN21)/SQRT(6) -> 8.1859806 | CW21: =AVERAGE('Single data'!FO21:FT21) -> 103.47537 | CX21: ± | CY21: =(_xlfn.STDEV.S('Single data'!FO21:FT21)/SQRT(6)) -> 16.290336 | CZ21: =AVERAGE('Single data'!FU21:FY21) -> 70.235796 | DA21: ± | DB21: =_xlfn.STDEV.S('Single data'!FU21:FY21)/SQRT(5) -> 12.716314
B22: ALOX 12/15 | C22: 15-HEPE | D22: =AVERAGE('Single data'!D22:O22) -> 203.46498 | E22: ± | F22: =(_xlfn.STDEV.S('Single data'!D22:O22)/SQRT(12)) -> 123.20753 | G22: =AVERAGE('Single data'!P22:S22) -> 63.309335 | H22: ± | I22: =(_xlfn.STDEV.S('Single data'!P22:S22)/SQRT(4)) -> 44.578367 | J22: =AVERAGE('Single data'!T22:W22) -> 97.676846 | K22: ± | L22: =(_xlfn.STDEV.S('Single data'!T22:W22)/SQRT(4)) -> 65.101217 | M22: =AVERAGE('Single data'!X22:AA22) -> 74.50186 | N22: ± | O22: =(_xlfn.STDEV.S('Single data'!X22:AA22)/SQRT(4)) -> 62.433782 | P22: =AVERAGE('Single data'!AB22:AE22) -> 131.29944 | Q22: ± | R22: {=_xlfn.STDEV.S('Single data'!AB22:AE22/SQRT(4))} -> 88.08607 | S22: =AVERAGE('Single data'!AF22:AI22) -> 25.576347 | T22: ± | U22: =(_xlfn.STDEV.S('Single data'!AF22:AI22)/SQRT(4)) -> 13.059222 | V22: =AVERAGE('Single data'!AJ22:AM22) -> 48.89203 | W22: ± | X22: =(_xlfn.STDEV.S('Single data'!AJ22:AM22)/SQRT(4)) -> 11.881916 | Y22: =AVERAGE('Single data'!AN22:AQ22) -> 179.22212 | Z22: ± | AA22: =(_xlfn.STDEV.S('Single data'!AN22:AQ22)/SQRT(4)) -> 129.64695 | AB22: =AVERAGE('Single data'!AR22:AU22) -> 511.04174 | AC22: ± | AD22: =(_xlfn.STDEV.S('Single data'!AR22:AU22)/SQRT(4)) -> 166.67441 | AE22: =AVERAGE('Single data'!AV22:AY22) -> 35.407727 | AF22: ± | AG22: =(_xlfn.STDEV.S('Single data'!AV22:AY22)/SQRT(4)) -> 17.527119 | AH22: =AVERAGE('Single data'!AZ22:BC22) -> 325.21015 | AI22: ± | AJ22: =_xlfn.STDEV.S('Single data'!AZ22:BC22)/SQRT(4) -> 88.689326 | AK22: =AVERAGE('Single data'!BD22:BG22) -> 20.24391 | AL22: ± | AM22: =(_xlfn.STDEV.S('Single data'!BD22:BG22)/SQRT(4)) -> 10.260028 | AN22: =AVERAGE('Single data'!BH22:BK22) -> 74.344681 | AO22: ± | AP22: =_xlfn.STDEV.S('Single data'!BH22:BK22)/SQRT(4) -> 34.845237 | AQ22: =AVERAGE('Single data'!BL22:BO22) -> 14.559388 | AR22: ± | AS22: =(_xlfn.STDEV.S('Single data'!BL22:BO22)/SQRT(4)) -> 6.0058258 | AT22: =AVERAGE('Single data'!BP22:BS22) -> 158.54959 | AU22: ± | AV22: =_xlfn.STDEV.S('Single data'!BP22:BS22)/SQRT(4) -> 24.809691 | AW22: =AVERAGE('Single data'!BT22:BW22) -> 42.934936 | AX22: ± | AY22: =(_xlfn.STDEV.S('Single data'!BT22:BW22)/SQRT(4)) -> 36.093509 | AZ22: =AVERAGE('Single data'!BX22:CA22) -> 107.3905 | BA22: ± | BB22: =_xlfn.STDEV.S('Single data'!BX22:CA22)/SQRT(4) -> 44.162415 | BD22: =AVERAGE('Single data'!CG22:CR22) -> 3057.1786 | BE22: ± | BF22: =(_xlfn.STDEV.S('Single data'!CG22:CR22)/SQRT(12)) -> 420.84147 | BG22: =AVERAGE('Single data'!CS22:CW22) -> 1925.6522 | BH22: ± | BI22: =(_xlfn.STDEV.S('Single data'!CS22:CW22)/SQRT(5)) -> 709.04073 | BJ22: =AVERAGE('Single data'!CX22:DB22) -> 1701.2303 | BK22: ± | BL22: =(_xlfn.STDEV.S('Single data'!CX22:DB22)/SQRT(5)) -> 588.62056 | BM22: =AVERAGE('Single data'!DC22:DH22) -> 3167.9667 | BN22: ± | BO22: =(_xlfn.STDEV.S('Single data'!DC22:DH22)/SQRT(6)) -> 1176.8092 | BP22: =AVERAGE('Single data'!DI22:DN22) -> 2410.48 | BQ22: ± | BR22: =_xlfn.STDEV.S('Single data'!DI22:DN22)/SQRT(6) -> 891.52711 | BS22: =AVERAGE('Single data'!DO22:DS22) -> 2473.7916 | BT22: ± | BU22: =(_xlfn.STDEV.S('Single data'!DI22:DN22)/SQRT(6)) -> 891.52711 | BV22: =AVERAGE('Single data'!DT22:DX22) -> 2325.2482 | BW22: ± | BX22: =(_xlfn.STDEV.S('Single data'!DT22:DX22)/SQRT(5)) -> 551.44509 | BY22: =AVERAGE('Single data'!DY22:EC22) -> 2700.5532 | BZ22: ± | CA22: =(_xlfn.STDEV.S('Single data'!DY22:EC22)/SQRT(5)) -> 693.16382 | CB22: =AVERAGE('Single data'!ED22:EH22) -> 2982.2343 | CC22: ± | CD22: =(_xlfn.STDEV.S('Single data'!ED22:EH22)/SQRT(5)) -> 671.85678 | CE22: =AVERAGE('Single data'!EI22:EM22) -> 2959.8822 | CF22: ± | CG22: =(_xlfn.STDEV.S('Single data'!EI22:EM22)/SQRT(5)) -> 751.0275 | CH22: =AVERAGE('Single data'!EN22:ER22) -> 2315.6108 | CI22: ± | CJ22: =_xlfn.STDEV.S('Single data'!EN22:ER22)/SQRT(5) -> 627.92318 | CK22: =AVERAGE('Single data'!ES22:EW22) -> 2665.9939 | CL22: ± | CM22: =(_xlfn.STDEV.S('Single data'!ES22:EW22)/SQRT(5)) -> 695.53616 | CN22: =AVERAGE('Single data'!EX22:FB22) -> 1928.853 | CO22: ± | CP22: =_xlfn.STDEV.S('Single data'!EX22:FB22)/SQRT(5) -> 462.72831 | CQ22: =AVERAGE('Single data'!FC22:FH22) -> 3502.665 | CR22: ± | CS22: =(_xlfn.STDEV.S('Single data'!FC22:FH22)/SQRT(6)) -> 922.26051 | CT22: =AVERAGE('Single data'!FI22:FN22) -> 2791.1889 | CU22: ± | CV22: =_xlfn.STDEV.S('Single data'!FI22:FN22)/SQRT(6) -> 856.927 | CW22: =AVERAGE('Single data'!FO22:FT22) -> 2243.4733 | CX22: ± | CY22: =(_xlfn.STDEV.S('Single data'!FO22:FT22)/SQRT(6)) -> 832.52154 | CZ22: =AVERAGE('Single data'!FU22:FY22) -> 1542.3634 | DA22: ± | DB22: =_xlfn.STDEV.S('Single data'!FU22:FY22)/SQRT(5) -> 531.51905
C23: 14-HDPA | D23: =AVERAGE('Single data'!D23:O23) -> 200.88228 | E23: ± | F23: =(_xlfn.STDEV.S('Single data'!D23:O23)/SQRT(12)) -> 102.59247 | G23: =AVERAGE('Single data'!P23:S23) -> 137.12102 | H23: ± | I23: =(_xlfn.STDEV.S('Single data'!P23:S23)/SQRT(4)) -> 76.243886 | J23: =AVERAGE('Single data'!T23:W23) -> 108.27095 | K23: ± | L23: =(_xlfn.STDEV.S('Single data'!T23:W23)/SQRT(4)) -> 81.566334 | M23: =AVERAGE('Single data'!X23:AA23) -> 86.194097 | N23: ± | O23: =(_xlfn.STDEV.S('Single data'!X23:AA23)/SQRT(4)) -> 69.013537 | P23: =AVERAGE('Single data'!AB23:AE23) -> 184.29582 | Q23: ± | R23: {=_xlfn.STDEV.S('Single data'!AB23:AE23/SQRT(4))} -> 85.374377 | S23: =AVERAGE('Single data'!AF23:AI23) -> 33.83622 | T23: ± | U23: =(_xlfn.STDEV.S('Single data'!AF23:AI23)/SQRT(4)) -> 11.859455 | V23: =AVERAGE('Single data'!AJ23:AM23) -> 70.136719 | W23: ± | X23: =(_xlfn.STDEV.S('Single data'!AJ23:AM23)/SQRT(4)) -> 17.921938 | Y23: =AVERAGE('Single data'!AN23:AQ23) -> 152.00423 | Z23: ± | AA23: =(_xlfn.STDEV.S('Single data'!AN23:AQ23)/SQRT(4)) -> 88.094197 | AB23: =AVERAGE('Single data'!AR23:AU23) -> 1244.0288 | AC23: ± | AD23: =(_xlfn.STDEV.S('Single data'!AR23:AU23)/SQRT(4)) -> 547.58462 | AE23: =AVERAGE('Single data'!AV23:AY23) -> 40.332223 | AF23: ± | AG23: =(_xlfn.STDEV.S('Single data'!AV23:AY23)/SQRT(4)) -> 14.710499 | AH23: =AVERAGE('Single data'!AZ23:BC23) -> 789.28051 | AI23: ± | AJ23: =_xlfn.STDEV.S('Single data'!AZ23:BC23)/SQRT(4) -> 216.97511 | AK23: =AVERAGE('Single data'!BD23:BG23) -> 26.358034 | AL23: ± | AM23: =(_xlfn.STDEV.S('Single data'!BD23:BG23)/SQRT(4)) -> 9.6294502 | AN23: =AVERAGE('Single data'!BH23:BK23) -> 106.25892 | AO23: ± | AP23: =_xlfn.STDEV.S('Single data'!BH23:BK23)/SQRT(4) -> 47.181988 | AQ23: =AVERAGE('Single data'!BL23:BO23) -> 21.239002 | AR23: ± | AS23: =(_xlfn.STDEV.S('Single data'!BL23:BO23)/SQRT(4)) -> 6.438165 | AT23: =AVERAGE('Single data'!BP23:BS23) -> 216.72279 | AU23: ± | AV23: =_xlfn.STDEV.S('Single data'!BP23:BS23)/SQRT(4) -> 43.751749 | AW23: =AVERAGE('Single data'!BT23:BW23) -> 96.844528 | AX23: ± | AY23: =(_xlfn.STDEV.S('Single data'!BT23:BW23)/SQRT(4)) -> 83.492664 | AZ23: =AVERAGE('Single data'!BX23:CA23) -> 156.24913 | BA23: ± | BB23: =_xlfn.STDEV.S('Single data'!BX23:CA23)/SQRT(4) -> 75.633577 | BD23: =AVERAGE('Single data'!CG23:CR23) -> 5527.3744 | BE23: ± | BF23: =(_xlfn.STDEV.S('Single data'!CG23:CR23)/SQRT(12)) -> 1242.0471 | BG23: =AVERAGE('Single data'!CS23:CW23) -> 3127.6197 | BH23: ± | BI23: =(_xlfn.STDEV.S('Single data'!CS23:CW23)/SQRT(5)) -> 1343.9779 | BJ23: =AVERAGE('Single data'!CX23:DB23) -> 2676.7789 | BK23: ± | BL23: =(_xlfn.STDEV.S('Single data'!CX23:DB23)/SQRT(5)) -> 1029.646 | BM23: =AVERAGE('Single data'!DC23:DH23) -> 4215.6509 | BN23: ± | BO23: =(_xlfn.STDEV.S('Single data'!DC23:DH23)/SQRT(6)) -> 1349.0067 | BP23: =AVERAGE('Single data'!DI23:DN23) -> 3078.1392 | BQ23: ± | BR23: =_xlfn.STDEV.S('Single data'!DI23:DN23)/SQRT(6) -> 956.70388 | BS23: =AVERAGE('Single data'!DO23:DS23) -> 4572.1379 | BT23: ± | BU23: =(_xlfn.STDEV.S('Single data'!DI23:DN23)/SQRT(6)) -> 956.70388 | BV23: =AVERAGE('Single data'!DT23:DX23) -> 3059.3256 | BW23: ± | BX23: =(_xlfn.STDEV.S('Single data'!DT23:DX23)/SQRT(5)) -> 806.78766 | BY23: =AVERAGE('Single data'!DY23:EC23) -> 4778.0743 | BZ23: ± | CA23: =(_xlfn.STDEV.S('Single data'!DY23:EC23)/SQRT(5)) -> 1495.6395 | CB23: =AVERAGE('Single data'!ED23:EH23) -> 4667.8112 | CC23: ± | CD23: =(_xlfn.STDEV.S('Single data'!ED23:EH23)/SQRT(5)) -> 1478.9985 | CE23: =AVERAGE('Single data'!EI23:EM23) -> 4565.5429 | CF23: ± | CG23: =(_xlfn.STDEV.S('Single data'!EI23:EM23)/SQRT(5)) -> 1349.0286 | CH23: =AVERAGE('Single data'!EN23:ER23) -> 4589.4616 | CI23: ± | CJ23: =_xlfn.STDEV.S('Single data'!EN23:ER23)/SQRT(5) -> 1423.313 | CK23: =AVERAGE('Single data'!ES23:EW23) -> 3834.4177 | CL23: ± | CM23: =(_xlfn.STDEV.S('Single data'!ES23:EW23)/SQRT(5)) -> 1106.4785 | CN23: =AVERAGE('Single data'!EX23:FB23) -> 2692.6716 | CO23: ± | CP23: =_xlfn.STDEV.S('Single data'!EX23:FB23)/SQRT(5) -> 752.13041 | CQ23: =AVERAGE('Single data'!FC23:FH23) -> 4483.5783 | CR23: ± | CS23: =(_xlfn.STDEV.S('Single data'!FC23:FH23)/SQRT(6)) -> 1425.579 | CT23: =AVERAGE('Single data'!FI23:FN23) -> 3414.6844 | CU23: ± | CV23: =_xlfn.STDEV.S('Single data'!FI23:FN23)/SQRT(6) -> 1028.9947 | CW23: =AVERAGE('Single data'!FO23:FT23) -> 3033.9851 | CX23: ± | CY23: =(_xlfn.STDEV.S('Single data'!FO23:FT23)/SQRT(6)) -> 1067.0095 | CZ23: =AVERAGE('Single data'!FU23:FY23) -> 1834.241 | DA23: ± | DB23: =_xlfn.STDEV.S('Single data'!FU23:FY23)/SQRT(5) -> 793.51031
C24: 12-HEPE | D24: =AVERAGE('Single data'!D24:O24) -> 16.07821 | E24: ± | F24: =(_xlfn.STDEV.S('Single data'!D24:O24)/SQRT(12)) -> 7.5465946 | G24: =AVERAGE('Single data'!P24:S24) -> 11.041524 | H24: ± | I24: =(_xlfn.STDEV.S('Single data'!P24:S24)/SQRT(4)) -> 7.4884253 | J24: =AVERAGE('Single data'!T24:W24) -> 19.859384 | K24: ± | L24: =(_xlfn.STDEV.S('Single data'!T24:W24)/SQRT(4)) -> 11.743692 | M24: =AVERAGE('Single data'!X24:AA24) -> 13.560469 | N24: ± | O24: =(_xlfn.STDEV.S('Single data'!X24:AA24)/SQRT(4)) -> 10.997473 | P24: =AVERAGE('Single data'!AB24:AE24) -> 21.35238 | Q24: ± | R24: {=_xlfn.STDEV.S('Single data'!AB24:AE24/SQRT(4))} -> 13.285893 | S24: =AVERAGE('Single data'!AF24:AI24) -> 4.3841436 | T24: ± | U24: =(_xlfn.STDEV.S('Single data'!AF24:AI24)/SQRT(4)) -> 2.1889334 | V24: =AVERAGE('Single data'!AJ24:AM24) -> 9.8825056 | W24: ± | X24: =(_xlfn.STDEV.S('Single data'!AJ24:AM24)/SQRT(4)) -> 2.308611 | Y24: =AVERAGE('Single data'!AN24:AQ24) -> 26.127835 | Z24: ± | AA24: =(_xlfn.STDEV.S('Single data'!AN24:AQ24)/SQRT(4)) -> 16.158059 | AB24: =AVERAGE('Single data'!AR24:AU24) -> 87.941447 | AC24: ± | AD24: =(_xlfn.STDEV.S('Single data'!AR24:AU24)/SQRT(4)) -> 26.098654 | AE24: =AVERAGE('Single data'!AV24:AY24) -> 9.0104723 | AF24: ± | AG24: =(_xlfn.STDEV.S('Single data'!AV24:AY24)/SQRT(4)) -> 4.1610669 | AH24: =AVERAGE('Single data'!AZ24:BC24) -> 60.696245 | AI24: ± | AJ24: =_xlfn.STDEV.S('Single data'!AZ24:BC24)/SQRT(4) -> 14.7027 | AK24: =AVERAGE('Single data'!BD24:BG24) -> 3.4713451 | AL24: ± | AM24: =(_xlfn.STDEV.S('Single data'!BD24:BG24)/SQRT(4)) -> 1.1243976 | AN24: =AVERAGE('Single data'!BH24:BK24) -> 10.672904 | AO24: ± | AP24: =_xlfn.STDEV.S('Single data'!BH24:BK24)/SQRT(4) -> 4.5849528 | AQ24: =AVERAGE('Single data'!BL24:BO24) -> 2.7038398 | AR24: ± | AS24: =(_xlfn.STDEV.S('Single data'!BL24:BO24)/SQRT(4)) -> 0.48305544 | AT24: =AVERAGE('Single data'!BP24:BS24) -> 26.711088 | AU24: ± | AV24: =_xlfn.STDEV.S('Single data'!BP24:BS24)/SQRT(4) -> 4.6353115 | AW24: =AVERAGE('Single data'!BT24:BW24) -> 5.9630393 | AX24: ± | AY24: =(_xlfn.STDEV.S('Single data'!BT24:BW24)/SQRT(4)) -> 4.5072335 | AZ24: =AVERAGE('Single data'!BX24:CA24) -> 13.670116 | BA24: ± | BB24: =_xlfn.STDEV.S('Single data'!BX24:CA24)/SQRT(4) -> 5.3068622 | BD24: =AVERAGE('Single data'!CG24:CR24) -> 475.74199 | BE24: ± | BF24: =(_xlfn.STDEV.S('Single data'!CG24:CR24)/SQRT(12)) -> 97.230568 | BG24: =AVERAGE('Single data'!CS24:CW24) -> 278.81346 | BH24: ± | BI24: =(_xlfn.STDEV.S('Single data'!CS24:CW24)/SQRT(5)) -> 118.57572 | BJ24: =AVERAGE('Single data'!CX24:DB24) -> 256.20307 | BK24: ± | BL24: =(_xlfn.STDEV.S('Single data'!CX24:DB24)/SQRT(5)) -> 100.34177 | BM24: =AVERAGE('Single data'!DC24:DH24) -> 522.82898 | BN24: ± | BO24: =(_xlfn.STDEV.S('Single data'!DC24:DH24)/SQRT(6)) -> 201.54036 | BP24: =AVERAGE('Single data'!DI24:DN24) -> 334.52197 | BQ24: ± | BR24: =_xlfn.STDEV.S('Single data'!DI24:DN24)/SQRT(6) -> 127.33352 | BS24: =AVERAGE('Single data'!DO24:DS24) -> 362.80826 | BT24: ± | BU24: =(_xlfn.STDEV.S('Single data'!DI24:DN24)/SQRT(6)) -> 127.33352 | BV24: =AVERAGE('Single data'!DT24:DX24) -> 306.58385 | BW24: ± | BX24: =(_xlfn.STDEV.S('Single data'!DT24:DX24)/SQRT(5)) -> 84.530902 | BY24: =AVERAGE('Single data'!DY24:EC24) -> 393.30118 | BZ24: ± | CA24: =(_xlfn.STDEV.S('Single data'!DY24:EC24)/SQRT(5)) -> 115.93568 | CB24: =AVERAGE('Single data'!ED24:EH24) -> 391.34823 | CC24: ± | CD24: =(_xlfn.STDEV.S('Single data'!ED24:EH24)/SQRT(5)) -> 101.82924 | CE24: =AVERAGE('Single data'!EI24:EM24) -> 421.46108 | CF24: ± | CG24: =(_xlfn.STDEV.S('Single data'!EI24:EM24)/SQRT(5)) -> 116.66109 | CH24: =AVERAGE('Single data'!EN24:ER24) -> 316.71898 | CI24: ± | CJ24: =_xlfn.STDEV.S('Single data'!EN24:ER24)/SQRT(5) -> 86.558034 | CK24: =AVERAGE('Single data'!ES24:EW24) -> 365.92365 | CL24: ± | CM24: =(_xlfn.STDEV.S('Single data'!ES24:EW24)/SQRT(5)) -> 105.89413 | CN24: =AVERAGE('Single data'!EX24:FB24) -> 248.01445 | CO24: ± | CP24: =_xlfn.STDEV.S('Single data'!EX24:FB24)/SQRT(5) -> 71.397719 | CQ24: =AVERAGE('Single data'!FC24:FH24) -> 532.07148 | CR24: ± | CS24: =(_xlfn.STDEV.S('Single data'!FC24:FH24)/SQRT(6)) -> 186.34585 | CT24: =AVERAGE('Single data'!FI24:FN24) -> 391.67051 | CU24: ± | CV24: =_xlfn.STDEV.S('Single data'!FI24:FN24)/SQRT(6) -> 141.51795 | CW24: =AVERAGE('Single data'!FO24:FT24) -> 338.59021 | CX24: ± | CY24: =(_xlfn.STDEV.S('Single data'!FO24:FT24)/SQRT(6)) -> 168.62358 | CZ24: =AVERAGE('Single data'!FU24:FY24) -> 190.38326 | DA24: ± | DB24: =_xlfn.STDEV.S('Single data'!FU24:FY24)/SQRT(5) -> 79.433122
C25: 12-HETE | D25: =AVERAGE('Single data'!D25:O25) -> 93.278298 | E25: ± | F25: =(_xlfn.STDEV.S('Single data'!D25:O25)/SQRT(12)) -> 44.698857 | G25: =AVERAGE('Single data'!P25:S25) -> 43.430807 | H25: ± | I25: =(_xlfn.STDEV.S('Single data'!P25:S25)/SQRT(4)) -> 18.998686 | J25: =AVERAGE('Single data'!T25:W25) -> 63.673656 | K25: ± | L25: =(_xlfn.STDEV.S('Single data'!T25:W25)/SQRT(4)) -> 48.866831 | M25: =AVERAGE('Single data'!X25:AA25) -> 30.152405 | N25: ± | O25: =(_xlfn.STDEV.S('Single data'!X25:AA25)/SQRT(4)) -> 22.613071 | P25: =AVERAGE('Single data'!AB25:AE25) -> 160.4369 | Q25: ± | R25: {=_xlfn.STDEV.S('Single data'!AB25:AE25/SQRT(4))} -> 101.18541 | S25: =AVERAGE('Single data'!AF25:AI25) -> 12.483338 | T25: ± | U25: =(_xlfn.STDEV.S('Single data'!AF25:AI25)/SQRT(4)) -> 5.2048003 | V25: =AVERAGE('Single data'!AJ25:AM25) -> 44.48261 | W25: ± | X25: =(_xlfn.STDEV.S('Single data'!AJ25:AM25)/SQRT(4)) -> 11.637939 | Y25: =AVERAGE('Single data'!AN25:AQ25) -> 78.100056 | Z25: ± | AA25: =(_xlfn.STDEV.S('Single data'!AN25:AQ25)/SQRT(4)) -> 52.847278 | AB25: =AVERAGE('Single data'!AR25:AU25) -> 593.57674 | AC25: ± | AD25: =(_xlfn.STDEV.S('Single data'!AR25:AU25)/SQRT(4)) -> 204.84746 | AE25: =AVERAGE('Single data'!AV25:AY25) -> 21.243594 | AF25: ± | AG25: =(_xlfn.STDEV.S('Single data'!AV25:AY25)/SQRT(4)) -> 9.9273176 | AH25: =AVERAGE('Single data'!AZ25:BC25) -> 387.58614 | AI25: ± | AJ25: =_xlfn.STDEV.S('Single data'!AZ25:BC25)/SQRT(4) -> 117.24825 | AK25: =AVERAGE('Single data'!BD25:BG25) -> 9.8678287 | AL25: ± | AM25: =(_xlfn.STDEV.S('Single data'!BD25:BG25)/SQRT(4)) -> 4.078152 | AN25: =AVERAGE('Single data'!BH25:BK25) -> 59.956803 | AO25: ± | AP25: =_xlfn.STDEV.S('Single data'!BH25:BK25)/SQRT(4) -> 26.632414 | AQ25: =AVERAGE('Single data'!BL25:BO25) -> 4.8294295 | AR25: ± | AS25: =(_xlfn.STDEV.S('Single data'!BL25:BO25)/SQRT(4)) -> 1.0570793 | AT25: =AVERAGE('Single data'!BP25:BS25) -> 134.8534 | AU25: ± | AV25: =_xlfn.STDEV.S('Single data'!BP25:BS25)/SQRT(4) -> 28.301594 | AW25: =AVERAGE('Single data'!BT25:BW25) -> 13.78919 | AX25: ± | AY25: =(_xlfn.STDEV.S('Single data'!BT25:BW25)/SQRT(4)) -> 10.317514 | AZ25: =AVERAGE('Single data'!BX25:CA25) -> 71.673716 | BA25: ± | BB25: =_xlfn.STDEV.S('Single data'!BX25:CA25)/SQRT(4) -> 25.139212 | BD25: =AVERAGE('Single data'!CG25:CR25) -> 4164.1998 | BE25: ± | BF25: =(_xlfn.STDEV.S('Single data'!CG25:CR25)/SQRT(12)) -> 698.10895 | BG25: =AVERAGE('Single data'!CS25:CW25) -> 2799.8331 | BH25: ± | BI25: =(_xlfn.STDEV.S('Single data'!CS25:CW25)/SQRT(5)) -> 1347.3872 | BJ25: =AVERAGE('Single data'!CX25:DB25) -> 2376.3726 | BK25: ± | BL25: =(_xlfn.STDEV.S('Single data'!CX25:DB25)/SQRT(5)) -> 1043.8898 | BM25: =AVERAGE('Single data'!DC25:DH25) -> 4544.9613 | BN25: ± | BO25: =(_xlfn.STDEV.S('Single data'!DC25:DH25)/SQRT(6)) -> 1402.7843 | BP25: =AVERAGE('Single data'!DI25:DN25) -> 3502.9696 | BQ25: ± | BR25: =_xlfn.STDEV.S('Single data'!DI25:DN25)/SQRT(6) -> 1108.3264 | BS25: =AVERAGE('Single data'!DO25:DS25) -> 4278.9483 | BT25: ± | BU25: =(_xlfn.STDEV.S('Single data'!DI25:DN25)/SQRT(6)) -> 1108.3264 | BV25: =AVERAGE('Single data'!DT25:DX25) -> 3808.1266 | BW25: ± | BX25: =(_xlfn.STDEV.S('Single data'!DT25:DX25)/SQRT(5)) -> 1074.4945 | BY25: =AVERAGE('Single data'!DY25:EC25) -> 4414.4821 | BZ25: ± | CA25: =(_xlfn.STDEV.S('Single data'!DY25:EC25)/SQRT(5)) -> 1348.876 | CB25: =AVERAGE('Single data'!ED25:EH25) -> 4711.7714 | CC25: ± | CD25: =(_xlfn.STDEV.S('Single data'!ED25:EH25)/SQRT(5)) -> 1339.4433 | CE25: =AVERAGE('Single data'!EI25:EM25) -> 4720.6535 | CF25: ± | CG25: =(_xlfn.STDEV.S('Single data'!EI25:EM25)/SQRT(5)) -> 1329.0872 | CH25: =AVERAGE('Single data'!EN25:ER25) -> 4003.0532 | CI25: ± | CJ25: =_xlfn.STDEV.S('Single data'!EN25:ER25)/SQRT(5) -> 1141.4976 | CK25: =AVERAGE('Single data'!ES25:EW25) -> 3717.0716 | CL25: ± | CM25: =(_xlfn.STDEV.S('Single data'!ES25:EW25)/SQRT(5)) -> 980.84884 | CN25: =AVERAGE('Single data'!EX25:FB25) -> 3385.8645 | CO25: ± | CP25: =_xlfn.STDEV.S('Single data'!EX25:FB25)/SQRT(5) -> 936.77643 | CQ25: =AVERAGE('Single data'!FC25:FH25) -> 4307.4758 | CR25: ± | CS25: =(_xlfn.STDEV.S('Single data'!FC25:FH25)/SQRT(6)) -> 1314.9603 | CT25: =AVERAGE('Single data'!FI25:FN25) -> 4108.9893 | CU25: ± | CV25: =_xlfn.STDEV.S('Single data'!FI25:FN25)/SQRT(6) -> 1264.0798 | CW25: =AVERAGE('Single data'!FO25:FT25) -> 2879.9459 | CX25: ± | CY25: =(_xlfn.STDEV.S('Single data'!FO25:FT25)/SQRT(6)) -> 1141.6836 | CZ25: =AVERAGE('Single data'!FU25:FY25) -> 2184.0149 | DA25: ± | DB25: =_xlfn.STDEV.S('Single data'!FU25:FY25)/SQRT(5) -> 1003.3354
B26: ALOX5 | C26: LTB4 isomers | BD26: =AVERAGE('Single data'!CG26:CR26) -> 1186.1042 | BE26: ± | BF26: =(_xlfn.STDEV.S('Single data'!CG26:CR26)/SQRT(12)) -> 323.3791 | BG26: =AVERAGE('Single data'!CS26:CW26) -> 663.38377 | BH26: ± | BI26: =(_xlfn.STDEV.S('Single data'!CS26:CW26)/SQRT(5)) -> 334.37453 | BJ26: =AVERAGE('Single data'!CX26:DB26) -> 664.38013 | BK26: ± | BL26: =(_xlfn.STDEV.S('Single data'!CX26:DB26)/SQRT(5)) -> 357.88664 | BM26: =AVERAGE('Single data'!DC26:DH26) -> 1400.232 | BN26: ± | BO26: =(_xlfn.STDEV.S('Single data'!DC26:DH26)/SQRT(6)) -> 610.08865 | BP26: =AVERAGE('Single data'!DI26:DN26) -> 619.85069 | BQ26: ± | BR26: =_xlfn.STDEV.S('Single data'!DI26:DN26)/SQRT(6) -> 264.34803 | BS26: =AVERAGE('Single data'!DO26:DS26) -> 1005.721 | BT26: ± | BU26: =(_xlfn.STDEV.S('Single data'!DI26:DN26)/SQRT(6)) -> 264.34803 | BV26: =AVERAGE('Single data'!DT26:DX26) -> 555.08946 | BW26: ± | BX26: =(_xlfn.STDEV.S('Single data'!DT26:DX26)/SQRT(5)) -> 272.43894 | BY26: =AVERAGE('Single data'!DY26:EC26) -> 1161.373 | BZ26: ± | CA26: =(_xlfn.STDEV.S('Single data'!DY26:EC26)/SQRT(5)) -> 452.08924 | CB26: =AVERAGE('Single data'!ED26:EH26) -> 1103.8104 | CC26: ± | CD26: =(_xlfn.STDEV.S('Single data'!ED26:EH26)/SQRT(5)) -> 492.7535 | CE26: =AVERAGE('Single data'!EI26:EM26) -> 1140.5554 | CF26: ± | CG26: =(_xlfn.STDEV.S('Single data'!EI26:EM26)/SQRT(5)) -> 436.03911 | CH26: =AVERAGE('Single data'!EN26:ER26) -> 736.22138 | CI26: ± | CJ26: =_xlfn.STDEV.S('Single data'!EN26:ER26)/SQRT(5) -> 295.13916 | CK26: =AVERAGE('Single data'!ES26:EW26) -> 649.10173 | CL26: ± | CM26: =(_xlfn.STDEV.S('Single data'!ES26:EW26)/SQRT(5)) -> 301.44341 | CN26: =AVERAGE('Single data'!EX26:FB26) -> 460.73609 | CO26: ± | CP26: =_xlfn.STDEV.S('Single data'!EX26:FB26)/SQRT(5) -> 234.67571 | CQ26: =AVERAGE('Single data'!FC26:FH26) -> 1246.1955 | CR26: ± | CS26: =(_xlfn.STDEV.S('Single data'!FC26:FH26)/SQRT(6)) -> 511.53635 | CT26: =AVERAGE('Single data'!FI26:FN26) -> 973.32172 | CU26: ± | CV26: =_xlfn.STDEV.S('Single data'!FI26:FN26)/SQRT(6) -> 406.08896 | CW26: =AVERAGE('Single data'!FO26:FT26) -> 667.54835 | CX26: ± | CY26: =(_xlfn.STDEV.S('Single data'!FO26:FT26)/SQRT(6)) -> 371.42206 | CZ26: =AVERAGE('Single data'!FU26:FY26) -> 325.6799 | DA26: ± | DB26: =_xlfn.STDEV.S('Single data'!FU26:FY26)/SQRT(5) -> 239.4472
C27: LTB4 | BD27: =AVERAGE('Single data'!CG27:CR27) -> 1984.264 | BE27: ± | BF27: =(_xlfn.STDEV.S('Single data'!CG27:CR27)/SQRT(12)) -> 444.33292 | BG27: =AVERAGE('Single data'!CS27:CW27) -> 840.63359 | BH27: ± | BI27: =(_xlfn.STDEV.S('Single data'!CS27:CW27)/SQRT(5)) -> 361.94379 | BJ27: =AVERAGE('Single data'!CX27:DB27) -> 501.52049 | BK27: ± | BL27: =(_xlfn.STDEV.S('Single data'!CX27:DB27)/SQRT(5)) -> 256.50726 | BM27: =AVERAGE('Single data'!DC27:DH27) -> 904.48272 | BN27: ± | BO27: =(_xlfn.STDEV.S('Single data'!DC27:DH27)/SQRT(6)) -> 515.96643 | BP27: =AVERAGE('Single data'!DI27:DN27) -> 118.69113 | BQ27: ± | BR27: =_xlfn.STDEV.S('Single data'!DI27:DN27)/SQRT(6) -> 58.829414 | BS27: =AVERAGE('Single data'!DO27:DS27) -> 773.09819 | BT27: ± | BU27: =(_xlfn.STDEV.S('Single data'!DI27:DN27)/SQRT(6)) -> 58.829414 | BV27: =AVERAGE('Single data'!DT27:DX27) -> 197.16813 | BW27: ± | BX27: =(_xlfn.STDEV.S('Single data'!DT27:DX27)/SQRT(5)) -> 57.908403 | BY27: =AVERAGE('Single data'!DY27:EC27) -> 708.13686 | BZ27: ± | CA27: =(_xlfn.STDEV.S('Single data'!DY27:EC27)/SQRT(5)) -> 319.77204 | CB27: =AVERAGE('Single data'!ED27:EH27) -> 119.38157 | CC27: ± | CD27: =(_xlfn.STDEV.S('Single data'!ED27:EH27)/SQRT(5)) -> 38.412488 | CE27: =AVERAGE('Single data'!EI27:EM27) -> 680.03684 | CF27: ± | CG27: =(_xlfn.STDEV.S('Single data'!EI27:EM27)/SQRT(5)) -> 311.37698 | CH27: =AVERAGE('Single data'!EN27:ER27) -> 57.203927 | CI27: ± | CJ27: =_xlfn.STDEV.S('Single data'!EN27:ER27)/SQRT(5) -> 16.748758 | CK27: =AVERAGE('Single data'!ES27:EW27) -> 606.3508 | CL27: ± | CM27: =(_xlfn.STDEV.S('Single data'!ES27:EW27)/SQRT(5)) -> 125.01433 | CN27: =AVERAGE('Single data'!EX27:FB27) -> 116.32636 | CO27: ± | CP27: =_xlfn.STDEV.S('Single data'!EX27:FB27)/SQRT(5) -> 20.797906 | CQ27: =AVERAGE('Single data'!FC27:FH27) -> 921.82919 | CR27: ± | CS27: =(_xlfn.STDEV.S('Single data'!FC27:FH27)/SQRT(6)) -> 361.1428 | CT27: =AVERAGE('Single data'!FI27:FN27) -> 286.69927 | CU27: ± | CV27: =_xlfn.STDEV.S('Single data'!FI27:FN27)/SQRT(6) -> 113.4176 | CW27: =AVERAGE('Single data'!FO27:FT27) -> 656.86832 | CX27: ± | CY27: =(_xlfn.STDEV.S('Single data'!FO27:FT27)/SQRT(6)) -> 393.70886 | CZ27: =AVERAGE('Single data'!FU27:FY27) -> 158.74736 | DA27: ± | DB27: =_xlfn.STDEV.S('Single data'!FU27:FY27)/SQRT(5) -> 68.027992
C28: 5-HEPE | D28: =AVERAGE('Single data'!D28:O28) -> 14.555762 | E28: ± | F28: =(_xlfn.STDEV.S('Single data'!D28:O28)/SQRT(12)) -> 6.2514165 | G28: =AVERAGE('Single data'!P28:S28) -> 8.8630866 | H28: ± | I28: =(_xlfn.STDEV.S('Single data'!P28:S28)/SQRT(4)) -> 6.9792916 | J28: =AVERAGE('Single data'!T28:W28) -> 5.4365754 | K28: ± | L28: =(_xlfn.STDEV.S('Single data'!T28:W28)/SQRT(4)) -> 3.0973094 | M28: =AVERAGE('Single data'!X28:AA28) -> 8.0472382 | N28: ± | O28: =(_xlfn.STDEV.S('Single data'!X28:AA28)/SQRT(4)) -> 6.1018191 | P28: =AVERAGE('Single data'!AB28:AE28) -> 5.4361121 | Q28: ± | R28: {=_xlfn.STDEV.S('Single data'!AB28:AE28/SQRT(4))} -> 1.4688438 | S28: =AVERAGE('Single data'!AF28:AI28) -> 1.2271612 | T28: ± | U28: =(_xlfn.STDEV.S('Single data'!AF28:AI28)/SQRT(4)) -> 0.28436534 | V28: =AVERAGE('Single data'!AJ28:AM28) -> 3.0295558 | W28: ± | X28: =(_xlfn.STDEV.S('Single data'!AJ28:AM28)/SQRT(4)) -> 0.44878965 | Y28: =AVERAGE('Single data'!AN28:AQ28) -> 7.8410497 | Z28: ± | AA28: =(_xlfn.STDEV.S('Single data'!AN28:AQ28)/SQRT(4)) -> 5.5716287 | AB28: =AVERAGE('Single data'!AR28:AU28) -> 9.7089005 | AC28: ± | AD28: =(_xlfn.STDEV.S('Single data'!AR28:AU28)/SQRT(4)) -> 2.1373212 | AE28: =AVERAGE('Single data'!AV28:AY28) -> 2.4484338 | AF28: ± | AG28: =(_xlfn.STDEV.S('Single data'!AV28:AY28)/SQRT(4)) -> 0.55706842 | AH28: =AVERAGE('Single data'!AZ28:BC28) -> 5.8984627 | AI28: ± | AJ28: =_xlfn.STDEV.S('Single data'!AZ28:BC28)/SQRT(4) -> 1.6159772 | AK28: =AVERAGE('Single data'!BD28:BG28) -> 2.3465526 | AL28: ± | AM28: =(_xlfn.STDEV.S('Single data'!BD28:BG28)/SQRT(4)) -> 0.24035072 | AN28: =AVERAGE('Single data'!BH28:BK28) -> 1.9540796 | AO28: ± | AP28: =_xlfn.STDEV.S('Single data'!BH28:BK28)/SQRT(4) -> 0.21134281 | AQ28: =AVERAGE('Single data'!BL28:BO28) -> 2.0963873 | AR28: ± | AS28: =(_xlfn.STDEV.S('Single data'!BL28:BO28)/SQRT(4)) -> 0.21625831 | AT28: =AVERAGE('Single data'!BP28:BS28) -> 4.3326896 | AU28: ± | AV28: =_xlfn.STDEV.S('Single data'!BP28:BS28)/SQRT(4) -> 0.57426839 | AW28: =AVERAGE('Single data'!BT28:BW28) -> 7.6236942 | AX28: ± | AY28: =(_xlfn.STDEV.S('Single data'!BT28:BW28)/SQRT(4)) -> 5.4715652 | AZ28: =AVERAGE('Single data'!BX28:CA28) -> 6.2461436 | BA28: ± | BB28: =_xlfn.STDEV.S('Single data'!BX28:CA28)/SQRT(4) -> 2.6810428 | BD28: =AVERAGE('Single data'!CG28:CR28) -> 188.06931 | BE28: ± | BF28: =(_xlfn.STDEV.S('Single data'!CG28:CR28)/SQRT(12)) -> 30.792304 | BG28: =AVERAGE('Single data'!CS28:CW28) -> 68.3833 | BH28: ± | BI28: =(_xlfn.STDEV.S('Single data'!CS28:CW28)/SQRT(5)) -> 14.452319 | BJ28: =AVERAGE('Single data'!CX28:DB28) -> 41.511305 | BK28: ± | BL28: =(_xlfn.STDEV.S('Single data'!CX28:DB28)/SQRT(5)) -> 5.6643484 | BM28: =AVERAGE('Single data'!DC28:DH28) -> 60.686397 | BN28: ± | BO28: =(_xlfn.STDEV.S('Single data'!DC28:DH28)/SQRT(6)) -> 22.454913 | BP28: =AVERAGE('Single data'!DI28:DN28) -> 26.788337 | BQ28: ± | BR28: =_xlfn.STDEV.S('Single data'!DI28:DN28)/SQRT(6) -> 3.8899961 | BS28: =AVERAGE('Single data'!DO28:DS28) -> 48.848417 | BT28: ± | BU28: =(_xlfn.STDEV.S('Single data'!DI28:DN28)/SQRT(6)) -> 3.8899961 | BV28: =AVERAGE('Single data'!DT28:DX28) -> 23.586595 | BW28: ± | BX28: =(_xlfn.STDEV.S('Single data'!DT28:DX28)/SQRT(5)) -> 2.235915 | BY28: =AVERAGE('Single data'!DY28:EC28) -> 48.395102 | BZ28: ± | CA28: =(_xlfn.STDEV.S('Single data'!DY28:EC28)/SQRT(5)) -> 11.560836 | CB28: =AVERAGE('Single data'!ED28:EH28) -> 25.571159 | CC28: ± | CD28: =(_xlfn.STDEV.S('Single data'!ED28:EH28)/SQRT(5)) -> 2.0700433 | CE28: =AVERAGE('Single data'!EI28:EM28) -> 45.205959 | CF28: ± | CG28: =(_xlfn.STDEV.S('Single data'!EI28:EM28)/SQRT(5)) -> 9.5482908 | CH28: =AVERAGE('Single data'!EN28:ER28) -> 20.199107 | CI28: ± | CJ28: =_xlfn.STDEV.S('Single data'!EN28:ER28)/SQRT(5) -> 2.2377408 | CK28: =AVERAGE('Single data'!ES28:EW28) -> 53.992068 | CL28: ± | CM28: =(_xlfn.STDEV.S('Single data'!ES28:EW28)/SQRT(5)) -> 8.969564 | CN28: =AVERAGE('Single data'!EX28:FB28) -> 19.078516 | CO28: ± | CP28: =_xlfn.STDEV.S('Single data'!EX28:FB28)/SQRT(5) -> 2.6192365 | CQ28: =AVERAGE('Single data'!FC28:FH28) -> 71.032255 | CR28: ± | CS28: =(_xlfn.STDEV.S('Single data'!FC28:FH28)/SQRT(6)) -> 18.110272 | CT28: =AVERAGE('Single data'!FI28:FN28) -> 32.682936 | CU28: ± | CV28: =_xlfn.STDEV.S('Single data'!FI28:FN28)/SQRT(6) -> 5.2925253 | CW28: =AVERAGE('Single data'!FO28:FT28) -> 54.104669 | CX28: ± | CY28: =(_xlfn.STDEV.S('Single data'!FO28:FT28)/SQRT(6)) -> 18.869148 | CZ28: =AVERAGE('Single data'!FU28:FY28) -> 25.480388 | DA28: ± | DB28: =_xlfn.STDEV.S('Single data'!FU28:FY28)/SQRT(5) -> 6.5063863
C29: 5-HETE | D29: =AVERAGE('Single data'!D29:O29) -> 110.05586 | E29: ± | F29: =(_xlfn.STDEV.S('Single data'!D29:O29)/SQRT(12)) -> 45.157241 | G29: =AVERAGE('Single data'!P29:S29) -> 54.710353 | H29: ± | I29: =(_xlfn.STDEV.S('Single data'!P29:S29)/SQRT(4)) -> 33.843792 | J29: =AVERAGE('Single data'!T29:W29) -> 25.949817 | K29: ± | L29: =(_xlfn.STDEV.S('Single data'!T29:W29)/SQRT(4)) -> 19.828309 | M29: =AVERAGE('Single data'!X29:AA29) -> 25.413652 | N29: ± | O29: =(_xlfn.STDEV.S('Single data'!X29:AA29)/SQRT(4)) -> 18.389948 | P29: =AVERAGE('Single data'!AB29:AE29) -> 27.180068 | Q29: ± | R29: {=_xlfn.STDEV.S('Single data'!AB29:AE29/SQRT(4))} -> 7.2845902 | S29: =AVERAGE('Single data'!AF29:AI29) -> 5.4588228 | T29: ± | U29: =(_xlfn.STDEV.S('Single data'!AF29:AI29)/SQRT(4)) -> 0.84639137 | V29: =AVERAGE('Single data'!AJ29:AM29) -> 11.319093 | W29: ± | X29: =(_xlfn.STDEV.S('Single data'!AJ29:AM29)/SQRT(4)) -> 2.8191984 | Y29: =AVERAGE('Single data'!AN29:AQ29) -> 30.300744 | Z29: ± | AA29: =(_xlfn.STDEV.S('Single data'!AN29:AQ29)/SQRT(4)) -> 20.389031 | AB29: =AVERAGE('Single data'!AR29:AU29) -> 49.390127 | AC29: ± | AD29: =(_xlfn.STDEV.S('Single data'!AR29:AU29)/SQRT(4)) -> 17.041082 | AE29: =AVERAGE('Single data'!AV29:AY29) -> 7.0582962 | AF29: ± | AG29: =(_xlfn.STDEV.S('Single data'!AV29:AY29)/SQRT(4)) -> 2.581252 | AH29: =AVERAGE('Single data'!AZ29:BC29) -> 30.940216 | AI29: ± | AJ29: =_xlfn.STDEV.S('Single data'!AZ29:BC29)/SQRT(4) -> 14.816249 | AK29: =AVERAGE('Single data'!BD29:BG29) -> 8.1429442 | AL29: ± | AM29: =(_xlfn.STDEV.S('Single data'!BD29:BG29)/SQRT(4)) -> 3.9380307 | AN29: =AVERAGE('Single data'!BH29:BK29) -> 8.0997772 | AO29: ± | AP29: =_xlfn.STDEV.S('Single data'!BH29:BK29)/SQRT(4) -> 1.3626053 | AQ29: =AVERAGE('Single data'!BL29:BO29) -> 5.4356819 | AR29: ± | AS29: =(_xlfn.STDEV.S('Single data'!BL29:BO29)/SQRT(4)) -> 0.46084595 | AT29: =AVERAGE('Single data'!BP29:BS29) -> 23.496136 | AU29: ± | AV29: =_xlfn.STDEV.S('Single data'!BP29:BS29)/SQRT(4) -> 4.8150875 | AW29: =AVERAGE('Single data'!BT29:BW29) -> 30.164616 | AX29: ± | AY29: =(_xlfn.STDEV.S('Single data'!BT29:BW29)/SQRT(4)) -> 23.30117 | AZ29: =AVERAGE('Single data'!BX29:CA29) -> 32.51543 | BA29: ± | BB29: =_xlfn.STDEV.S('Single data'!BX29:CA29)/SQRT(4) -> 16.068586 | BD29: =AVERAGE('Single data'!CG29:CR29) -> 1229.1873 | BE29: ± | BF29: =(_xlfn.STDEV.S('Single data'!CG29:CR29)/SQRT(12)) -> 207.28546 | BG29: =AVERAGE('Single data'!CS29:CW29) -> 534.17949 | BH29: ± | BI29: =(_xlfn.STDEV.S('Single data'!CS29:CW29)/SQRT(5)) -> 133.74882 | BJ29: =AVERAGE('Single data'!CX29:DB29) -> 324.24439 | BK29: ± | BL29: =(_xlfn.STDEV.S('Single data'!CX29:DB29)/SQRT(5)) -> 69.529988 | BM29: =AVERAGE('Single data'!DC29:DH29) -> 377.05419 | BN29: ± | BO29: =(_xlfn.STDEV.S('Single data'!DC29:DH29)/SQRT(6)) -> 79.407892 | BP29: =AVERAGE('Single data'!DI29:DN29) -> 161.40675 | BQ29: ± | BR29: =_xlfn.STDEV.S('Single data'!DI29:DN29)/SQRT(6) -> 18.259912 | BS29: =AVERAGE('Single data'!DO29:DS29) -> 421.60695 | BT29: ± | BU29: =(_xlfn.STDEV.S('Single data'!DI29:DN29)/SQRT(6)) -> 18.259912 | BV29: =AVERAGE('Single data'!DT29:DX29) -> 164.55855 | BW29: ± | BX29: =(_xlfn.STDEV.S('Single data'!DT29:DX29)/SQRT(5)) -> 24.222737 | BY29: =AVERAGE('Single data'!DY29:EC29) -> 415.98721 | BZ29: ± | CA29: =(_xlfn.STDEV.S('Single data'!DY29:EC29)/SQRT(5)) -> 99.932243 | CB29: =AVERAGE('Single data'!ED29:EH29) -> 198.72709 | CC29: ± | CD29: =(_xlfn.STDEV.S('Single data'!ED29:EH29)/SQRT(5)) -> 30.131493 | CE29: =AVERAGE('Single data'!EI29:EM29) -> 387.70187 | CF29: ± | CG29: =(_xlfn.STDEV.S('Single data'!EI29:EM29)/SQRT(5)) -> 85.561395 | CH29: =AVERAGE('Single data'!EN29:ER29) -> 168.35638 | CI29: ± | CJ29: =_xlfn.STDEV.S('Single data'!EN29:ER29)/SQRT(5) -> 27.428543 | CK29: =AVERAGE('Single data'!ES29:EW29) -> 391.61819 | CL29: ± | CM29: =(_xlfn.STDEV.S('Single data'!ES29:EW29)/SQRT(5)) -> 56.255892 | CN29: =AVERAGE('Single data'!EX29:FB29) -> 129.68661 | CO29: ± | CP29: =_xlfn.STDEV.S('Single data'!EX29:FB29)/SQRT(5) -> 11.976572 | CQ29: =AVERAGE('Single data'!FC29:FH29) -> 452.57051 | CR29: ± | CS29: =(_xlfn.STDEV.S('Single data'!FC29:FH29)/SQRT(6)) -> 80.840374 | CT29: =AVERAGE('Single data'!FI29:FN29) -> 205.91025 | CU29: ± | CV29: =_xlfn.STDEV.S('Single data'!FI29:FN29)/SQRT(6) -> 28.152598 | CW29: =AVERAGE('Single data'!FO29:FT29) -> 327.84022 | CX29: ± | CY29: =(_xlfn.STDEV.S('Single data'!FO29:FT29)/SQRT(6)) -> 82.008724 | CZ29: =AVERAGE('Single data'!FU29:FY29) -> 160.55937 | DA29: ± | DB29: =_xlfn.STDEV.S('Single data'!FU29:FY29)/SQRT(5) -> 31.894978
B30: PUFA | C30: AA | D30: =AVERAGE('Single data'!D30:O30) -> 102665.85 | E30: ± | F30: =(_xlfn.STDEV.S('Single data'!D30:O30)/SQRT(12)) -> 35322.407 | G30: =AVERAGE('Single data'!P30:S30) -> 127496.99 | H30: ± | I30: =(_xlfn.STDEV.S('Single data'!P30:S30)/SQRT(4)) -> 80926.726 | J30: =AVERAGE('Single data'!T30:W30) -> 145861.97 | K30: ± | L30: =(_xlfn.STDEV.S('Single data'!T30:W30)/SQRT(4)) -> 94832.142 | M30: =AVERAGE('Single data'!X30:AA30) -> 103038.18 | N30: ± | O30: =(_xlfn.STDEV.S('Single data'!X30:AA30)/SQRT(4)) -> 65854.596 | P30: =AVERAGE('Single data'!AB30:AE30) -> 365220.85 | Q30: ± | R30: {=_xlfn.STDEV.S('Single data'!AB30:AE30/SQRT(4))} -> 136536.95 | S30: =AVERAGE('Single data'!AF30:AI30) -> 45376.502 | T30: ± | U30: =(_xlfn.STDEV.S('Single data'!AF30:AI30)/SQRT(4)) -> 10726.025 | V30: =AVERAGE('Single data'!AJ30:AM30) -> 106681.48 | W30: ± | X30: =(_xlfn.STDEV.S('Single data'!AJ30:AM30)/SQRT(4)) -> 22733.721 | Y30: =AVERAGE('Single data'!AN30:AQ30) -> 115952.25 | Z30: ± | AA30: =(_xlfn.STDEV.S('Single data'!AN30:AQ30)/SQRT(4)) -> 61420.53 | AB30: =AVERAGE('Single data'!AR30:AU30) -> 378929.31 | AC30: ± | AD30: =(_xlfn.STDEV.S('Single data'!AR30:AU30)/SQRT(4)) -> 128623.88 | AE30: =AVERAGE('Single data'!AV30:AY30) -> 42542.914 | AF30: ± | AG30: =(_xlfn.STDEV.S('Single data'!AV30:AY30)/SQRT(4)) -> 6663.1248 | AH30: =AVERAGE('Single data'!AZ30:BC30) -> 222266.88 | AI30: ± | AJ30: =_xlfn.STDEV.S('Single data'!AZ30:BC30)/SQRT(4) -> 59021.206 | AK30: =AVERAGE('Single data'!BD30:BG30) -> 36664.822 | AL30: ± | AM30: =(_xlfn.STDEV.S('Single data'!BD30:BG30)/SQRT(4)) -> 13785.544 | AN30: =AVERAGE('Single data'!BH30:BK30) -> 108293.71 | AO30: ± | AP30: =_xlfn.STDEV.S('Single data'!BH30:BK30)/SQRT(4) -> 24060.305 | AQ30: =AVERAGE('Single data'!BL30:BO30) -> 43826.808 | AR30: ± | AS30: =(_xlfn.STDEV.S('Single data'!BL30:BO30)/SQRT(4)) -> 10455.075 | AT30: =AVERAGE('Single data'!BP30:BS30) -> 311150.67 | AU30: ± | AV30: =_xlfn.STDEV.S('Single data'!BP30:BS30)/SQRT(4) -> 59874.367 | AW30: =AVERAGE('Single data'!BT30:BW30) -> 106802.73 | AX30: ± | AY30: =(_xlfn.STDEV.S('Single data'!BT30:BW30)/SQRT(4)) -> 71220.713 | AZ30: =AVERAGE('Single data'!BX30:CA30) -> 451099.55 | BA30: ± | BB30: =_xlfn.STDEV.S('Single data'!BX30:CA30)/SQRT(4) -> 155145.97 | BD30: =AVERAGE('Single data'!CG30:CR30) -> 1498039.3 | BE30: ± | BF30: =(_xlfn.STDEV.S('Single data'!CG30:CR30)/SQRT(12)) -> 198701.77 | BG30: =AVERAGE('Single data'!CS30:CW30) -> 2295666.4 | BH30: ± | BI30: =(_xlfn.STDEV.S('Single data'!CS30:CW30)/SQRT(5)) -> 645033.31 | BJ30: =AVERAGE('Single data'!CX30:DB30) -> 2136541.4 | BK30: ± | BL30: =(_xlfn.STDEV.S('Single data'!CX30:DB30)/SQRT(5)) -> 593078.31 | BM30: =AVERAGE('Single data'!DC30:DH30) -> 2126721.3 | BN30: ± | BO30: =(_xlfn.STDEV.S('Single data'!DC30:DH30)/SQRT(6)) -> 472783.74 | BP30: =AVERAGE('Single data'!DI30:DN30) -> 1913858.8 | BQ30: ± | BR30: =_xlfn.STDEV.S('Single data'!DI30:DN30)/SQRT(6) -> 315313.74 | BS30: =AVERAGE('Single data'!DO30:DS30) -> 1625542.6 | BT30: ± | BU30: =(_xlfn.STDEV.S('Single data'!DI30:DN30)/SQRT(6)) -> 315313.74 | BV30: =AVERAGE('Single data'!DT30:DX30) -> 1321826.9 | BW30: ± | BX30: =(_xlfn.STDEV.S('Single data'!DT30:DX30)/SQRT(5)) -> 263094.92 | BY30: =AVERAGE('Single data'!DY30:EC30) -> 2040133.4 | BZ30: ± | CA30: =(_xlfn.STDEV.S('Single data'!DY30:EC30)/SQRT(5)) -> 690784.69 | CB30: =AVERAGE('Single data'!ED30:EH30) -> 1505867.3 | CC30: ± | CD30: =(_xlfn.STDEV.S('Single data'!ED30:EH30)/SQRT(5)) -> 571299.35 | CE30: =AVERAGE('Single data'!EI30:EM30) -> 2429966.5 | CF30: ± | CG30: =(_xlfn.STDEV.S('Single data'!EI30:EM30)/SQRT(5)) -> 800292.21 | CH30: =AVERAGE('Single data'!EN30:ER30) -> 1824733.1 | CI30: ± | CJ30: =_xlfn.STDEV.S('Single data'!EN30:ER30)/SQRT(5) -> 619436.8 | CK30: =AVERAGE('Single data'!ES30:EW30) -> 1554306.3 | CL30: ± | CM30: =(_xlfn.STDEV.S('Single data'!ES30:EW30)/SQRT(5)) -> 367289.32 | CN30: =AVERAGE('Single data'!EX30:FB30) -> 1340872.7 | CO30: ± | CP30: =_xlfn.STDEV.S('Single data'!EX30:FB30)/SQRT(5) -> 163797.46 | CQ30: =AVERAGE('Single data'!FC30:FH30) -> 2125147.2 | CR30: ± | CS30: =(_xlfn.STDEV.S('Single data'!FC30:FH30)/SQRT(6)) -> 409686.9 | CT30: =AVERAGE('Single data'!FI30:FN30) -> 1991778.4 | CU30: ± | CV30: =_xlfn.STDEV.S('Single data'!FI30:FN30)/SQRT(6) -> 389394.51 | CW30: =AVERAGE('Single data'!FO30:FT30) -> 2106701.4 | CX30: ± | CY30: =(_xlfn.STDEV.S('Single data'!FO30:FT30)/SQRT(6)) -> 408618.63 | CZ30: =AVERAGE('Single data'!FU30:FY30) -> 1938728.3 | DA30: ± | DB30: =_xlfn.STDEV.S('Single data'!FU30:FY30)/SQRT(5) -> 483450.36
C31: EPA | D31: =AVERAGE('Single data'!D31:O31) -> 12803.075 | E31: ± | F31: =(_xlfn.STDEV.S('Single data'!D31:O31)/SQRT(12)) -> 4899.0256 | G31: =AVERAGE('Single data'!P31:S31) -> 9086.7504 | H31: ± | I31: =(_xlfn.STDEV.S('Single data'!P31:S31)/SQRT(4)) -> 6839.2099 | J31: =AVERAGE('Single data'!T31:W31) -> 11602.062 | K31: ± | L31: =(_xlfn.STDEV.S('Single data'!T31:W31)/SQRT(4)) -> 6000.8623 | M31: =AVERAGE('Single data'!X31:AA31) -> 9173.9539 | N31: ± | O31: =(_xlfn.STDEV.S('Single data'!X31:AA31)/SQRT(4)) -> 6557.0516 | P31: =AVERAGE('Single data'!AB31:AE31) -> 29762.67 | Q31: ± | R31: {=_xlfn.STDEV.S('Single data'!AB31:AE31/SQRT(4))} -> 10432.574 | S31: =AVERAGE('Single data'!AF31:AI31) -> 2817.2708 | T31: ± | U31: =(_xlfn.STDEV.S('Single data'!AF31:AI31)/SQRT(4)) -> 460.60226 | V31: =AVERAGE('Single data'!AJ31:AM31) -> 7218.742 | W31: ± | X31: =(_xlfn.STDEV.S('Single data'!AJ31:AM31)/SQRT(4)) -> 455.73655 | Y31: =AVERAGE('Single data'!AN31:AQ31) -> 7764.095 | Z31: ± | AA31: =(_xlfn.STDEV.S('Single data'!AN31:AQ31)/SQRT(4)) -> 3886.9642 | AB31: =AVERAGE('Single data'!AR31:AU31) -> 36451.494 | AC31: ± | AD31: =(_xlfn.STDEV.S('Single data'!AR31:AU31)/SQRT(4)) -> 14445.091 | AE31: =AVERAGE('Single data'!AV31:AY31) -> 2976.7841 | AF31: ± | AG31: =(_xlfn.STDEV.S('Single data'!AV31:AY31)/SQRT(4)) -> 656.93568 | AH31: =AVERAGE('Single data'!AZ31:BC31) -> 25123.833 | AI31: ± | AJ31: =_xlfn.STDEV.S('Single data'!AZ31:BC31)/SQRT(4) -> 8784.8028 | AK31: =AVERAGE('Single data'!BD31:BG31) -> 2650.9627 | AL31: ± | AM31: =(_xlfn.STDEV.S('Single data'!BD31:BG31)/SQRT(4)) -> 889.38535 | AN31: =AVERAGE('Single data'!BH31:BK31) -> 8263.1978 | AO31: ± | AP31: =_xlfn.STDEV.S('Single data'!BH31:BK31)/SQRT(4) -> 1451.9025 | AQ31: =AVERAGE('Single data'!BL31:BO31) -> 3260.0763 | AR31: ± | AS31: =(_xlfn.STDEV.S('Single data'!BL31:BO31)/SQRT(4)) -> 668.45687 | AT31: =AVERAGE('Single data'!BP31:BS31) -> 25236.397 | AU31: ± | AV31: =_xlfn.STDEV.S('Single data'!BP31:BS31)/SQRT(4) -> 5310.3368 | AW31: =AVERAGE('Single data'!BT31:BW31) -> 7021.4994 | AX31: ± | AY31: =(_xlfn.STDEV.S('Single data'!BT31:BW31)/SQRT(4)) -> 4316.5867 | AZ31: =AVERAGE('Single data'!BX31:CA31) -> 33727.052 | BA31: ± | BB31: =_xlfn.STDEV.S('Single data'!BX31:CA31)/SQRT(4) -> 9932.759 | BD31: =AVERAGE('Single data'!CG31:CR31) -> 226035.63 | BE31: ± | BF31: =(_xlfn.STDEV.S('Single data'!CG31:CR31)/SQRT(12)) -> 39226.608 | BG31: =AVERAGE('Single data'!CS31:CW31) -> 287324.11 | BH31: ± | BI31: =(_xlfn.STDEV.S('Single data'!CS31:CW31)/SQRT(5)) -> 104822.87 | BJ31: =AVERAGE('Single data'!CX31:DB31) -> 262308.27 | BK31: ± | BL31: =(_xlfn.STDEV.S('Single data'!CX31:DB31)/SQRT(5)) -> 96998.944 | BM31: =AVERAGE('Single data'!DC31:DH31) -> 249466.42 | BN31: ± | BO31: =(_xlfn.STDEV.S('Single data'!DC31:DH31)/SQRT(6)) -> 78431.12 | BP31: =AVERAGE('Single data'!DI31:DN31) -> 206208.89 | BQ31: ± | BR31: =_xlfn.STDEV.S('Single data'!DI31:DN31)/SQRT(6) -> 55615.674 | BS31: =AVERAGE('Single data'!DO31:DS31) -> 152799.93 | BT31: ± | BU31: =(_xlfn.STDEV.S('Single data'!DI31:DN31)/SQRT(6)) -> 55615.674 | BV31: =AVERAGE('Single data'!DT31:DX31) -> 85210.133 | BW31: ± | BX31: =(_xlfn.STDEV.S('Single data'!DT31:DX31)/SQRT(5)) -> 13004.793 | BY31: =AVERAGE('Single data'!DY31:EC31) -> 248664.46 | BZ31: ± | CA31: =(_xlfn.STDEV.S('Single data'!DY31:EC31)/SQRT(5)) -> 118893.98 | CB31: =AVERAGE('Single data'!ED31:EH31) -> 177291.87 | CC31: ± | CD31: =(_xlfn.STDEV.S('Single data'!ED31:EH31)/SQRT(5)) -> 91319.403 | CE31: =AVERAGE('Single data'!EI31:EM31) -> 319593.46 | CF31: ± | CG31: =(_xlfn.STDEV.S('Single data'!EI31:EM31)/SQRT(5)) -> 158761.13 | CH31: =AVERAGE('Single data'!EN31:ER31) -> 215242.13 | CI31: ± | CJ31: =_xlfn.STDEV.S('Single data'!EN31:ER31)/SQRT(5) -> 105744.94 | CK31: =AVERAGE('Single data'!ES31:EW31) -> 145308.12 | CL31: ± | CM31: =(_xlfn.STDEV.S('Single data'!ES31:EW31)/SQRT(5)) -> 34655.47 | CN31: =AVERAGE('Single data'!EX31:FB31) -> 113284.89 | CO31: ± | CP31: =_xlfn.STDEV.S('Single data'!EX31:FB31)/SQRT(5) -> 13198.636 | CQ31: =AVERAGE('Single data'!FC31:FH31) -> 249651.89 | CR31: ± | CS31: =(_xlfn.STDEV.S('Single data'!FC31:FH31)/SQRT(6)) -> 64691.856 | CT31: =AVERAGE('Single data'!FI31:FN31) -> 219969.04 | CU31: ± | CV31: =_xlfn.STDEV.S('Single data'!FI31:FN31)/SQRT(6) -> 67432.247 | CW31: =AVERAGE('Single data'!FO31:FT31) -> 247328.51 | CX31: ± | CY31: =(_xlfn.STDEV.S('Single data'!FO31:FT31)/SQRT(6)) -> 65169.919 | CZ31: =AVERAGE('Single data'!FU31:FY31) -> 228072.54 | DA31: ± | DB31: =_xlfn.STDEV.S('Single data'!FU31:FY31)/SQRT(5) -> 80317.84
C32: DHA | D32: =AVERAGE('Single data'!D32:O32) -> 59004.163 | E32: ± | F32: =(_xlfn.STDEV.S('Single data'!D32:O32)/SQRT(12)) -> 18910.406 | G32: =AVERAGE('Single data'!P32:S32) -> 45996.003 | H32: ± | I32: =(_xlfn.STDEV.S('Single data'!P32:S32)/SQRT(4)) -> 32130.062 | J32: =AVERAGE('Single data'!T32:W32) -> 45261.677 | K32: ± | L32: =(_xlfn.STDEV.S('Single data'!T32:W32)/SQRT(4)) -> 32493.656 | M32: =AVERAGE('Single data'!X32:AA32) -> 38544.784 | N32: ± | O32: =(_xlfn.STDEV.S('Single data'!X32:AA32)/SQRT(4)) -> 25919.261 | P32: =AVERAGE('Single data'!AB32:AE32) -> 84468.955 | Q32: ± | R32: {=_xlfn.STDEV.S('Single data'!AB32:AE32/SQRT(4))} -> 28596.19 | S32: =AVERAGE('Single data'!AF32:AI32) -> 16824.323 | T32: ± | U32: =(_xlfn.STDEV.S('Single data'!AF32:AI32)/SQRT(4)) -> 4429.3269 | V32: =AVERAGE('Single data'!AJ32:AM32) -> 26260.283 | W32: ± | X32: =(_xlfn.STDEV.S('Single data'!AJ32:AM32)/SQRT(4)) -> 6201.2503 | Y32: =AVERAGE('Single data'!AN32:AQ32) -> 38595.181 | Z32: ± | AA32: =(_xlfn.STDEV.S('Single data'!AN32:AQ32)/SQRT(4)) -> 23560.826 | AB32: =AVERAGE('Single data'!AR32:AU32) -> 89196.46 | AC32: ± | AD32: =(_xlfn.STDEV.S('Single data'!AR32:AU32)/SQRT(4)) -> 31566.876 | AE32: =AVERAGE('Single data'!AV32:AY32) -> 14864.197 | AF32: ± | AG32: =(_xlfn.STDEV.S('Single data'!AV32:AY32)/SQRT(4)) -> 2846.5731 | AH32: =AVERAGE('Single data'!AZ32:BC32) -> 56708.409 | AI32: ± | AJ32: =_xlfn.STDEV.S('Single data'!AZ32:BC32)/SQRT(4) -> 16500.626 | AK32: =AVERAGE('Single data'!BD32:BG32) -> 13656.133 | AL32: ± | AM32: =(_xlfn.STDEV.S('Single data'!BD32:BG32)/SQRT(4)) -> 5443.9593 | AN32: =AVERAGE('Single data'!BH32:BK32) -> 24925.226 | AO32: ± | AP32: =_xlfn.STDEV.S('Single data'!BH32:BK32)/SQRT(4) -> 5782.3497 | AQ32: =AVERAGE('Single data'!BL32:BO32) -> 17639.611 | AR32: ± | AS32: =(_xlfn.STDEV.S('Single data'!BL32:BO32)/SQRT(4)) -> 6902.5209 | AT32: =AVERAGE('Single data'!BP32:BS32) -> 61075.58 | AU32: ± | AV32: =_xlfn.STDEV.S('Single data'!BP32:BS32)/SQRT(4) -> 11596.947 | AW32: =AVERAGE('Single data'!BT32:BW32) -> 39466.251 | AX32: ± | AY32: =(_xlfn.STDEV.S('Single data'!BT32:BW32)/SQRT(4)) -> 26567.884 | AZ32: =AVERAGE('Single data'!BX32:CA32) -> 109074.39 | BA32: ± | BB32: =_xlfn.STDEV.S('Single data'!BX32:CA32)/SQRT(4) -> 45067.378 | BD32: =AVERAGE('Single data'!CG32:CR32) -> 819876 | BE32: ± | BF32: =(_xlfn.STDEV.S('Single data'!CG32:CR32)/SQRT(12)) -> 97986.029 | BG32: =AVERAGE('Single data'!CS32:CW32) -> 950372.47 | BH32: ± | BI32: =(_xlfn.STDEV.S('Single data'!CS32:CW32)/SQRT(5)) -> 257575.4 | BJ32: =AVERAGE('Single data'!CX32:DB32) -> 812448.97 | BK32: ± | BL32: =(_xlfn.STDEV.S('Single data'!CX32:DB32)/SQRT(5)) -> 231622.73 | BM32: =AVERAGE('Single data'!DC32:DH32) -> 794379.7 | BN32: ± | BO32: =(_xlfn.STDEV.S('Single data'!DC32:DH32)/SQRT(6)) -> 192054.39 | BP32: =AVERAGE('Single data'!DI32:DN32) -> 585232.25 | BQ32: ± | BR32: =_xlfn.STDEV.S('Single data'!DI32:DN32)/SQRT(6) -> 108312.97 | BS32: =AVERAGE('Single data'!DO32:DS32) -> 667070.28 | BT32: ± | BU32: =(_xlfn.STDEV.S('Single data'!DI32:DN32)/SQRT(6)) -> 108312.97 | BV32: =AVERAGE('Single data'!DT32:DX32) -> 467167.14 | BW32: ± | BX32: =(_xlfn.STDEV.S('Single data'!DT32:DX32)/SQRT(5)) -> 113901.5 | BY32: =AVERAGE('Single data'!DY32:EC32) -> 783092.58 | BZ32: ± | CA32: =(_xlfn.STDEV.S('Single data'!DY32:EC32)/SQRT(5)) -> 252061.75 | CB32: =AVERAGE('Single data'!ED32:EH32) -> 531195.01 | CC32: ± | CD32: =(_xlfn.STDEV.S('Single data'!ED32:EH32)/SQRT(5)) -> 220627.62 | CE32: =AVERAGE('Single data'!EI32:EM32) -> 973484.87 | CF32: ± | CG32: =(_xlfn.STDEV.S('Single data'!EI32:EM32)/SQRT(5)) -> 325979.94 | CH32: =AVERAGE('Single data'!EN32:ER32) -> 684148.98 | CI32: ± | CJ32: =_xlfn.STDEV.S('Single data'!EN32:ER32)/SQRT(5) -> 239881.86 | CK32: =AVERAGE('Single data'!ES32:EW32) -> 631595.7 | CL32: ± | CM32: =(_xlfn.STDEV.S('Single data'!ES32:EW32)/SQRT(5)) -> 159016.44 | CN32: =AVERAGE('Single data'!EX32:FB32) -> 507669.83 | CO32: ± | CP32: =_xlfn.STDEV.S('Single data'!EX32:FB32)/SQRT(5) -> 81143.359 | CQ32: =AVERAGE('Single data'!FC32:FH32) -> 837307.22 | CR32: ± | CS32: =(_xlfn.STDEV.S('Single data'!FC32:FH32)/SQRT(6)) -> 170495.9 | CT32: =AVERAGE('Single data'!FI32:FN32) -> 702616.26 | CU32: ± | CV32: =_xlfn.STDEV.S('Single data'!FI32:FN32)/SQRT(6) -> 138611.22 | CW32: =AVERAGE('Single data'!FO32:FT32) -> 845729.45 | CX32: ± | CY32: =(_xlfn.STDEV.S('Single data'!FO32:FT32)/SQRT(6)) -> 168235.77 | CZ32: =AVERAGE('Single data'!FU32:FY32) -> 706754.96 | DA32: ± | DB32: =_xlfn.STDEV.S('Single data'!FU32:FY32)/SQRT(5) -> 182263.91
C33: DPA | D33: =AVERAGE('Single data'!D33:O33) -> 1016.5887 | E33: ± | F33: =(_xlfn.STDEV.S('Single data'!D33:O33)/SQRT(12)) -> 326.29463 | G33: =AVERAGE('Single data'!P33:S33) -> 602.54092 | H33: ± | I33: =(_xlfn.STDEV.S('Single data'!P33:S33)/SQRT(4)) -> 295.21097 | J33: =AVERAGE('Single data'!T33:W33) -> 699.4989 | K33: ± | L33: =(_xlfn.STDEV.S('Single data'!T33:W33)/SQRT(4)) -> 457.91095 | M33: =AVERAGE('Single data'!X33:AA33) -> 465.43217 | N33: ± | O33: =(_xlfn.STDEV.S('Single data'!X33:AA33)/SQRT(4)) -> 244.10683 | P33: =AVERAGE('Single data'!AB33:AE33) -> 1729.7573 | Q33: ± | R33: {=_xlfn.STDEV.S('Single data'!AB33:AE33/SQRT(4))} -> 629.91461 | S33: =AVERAGE('Single data'!AF33:AI33) -> 322.95813 | T33: ± | U33: =(_xlfn.STDEV.S('Single data'!AF33:AI33)/SQRT(4)) -> 99.206349 | V33: =AVERAGE('Single data'!AJ33:AM33) -> 479.60487 | W33: ± | X33: =(_xlfn.STDEV.S('Single data'!AJ33:AM33)/SQRT(4)) -> 147.64082 | Y33: =AVERAGE('Single data'!AN33:AQ33) -> 572.71761 | Z33: ± | AA33: =(_xlfn.STDEV.S('Single data'!AN33:AQ33)/SQRT(4)) -> 310.64718 | AB33: =AVERAGE('Single data'!AR33:AU33) -> 1601.382 | AC33: ± | AD33: =(_xlfn.STDEV.S('Single data'!AR33:AU33)/SQRT(4)) -> 547.88508 | AE33: =AVERAGE('Single data'!AV33:AY33) -> 248.00939 | AF33: ± | AG33: =(_xlfn.STDEV.S('Single data'!AV33:AY33)/SQRT(4)) -> 55.501243 | AH33: =AVERAGE('Single data'!AZ33:BC33) -> 899.62963 | AI33: ± | AJ33: =_xlfn.STDEV.S('Single data'!AZ33:BC33)/SQRT(4) -> 241.35631 | AK33: =AVERAGE('Single data'!BD33:BG33) -> 278.23144 | AL33: ± | AM33: =(_xlfn.STDEV.S('Single data'!BD33:BG33)/SQRT(4)) -> 124.79237 | AN33: =AVERAGE('Single data'!BH33:BK33) -> 481.00985 | AO33: ± | AP33: =_xlfn.STDEV.S('Single data'!BH33:BK33)/SQRT(4) -> 147.64876 | AQ33: =AVERAGE('Single data'!BL33:BO33) -> 298.94637 | AR33: ± | AS33: =(_xlfn.STDEV.S('Single data'!BL33:BO33)/SQRT(4)) -> 100.03417 | AT33: =AVERAGE('Single data'!BP33:BS33) -> 1212.0813 | AU33: ± | AV33: =_xlfn.STDEV.S('Single data'!BP33:BS33)/SQRT(4) -> 263.46416 | AW33: =AVERAGE('Single data'!BT33:BW33) -> 526.32547 | AX33: ± | AY33: =(_xlfn.STDEV.S('Single data'!BT33:BW33)/SQRT(4)) -> 308.25372 | AZ33: =AVERAGE('Single data'!BX33:CA33) -> 2412.4997 | BA33: ± | BB33: =_xlfn.STDEV.S('Single data'!BX33:CA33)/SQRT(4) -> 1042.787 | BD33: =AVERAGE('Single data'!CG33:CR33) -> 21731.308 | BE33: ± | BF33: =(_xlfn.STDEV.S('Single data'!CG33:CR33)/SQRT(12)) -> 2906.473 | BG33: =AVERAGE('Single data'!CS33:CW33) -> 25985.349 | BH33: ± | BI33: =(_xlfn.STDEV.S('Single data'!CS33:CW33)/SQRT(5)) -> 6951.6647 | BJ33: =AVERAGE('Single data'!CX33:DB33) -> 24636.863 | BK33: ± | BL33: =(_xlfn.STDEV.S('Single data'!CX33:DB33)/SQRT(5)) -> 8816.6869 | BM33: =AVERAGE('Single data'!DC33:DH33) -> 23454.505 | BN33: ± | BO33: =(_xlfn.STDEV.S('Single data'!DC33:DH33)/SQRT(6)) -> 8293.9695 | BP33: =AVERAGE('Single data'!DI33:DN33) -> 16217.819 | BQ33: ± | BR33: =_xlfn.STDEV.S('Single data'!DI33:DN33)/SQRT(6) -> 4470.2167 | BS33: =AVERAGE('Single data'!DO33:DS33) -> 19126.276 | BT33: ± | BU33: =(_xlfn.STDEV.S('Single data'!DI33:DN33)/SQRT(6)) -> 4470.2167 | BV33: =AVERAGE('Single data'!DT33:DX33) -> 12293.019 | BW33: ± | BX33: =(_xlfn.STDEV.S('Single data'!DT33:DX33)/SQRT(5)) -> 3394.8581 | BY33: =AVERAGE('Single data'!DY33:EC33) -> 22359.862 | BZ33: ± | CA33: =(_xlfn.STDEV.S('Single data'!DY33:EC33)/SQRT(5)) -> 6822.0539 | CB33: =AVERAGE('Single data'!ED33:EH33) -> 16006.375 | CC33: ± | CD33: =(_xlfn.STDEV.S('Single data'!ED33:EH33)/SQRT(5)) -> 8919.1136 | CE33: =AVERAGE('Single data'!EI33:EM33) -> 27371.458 | CF33: ± | CG33: =(_xlfn.STDEV.S('Single data'!EI33:EM33)/SQRT(5)) -> 8925.5858 | CH33: =AVERAGE('Single data'!EN33:ER33) -> 20412.667 | CI33: ± | CJ33: =_xlfn.STDEV.S('Single data'!EN33:ER33)/SQRT(5) -> 8364.5938 | CK33: =AVERAGE('Single data'!ES33:EW33) -> 16636.741 | CL33: ± | CM33: =(_xlfn.STDEV.S('Single data'!ES33:EW33)/SQRT(5)) -> 5168.7185 | CN33: =AVERAGE('Single data'!EX33:FB33) -> 13119.404 | CO33: ± | CP33: =_xlfn.STDEV.S('Single data'!EX33:FB33)/SQRT(5) -> 2592.2469 | CQ33: =AVERAGE('Single data'!FC33:FH33) -> 24292.004 | CR33: ± | CS33: =(_xlfn.STDEV.S('Single data'!FC33:FH33)/SQRT(6)) -> 6300.2586 | CT33: =AVERAGE('Single data'!FI33:FN33) -> 20313.189 | CU33: ± | CV33: =_xlfn.STDEV.S('Single data'!FI33:FN33)/SQRT(6) -> 5060.6542 | CW33: =AVERAGE('Single data'!FO33:FT33) -> 21429.925 | CX33: ± | CY33: =(_xlfn.STDEV.S('Single data'!FO33:FT33)/SQRT(6)) -> 5340.3872 | CZ33: =AVERAGE('Single data'!FU33:FY33) -> 18091.702 | DA33: ± | DB33: =_xlfn.STDEV.S('Single data'!FU33:FY33)/SQRT(5) -> 6057.425
B34: PTGS | C34: PGE2 | D34: =AVERAGE('Single data'!D34:O34) -> 240829.26 | E34: ± | F34: =(_xlfn.STDEV.S('Single data'!D34:O34)/SQRT(12)) -> 186177.58 | G34: =AVERAGE('Single data'!P34:S34) -> 55.718236 | H34: ± | I34: =(_xlfn.STDEV.S('Single data'!P34:S34)/SQRT(4)) -> 37.11278 | J34: =AVERAGE('Single data'!T34:W34) -> 77.185507 | K34: ± | L34: =(_xlfn.STDEV.S('Single data'!T34:W34)/SQRT(4)) -> 53.505934 | M34: =AVERAGE('Single data'!X34:AA34) -> 82.818959 | N34: ± | O34: =(_xlfn.STDEV.S('Single data'!X34:AA34)/SQRT(4)) -> 63.598509 | P34: =AVERAGE('Single data'!AB34:AE34) -> 271.62633 | Q34: ± | R34: {=_xlfn.STDEV.S('Single data'!AB34:AE34/SQRT(4))} -> 216.08864 | S34: =AVERAGE('Single data'!AF34:AI34) -> 26.588023 | T34: ± | U34: =(_xlfn.STDEV.S('Single data'!AF34:AI34)/SQRT(4)) -> 6.7291054 | V34: =AVERAGE('Single data'!AJ34:AM34) -> 53.943141 | W34: ± | X34: =(_xlfn.STDEV.S('Single data'!AJ34:AM34)/SQRT(4)) -> 19.416942 | Y34: =AVERAGE('Single data'!AN34:AQ34) -> 90.478792 | Z34: ± | AA34: =(_xlfn.STDEV.S('Single data'!AN34:AQ34)/SQRT(4)) -> 54.695089 | AB34: =AVERAGE('Single data'!AR34:AU34) -> 214.82062 | AC34: ± | AD34: =(_xlfn.STDEV.S('Single data'!AR34:AU34)/SQRT(4)) -> 99.697911 | AE34: =AVERAGE('Single data'!AV34:AY34) -> 33.579006 | AF34: ± | AG34: =(_xlfn.STDEV.S('Single data'!AV34:AY34)/SQRT(4)) -> 10.805407 | AH34: =AVERAGE('Single data'!AZ34:BC34) -> 77.096349 | AI34: ± | AJ34: =_xlfn.STDEV.S('Single data'!AZ34:BC34)/SQRT(4) -> 16.545943 | AK34: =AVERAGE('Single data'!BD34:BG34) -> 27.895266 | AL34: ± | AM34: =(_xlfn.STDEV.S('Single data'!BD34:BG34)/SQRT(4)) -> 6.8325769 | AN34: =AVERAGE('Single data'!BH34:BK34) -> 83.030659 | AO34: ± | AP34: =_xlfn.STDEV.S('Single data'!BH34:BK34)/SQRT(4) -> 23.978573 | AQ34: =AVERAGE('Single data'!BL34:BO34) -> 14.770222 | AR34: ± | AS34: =(_xlfn.STDEV.S('Single data'!BL34:BO34)/SQRT(4)) -> 3.9813194 | AT34: =AVERAGE('Single data'!BP34:BS34) -> 42.756301 | AU34: ± | AV34: =_xlfn.STDEV.S('Single data'!BP34:BS34)/SQRT(4) -> 15.089276 | AW34: =AVERAGE('Single data'!BT34:BW34) -> 46.784794 | AX34: ± | AY34: =(_xlfn.STDEV.S('Single data'!BT34:BW34)/SQRT(4)) -> 33.669622 | AZ34: =AVERAGE('Single data'!BX34:CA34) -> 72.83477 | BA34: ± | BB34: =_xlfn.STDEV.S('Single data'!BX34:CA34)/SQRT(4) -> 30.811262 | BD34: =AVERAGE('Single data'!CG34:CR34) -> 799337.09 | BE34: ± | BF34: =(_xlfn.STDEV.S('Single data'!CG34:CR34)/SQRT(12)) -> 439386.21 | BG34: =AVERAGE('Single data'!CS34:CW34) -> 434.34294 | BH34: ± | BI34: =(_xlfn.STDEV.S('Single data'!CS34:CW34)/SQRT(5)) -> 49.622945 | BJ34: =AVERAGE('Single data'!CX34:DB34) -> 572.61154 | BK34: ± | BL34: =(_xlfn.STDEV.S('Single data'!CX34:DB34)/SQRT(5)) -> 71.463677 | BM34: =AVERAGE('Single data'!DC34:DH34) -> 727.42336 | BN34: ± | BO34: =(_xlfn.STDEV.S('Single data'!DC34:DH34)/SQRT(6)) -> 40.302833 | BP34: =AVERAGE('Single data'!DI34:DN34) -> 2283.291 | BQ34: ± | BR34: =_xlfn.STDEV.S('Single data'!DI34:DN34)/SQRT(6) -> 145.19206 | BS34: =AVERAGE('Single data'!DO34:DS34) -> 632.44767 | BT34: ± | BU34: =(_xlfn.STDEV.S('Single data'!DI34:DN34)/SQRT(6)) -> 145.19206 | BV34: =AVERAGE('Single data'!DT34:DX34) -> 2082.9183 | BW34: ± | BX34: =(_xlfn.STDEV.S('Single data'!DT34:DX34)/SQRT(5)) -> 309.20961 | BY34: =AVERAGE('Single data'!DY34:EC34) -> 830.27781 | BZ34: ± | CA34: =(_xlfn.STDEV.S('Single data'!DY34:EC34)/SQRT(5)) -> 129.86353 | CB34: =AVERAGE('Single data'!ED34:EH34) -> 1971.0943 | CC34: ± | CD34: =(_xlfn.STDEV.S('Single data'!ED34:EH34)/SQRT(5)) -> 323.94613 | CE34: =AVERAGE('Single data'!EI34:EM34) -> 956.25205 | CF34: ± | CG34: =(_xlfn.STDEV.S('Single data'!EI34:EM34)/SQRT(5)) -> 151.89922 | CH34: =AVERAGE('Single data'!EN34:ER34) -> 2522.702 | CI34: ± | CJ34: =_xlfn.STDEV.S('Single data'!EN34:ER34)/SQRT(5) -> 457.60091 | CK34: =AVERAGE('Single data'!ES34:EW34) -> 607.90425 | CL34: ± | CM34: =(_xlfn.STDEV.S('Single data'!ES34:EW34)/SQRT(5)) -> 62.134615 | CN34: =AVERAGE('Single data'!EX34:FB34) -> 2659.1301 | CO34: ± | CP34: =_xlfn.STDEV.S('Single data'!EX34:FB34)/SQRT(5) -> 207.60334 | CQ34: =AVERAGE('Single data'!FC34:FH34) -> 404.85299 | CR34: ± | CS34: =(_xlfn.STDEV.S('Single data'!FC34:FH34)/SQRT(6)) -> 15.514316 | CT34: =AVERAGE('Single data'!FI34:FN34) -> 357.26345 | CU34: ± | CV34: =_xlfn.STDEV.S('Single data'!FI34:FN34)/SQRT(6) -> 30.399476 | CW34: =AVERAGE('Single data'!FO34:FT34) -> 420.01846 | CX34: ± | CY34: =(_xlfn.STDEV.S('Single data'!FO34:FT34)/SQRT(6)) -> 35.584136 | CZ34: =AVERAGE('Single data'!FU34:FY34) -> 400.7972 | DA34: ± | DB34: =_xlfn.STDEV.S('Single data'!FU34:FY34)/SQRT(5) -> 57.61766
C35: 15-ketoPGE2 | D35: =AVERAGE('Single data'!D35:O35) -> 45.779674 | E35: ± | F35: =(_xlfn.STDEV.S('Single data'!D35:O35)/SQRT(12)) -> 17.202795 | G35: =AVERAGE('Single data'!P35:S35) -> 20.788258 | H35: ± | I35: =(_xlfn.STDEV.S('Single data'!P35:S35)/SQRT(4)) -> 6.6204424 | J35: =AVERAGE('Single data'!T35:W35) -> 21.936815 | K35: ± | L35: =(_xlfn.STDEV.S('Single data'!T35:W35)/SQRT(4)) -> 9.4290647 | M35: =AVERAGE('Single data'!X35:AA35) -> 18.993058 | N35: ± | O35: =(_xlfn.STDEV.S('Single data'!X35:AA35)/SQRT(4)) -> 9.5546475 | P35: =AVERAGE('Single data'!AB35:AE35) -> 41.919402 | Q35: ± | R35: {=_xlfn.STDEV.S('Single data'!AB35:AE35/SQRT(4))} -> 25.626315 | S35: =AVERAGE('Single data'!AF35:AI35) -> 13.310477 | T35: ± | U35: =(_xlfn.STDEV.S('Single data'!AF35:AI35)/SQRT(4)) -> 3.2027249 | V35: =AVERAGE('Single data'!AJ35:AM35) -> 12.603799 | W35: ± | X35: =(_xlfn.STDEV.S('Single data'!AJ35:AM35)/SQRT(4)) -> 3.6242971 | Y35: =AVERAGE('Single data'!AN35:AQ35) -> 27.438325 | Z35: ± | AA35: =(_xlfn.STDEV.S('Single data'!AN35:AQ35)/SQRT(4)) -> 10.450163 | AB35: =AVERAGE('Single data'!AR35:AU35) -> 32.611907 | AC35: ± | AD35: =(_xlfn.STDEV.S('Single data'!AR35:AU35)/SQRT(4)) -> 10.381775 | AE35: =AVERAGE('Single data'!AV35:AY35) -> 11.982681 | AF35: ± | AG35: =(_xlfn.STDEV.S('Single data'!AV35:AY35)/SQRT(4)) -> 2.1739579 | AH35: =AVERAGE('Single data'!AZ35:BC35) -> 22.998481 | AI35: ± | AJ35: =_xlfn.STDEV.S('Single data'!AZ35:BC35)/SQRT(4) -> 3.701157 | AK35: =AVERAGE('Single data'!BD35:BG35) -> 14.695761 | AL35: ± | AM35: =(_xlfn.STDEV.S('Single data'!BD35:BG35)/SQRT(4)) -> 4.6091205 | AN35: =AVERAGE('Single data'!BH35:BK35) -> 17.574109 | AO35: ± | AP35: =_xlfn.STDEV.S('Single data'!BH35:BK35)/SQRT(4) -> 6.7208564 | AQ35: =AVERAGE('Single data'!BL35:BO35) -> 9.9137343 | AR35: ± | AS35: =(_xlfn.STDEV.S('Single data'!BL35:BO35)/SQRT(4)) -> 0.64628667 | AT35: =AVERAGE('Single data'!BP35:BS35) -> 8.6123016 | AU35: ± | AV35: =_xlfn.STDEV.S('Single data'!BP35:BS35)/SQRT(4) -> 2.0960632 | AW35: =AVERAGE('Single data'!BT35:BW35) -> 16.638122 | AX35: ± | AY35: =(_xlfn.STDEV.S('Single data'!BT35:BW35)/SQRT(4)) -> 8.1302939 | AZ35: =AVERAGE('Single data'!BX35:CA35) -> 21.63234 | BA35: ± | BB35: =_xlfn.STDEV.S('Single data'!BX35:CA35)/SQRT(4) -> 8.8673005 | BD35: =AVERAGE('Single data'!CG35:CR35) -> 305.60314 | BE35: ± | BF35: =(_xlfn.STDEV.S('Single data'!CG35:CR35)/SQRT(12)) -> 37.210478 | BG35: =AVERAGE('Single data'!CS35:CW35) -> 156.54292 | BH35: ± | BI35: =(_xlfn.STDEV.S('Single data'!CS35:CW35)/SQRT(5)) -> 21.585806 | BJ35: =AVERAGE('Single data'!CX35:DB35) -> 214.40676 | BK35: ± | BL35: =(_xlfn.STDEV.S('Single data'!CX35:DB35)/SQRT(5)) -> 32.089888 | BM35: =AVERAGE('Single data'!DC35:DH35) -> 250.25125 | BN35: ± | BO35: =(_xlfn.STDEV.S('Single data'!DC35:DH35)/SQRT(6)) -> 38.499834 | BP35: =AVERAGE('Single data'!DI35:DN35) -> 678.3477 | BQ35: ± | BR35: =_xlfn.STDEV.S('Single data'!DI35:DN35)/SQRT(6) -> 154.44009 | BS35: =AVERAGE('Single data'!DO35:DS35) -> 227.60047 | BT35: ± | BU35: =(_xlfn.STDEV.S('Single data'!DI35:DN35)/SQRT(6)) -> 154.44009 | BV35: =AVERAGE('Single data'!DT35:DX35) -> 502.58209 | BW35: ± | BX35: =(_xlfn.STDEV.S('Single data'!DT35:DX35)/SQRT(5)) -> 44.40275 | BY35: =AVERAGE('Single data'!DY35:EC35) -> 263.78911 | BZ35: ± | CA35: =(_xlfn.STDEV.S('Single data'!DY35:EC35)/SQRT(5)) -> 24.826158 | CB35: =AVERAGE('Single data'!ED35:EH35) -> 442.82047 | CC35: ± | CD35: =(_xlfn.STDEV.S('Single data'!ED35:EH35)/SQRT(5)) -> 62.344044 | CE35: =AVERAGE('Single data'!EI35:EM35) -> 322.68142 | CF35: ± | CG35: =(_xlfn.STDEV.S('Single data'!EI35:EM35)/SQRT(5)) -> 26.653959 | CH35: =AVERAGE('Single data'!EN35:ER35) -> 557.83943 | CI35: ± | CJ35: =_xlfn.STDEV.S('Single data'!EN35:ER35)/SQRT(5) -> 72.183755 | CK35: =AVERAGE('Single data'!ES35:EW35) -> 228.96229 | CL35: ± | CM35: =(_xlfn.STDEV.S('Single data'!ES35:EW35)/SQRT(5)) -> 26.129557 | CN35: =AVERAGE('Single data'!EX35:FB35) -> 694.17917 | CO35: ± | CP35: =_xlfn.STDEV.S('Single data'!EX35:FB35)/SQRT(5) -> 48.674259 | CQ35: =AVERAGE('Single data'!FC35:FH35) -> 178.22064 | CR35: ± | CS35: =(_xlfn.STDEV.S('Single data'!FC35:FH35)/SQRT(6)) -> 19.668873 | CT35: =AVERAGE('Single data'!FI35:FN35) -> 133.69537 | CU35: ± | CV35: =_xlfn.STDEV.S('Single data'!FI35:FN35)/SQRT(6) -> 19.506303 | CW35: =AVERAGE('Single data'!FO35:FT35) -> 161.06816 | CX35: ± | CY35: =(_xlfn.STDEV.S('Single data'!FO35:FT35)/SQRT(6)) -> 18.466667 | CZ35: =AVERAGE('Single data'!FU35:FY35) -> 149.03137 | DA35: ± | DB35: =_xlfn.STDEV.S('Single data'!FU35:FY35)/SQRT(5) -> 20.064231
C36: PGD2 | D36: =AVERAGE('Single data'!D36:O36) -> 37.013534 | E36: ± | F36: =(_xlfn.STDEV.S('Single data'!D36:O36)/SQRT(12)) -> 13.060304 | G36: =AVERAGE('Single data'!P36:S36) -> 17.456536 | H36: ± | I36: =(_xlfn.STDEV.S('Single data'!P36:S36)/SQRT(4)) -> 8.9597749 | J36: =AVERAGE('Single data'!T36:W36) -> 23.934775 | K36: ± | L36: =(_xlfn.STDEV.S('Single data'!T36:W36)/SQRT(4)) -> 12.774154 | M36: =AVERAGE('Single data'!X36:AA36) -> 21.287707 | N36: ± | O36: =(_xlfn.STDEV.S('Single data'!X36:AA36)/SQRT(4)) -> 12.836802 | P36: =AVERAGE('Single data'!AB36:AE36) -> 68.786566 | Q36: ± | R36: {=_xlfn.STDEV.S('Single data'!AB36:AE36/SQRT(4))} -> 48.658024 | S36: =AVERAGE('Single data'!AF36:AI36) -> 12.145232 | T36: ± | U36: =(_xlfn.STDEV.S('Single data'!AF36:AI36)/SQRT(4)) -> 2.9075492 | V36: =AVERAGE('Single data'!AJ36:AM36) -> 20.037592 | W36: ± | X36: =(_xlfn.STDEV.S('Single data'!AJ36:AM36)/SQRT(4)) -> 4.0113136 | Y36: =AVERAGE('Single data'!AN36:AQ36) -> 29.216734 | Z36: ± | AA36: =(_xlfn.STDEV.S('Single data'!AN36:AQ36)/SQRT(4)) -> 14.02437 | AB36: =AVERAGE('Single data'!AR36:AU36) -> 64.945855 | AC36: ± | AD36: =(_xlfn.STDEV.S('Single data'!AR36:AU36)/SQRT(4)) -> 20.497561 | AE36: =AVERAGE('Single data'!AV36:AY36) -> 15.805087 | AF36: ± | AG36: =(_xlfn.STDEV.S('Single data'!AV36:AY36)/SQRT(4)) -> 4.0391154 | AH36: =AVERAGE('Single data'!AZ36:BC36) -> 30.392984 | AI36: ± | AJ36: =_xlfn.STDEV.S('Single data'!AZ36:BC36)/SQRT(4) -> 5.3281172 | AK36: =AVERAGE('Single data'!BD36:BG36) -> 14.7671 | AL36: ± | AM36: =(_xlfn.STDEV.S('Single data'!BD36:BG36)/SQRT(4)) -> 3.3395855 | AN36: =AVERAGE('Single data'!BH36:BK36) -> 30.173715 | AO36: ± | AP36: =_xlfn.STDEV.S('Single data'!BH36:BK36)/SQRT(4) -> 8.427768 | AQ36: =AVERAGE('Single data'!BL36:BO36) -> 7.1707899 | AR36: ± | AS36: =(_xlfn.STDEV.S('Single data'!BL36:BO36)/SQRT(4)) -> 0.46194695 | AT36: =AVERAGE('Single data'!BP36:BS36) -> 17.386248 | AU36: ± | AV36: =_xlfn.STDEV.S('Single data'!BP36:BS36)/SQRT(4) -> 3.1981643 | AW36: =AVERAGE('Single data'!BT36:BW36) -> 16.535592 | AX36: ± | AY36: =(_xlfn.STDEV.S('Single data'!BT36:BW36)/SQRT(4)) -> 8.9778663 | AZ36: =AVERAGE('Single data'!BX36:CA36) -> 24.824184 | BA36: ± | BB36: =_xlfn.STDEV.S('Single data'!BX36:CA36)/SQRT(4) -> 8.4946665 | BD36: =AVERAGE('Single data'!CG36:CR36) -> 161.9682 | BE36: ± | BF36: =(_xlfn.STDEV.S('Single data'!CG36:CR36)/SQRT(12)) -> 11.895641 | BG36: =AVERAGE('Single data'!CS36:CW36) -> 137.27247 | BH36: ± | BI36: =(_xlfn.STDEV.S('Single data'!CS36:CW36)/SQRT(5)) -> 18.860295 | BJ36: =AVERAGE('Single data'!CX36:DB36) -> 157.41507 | BK36: ± | BL36: =(_xlfn.STDEV.S('Single data'!CX36:DB36)/SQRT(5)) -> 16.684506 | BM36: =AVERAGE('Single data'!DC36:DH36) -> 239.34412 | BN36: ± | BO36: =(_xlfn.STDEV.S('Single data'!DC36:DH36)/SQRT(6)) -> 29.787032 | BP36: =AVERAGE('Single data'!DI36:DN36) -> 610.67131 | BQ36: ± | BR36: =_xlfn.STDEV.S('Single data'!DI36:DN36)/SQRT(6) -> 79.488264 | BS36: =AVERAGE('Single data'!DO36:DS36) -> 192.9031 | BT36: ± | BU36: =(_xlfn.STDEV.S('Single data'!DI36:DN36)/SQRT(6)) -> 79.488264 | BV36: =AVERAGE('Single data'!DT36:DX36) -> 561.61697 | BW36: ± | BX36: =(_xlfn.STDEV.S('Single data'!DT36:DX36)/SQRT(5)) -> 80.068289 | BY36: =AVERAGE('Single data'!DY36:EC36) -> 229.18439 | BZ36: ± | CA36: =(_xlfn.STDEV.S('Single data'!DY36:EC36)/SQRT(5)) -> 30.766902 | CB36: =AVERAGE('Single data'!ED36:EH36) -> 564.61049 | CC36: ± | CD36: =(_xlfn.STDEV.S('Single data'!ED36:EH36)/SQRT(5)) -> 104.08328 | CE36: =AVERAGE('Single data'!EI36:EM36) -> 279.58282 | CF36: ± | CG36: =(_xlfn.STDEV.S('Single data'!EI36:EM36)/SQRT(5)) -> 41.453204 | CH36: =AVERAGE('Single data'!EN36:ER36) -> 618.08576 | CI36: ± | CJ36: =_xlfn.STDEV.S('Single data'!EN36:ER36)/SQRT(5) -> 98.627834 | CK36: =AVERAGE('Single data'!ES36:EW36) -> 173.58745 | CL36: ± | CM36: =(_xlfn.STDEV.S('Single data'!ES36:EW36)/SQRT(5)) -> 13.805065 | CN36: =AVERAGE('Single data'!EX36:FB36) -> 808.71206 | CO36: ± | CP36: =_xlfn.STDEV.S('Single data'!EX36:FB36)/SQRT(5) -> 110.04396 | CQ36: =AVERAGE('Single data'!FC36:FH36) -> 148.05222 | CR36: ± | CS36: =(_xlfn.STDEV.S('Single data'!FC36:FH36)/SQRT(6)) -> 16.863708 | CT36: =AVERAGE('Single data'!FI36:FN36) -> 200.38951 | CU36: ± | CV36: =_xlfn.STDEV.S('Single data'!FI36:FN36)/SQRT(6) -> 60.831405 | CW36: =AVERAGE('Single data'!FO36:FT36) -> 154.13641 | CX36: ± | CY36: =(_xlfn.STDEV.S('Single data'!FO36:FT36)/SQRT(6)) -> 17.756922 | CZ36: =AVERAGE('Single data'!FU36:FY36) -> 162.72693 | DA36: ± | DB36: =_xlfn.STDEV.S('Single data'!FU36:FY36)/SQRT(5) -> 25.382726
C37: PGF2α | D37: =AVERAGE('Single data'!D37:O37) -> 45.356982 | E37: ± | F37: =(_xlfn.STDEV.S('Single data'!D37:O37)/SQRT(12)) -> 22.547382 | G37: =AVERAGE('Single data'!P37:S37) -> 39.689863 | H37: ± | I37: =(_xlfn.STDEV.S('Single data'!P37:S37)/SQRT(4)) -> 29.436649 | J37: =AVERAGE('Single data'!T37:W37) -> 40.98492 | K37: ± | L37: =(_xlfn.STDEV.S('Single data'!T37:W37)/SQRT(4)) -> 31.470227 | M37: =AVERAGE('Single data'!X37:AA37) -> 56.467634 | N37: ± | O37: =(_xlfn.STDEV.S('Single data'!X37:AA37)/SQRT(4)) -> 46.945979 | P37: =AVERAGE('Single data'!AB37:AE37) -> 134.06775 | Q37: ± | R37: {=_xlfn.STDEV.S('Single data'!AB37:AE37/SQRT(4))} -> 107.99831 | S37: =AVERAGE('Single data'!AF37:AI37) -> 12.087717 | T37: ± | U37: =(_xlfn.STDEV.S('Single data'!AF37:AI37)/SQRT(4)) -> 2.7228759 | V37: =AVERAGE('Single data'!AJ37:AM37) -> 21.606067 | W37: ± | X37: =(_xlfn.STDEV.S('Single data'!AJ37:AM37)/SQRT(4)) -> 5.2193349 | Y37: =AVERAGE('Single data'!AN37:AQ37) -> 54.723199 | Z37: ± | AA37: =(_xlfn.STDEV.S('Single data'!AN37:AQ37)/SQRT(4)) -> 39.358285 | AB37: =AVERAGE('Single data'!AR37:AU37) -> 111.18805 | AC37: ± | AD37: =(_xlfn.STDEV.S('Single data'!AR37:AU37)/SQRT(4)) -> 56.784969 | AE37: =AVERAGE('Single data'!AV37:AY37) -> 11.813924 | AF37: ± | AG37: =(_xlfn.STDEV.S('Single data'!AV37:AY37)/SQRT(4)) -> 2.3664007 | AH37: =AVERAGE('Single data'!AZ37:BC37) -> 16.70523 | AI37: ± | AJ37: =_xlfn.STDEV.S('Single data'!AZ37:BC37)/SQRT(4) -> 2.0605617 | AK37: =AVERAGE('Single data'!BD37:BG37) -> 10.961245 | AL37: ± | AM37: =(_xlfn.STDEV.S('Single data'!BD37:BG37)/SQRT(4)) -> 3.3509246 | AN37: =AVERAGE('Single data'!BH37:BK37) -> 23.463154 | AO37: ± | AP37: =_xlfn.STDEV.S('Single data'!BH37:BK37)/SQRT(4) -> 7.5134315 | AQ37: =AVERAGE('Single data'!BL37:BO37) -> 6.8994707 | AR37: ± | AS37: =(_xlfn.STDEV.S('Single data'!BL37:BO37)/SQRT(4)) -> 1.4776642 | AT37: =AVERAGE('Single data'!BP37:BS37) -> 18.195914 | AU37: ± | AV37: =_xlfn.STDEV.S('Single data'!BP37:BS37)/SQRT(4) -> 4.0482441 | AW37: =AVERAGE('Single data'!BT37:BW37) -> 37.504723 | AX37: ± | AY37: =(_xlfn.STDEV.S('Single data'!BT37:BW37)/SQRT(4)) -> 31.778677 | AZ37: =AVERAGE('Single data'!BX37:CA37) -> 39.234543 | BA37: ± | BB37: =_xlfn.STDEV.S('Single data'!BX37:CA37)/SQRT(4) -> 22.197532 | BD37: =AVERAGE('Single data'!CG37:CR37) -> 246.81016 | BE37: ± | BF37: =(_xlfn.STDEV.S('Single data'!CG37:CR37)/SQRT(12)) -> 25.88393 | BG37: =AVERAGE('Single data'!CS37:CW37) -> 199.79627 | BH37: ± | BI37: =(_xlfn.STDEV.S('Single data'!CS37:CW37)/SQRT(5)) -> 27.628014 | BJ37: =AVERAGE('Single data'!CX37:DB37) -> 220.80891 | BK37: ± | BL37: =(_xlfn.STDEV.S('Single data'!CX37:DB37)/SQRT(5)) -> 26.57702 | BM37: =AVERAGE('Single data'!DC37:DH37) -> 412.01853 | BN37: ± | BO37: =(_xlfn.STDEV.S('Single data'!DC37:DH37)/SQRT(6)) -> 75.409873 | BP37: =AVERAGE('Single data'!DI37:DN37) -> 931.36965 | BQ37: ± | BR37: =_xlfn.STDEV.S('Single data'!DI37:DN37)/SQRT(6) -> 118.95146 | BS37: =AVERAGE('Single data'!DO37:DS37) -> 308.05122 | BT37: ± | BU37: =(_xlfn.STDEV.S('Single data'!DI37:DN37)/SQRT(6)) -> 118.95146 | BV37: =AVERAGE('Single data'!DT37:DX37) -> 713.44429 | BW37: ± | BX37: =(_xlfn.STDEV.S('Single data'!DT37:DX37)/SQRT(5)) -> 126.58664 | BY37: =AVERAGE('Single data'!DY37:EC37) -> 314.04259 | BZ37: ± | CA37: =(_xlfn.STDEV.S('Single data'!DY37:EC37)/SQRT(5)) -> 50.124129 | CB37: =AVERAGE('Single data'!ED37:EH37) -> 659.34644 | CC37: ± | CD37: =(_xlfn.STDEV.S('Single data'!ED37:EH37)/SQRT(5)) -> 123.72388 | CE37: =AVERAGE('Single data'!EI37:EM37) -> 351.02822 | CF37: ± | CG37: =(_xlfn.STDEV.S('Single data'!EI37:EM37)/SQRT(5)) -> 73.936632 | CH37: =AVERAGE('Single data'!EN37:ER37) -> 755.92921 | CI37: ± | CJ37: =_xlfn.STDEV.S('Single data'!EN37:ER37)/SQRT(5) -> 153.05136 | CK37: =AVERAGE('Single data'!ES37:EW37) -> 293.43483 | CL37: ± | CM37: =(_xlfn.STDEV.S('Single data'!ES37:EW37)/SQRT(5)) -> 35.814569 | CN37: =AVERAGE('Single data'!EX37:FB37) -> 798.14927 | CO37: ± | CP37: =_xlfn.STDEV.S('Single data'!EX37:FB37)/SQRT(5) -> 87.692341 | CQ37: =AVERAGE('Single data'!FC37:FH37) -> 229.71227 | CR37: ± | CS37: =(_xlfn.STDEV.S('Single data'!FC37:FH37)/SQRT(6)) -> 32.680951 | CT37: =AVERAGE('Single data'!FI37:FN37) -> 202.6101 | CU37: ± | CV37: =_xlfn.STDEV.S('Single data'!FI37:FN37)/SQRT(6) -> 30.73025 | CW37: =AVERAGE('Single data'!FO37:FT37) -> 229.88382 | CX37: ± | CY37: =(_xlfn.STDEV.S('Single data'!FO37:FT37)/SQRT(6)) -> 42.735692 | CZ37: =AVERAGE('Single data'!FU37:FY37) -> 199.04449 | DA37: ± | DB37: =_xlfn.STDEV.S('Single data'!FU37:FY37)/SQRT(5) -> 30.448131
C38: TXB2 | D38: =AVERAGE('Single data'!D38:O38) -> 1064.6379 | E38: ± | F38: =(_xlfn.STDEV.S('Single data'!D38:O38)/SQRT(12)) -> 523.67923 | G38: =AVERAGE('Single data'!P38:S38) -> 1345.7477 | H38: ± | I38: =(_xlfn.STDEV.S('Single data'!P38:S38)/SQRT(4)) -> 1134.7049 | J38: =AVERAGE('Single data'!T38:W38) -> 1042.1868 | K38: ± | L38: =(_xlfn.STDEV.S('Single data'!T38:W38)/SQRT(4)) -> 867.05336 | M38: =AVERAGE('Single data'!X38:AA38) -> 1082.6638 | N38: ± | O38: =(_xlfn.STDEV.S('Single data'!X38:AA38)/SQRT(4)) -> 943.12959 | P38: =AVERAGE('Single data'!AB38:AE38) -> 286.01177 | Q38: ± | R38: {=_xlfn.STDEV.S('Single data'!AB38:AE38/SQRT(4))} -> 190.86459 | S38: =AVERAGE('Single data'!AF38:AI38) -> 145.75208 | T38: ± | U38: =(_xlfn.STDEV.S('Single data'!AF38:AI38)/SQRT(4)) -> 29.910687 | V38: =AVERAGE('Single data'!AJ38:AM38) -> 118.04581 | W38: ± | X38: =(_xlfn.STDEV.S('Single data'!AJ38:AM38)/SQRT(4)) -> 30.086152 | Y38: =AVERAGE('Single data'!AN38:AQ38) -> 846.17189 | Z38: ± | AA38: =(_xlfn.STDEV.S('Single data'!AN38:AQ38)/SQRT(4)) -> 624.60913 | AB38: =AVERAGE('Single data'!AR38:AU38) -> 262.36474 | AC38: ± | AD38: =(_xlfn.STDEV.S('Single data'!AR38:AU38)/SQRT(4)) -> 79.778731 | AE38: =AVERAGE('Single data'!AV38:AY38) -> 154.93422 | AF38: ± | AG38: =(_xlfn.STDEV.S('Single data'!AV38:AY38)/SQRT(4)) -> 32.043306 | AH38: =AVERAGE('Single data'!AZ38:BC38) -> 114.41899 | AI38: ± | AJ38: =_xlfn.STDEV.S('Single data'!AZ38:BC38)/SQRT(4) -> 36.549198 | AK38: =AVERAGE('Single data'!BD38:BG38) -> 172.06469 | AL38: ± | AM38: =(_xlfn.STDEV.S('Single data'!BD38:BG38)/SQRT(4)) -> 42.049343 | AN38: =AVERAGE('Single data'!BH38:BK38) -> 137.5394 | AO38: ± | AP38: =_xlfn.STDEV.S('Single data'!BH38:BK38)/SQRT(4) -> 32.821097 | AQ38: =AVERAGE('Single data'!BL38:BO38) -> 184.03892 | AR38: ± | AS38: =(_xlfn.STDEV.S('Single data'!BL38:BO38)/SQRT(4)) -> 55.297216 | AT38: =AVERAGE('Single data'!BP38:BS38) -> 284.41668 | AU38: ± | AV38: =_xlfn.STDEV.S('Single data'!BP38:BS38)/SQRT(4) -> 66.032683 | AW38: =AVERAGE('Single data'!BT38:BW38) -> 1246.6949 | AX38: ± | AY38: =(_xlfn.STDEV.S('Single data'!BT38:BW38)/SQRT(4)) -> 1126.2107 | AZ38: =AVERAGE('Single data'!BX38:CA38) -> 1209.4412 | BA38: ± | BB38: =_xlfn.STDEV.S('Single data'!BX38:CA38)/SQRT(4) -> 836.17882 | BD38: =AVERAGE('Single data'!CG38:CR38) -> 8750.1218 | BE38: ± | BF38: =(_xlfn.STDEV.S('Single data'!CG38:CR38)/SQRT(12)) -> 864.11209 | BG38: =AVERAGE('Single data'!CS38:CW38) -> 7564.5356 | BH38: ± | BI38: =(_xlfn.STDEV.S('Single data'!CS38:CW38)/SQRT(5)) -> 1454.1106 | BJ38: =AVERAGE('Single data'!CX38:DB38) -> 6779.108 | BK38: ± | BL38: =(_xlfn.STDEV.S('Single data'!CX38:DB38)/SQRT(5)) -> 1196.5323 | BM38: =AVERAGE('Single data'!DC38:DH38) -> 9895.1329 | BN38: ± | BO38: =(_xlfn.STDEV.S('Single data'!DC38:DH38)/SQRT(6)) -> 1921.6151 | BP38: =AVERAGE('Single data'!DI38:DN38) -> 3233.5454 | BQ38: ± | BR38: =_xlfn.STDEV.S('Single data'!DI38:DN38)/SQRT(6) -> 772.14985 | BS38: =AVERAGE('Single data'!DO38:DS38) -> 9552.8459 | BT38: ± | BU38: =(_xlfn.STDEV.S('Single data'!DI38:DN38)/SQRT(6)) -> 772.14985 | BV38: =AVERAGE('Single data'!DT38:DX38) -> 5335.5101 | BW38: ± | BX38: =(_xlfn.STDEV.S('Single data'!DT38:DX38)/SQRT(5)) -> 653.37843 | BY38: =AVERAGE('Single data'!DY38:EC38) -> 7100.8691 | BZ38: ± | CA38: =(_xlfn.STDEV.S('Single data'!DY38:EC38)/SQRT(5)) -> 1524.2985 | CB38: =AVERAGE('Single data'!ED38:EH38) -> 1410.719 | CC38: ± | CD38: =(_xlfn.STDEV.S('Single data'!ED38:EH38)/SQRT(5)) -> 406.66708 | CE38: =AVERAGE('Single data'!EI38:EM38) -> 7979.1482 | CF38: ± | CG38: =(_xlfn.STDEV.S('Single data'!EI38:EM38)/SQRT(5)) -> 1595.516 | CH38: =AVERAGE('Single data'!EN38:ER38) -> 559.12237 | CI38: ± | CJ38: =_xlfn.STDEV.S('Single data'!EN38:ER38)/SQRT(5) -> 163.67602 | CK38: =AVERAGE('Single data'!ES38:EW38) -> 9867.5277 | CL38: ± | CM38: =(_xlfn.STDEV.S('Single data'!ES38:EW38)/SQRT(5)) -> 1067.8161 | CN38: =AVERAGE('Single data'!EX38:FB38) -> 4660.2026 | CO38: ± | CP38: =_xlfn.STDEV.S('Single data'!EX38:FB38)/SQRT(5) -> 733.14615 | CQ38: =AVERAGE('Single data'!FC38:FH38) -> 9696.9273 | CR38: ± | CS38: =(_xlfn.STDEV.S('Single data'!FC38:FH38)/SQRT(6)) -> 1453.8497 | CT38: =AVERAGE('Single data'!FI38:FN38) -> 8406.2089 | CU38: ± | CV38: =_xlfn.STDEV.S('Single data'!FI38:FN38)/SQRT(6) -> 1561.4315 | CW38: =AVERAGE('Single data'!FO38:FT38) -> 8631.032 | CX38: ± | CY38: =(_xlfn.STDEV.S('Single data'!FO38:FT38)/SQRT(6)) -> 1683.2697 | CZ38: =AVERAGE('Single data'!FU38:FY38) -> 7013.9427 | DA38: ± | DB38: =_xlfn.STDEV.S('Single data'!FU38:FY38)/SQRT(5) -> 1194.625
B39: EET | C39: 5.6-EET | D39: =AVERAGE('Single data'!D39:O39) -> 1.5369384 | E39: ± | F39: =(_xlfn.STDEV.S('Single data'!D39:O39)/SQRT(12)) -> 1.2856215 | G39: =AVERAGE('Single data'!P39:S39) -> 1.0068746 | H39: ± | I39: =(_xlfn.STDEV.S('Single data'!P39:S39)/SQRT(4)) -> 0.64586063 | J39: =AVERAGE('Single data'!T39:W39) -> 0 | K39: ± | L39: =(_xlfn.STDEV.S('Single data'!T39:W39)/SQRT(4)) -> 0 | M39: =AVERAGE('Single data'!X39:AA39) -> 3.5640693 | N39: ± | O39: =(_xlfn.STDEV.S('Single data'!X39:AA39)/SQRT(4)) -> 3.5640693 | P39: =AVERAGE('Single data'!AB39:AE39) -> 35.43451 | Q39: ± | R39: {=_xlfn.STDEV.S('Single data'!AB39:AE39/SQRT(4))} -> 35.43451 | S39: =AVERAGE('Single data'!AF39:AI39) -> 7.2875848 | T39: ± | U39: =(_xlfn.STDEV.S('Single data'!AF39:AI39)/SQRT(4)) -> 6.5362704 | V39: =AVERAGE('Single data'!AJ39:AM39) -> 6.8220268 | W39: ± | X39: =(_xlfn.STDEV.S('Single data'!AJ39:AM39)/SQRT(4)) -> 6.1785913 | Y39: =AVERAGE('Single data'!AN39:AQ39) -> 0 | Z39: ± | AA39: =(_xlfn.STDEV.S('Single data'!AN39:AQ39)/SQRT(4)) -> 0 | AB39: =AVERAGE('Single data'!AR39:AU39) -> 0.60435188 | AC39: ± | AD39: =(_xlfn.STDEV.S('Single data'!AR39:AU39)/SQRT(4)) -> 0.60435188 | AE39: =AVERAGE('Single data'!AV39:AY39) -> 4.0802221 | AF39: ± | AG39: =(_xlfn.STDEV.S('Single data'!AV39:AY39)/SQRT(4)) -> 4.0802221 | AH39: =AVERAGE('Single data'!AZ39:BC39) -> 9.1901796 | AI39: ± | AJ39: =_xlfn.STDEV.S('Single data'!AZ39:BC39)/SQRT(4) -> 9.1901796 | AK39: =AVERAGE('Single data'!BD39:BG39) -> 3.5981146 | AL39: ± | AM39: =(_xlfn.STDEV.S('Single data'!BD39:BG39)/SQRT(4)) -> 3.5981146 | AN39: =AVERAGE('Single data'!BH39:BK39) -> 9.1281145 | AO39: ± | AP39: =_xlfn.STDEV.S('Single data'!BH39:BK39)/SQRT(4) -> 9.1281145 | AQ39: =AVERAGE('Single data'!BL39:BO39) -> 11.701049 | AR39: ± | AS39: =(_xlfn.STDEV.S('Single data'!BL39:BO39)/SQRT(4)) -> 11.701049 | AT39: =AVERAGE('Single data'!BP39:BS39) -> 19.443658 | AU39: ± | AV39: =_xlfn.STDEV.S('Single data'!BP39:BS39)/SQRT(4) -> 19.443658 | AW39: =AVERAGE('Single data'!BT39:BW39) -> 0.11020798 | AX39: ± | AY39: =(_xlfn.STDEV.S('Single data'!BT39:BW39)/SQRT(4)) -> 0.11020798 | AZ39: =AVERAGE('Single data'!BX39:CA39) -> 9.7887575 | BA39: ± | BB39: =_xlfn.STDEV.S('Single data'!BX39:CA39)/SQRT(4) -> 9.7887575 | BD39: =AVERAGE('Single data'!CG39:CR39) -> 94.80713 | BE39: ± | BF39: =(_xlfn.STDEV.S('Single data'!CG39:CR39)/SQRT(12)) -> 85.370401 | BG39: =AVERAGE('Single data'!CS39:CW39) -> 9.4073428 | BH39: ± | BI39: =(_xlfn.STDEV.S('Single data'!CS39:CW39)/SQRT(5)) -> 3.1671711 | BJ39: =AVERAGE('Single data'!CX39:DB39) -> 6.0585859 | BK39: ± | BL39: =(_xlfn.STDEV.S('Single data'!CX39:DB39)/SQRT(5)) -> 1.71262 | BM39: =AVERAGE('Single data'!DC39:DH39) -> 8.0593872 | BN39: ± | BO39: =(_xlfn.STDEV.S('Single data'!DC39:DH39)/SQRT(6)) -> 2.5933798 | BP39: =AVERAGE('Single data'!DI39:DN39) -> 5.5169044 | BQ39: ± | BR39: =_xlfn.STDEV.S('Single data'!DI39:DN39)/SQRT(6) -> 0.7490895 | BS39: =AVERAGE('Single data'!DO39:DS39) -> 6.6712689 | BT39: ± | BU39: =(_xlfn.STDEV.S('Single data'!DI39:DN39)/SQRT(6)) -> 0.7490895 | BV39: =AVERAGE('Single data'!DT39:DX39) -> 3.7471926 | BW39: ± | BX39: =(_xlfn.STDEV.S('Single data'!DT39:DX39)/SQRT(5)) -> 1.2233723 | BY39: =AVERAGE('Single data'!DY39:EC39) -> 5.7180192 | BZ39: ± | CA39: =(_xlfn.STDEV.S('Single data'!DY39:EC39)/SQRT(5)) -> 1.2284325 | CB39: =AVERAGE('Single data'!ED39:EH39) -> 5.4456084 | CC39: ± | CD39: =(_xlfn.STDEV.S('Single data'!ED39:EH39)/SQRT(5)) -> 0.74027749 | CE39: =AVERAGE('Single data'!EI39:EM39) -> 8.06954 | CF39: ± | CG39: =(_xlfn.STDEV.S('Single data'!EI39:EM39)/SQRT(5)) -> 1.8175007 | CH39: =AVERAGE('Single data'!EN39:ER39) -> 5.1200998 | CI39: ± | CJ39: =_xlfn.STDEV.S('Single data'!EN39:ER39)/SQRT(5) -> 2.256697 | CK39: =AVERAGE('Single data'!ES39:EW39) -> 414.85527 | CL39: ± | CM39: =(_xlfn.STDEV.S('Single data'!ES39:EW39)/SQRT(5)) -> 406.74711 | CN39: =AVERAGE('Single data'!EX39:FB39) -> 3.9593023 | CO39: ± | CP39: =_xlfn.STDEV.S('Single data'!EX39:FB39)/SQRT(5) -> 0.60562366 | CQ39: =AVERAGE('Single data'!FC39:FH39) -> 7.8462381 | CR39: ± | CS39: =(_xlfn.STDEV.S('Single data'!FC39:FH39)/SQRT(6)) -> 1.9026501 | CT39: =AVERAGE('Single data'!FI39:FN39) -> 7.5922708 | CU39: ± | CV39: =_xlfn.STDEV.S('Single data'!FI39:FN39)/SQRT(6) -> 0.99052716 | CW39: =AVERAGE('Single data'!FO39:FT39) -> 6.9633841 | CX39: ± | CY39: =(_xlfn.STDEV.S('Single data'!FO39:FT39)/SQRT(6)) -> 2.7529524 | CZ39: =AVERAGE('Single data'!FU39:FY39) -> 3.6779387 | DA39: ± | DB39: =_xlfn.STDEV.S('Single data'!FU39:FY39)/SQRT(5) -> 0.4989782
C40: 11.12-EET | D40: =AVERAGE('Single data'!D40:O40) -> 8.6445442 | E40: ± | F40: =(_xlfn.STDEV.S('Single data'!D40:O40)/SQRT(12)) -> 3.8614661 | G40: =AVERAGE('Single data'!P40:S40) -> 6.0982165 | H40: ± | I40: =(_xlfn.STDEV.S('Single data'!P40:S40)/SQRT(4)) -> 3.679431 | J40: =AVERAGE('Single data'!T40:W40) -> 3.4452623 | K40: ± | L40: =(_xlfn.STDEV.S('Single data'!T40:W40)/SQRT(4)) -> 3.4452623 | M40: =AVERAGE('Single data'!X40:AA40) -> 1.726171 | N40: ± | O40: =(_xlfn.STDEV.S('Single data'!X40:AA40)/SQRT(4)) -> 1.726171 | P40: =AVERAGE('Single data'!AB40:AE40) -> 10.245006 | Q40: ± | R40: {=_xlfn.STDEV.S('Single data'!AB40:AE40/SQRT(4))} -> 3.8592999 | S40: =AVERAGE('Single data'!AF40:AI40) -> 0.40868036 | T40: ± | U40: =(_xlfn.STDEV.S('Single data'!AF40:AI40)/SQRT(4)) -> 0.40868036 | V40: =AVERAGE('Single data'!AJ40:AM40) -> 0 | W40: ± | X40: =(_xlfn.STDEV.S('Single data'!AJ40:AM40)/SQRT(4)) -> 0 | Y40: =AVERAGE('Single data'!AN40:AQ40) -> 2.5966755 | Z40: ± | AA40: =(_xlfn.STDEV.S('Single data'!AN40:AQ40)/SQRT(4)) -> 2.5966755 | AB40: =AVERAGE('Single data'!AR40:AU40) -> 21.457058 | AC40: ± | AD40: =(_xlfn.STDEV.S('Single data'!AR40:AU40)/SQRT(4)) -> 11.095876 | AE40: =AVERAGE('Single data'!AV40:AY40) -> 3.5975984 | AF40: ± | AG40: =(_xlfn.STDEV.S('Single data'!AV40:AY40)/SQRT(4)) -> 3.5975984 | AH40: =AVERAGE('Single data'!AZ40:BC40) -> 19.233739 | AI40: ± | AJ40: =_xlfn.STDEV.S('Single data'!AZ40:BC40)/SQRT(4) -> 8.3813695 | AK40: =AVERAGE('Single data'!BD40:BG40) -> 0 | AL40: ± | AM40: =(_xlfn.STDEV.S('Single data'!BD40:BG40)/SQRT(4)) -> 0 | AN40: =AVERAGE('Single data'!BH40:BK40) -> 2.9161592 | AO40: ± | AP40: =_xlfn.STDEV.S('Single data'!BH40:BK40)/SQRT(4) -> 2.9161592 | AQ40: =AVERAGE('Single data'!BL40:BO40) -> -0.38713635 | AR40: ± | AS40: =(_xlfn.STDEV.S('Single data'!BL40:BO40)/SQRT(4)) -> 0.38713635 | AT40: =AVERAGE('Single data'!BP40:BS40) -> 6.6345319 | AU40: ± | AV40: =_xlfn.STDEV.S('Single data'!BP40:BS40)/SQRT(4) -> 4.0508803 | AW40: =AVERAGE('Single data'!BT40:BW40) -> 2.2491848 | AX40: ± | AY40: =(_xlfn.STDEV.S('Single data'!BT40:BW40)/SQRT(4)) -> 2.2491848 | AZ40: =AVERAGE('Single data'!BX40:CA40) -> 9.8548719 | BA40: ± | BB40: =_xlfn.STDEV.S('Single data'!BX40:CA40)/SQRT(4) -> 3.7080304 | BD40: =AVERAGE('Single data'!CG40:CR40) -> 2124.1326 | BE40: ± | BF40: =(_xlfn.STDEV.S('Single data'!CG40:CR40)/SQRT(12)) -> 1996.4499 | BG40: =AVERAGE('Single data'!CS40:CW40) -> 121.54343 | BH40: ± | BI40: =(_xlfn.STDEV.S('Single data'!CS40:CW40)/SQRT(5)) -> 17.328937 | BJ40: =AVERAGE('Single data'!CX40:DB40) -> 98.328575 | BK40: ± | BL40: =(_xlfn.STDEV.S('Single data'!CX40:DB40)/SQRT(5)) -> 21.315751 | BM40: =AVERAGE('Single data'!DC40:DH40) -> 124.24624 | BN40: ± | BO40: =(_xlfn.STDEV.S('Single data'!DC40:DH40)/SQRT(6)) -> 30.142178 | BP40: =AVERAGE('Single data'!DI40:DN40) -> 91.359913 | BQ40: ± | BR40: =_xlfn.STDEV.S('Single data'!DI40:DN40)/SQRT(6) -> 23.181859 | BS40: =AVERAGE('Single data'!DO40:DS40) -> 102.62875 | BT40: ± | BU40: =(_xlfn.STDEV.S('Single data'!DI40:DN40)/SQRT(6)) -> 23.181859 | BV40: =AVERAGE('Single data'!DT40:DX40) -> 70.04642 | BW40: ± | BX40: =(_xlfn.STDEV.S('Single data'!DT40:DX40)/SQRT(5)) -> 9.4135586 | BY40: =AVERAGE('Single data'!DY40:EC40) -> 99.06021 | BZ40: ± | CA40: =(_xlfn.STDEV.S('Single data'!DY40:EC40)/SQRT(5)) -> 6.3958674 | CB40: =AVERAGE('Single data'!ED40:EH40) -> 82.699843 | CC40: ± | CD40: =(_xlfn.STDEV.S('Single data'!ED40:EH40)/SQRT(5)) -> 7.4226112 | CE40: =AVERAGE('Single data'!EI40:EM40) -> 119.86762 | CF40: ± | CG40: =(_xlfn.STDEV.S('Single data'!EI40:EM40)/SQRT(5)) -> 13.289612 | CH40: =AVERAGE('Single data'!EN40:ER40) -> 105.62697 | CI40: ± | CJ40: =_xlfn.STDEV.S('Single data'!EN40:ER40)/SQRT(5) -> 5.3303752 | CK40: =AVERAGE('Single data'!ES40:EW40) -> 110.39651 | CL40: ± | CM40: =(_xlfn.STDEV.S('Single data'!ES40:EW40)/SQRT(5)) -> 8.5728478 | CN40: =AVERAGE('Single data'!EX40:FB40) -> 89.453115 | CO40: ± | CP40: =_xlfn.STDEV.S('Single data'!EX40:FB40)/SQRT(5) -> 4.1343929 | CQ40: =AVERAGE('Single data'!FC40:FH40) -> 118.72372 | CR40: ± | CS40: =(_xlfn.STDEV.S('Single data'!FC40:FH40)/SQRT(6)) -> 11.109697 | CT40: =AVERAGE('Single data'!FI40:FN40) -> 113.58216 | CU40: ± | CV40: =_xlfn.STDEV.S('Single data'!FI40:FN40)/SQRT(6) -> 12.636836 | CW40: =AVERAGE('Single data'!FO40:FT40) -> 118.67898 | CX40: ± | CY40: =(_xlfn.STDEV.S('Single data'!FO40:FT40)/SQRT(6)) -> 15.249046 | CZ40: =AVERAGE('Single data'!FU40:FY40) -> 73.320057 | DA40: ± | DB40: =_xlfn.STDEV.S('Single data'!FU40:FY40)/SQRT(5) -> 5.040857
C41: 14.15-EET | D41: =AVERAGE('Single data'!D41:O41) -> 100.30994 | E41: ± | F41: =(_xlfn.STDEV.S('Single data'!D41:O41)/SQRT(12)) -> 60.389026 | G41: =AVERAGE('Single data'!P41:S41) -> 24.834983 | H41: ± | I41: =(_xlfn.STDEV.S('Single data'!P41:S41)/SQRT(4)) -> 15.102676 | J41: =AVERAGE('Single data'!T41:W41) -> 23.043208 | K41: ± | L41: =(_xlfn.STDEV.S('Single data'!T41:W41)/SQRT(4)) -> 16.564301 | M41: =AVERAGE('Single data'!X41:AA41) -> 24.667381 | N41: ± | O41: =(_xlfn.STDEV.S('Single data'!X41:AA41)/SQRT(4)) -> 15.345129 | P41: =AVERAGE('Single data'!AB41:AE41) -> 38.81714 | Q41: ± | R41: {=_xlfn.STDEV.S('Single data'!AB41:AE41/SQRT(4))} -> 21.285217 | S41: =AVERAGE('Single data'!AF41:AI41) -> 192.0283 | T41: ± | U41: =(_xlfn.STDEV.S('Single data'!AF41:AI41)/SQRT(4)) -> 182.48658 | V41: =AVERAGE('Single data'!AJ41:AM41) -> 34.145843 | W41: ± | X41: =(_xlfn.STDEV.S('Single data'!AJ41:AM41)/SQRT(4)) -> 20.689115 | Y41: =AVERAGE('Single data'!AN41:AQ41) -> 30.57004 | Z41: ± | AA41: =(_xlfn.STDEV.S('Single data'!AN41:AQ41)/SQRT(4)) -> 13.408773 | AB41: =AVERAGE('Single data'!AR41:AU41) -> 74.01575 | AC41: ± | AD41: =(_xlfn.STDEV.S('Single data'!AR41:AU41)/SQRT(4)) -> 22.109687 | AE41: =AVERAGE('Single data'!AV41:AY41) -> 13.525131 | AF41: ± | AG41: =(_xlfn.STDEV.S('Single data'!AV41:AY41)/SQRT(4)) -> 6.9597834 | AH41: =AVERAGE('Single data'!AZ41:BC41) -> 36.650422 | AI41: ± | AJ41: =_xlfn.STDEV.S('Single data'!AZ41:BC41)/SQRT(4) -> 7.8887021 | AK41: =AVERAGE('Single data'!BD41:BG41) -> 6.8602065 | AL41: ± | AM41: =(_xlfn.STDEV.S('Single data'!BD41:BG41)/SQRT(4)) -> 3.6268112 | AN41: =AVERAGE('Single data'!BH41:BK41) -> 24.065199 | AO41: ± | AP41: =_xlfn.STDEV.S('Single data'!BH41:BK41)/SQRT(4) -> 7.6520953 | AQ41: =AVERAGE('Single data'!BL41:BO41) -> 304.13263 | AR41: ± | AS41: =(_xlfn.STDEV.S('Single data'!BL41:BO41)/SQRT(4)) -> 210.33637 | AT41: =AVERAGE('Single data'!BP41:BS41) -> 35.32622 | AU41: ± | AV41: =_xlfn.STDEV.S('Single data'!BP41:BS41)/SQRT(4) -> 6.816517 | AW41: =AVERAGE('Single data'!BT41:BW41) -> 50.010175 | AX41: ± | AY41: =(_xlfn.STDEV.S('Single data'!BT41:BW41)/SQRT(4)) -> 21.846198 | AZ41: =AVERAGE('Single data'!BX41:CA41) -> 48.824112 | BA41: ± | BB41: =_xlfn.STDEV.S('Single data'!BX41:CA41)/SQRT(4) -> 19.520362 | BD41: =AVERAGE('Single data'!CG41:CR41) -> 719.8035 | BE41: ± | BF41: =(_xlfn.STDEV.S('Single data'!CG41:CR41)/SQRT(12)) -> 361.49614 | BG41: =AVERAGE('Single data'!CS41:CW41) -> 280.72081 | BH41: ± | BI41: =(_xlfn.STDEV.S('Single data'!CS41:CW41)/SQRT(5)) -> 19.623253 | BJ41: =AVERAGE('Single data'!CX41:DB41) -> 267.35661 | BK41: ± | BL41: =(_xlfn.STDEV.S('Single data'!CX41:DB41)/SQRT(5)) -> 19.384171 | BM41: =AVERAGE('Single data'!DC41:DH41) -> 258.80616 | BN41: ± | BO41: =(_xlfn.STDEV.S('Single data'!DC41:DH41)/SQRT(6)) -> 50.407337 | BP41: =AVERAGE('Single data'!DI41:DN41) -> 276.81844 | BQ41: ± | BR41: =_xlfn.STDEV.S('Single data'!DI41:DN41)/SQRT(6) -> 58.096081 | BS41: =AVERAGE('Single data'!DO41:DS41) -> 202.15443 | BT41: ± | BU41: =(_xlfn.STDEV.S('Single data'!DI41:DN41)/SQRT(6)) -> 58.096081 | BV41: =AVERAGE('Single data'!DT41:DX41) -> 229.80562 | BW41: ± | BX41: =(_xlfn.STDEV.S('Single data'!DT41:DX41)/SQRT(5)) -> 40.817212 | BY41: =AVERAGE('Single data'!DY41:EC41) -> 222.36222 | BZ41: ± | CA41: =(_xlfn.STDEV.S('Single data'!DY41:EC41)/SQRT(5)) -> 20.939181 | CB41: =AVERAGE('Single data'!ED41:EH41) -> 297.63034 | CC41: ± | CD41: =(_xlfn.STDEV.S('Single data'!ED41:EH41)/SQRT(5)) -> 48.92463 | CE41: =AVERAGE('Single data'!EI41:EM41) -> 258.10973 | CF41: ± | CG41: =(_xlfn.STDEV.S('Single data'!EI41:EM41)/SQRT(5)) -> 18.55294 | CH41: =AVERAGE('Single data'!EN41:ER41) -> 201.07722 | CI41: ± | CJ41: =_xlfn.STDEV.S('Single data'!EN41:ER41)/SQRT(5) -> 12.168969 | CK41: =AVERAGE('Single data'!ES41:EW41) -> 295.57528 | CL41: ± | CM41: =(_xlfn.STDEV.S('Single data'!ES41:EW41)/SQRT(5)) -> 67.26974 | CN41: =AVERAGE('Single data'!EX41:FB41) -> 341.67898 | CO41: ± | CP41: =_xlfn.STDEV.S('Single data'!EX41:FB41)/SQRT(5) -> 94.821744 | CQ41: =AVERAGE('Single data'!FC41:FH41) -> 312.30103 | CR41: ± | CS41: =(_xlfn.STDEV.S('Single data'!FC41:FH41)/SQRT(6)) -> 31.899034 | CT41: =AVERAGE('Single data'!FI41:FN41) -> 373.92722 | CU41: ± | CV41: =_xlfn.STDEV.S('Single data'!FI41:FN41)/SQRT(6) -> 55.755651 | CW41: =AVERAGE('Single data'!FO41:FT41) -> 293.03995 | CX41: ± | CY41: =(_xlfn.STDEV.S('Single data'!FO41:FT41)/SQRT(6)) -> 30.21349 | CZ41: =AVERAGE('Single data'!FU41:FY41) -> 255.56412 | DA41: ± | DB41: =_xlfn.STDEV.S('Single data'!FU41:FY41)/SQRT(5) -> 43.880924
C42: 13-HDHA | D42: =AVERAGE('Single data'!D42:O42) -> 91.640113 | E42: ± | F42: =(_xlfn.STDEV.S('Single data'!D42:O42)/SQRT(12)) -> 55.381089 | G42: =AVERAGE('Single data'!P42:S42) -> 51.306056 | H42: ± | I42: =(_xlfn.STDEV.S('Single data'!P42:S42)/SQRT(4)) -> 25.755488 | J42: =AVERAGE('Single data'!T42:W42) -> 59.15287 | K42: ± | L42: =(_xlfn.STDEV.S('Single data'!T42:W42)/SQRT(4)) -> 49.865818 | M42: =AVERAGE('Single data'!X42:AA42) -> 43.861042 | N42: ± | O42: =(_xlfn.STDEV.S('Single data'!X42:AA42)/SQRT(4)) -> 29.071422 | P42: =AVERAGE('Single data'!AB42:AE42) -> 96.135765 | Q42: ± | R42: {=_xlfn.STDEV.S('Single data'!AB42:AE42/SQRT(4))} -> 51.465417 | S42: =AVERAGE('Single data'!AF42:AI42) -> 16.273082 | T42: ± | U42: =(_xlfn.STDEV.S('Single data'!AF42:AI42)/SQRT(4)) -> 5.0029073 | V42: =AVERAGE('Single data'!AJ42:AM42) -> 31.148643 | W42: ± | X42: =(_xlfn.STDEV.S('Single data'!AJ42:AM42)/SQRT(4)) -> 4.1952696 | Y42: =AVERAGE('Single data'!AN42:AQ42) -> 63.106696 | Z42: ± | AA42: =(_xlfn.STDEV.S('Single data'!AN42:AQ42)/SQRT(4)) -> 53.486559 | AB42: =AVERAGE('Single data'!AR42:AU42) -> 109.03088 | AC42: ± | AD42: =(_xlfn.STDEV.S('Single data'!AR42:AU42)/SQRT(4)) -> 38.035314 | AE42: =AVERAGE('Single data'!AV42:AY42) -> 9.9441578 | AF42: ± | AG42: =(_xlfn.STDEV.S('Single data'!AV42:AY42)/SQRT(4)) -> 3.748073 | AH42: =AVERAGE('Single data'!AZ42:BC42) -> 70.274547 | AI42: ± | AJ42: =_xlfn.STDEV.S('Single data'!AZ42:BC42)/SQRT(4) -> 22.125691 | AK42: =AVERAGE('Single data'!BD42:BG42) -> 13.636833 | AL42: ± | AM42: =(_xlfn.STDEV.S('Single data'!BD42:BG42)/SQRT(4)) -> 3.4159778 | AN42: =AVERAGE('Single data'!BH42:BK42) -> 27.3206 | AO42: ± | AP42: =_xlfn.STDEV.S('Single data'!BH42:BK42)/SQRT(4) -> 7.301384 | AQ42: =AVERAGE('Single data'!BL42:BO42) -> 10.059354 | AR42: ± | AS42: =(_xlfn.STDEV.S('Single data'!BL42:BO42)/SQRT(4)) -> 3.1999078 | AT42: =AVERAGE('Single data'!BP42:BS42) -> 22.594137 | AU42: ± | AV42: =_xlfn.STDEV.S('Single data'!BP42:BS42)/SQRT(4) -> 6.9801031 | AW42: =AVERAGE('Single data'!BT42:BW42) -> 30.839814 | AX42: ± | AY42: =(_xlfn.STDEV.S('Single data'!BT42:BW42)/SQRT(4)) -> 18.95841 | AZ42: =AVERAGE('Single data'!BX42:CA42) -> 49.972479 | BA42: ± | BB42: =_xlfn.STDEV.S('Single data'!BX42:CA42)/SQRT(4) -> 26.252004 | BD42: =AVERAGE('Single data'!CG42:CR42) -> 1110.3598 | BE42: ± | BF42: =(_xlfn.STDEV.S('Single data'!CG42:CR42)/SQRT(12)) -> 119.59193 | BG42: =AVERAGE('Single data'!CS42:CW42) -> 758.63709 | BH42: ± | BI42: =(_xlfn.STDEV.S('Single data'!CS42:CW42)/SQRT(5)) -> 122.86958 | BJ42: =AVERAGE('Single data'!CX42:DB42) -> 774.93888 | BK42: ± | BL42: =(_xlfn.STDEV.S('Single data'!CX42:DB42)/SQRT(5)) -> 67.675255 | BM42: =AVERAGE('Single data'!DC42:DH42) -> 791.91196 | BN42: ± | BO42: =(_xlfn.STDEV.S('Single data'!DC42:DH42)/SQRT(6)) -> 106.54213 | BP42: =AVERAGE('Single data'!DI42:DN42) -> 801.79619 | BQ42: ± | BR42: =_xlfn.STDEV.S('Single data'!DI42:DN42)/SQRT(6) -> 79.280682 | BS42: =AVERAGE('Single data'!DO42:DS42) -> 777.5566 | BT42: ± | BU42: =(_xlfn.STDEV.S('Single data'!DI42:DN42)/SQRT(6)) -> 79.280682 | BV42: =AVERAGE('Single data'!DT42:DX42) -> 603.8042 | BW42: ± | BX42: =(_xlfn.STDEV.S('Single data'!DT42:DX42)/SQRT(5)) -> 34.516359 | BY42: =AVERAGE('Single data'!DY42:EC42) -> 821.71224 | BZ42: ± | CA42: =(_xlfn.STDEV.S('Single data'!DY42:EC42)/SQRT(5)) -> 142.01211 | CB42: =AVERAGE('Single data'!ED42:EH42) -> 615.80892 | CC42: ± | CD42: =(_xlfn.STDEV.S('Single data'!ED42:EH42)/SQRT(5)) -> 75.833783 | CE42: =AVERAGE('Single data'!EI42:EM42) -> 744.22128 | CF42: ± | CG42: =(_xlfn.STDEV.S('Single data'!EI42:EM42)/SQRT(5)) -> 127.25119 | CH42: =AVERAGE('Single data'!EN42:ER42) -> 568.79995 | CI42: ± | CJ42: =_xlfn.STDEV.S('Single data'!EN42:ER42)/SQRT(5) -> 93.935605 | CK42: =AVERAGE('Single data'!ES42:EW42) -> 731.24026 | CL42: ± | CM42: =(_xlfn.STDEV.S('Single data'!ES42:EW42)/SQRT(5)) -> 97.621922 | CN42: =AVERAGE('Single data'!EX42:FB42) -> 573.03456 | CO42: ± | CP42: =_xlfn.STDEV.S('Single data'!EX42:FB42)/SQRT(5) -> 43.880239 | CQ42: =AVERAGE('Single data'!FC42:FH42) -> 842.8615 | CR42: ± | CS42: =(_xlfn.STDEV.S('Single data'!FC42:FH42)/SQRT(6)) -> 114.38124 | CT42: =AVERAGE('Single data'!FI42:FN42) -> 638.94263 | CU42: ± | CV42: =_xlfn.STDEV.S('Single data'!FI42:FN42)/SQRT(6) -> 81.930285 | CW42: =AVERAGE('Single data'!FO42:FT42) -> 609.85618 | CX42: ± | CY42: =(_xlfn.STDEV.S('Single data'!FO42:FT42)/SQRT(6)) -> 68.107753 | CZ42: =AVERAGE('Single data'!FU42:FY42) -> 509.52362 | DA42: ± | DB42: =_xlfn.STDEV.S('Single data'!FU42:FY42)/SQRT(5) -> 61.457805
C43: 7-HDHA | D43: =AVERAGE('Single data'!D43:O43) -> 52.677109 | E43: ± | F43: =(_xlfn.STDEV.S('Single data'!D43:O43)/SQRT(12)) -> 25.078495 | G43: =AVERAGE('Single data'!P43:S43) -> 51.50126 | H43: ± | I43: =(_xlfn.STDEV.S('Single data'!P43:S43)/SQRT(4)) -> 35.124274 | J43: =AVERAGE('Single data'!T43:W43) -> 50.631192 | K43: ± | L43: =(_xlfn.STDEV.S('Single data'!T43:W43)/SQRT(4)) -> 44.902686 | M43: =AVERAGE('Single data'!X43:AA43) -> 43.098757 | N43: ± | O43: =(_xlfn.STDEV.S('Single data'!X43:AA43)/SQRT(4)) -> 37.085211 | P43: =AVERAGE('Single data'!AB43:AE43) -> 70.050787 | Q43: ± | R43: {=_xlfn.STDEV.S('Single data'!AB43:AE43/SQRT(4))} -> 47.29787 | S43: =AVERAGE('Single data'!AF43:AI43) -> 9.4234644 | T43: ± | U43: =(_xlfn.STDEV.S('Single data'!AF43:AI43)/SQRT(4)) -> 2.6130839 | V43: =AVERAGE('Single data'!AJ43:AM43) -> 21.065959 | W43: ± | X43: =(_xlfn.STDEV.S('Single data'!AJ43:AM43)/SQRT(4)) -> 5.2168739 | Y43: =AVERAGE('Single data'!AN43:AQ43) -> 41.089518 | Z43: ± | AA43: =(_xlfn.STDEV.S('Single data'!AN43:AQ43)/SQRT(4)) -> 31.0834 | AB43: =AVERAGE('Single data'!AR43:AU43) -> 286.78754 | AC43: ± | AD43: =(_xlfn.STDEV.S('Single data'!AR43:AU43)/SQRT(4)) -> 85.783307 | AE43: =AVERAGE('Single data'!AV43:AY43) -> 9.2961673 | AF43: ± | AG43: =(_xlfn.STDEV.S('Single data'!AV43:AY43)/SQRT(4)) -> 1.6559227 | AH43: =AVERAGE('Single data'!AZ43:BC43) -> 193.05803 | AI43: ± | AJ43: =_xlfn.STDEV.S('Single data'!AZ43:BC43)/SQRT(4) -> 75.389282 | AK43: =AVERAGE('Single data'!BD43:BG43) -> 7.5907087 | AL43: ± | AM43: =(_xlfn.STDEV.S('Single data'!BD43:BG43)/SQRT(4)) -> 2.3254906 | AN43: =AVERAGE('Single data'!BH43:BK43) -> 22.824817 | AO43: ± | AP43: =_xlfn.STDEV.S('Single data'!BH43:BK43)/SQRT(4) -> 8.6219141 | AQ43: =AVERAGE('Single data'!BL43:BO43) -> 8.9029528 | AR43: ± | AS43: =(_xlfn.STDEV.S('Single data'!BL43:BO43)/SQRT(4)) -> 3.1791598 | AT43: =AVERAGE('Single data'!BP43:BS43) -> 93.891579 | AU43: ± | AV43: =_xlfn.STDEV.S('Single data'!BP43:BS43)/SQRT(4) -> 18.121812 | AW43: =AVERAGE('Single data'!BT43:BW43) -> 42.214462 | AX43: ± | AY43: =(_xlfn.STDEV.S('Single data'!BT43:BW43)/SQRT(4)) -> 36.333662 | AZ43: =AVERAGE('Single data'!BX43:CA43) -> 89.654307 | BA43: ± | BB43: =_xlfn.STDEV.S('Single data'!BX43:CA43)/SQRT(4) -> 40.959688 | BD43: =AVERAGE('Single data'!CG43:CR43) -> 834.73151 | BE43: ± | BF43: =(_xlfn.STDEV.S('Single data'!CG43:CR43)/SQRT(12)) -> 158.44107 | BG43: =AVERAGE('Single data'!CS43:CW43) -> 578.07448 | BH43: ± | BI43: =(_xlfn.STDEV.S('Single data'!CS43:CW43)/SQRT(5)) -> 158.27196 | BJ43: =AVERAGE('Single data'!CX43:DB43) -> 556.8087 | BK43: ± | BL43: =(_xlfn.STDEV.S('Single data'!CX43:DB43)/SQRT(5)) -> 120.99751 | BM43: =AVERAGE('Single data'!DC43:DH43) -> 904.03673 | BN43: ± | BO43: =(_xlfn.STDEV.S('Single data'!DC43:DH43)/SQRT(6)) -> 244.912 | BP43: =AVERAGE('Single data'!DI43:DN43) -> 685.64282 | BQ43: ± | BR43: =_xlfn.STDEV.S('Single data'!DI43:DN43)/SQRT(6) -> 187.04629 | BS43: =AVERAGE('Single data'!DO43:DS43) -> 667.43246 | BT43: ± | BU43: =(_xlfn.STDEV.S('Single data'!DI43:DN43)/SQRT(6)) -> 187.04629 | BV43: =AVERAGE('Single data'!DT43:DX43) -> 627.02997 | BW43: ± | BX43: =(_xlfn.STDEV.S('Single data'!DT43:DX43)/SQRT(5)) -> 126.00669 | BY43: =AVERAGE('Single data'!DY43:EC43) -> 616.12754 | BZ43: ± | CA43: =(_xlfn.STDEV.S('Single data'!DY43:EC43)/SQRT(5)) -> 144.96101 | CB43: =AVERAGE('Single data'!ED43:EH43) -> 535.31035 | CC43: ± | CD43: =(_xlfn.STDEV.S('Single data'!ED43:EH43)/SQRT(5)) -> 135.11694 | CE43: =AVERAGE('Single data'!EI43:EM43) -> 568.01848 | CF43: ± | CG43: =(_xlfn.STDEV.S('Single data'!EI43:EM43)/SQRT(5)) -> 132.89151 | CH43: =AVERAGE('Single data'!EN43:ER43) -> 519.46871 | CI43: ± | CJ43: =_xlfn.STDEV.S('Single data'!EN43:ER43)/SQRT(5) -> 108.29631 | CK43: =AVERAGE('Single data'!ES43:EW43) -> 643.34622 | CL43: ± | CM43: =(_xlfn.STDEV.S('Single data'!ES43:EW43)/SQRT(5)) -> 133.11626 | CN43: =AVERAGE('Single data'!EX43:FB43) -> 527.56714 | CO43: ± | CP43: =_xlfn.STDEV.S('Single data'!EX43:FB43)/SQRT(5) -> 95.357716 | CQ43: =AVERAGE('Single data'!FC43:FH43) -> 724.40664 | CR43: ± | CS43: =(_xlfn.STDEV.S('Single data'!FC43:FH43)/SQRT(6)) -> 214.2591 | CT43: =AVERAGE('Single data'!FI43:FN43) -> 664.48483 | CU43: ± | CV43: =_xlfn.STDEV.S('Single data'!FI43:FN43)/SQRT(6) -> 203.51869 | CW43: =AVERAGE('Single data'!FO43:FT43) -> 655.89388 | CX43: ± | CY43: =(_xlfn.STDEV.S('Single data'!FO43:FT43)/SQRT(6)) -> 233.84758 | CZ43: =AVERAGE('Single data'!FU43:FY43) -> 368.52328 | DA43: ± | DB43: =_xlfn.STDEV.S('Single data'!FU43:FY43)/SQRT(5) -> 115.37568
C44: 4-HDHA | D44: =AVERAGE('Single data'!D44:O44) -> 29.180914 | E44: ± | F44: =(_xlfn.STDEV.S('Single data'!D44:O44)/SQRT(12)) -> 10.548914 | G44: =AVERAGE('Single data'!P44:S44) -> 25.63114 | H44: ± | I44: =(_xlfn.STDEV.S('Single data'!P44:S44)/SQRT(4)) -> 11.88328 | J44: =AVERAGE('Single data'!T44:W44) -> 19.658165 | K44: ± | L44: =(_xlfn.STDEV.S('Single data'!T44:W44)/SQRT(4)) -> 14.342147 | M44: =AVERAGE('Single data'!X44:AA44) -> 16.8255 | N44: ± | O44: =(_xlfn.STDEV.S('Single data'!X44:AA44)/SQRT(4)) -> 8.2550297 | P44: =AVERAGE('Single data'!AB44:AE44) -> 40.610457 | Q44: ± | R44: {=_xlfn.STDEV.S('Single data'!AB44:AE44/SQRT(4))} -> 10.184163 | S44: =AVERAGE('Single data'!AF44:AI44) -> 7.8852338 | T44: ± | U44: =(_xlfn.STDEV.S('Single data'!AF44:AI44)/SQRT(4)) -> 1.7273866 | V44: =AVERAGE('Single data'!AJ44:AM44) -> 13.644069 | W44: ± | X44: =(_xlfn.STDEV.S('Single data'!AJ44:AM44)/SQRT(4)) -> 3.4807357 | Y44: =AVERAGE('Single data'!AN44:AQ44) -> 17.019889 | Z44: ± | AA44: =(_xlfn.STDEV.S('Single data'!AN44:AQ44)/SQRT(4)) -> 9.3999555 | AB44: =AVERAGE('Single data'!AR44:AU44) -> 36.002408 | AC44: ± | AD44: =(_xlfn.STDEV.S('Single data'!AR44:AU44)/SQRT(4)) -> 10.611339 | AE44: =AVERAGE('Single data'!AV44:AY44) -> 7.8888186 | AF44: ± | AG44: =(_xlfn.STDEV.S('Single data'!AV44:AY44)/SQRT(4)) -> 2.4762948 | AH44: =AVERAGE('Single data'!AZ44:BC44) -> 28.865153 | AI44: ± | AJ44: =_xlfn.STDEV.S('Single data'!AZ44:BC44)/SQRT(4) -> 9.834035 | AK44: =AVERAGE('Single data'!BD44:BG44) -> 7.9061241 | AL44: ± | AM44: =(_xlfn.STDEV.S('Single data'!BD44:BG44)/SQRT(4)) -> 2.2399474 | AN44: =AVERAGE('Single data'!BH44:BK44) -> 6.4948851 | AO44: ± | AP44: =_xlfn.STDEV.S('Single data'!BH44:BK44)/SQRT(4) -> 1.2711452 | AQ44: =AVERAGE('Single data'!BL44:BO44) -> 7.5269822 | AR44: ± | AS44: =(_xlfn.STDEV.S('Single data'!BL44:BO44)/SQRT(4)) -> 1.6832138 | AT44: =AVERAGE('Single data'!BP44:BS44) -> 25.195739 | AU44: ± | AV44: =_xlfn.STDEV.S('Single data'!BP44:BS44)/SQRT(4) -> 6.4601059 | AW44: =AVERAGE('Single data'!BT44:BW44) -> 21.716919 | AX44: ± | AY44: =(_xlfn.STDEV.S('Single data'!BT44:BW44)/SQRT(4)) -> 12.6493 | AZ44: =AVERAGE('Single data'!BX44:CA44) -> 34.268852 | BA44: ± | BB44: =_xlfn.STDEV.S('Single data'!BX44:CA44)/SQRT(4) -> 13.171219 | BD44: =AVERAGE('Single data'!CG44:CR44) -> 365.29937 | BE44: ± | BF44: =(_xlfn.STDEV.S('Single data'!CG44:CR44)/SQRT(12)) -> 108.91457 | BG44: =AVERAGE('Single data'!CS44:CW44) -> 241.16409 | BH44: ± | BI44: =(_xlfn.STDEV.S('Single data'!CS44:CW44)/SQRT(5)) -> 27.48062 | BJ44: =AVERAGE('Single data'!CX44:DB44) -> 259.7842 | BK44: ± | BL44: =(_xlfn.STDEV.S('Single data'!CX44:DB44)/SQRT(5)) -> 55.614455 | BM44: =AVERAGE('Single data'!DC44:DH44) -> 208.58 | BN44: ± | BO44: =(_xlfn.STDEV.S('Single data'!DC44:DH44)/SQRT(6)) -> 48.844696 | BP44: =AVERAGE('Single data'!DI44:DN44) -> 218.1645 | BQ44: ± | BR44: =_xlfn.STDEV.S('Single data'!DI44:DN44)/SQRT(6) -> 48.780621 | BS44: =AVERAGE('Single data'!DO44:DS44) -> 179.89114 | BT44: ± | BU44: =(_xlfn.STDEV.S('Single data'!DI44:DN44)/SQRT(6)) -> 48.780621 | BV44: =AVERAGE('Single data'!DT44:DX44) -> 131.17697 | BW44: ± | BX44: =(_xlfn.STDEV.S('Single data'!DT44:DX44)/SQRT(5)) -> 20.311033 | BY44: =AVERAGE('Single data'!DY44:EC44) -> 212.58176 | BZ44: ± | CA44: =(_xlfn.STDEV.S('Single data'!DY44:EC44)/SQRT(5)) -> 30.758376 | CB44: =AVERAGE('Single data'!ED44:EH44) -> 147.52511 | CC44: ± | CD44: =(_xlfn.STDEV.S('Single data'!ED44:EH44)/SQRT(5)) -> 23.215931 | CE44: =AVERAGE('Single data'!EI44:EM44) -> 225.14059 | CF44: ± | CG44: =(_xlfn.STDEV.S('Single data'!EI44:EM44)/SQRT(5)) -> 25.706196 | CH44: =AVERAGE('Single data'!EN44:ER44) -> 165.71332 | CI44: ± | CJ44: =_xlfn.STDEV.S('Single data'!EN44:ER44)/SQRT(5) -> 30.800605 | CK44: =AVERAGE('Single data'!ES44:EW44) -> 182.00504 | CL44: ± | CM44: =(_xlfn.STDEV.S('Single data'!ES44:EW44)/SQRT(5)) -> 31.912287 | CN44: =AVERAGE('Single data'!EX44:FB44) -> 115.24074 | CO44: ± | CP44: =_xlfn.STDEV.S('Single data'!EX44:FB44)/SQRT(5) -> 21.572963 | CQ44: =AVERAGE('Single data'!FC44:FH44) -> 207.73619 | CR44: ± | CS44: =(_xlfn.STDEV.S('Single data'!FC44:FH44)/SQRT(6)) -> 40.491598 | CT44: =AVERAGE('Single data'!FI44:FN44) -> 142.60859 | CU44: ± | CV44: =_xlfn.STDEV.S('Single data'!FI44:FN44)/SQRT(6) -> 27.783255 | CW44: =AVERAGE('Single data'!FO44:FT44) -> 179.18839 | CX44: ± | CY44: =(_xlfn.STDEV.S('Single data'!FO44:FT44)/SQRT(6)) -> 30.645808 | CZ44: =AVERAGE('Single data'!FU44:FY44) -> 133.47706 | DA44: ± | DB44: =_xlfn.STDEV.S('Single data'!FU44:FY44)/SQRT(5) -> 21.727077
C45: 7-HDPA | D45: =AVERAGE('Single data'!D45:O45) -> 16.032875 | E45: ± | F45: =(_xlfn.STDEV.S('Single data'!D45:O45)/SQRT(12)) -> 7.2059243 | G45: =AVERAGE('Single data'!P45:S45) -> 23.74989 | H45: ± | I45: =(_xlfn.STDEV.S('Single data'!P45:S45)/SQRT(4)) -> 14.760566 | J45: =AVERAGE('Single data'!T45:W45) -> 9.376932 | K45: ± | L45: =(_xlfn.STDEV.S('Single data'!T45:W45)/SQRT(4)) -> 6.6856017 | M45: =AVERAGE('Single data'!X45:AA45) -> 7.1472962 | N45: ± | O45: =(_xlfn.STDEV.S('Single data'!X45:AA45)/SQRT(4)) -> 2.9619327 | P45: =AVERAGE('Single data'!AB45:AE45) -> 22.929238 | Q45: ± | R45: {=_xlfn.STDEV.S('Single data'!AB45:AE45/SQRT(4))} -> 6.0122447 | S45: =AVERAGE('Single data'!AF45:AI45) -> 4.4407567 | T45: ± | U45: =(_xlfn.STDEV.S('Single data'!AF45:AI45)/SQRT(4)) -> 0.73176108 | V45: =AVERAGE('Single data'!AJ45:AM45) -> 8.8848299 | W45: ± | X45: =(_xlfn.STDEV.S('Single data'!AJ45:AM45)/SQRT(4)) -> 2.2619158 | Y45: =AVERAGE('Single data'!AN45:AQ45) -> 10.201521 | Z45: ± | AA45: =(_xlfn.STDEV.S('Single data'!AN45:AQ45)/SQRT(4)) -> 4.1197847 | AB45: =AVERAGE('Single data'!AR45:AU45) -> 37.66577 | AC45: ± | AD45: =(_xlfn.STDEV.S('Single data'!AR45:AU45)/SQRT(4)) -> 11.251165 | AE45: =AVERAGE('Single data'!AV45:AY45) -> 5.3935982 | AF45: ± | AG45: =(_xlfn.STDEV.S('Single data'!AV45:AY45)/SQRT(4)) -> 1.108129 | AH45: =AVERAGE('Single data'!AZ45:BC45) -> 24.16642 | AI45: ± | AJ45: =_xlfn.STDEV.S('Single data'!AZ45:BC45)/SQRT(4) -> 6.5570676 | AK45: =AVERAGE('Single data'!BD45:BG45) -> 6.0638707 | AL45: ± | AM45: =(_xlfn.STDEV.S('Single data'!BD45:BG45)/SQRT(4)) -> 1.4706661 | AN45: =AVERAGE('Single data'!BH45:BK45) -> 9.8757668 | AO45: ± | AP45: =_xlfn.STDEV.S('Single data'!BH45:BK45)/SQRT(4) -> 2.2472124 | AQ45: =AVERAGE('Single data'!BL45:BO45) -> 3.4439632 | AR45: ± | AS45: =(_xlfn.STDEV.S('Single data'!BL45:BO45)/SQRT(4)) -> 0.80128816 | AT45: =AVERAGE('Single data'!BP45:BS45) -> 17.153453 | AU45: ± | AV45: =_xlfn.STDEV.S('Single data'!BP45:BS45)/SQRT(4) -> 2.9741655 | AW45: =AVERAGE('Single data'!BT45:BW45) -> 8.5923909 | AX45: ± | AY45: =(_xlfn.STDEV.S('Single data'!BT45:BW45)/SQRT(4)) -> 4.8697402 | AZ45: =AVERAGE('Single data'!BX45:CA45) -> 19.75339 | BA45: ± | BB45: =_xlfn.STDEV.S('Single data'!BX45:CA45)/SQRT(4) -> 7.2750343 | BD45: =AVERAGE('Single data'!CG45:CR45) -> 257.43165 | BE45: ± | BF45: =(_xlfn.STDEV.S('Single data'!CG45:CR45)/SQRT(12)) -> 34.641842 | BG45: =AVERAGE('Single data'!CS45:CW45) -> 168.63639 | BH45: ± | BI45: =(_xlfn.STDEV.S('Single data'!CS45:CW45)/SQRT(5)) -> 13.637893 | BJ45: =AVERAGE('Single data'!CX45:DB45) -> 188.85563 | BK45: ± | BL45: =(_xlfn.STDEV.S('Single data'!CX45:DB45)/SQRT(5)) -> 22.440099 | BM45: =AVERAGE('Single data'!DC45:DH45) -> 162.59632 | BN45: ± | BO45: =(_xlfn.STDEV.S('Single data'!DC45:DH45)/SQRT(6)) -> 25.110177 | BP45: =AVERAGE('Single data'!DI45:DN45) -> 166.8296 | BQ45: ± | BR45: =_xlfn.STDEV.S('Single data'!DI45:DN45)/SQRT(6) -> 37.157857 | BS45: =AVERAGE('Single data'!DO45:DS45) -> 146.92991 | BT45: ± | BU45: =(_xlfn.STDEV.S('Single data'!DI45:DN45)/SQRT(6)) -> 37.157857 | BV45: =AVERAGE('Single data'!DT45:DX45) -> 101.20783 | BW45: ± | BX45: =(_xlfn.STDEV.S('Single data'!DT45:DX45)/SQRT(5)) -> 11.091957 | BY45: =AVERAGE('Single data'!DY45:EC45) -> 157.28735 | BZ45: ± | CA45: =(_xlfn.STDEV.S('Single data'!DY45:EC45)/SQRT(5)) -> 23.001794 | CB45: =AVERAGE('Single data'!ED45:EH45) -> 122.3373 | CC45: ± | CD45: =(_xlfn.STDEV.S('Single data'!ED45:EH45)/SQRT(5)) -> 12.222745 | CE45: =AVERAGE('Single data'!EI45:EM45) -> 164.25059 | CF45: ± | CG45: =(_xlfn.STDEV.S('Single data'!EI45:EM45)/SQRT(5)) -> 22.210872 | CH45: =AVERAGE('Single data'!EN45:ER45) -> 131.33007 | CI45: ± | CJ45: =_xlfn.STDEV.S('Single data'!EN45:ER45)/SQRT(5) -> 29.367131 | CK45: =AVERAGE('Single data'!ES45:EW45) -> 152.6421 | CL45: ± | CM45: =(_xlfn.STDEV.S('Single data'!ES45:EW45)/SQRT(5)) -> 17.616027 | CN45: =AVERAGE('Single data'!EX45:FB45) -> 80.58998 | CO45: ± | CP45: =_xlfn.STDEV.S('Single data'!EX45:FB45)/SQRT(5) -> 8.0420119 | CQ45: =AVERAGE('Single data'!FC45:FH45) -> 152.3204 | CR45: ± | CS45: =(_xlfn.STDEV.S('Single data'!FC45:FH45)/SQRT(6)) -> 21.376914 | CT45: =AVERAGE('Single data'!FI45:FN45) -> 105.77394 | CU45: ± | CV45: =_xlfn.STDEV.S('Single data'!FI45:FN45)/SQRT(6) -> 11.906432 | CW45: =AVERAGE('Single data'!FO45:FT45) -> 121.66899 | CX45: ± | CY45: =(_xlfn.STDEV.S('Single data'!FO45:FT45)/SQRT(6)) -> 8.5099178 | CZ45: =AVERAGE('Single data'!FU45:FY45) -> 81.763756 | DA45: ± | DB45: =_xlfn.STDEV.S('Single data'!FU45:FY45)/SQRT(5) -> 7.1664004
C46: 11-HEPE | BD46: =AVERAGE('Single data'!CG46:CR46) -> 93.34336 | BE46: ± | BF46: =(_xlfn.STDEV.S('Single data'!CG46:CR46)/SQRT(12)) -> 14.048139 | BG46: =AVERAGE('Single data'!CS46:CW46) -> 53.985203 | BH46: ± | BI46: =(_xlfn.STDEV.S('Single data'!CS46:CW46)/SQRT(5)) -> 10.421047 | BJ46: =AVERAGE('Single data'!CX46:DB46) -> 53.311532 | BK46: ± | BL46: =(_xlfn.STDEV.S('Single data'!CX46:DB46)/SQRT(5)) -> 5.8380524 | BM46: =AVERAGE('Single data'!DC46:DH46) -> 73.404719 | BN46: ± | BO46: =(_xlfn.STDEV.S('Single data'!DC46:DH46)/SQRT(6)) -> 19.239037 | BP46: =AVERAGE('Single data'!DI46:DN46) -> 54.297608 | BQ46: ± | BR46: =_xlfn.STDEV.S('Single data'!DI46:DN46)/SQRT(6) -> 12.085926 | BS46: =AVERAGE('Single data'!DO46:DS46) -> 57.390579 | BT46: ± | BU46: =(_xlfn.STDEV.S('Single data'!DI46:DN46)/SQRT(6)) -> 12.085926 | BV46: =AVERAGE('Single data'!DT46:DX46) -> 47.799882 | BW46: ± | BX46: =(_xlfn.STDEV.S('Single data'!DT46:DX46)/SQRT(5)) -> 4.6913957 | BY46: =AVERAGE('Single data'!DY46:EC46) -> 57.27801 | BZ46: ± | CA46: =(_xlfn.STDEV.S('Single data'!DY46:EC46)/SQRT(5)) -> 11.210526 | CB46: =AVERAGE('Single data'!ED46:EH46) -> 47.868074 | CC46: ± | CD46: =(_xlfn.STDEV.S('Single data'!ED46:EH46)/SQRT(5)) -> 8.366857 | CE46: =AVERAGE('Single data'!EI46:EM46) -> 61.501611 | CF46: ± | CG46: =(_xlfn.STDEV.S('Single data'!EI46:EM46)/SQRT(5)) -> 12.089078 | CH46: =AVERAGE('Single data'!EN46:ER46) -> 37.416947 | CI46: ± | CJ46: =_xlfn.STDEV.S('Single data'!EN46:ER46)/SQRT(5) -> 7.2241127 | CK46: =AVERAGE('Single data'!ES46:EW46) -> 66.622216 | CL46: ± | CM46: =(_xlfn.STDEV.S('Single data'!ES46:EW46)/SQRT(5)) -> 14.221981 | CN46: =AVERAGE('Single data'!EX46:FB46) -> 41.438939 | CO46: ± | CP46: =_xlfn.STDEV.S('Single data'!EX46:FB46)/SQRT(5) -> 4.4619778 | CQ46: =AVERAGE('Single data'!FC46:FH46) -> 74.877764 | CR46: ± | CS46: =(_xlfn.STDEV.S('Single data'!FC46:FH46)/SQRT(6)) -> 14.088876 | CT46: =AVERAGE('Single data'!FI46:FN46) -> 53.791537 | CU46: ± | CV46: =_xlfn.STDEV.S('Single data'!FI46:FN46)/SQRT(6) -> 11.565201 | CW46: =AVERAGE('Single data'!FO46:FT46) -> 57.180356 | CX46: ± | CY46: =(_xlfn.STDEV.S('Single data'!FO46:FT46)/SQRT(6)) -> 16.82032 | CZ46: =AVERAGE('Single data'!FU46:FY46) -> 41.781936 | DA46: ± | DB46: =_xlfn.STDEV.S('Single data'!FU46:FY46)/SQRT(5) -> 6.7868787
C47: 11-HETE | D47: =AVERAGE('Single data'!D47:O47) -> 58.133989 | E47: ± | F47: =(_xlfn.STDEV.S('Single data'!D47:O47)/SQRT(12)) -> 33.349274 | G47: =AVERAGE('Single data'!P47:S47) -> 46.783747 | H47: ± | I47: =(_xlfn.STDEV.S('Single data'!P47:S47)/SQRT(4)) -> 25.407245 | J47: =AVERAGE('Single data'!T47:W47) -> 25.00314 | K47: ± | L47: =(_xlfn.STDEV.S('Single data'!T47:W47)/SQRT(4)) -> 20.262391 | M47: =AVERAGE('Single data'!X47:AA47) -> 19.657012 | N47: ± | O47: =(_xlfn.STDEV.S('Single data'!X47:AA47)/SQRT(4)) -> 17.17792 | P47: =AVERAGE('Single data'!AB47:AE47) -> 40.186464 | Q47: ± | R47: {=_xlfn.STDEV.S('Single data'!AB47:AE47/SQRT(4))} -> 24.732679 | S47: =AVERAGE('Single data'!AF47:AI47) -> 3.2665918 | T47: ± | U47: =(_xlfn.STDEV.S('Single data'!AF47:AI47)/SQRT(4)) -> 0.9717822 | V47: =AVERAGE('Single data'!AJ47:AM47) -> 8.60739 | W47: ± | X47: =(_xlfn.STDEV.S('Single data'!AJ47:AM47)/SQRT(4)) -> 1.8519694 | Y47: =AVERAGE('Single data'!AN47:AQ47) -> 23.545664 | Z47: ± | AA47: =(_xlfn.STDEV.S('Single data'!AN47:AQ47)/SQRT(4)) -> 19.131591 | AB47: =AVERAGE('Single data'!AR47:AU47) -> 52.512138 | AC47: ± | AD47: =(_xlfn.STDEV.S('Single data'!AR47:AU47)/SQRT(4)) -> 16.006099 | AE47: =AVERAGE('Single data'!AV47:AY47) -> 3.7048589 | AF47: ± | AG47: =(_xlfn.STDEV.S('Single data'!AV47:AY47)/SQRT(4)) -> 0.73858775 | AH47: =AVERAGE('Single data'!AZ47:BC47) -> 29.359932 | AI47: ± | AJ47: =_xlfn.STDEV.S('Single data'!AZ47:BC47)/SQRT(4) -> 8.2173063 | AK47: =AVERAGE('Single data'!BD47:BG47) -> 3.5289974 | AL47: ± | AM47: =(_xlfn.STDEV.S('Single data'!BD47:BG47)/SQRT(4)) -> 1.0048107 | AN47: =AVERAGE('Single data'!BH47:BK47) -> 10.917429 | AO47: ± | AP47: =_xlfn.STDEV.S('Single data'!BH47:BK47)/SQRT(4) -> 3.3043966 | AQ47: =AVERAGE('Single data'!BL47:BO47) -> 2.5095653 | AR47: ± | AS47: =(_xlfn.STDEV.S('Single data'!BL47:BO47)/SQRT(4)) -> 0.42179716 | AT47: =AVERAGE('Single data'!BP47:BS47) -> 23.951308 | AU47: ± | AV47: =_xlfn.STDEV.S('Single data'!BP47:BS47)/SQRT(4) -> 2.5592038 | AW47: =AVERAGE('Single data'!BT47:BW47) -> 21.278296 | AX47: ± | AY47: =(_xlfn.STDEV.S('Single data'!BT47:BW47)/SQRT(4)) -> 19.31301 | AZ47: =AVERAGE('Single data'!BX47:CA47) -> 39.093023 | BA47: ± | BB47: =_xlfn.STDEV.S('Single data'!BX47:CA47)/SQRT(4) -> 24.926432 | BD47: =AVERAGE('Single data'!CG47:CR47) -> 652.06304 | BE47: ± | BF47: =(_xlfn.STDEV.S('Single data'!CG47:CR47)/SQRT(12)) -> 49.796161 | BG47: =AVERAGE('Single data'!CS47:CW47) -> 469.34672 | BH47: ± | BI47: =(_xlfn.STDEV.S('Single data'!CS47:CW47)/SQRT(5)) -> 91.12282 | BJ47: =AVERAGE('Single data'!CX47:DB47) -> 399.38201 | BK47: ± | BL47: =(_xlfn.STDEV.S('Single data'!CX47:DB47)/SQRT(5)) -> 30.625618 | BM47: =AVERAGE('Single data'!DC47:DH47) -> 541.7284 | BN47: ± | BO47: =(_xlfn.STDEV.S('Single data'!DC47:DH47)/SQRT(6)) -> 93.259665 | BP47: =AVERAGE('Single data'!DI47:DN47) -> 367.51578 | BQ47: ± | BR47: =_xlfn.STDEV.S('Single data'!DI47:DN47)/SQRT(6) -> 47.056153 | BS47: =AVERAGE('Single data'!DO47:DS47) -> 548.6083 | BT47: ± | BU47: =(_xlfn.STDEV.S('Single data'!DI47:DN47)/SQRT(6)) -> 47.056153 | BV47: =AVERAGE('Single data'!DT47:DX47) -> 367.18524 | BW47: ± | BX47: =(_xlfn.STDEV.S('Single data'!DT47:DX47)/SQRT(5)) -> 37.41889 | BY47: =AVERAGE('Single data'!DY47:EC47) -> 471.95328 | BZ47: ± | CA47: =(_xlfn.STDEV.S('Single data'!DY47:EC47)/SQRT(5)) -> 88.376404 | CB47: =AVERAGE('Single data'!ED47:EH47) -> 307.40536 | CC47: ± | CD47: =(_xlfn.STDEV.S('Single data'!ED47:EH47)/SQRT(5)) -> 49.861926 | CE47: =AVERAGE('Single data'!EI47:EM47) -> 500.59651 | CF47: ± | CG47: =(_xlfn.STDEV.S('Single data'!EI47:EM47)/SQRT(5)) -> 88.95164 | CH47: =AVERAGE('Single data'!EN47:ER47) -> 242.52164 | CI47: ± | CJ47: =_xlfn.STDEV.S('Single data'!EN47:ER47)/SQRT(5) -> 62.331805 | CK47: =AVERAGE('Single data'!ES47:EW47) -> 542.5537 | CL47: ± | CM47: =(_xlfn.STDEV.S('Single data'!ES47:EW47)/SQRT(5)) -> 79.942448 | CN47: =AVERAGE('Single data'!EX47:FB47) -> 351.29169 | CO47: ± | CP47: =_xlfn.STDEV.S('Single data'!EX47:FB47)/SQRT(5) -> 36.072435 | CQ47: =AVERAGE('Single data'!FC47:FH47) -> 544.42104 | CR47: ± | CS47: =(_xlfn.STDEV.S('Single data'!FC47:FH47)/SQRT(6)) -> 84.587816 | CT47: =AVERAGE('Single data'!FI47:FN47) -> 379.45138 | CU47: ± | CV47: =_xlfn.STDEV.S('Single data'!FI47:FN47)/SQRT(6) -> 62.603933 | CW47: =AVERAGE('Single data'!FO47:FT47) -> 432.65349 | CX47: ± | CY47: =(_xlfn.STDEV.S('Single data'!FO47:FT47)/SQRT(6)) -> 70.616839 | CZ47: =AVERAGE('Single data'!FU47:FY47) -> 352.36498 | DA47: ± | DB47: =_xlfn.STDEV.S('Single data'!FU47:FY47)/SQRT(5) -> 50.285862
C48: 8-HETE | D48: =AVERAGE('Single data'!D48:O48) -> 300.73388 | E48: ± | F48: =(_xlfn.STDEV.S('Single data'!D48:O48)/SQRT(12)) -> 171.28976 | G48: =AVERAGE('Single data'!P48:S48) -> 254.20251 | H48: ± | I48: =(_xlfn.STDEV.S('Single data'!P48:S48)/SQRT(4)) -> 152.93946 | J48: =AVERAGE('Single data'!T48:W48) -> 138.88713 | K48: ± | L48: =(_xlfn.STDEV.S('Single data'!T48:W48)/SQRT(4)) -> 107.22377 | M48: =AVERAGE('Single data'!X48:AA48) -> 98.28095 | N48: ± | O48: =(_xlfn.STDEV.S('Single data'!X48:AA48)/SQRT(4)) -> 80.447776 | P48: =AVERAGE('Single data'!AB48:AE48) -> 312.42455 | Q48: ± | R48: {=_xlfn.STDEV.S('Single data'!AB48:AE48/SQRT(4))} -> 158.39022 | S48: =AVERAGE('Single data'!AF48:AI48) -> 18.874596 | T48: ± | U48: =(_xlfn.STDEV.S('Single data'!AF48:AI48)/SQRT(4)) -> 3.3647869 | V48: =AVERAGE('Single data'!AJ48:AM48) -> 127.4003 | W48: ± | X48: =(_xlfn.STDEV.S('Single data'!AJ48:AM48)/SQRT(4)) -> 47.202609 | Y48: =AVERAGE('Single data'!AN48:AQ48) -> 107.66892 | Z48: ± | AA48: =(_xlfn.STDEV.S('Single data'!AN48:AQ48)/SQRT(4)) -> 80.682068 | AB48: =AVERAGE('Single data'!AR48:AU48) -> 774.92532 | AC48: ± | AD48: =(_xlfn.STDEV.S('Single data'!AR48:AU48)/SQRT(4)) -> 243.7978 | AE48: =AVERAGE('Single data'!AV48:AY48) -> 31.027747 | AF48: ± | AG48: =(_xlfn.STDEV.S('Single data'!AV48:AY48)/SQRT(4)) -> 13.273476 | AH48: =AVERAGE('Single data'!AZ48:BC48) -> 429.05258 | AI48: ± | AJ48: =_xlfn.STDEV.S('Single data'!AZ48:BC48)/SQRT(4) -> 178.50577 | AK48: =AVERAGE('Single data'!BD48:BG48) -> 19.636218 | AL48: ± | AM48: =(_xlfn.STDEV.S('Single data'!BD48:BG48)/SQRT(4)) -> 6.1485484 | AN48: =AVERAGE('Single data'!BH48:BK48) -> 89.872083 | AO48: ± | AP48: =_xlfn.STDEV.S('Single data'!BH48:BK48)/SQRT(4) -> 31.178116 | AQ48: =AVERAGE('Single data'!BL48:BO48) -> 19.892293 | AR48: ± | AS48: =(_xlfn.STDEV.S('Single data'!BL48:BO48)/SQRT(4)) -> 2.6916237 | AT48: =AVERAGE('Single data'!BP48:BS48) -> 308.96286 | AU48: ± | AV48: =_xlfn.STDEV.S('Single data'!BP48:BS48)/SQRT(4) -> 37.387552 | AW48: =AVERAGE('Single data'!BT48:BW48) -> 95.960738 | AX48: ± | AY48: =(_xlfn.STDEV.S('Single data'!BT48:BW48)/SQRT(4)) -> 63.452534 | AZ48: =AVERAGE('Single data'!BX48:CA48) -> 256.07032 | BA48: ± | BB48: =_xlfn.STDEV.S('Single data'!BX48:CA48)/SQRT(4) -> 105.32849 | BD48: =AVERAGE('Single data'!CG48:CR48) -> 6720.437 | BE48: ± | BF48: =(_xlfn.STDEV.S('Single data'!CG48:CR48)/SQRT(12)) -> 1027.7726 | BG48: =AVERAGE('Single data'!CS48:CW48) -> 3938.5734 | BH48: ± | BI48: =(_xlfn.STDEV.S('Single data'!CS48:CW48)/SQRT(5)) -> 1558.1619 | BJ48: =AVERAGE('Single data'!CX48:DB48) -> 3856.1132 | BK48: ± | BL48: =(_xlfn.STDEV.S('Single data'!CX48:DB48)/SQRT(5)) -> 1189.8915 | BM48: =AVERAGE('Single data'!DC48:DH48) -> 6082.4508 | BN48: ± | BO48: =(_xlfn.STDEV.S('Single data'!DC48:DH48)/SQRT(6)) -> 1719.9808 | BP48: =AVERAGE('Single data'!DI48:DN48) -> 4718.5345 | BQ48: ± | BR48: =_xlfn.STDEV.S('Single data'!DI48:DN48)/SQRT(6) -> 1231.7187 | BS48: =AVERAGE('Single data'!DO48:DS48) -> 5230.4045 | BT48: ± | BU48: =(_xlfn.STDEV.S('Single data'!DI48:DN48)/SQRT(6)) -> 1231.7187 | BV48: =AVERAGE('Single data'!DT48:DX48) -> 4670.1879 | BW48: ± | BX48: =(_xlfn.STDEV.S('Single data'!DT48:DX48)/SQRT(5)) -> 1212.292 | BY48: =AVERAGE('Single data'!DY48:EC48) -> 5601.5602 | BZ48: ± | CA48: =(_xlfn.STDEV.S('Single data'!DY48:EC48)/SQRT(5)) -> 1555.8203 | CB48: =AVERAGE('Single data'!ED48:EH48) -> 5695.6261 | CC48: ± | CD48: =(_xlfn.STDEV.S('Single data'!ED48:EH48)/SQRT(5)) -> 1485.3449 | CE48: =AVERAGE('Single data'!EI48:EM48) -> 6003.5415 | CF48: ± | CG48: =(_xlfn.STDEV.S('Single data'!EI48:EM48)/SQRT(5)) -> 1576.5681 | CH48: =AVERAGE('Single data'!EN48:ER48) -> 4725.3508 | CI48: ± | CJ48: =_xlfn.STDEV.S('Single data'!EN48:ER48)/SQRT(5) -> 1233.7691 | CK48: =AVERAGE('Single data'!ES48:EW48) -> 4964.021 | CL48: ± | CM48: =(_xlfn.STDEV.S('Single data'!ES48:EW48)/SQRT(5)) -> 1293.6542 | CN48: =AVERAGE('Single data'!EX48:FB48) -> 4050.7451 | CO48: ± | CP48: =_xlfn.STDEV.S('Single data'!EX48:FB48)/SQRT(5) -> 1064.4634 | CQ48: =AVERAGE('Single data'!FC48:FH48) -> 5736.8645 | CR48: ± | CS48: =(_xlfn.STDEV.S('Single data'!FC48:FH48)/SQRT(6)) -> 1667.2112 | CT48: =AVERAGE('Single data'!FI48:FN48) -> 4853.8549 | CU48: ± | CV48: =_xlfn.STDEV.S('Single data'!FI48:FN48)/SQRT(6) -> 1460.0838 | CW48: =AVERAGE('Single data'!FO48:FT48) -> 3835.6497 | CX48: ± | CY48: =(_xlfn.STDEV.S('Single data'!FO48:FT48)/SQRT(6)) -> 1432.3081 | CZ48: =AVERAGE('Single data'!FU48:FY48) -> 2713.8514 | DA48: ± | DB48: =_xlfn.STDEV.S('Single data'!FU48:FY48)/SQRT(5) -> 1084.9018
C49: 9-HODE | D49: =AVERAGE('Single data'!D49:O49) -> 513.7335 | E49: ± | F49: =(_xlfn.STDEV.S('Single data'!D49:O49)/SQRT(12)) -> 71.023368 | G49: =AVERAGE('Single data'!P49:S49) -> 903.38015 | H49: ± | I49: =(_xlfn.STDEV.S('Single data'!P49:S49)/SQRT(4)) -> 220.39957 | J49: =AVERAGE('Single data'!T49:W49) -> 416.03884 | K49: ± | L49: =(_xlfn.STDEV.S('Single data'!T49:W49)/SQRT(4)) -> 85.744836 | M49: =AVERAGE('Single data'!X49:AA49) -> 371.8163 | N49: ± | O49: =(_xlfn.STDEV.S('Single data'!X49:AA49)/SQRT(4)) -> 61.506033 | P49: =AVERAGE('Single data'!AB49:AE49) -> 963.07528 | Q49: ± | R49: {=_xlfn.STDEV.S('Single data'!AB49:AE49/SQRT(4))} -> 219.19313 | S49: =AVERAGE('Single data'!AF49:AI49) -> 408.31543 | T49: ± | U49: =(_xlfn.STDEV.S('Single data'!AF49:AI49)/SQRT(4)) -> 101.85018 | V49: =AVERAGE('Single data'!AJ49:AM49) -> 479.53382 | W49: ± | X49: =(_xlfn.STDEV.S('Single data'!AJ49:AM49)/SQRT(4)) -> 88.730405 | Y49: =AVERAGE('Single data'!AN49:AQ49) -> 437.80206 | Z49: ± | AA49: =(_xlfn.STDEV.S('Single data'!AN49:AQ49)/SQRT(4)) -> 44.855636 | AB49: =AVERAGE('Single data'!AR49:AU49) -> 405.58762 | AC49: ± | AD49: =(_xlfn.STDEV.S('Single data'!AR49:AU49)/SQRT(4)) -> 65.009491 | AE49: =AVERAGE('Single data'!AV49:AY49) -> 409.50297 | AF49: ± | AG49: =(_xlfn.STDEV.S('Single data'!AV49:AY49)/SQRT(4)) -> 86.412339 | AH49: =AVERAGE('Single data'!AZ49:BC49) -> 786.72919 | AI49: ± | AJ49: =_xlfn.STDEV.S('Single data'!AZ49:BC49)/SQRT(4) -> 439.50086 | AK49: =AVERAGE('Single data'!BD49:BG49) -> 486.91951 | AL49: ± | AM49: =(_xlfn.STDEV.S('Single data'!BD49:BG49)/SQRT(4)) -> 109.93429 | AN49: =AVERAGE('Single data'!BH49:BK49) -> 423.05197 | AO49: ± | AP49: =_xlfn.STDEV.S('Single data'!BH49:BK49)/SQRT(4) -> 107.63132 | AQ49: =AVERAGE('Single data'!BL49:BO49) -> 299.19767 | AR49: ± | AS49: =(_xlfn.STDEV.S('Single data'!BL49:BO49)/SQRT(4)) -> 10.845842 | AT49: =AVERAGE('Single data'!BP49:BS49) -> 302.52798 | AU49: ± | AV49: =_xlfn.STDEV.S('Single data'!BP49:BS49)/SQRT(4) -> 17.117434 | AW49: =AVERAGE('Single data'!BT49:BW49) -> 314.93156 | AX49: ± | AY49: =(_xlfn.STDEV.S('Single data'!BT49:BW49)/SQRT(4)) -> 36.694736 | AZ49: =AVERAGE('Single data'!BX49:CA49) -> 467.02991 | BA49: ± | BB49: =_xlfn.STDEV.S('Single data'!BX49:CA49)/SQRT(4) -> 62.93192 | BD49: =AVERAGE('Single data'!CG49:CR49) -> 7597.5186 | BE49: ± | BF49: =(_xlfn.STDEV.S('Single data'!CG49:CR49)/SQRT(12)) -> 6123.9593 | BG49: =AVERAGE('Single data'!CS49:CW49) -> 1028.3076 | BH49: ± | BI49: =(_xlfn.STDEV.S('Single data'!CS49:CW49)/SQRT(5)) -> 83.458158 | BJ49: =AVERAGE('Single data'!CX49:DB49) -> 990.80909 | BK49: ± | BL49: =(_xlfn.STDEV.S('Single data'!CX49:DB49)/SQRT(5)) -> 83.241477 | BM49: =AVERAGE('Single data'!DC49:DH49) -> 1399.8514 | BN49: ± | BO49: =(_xlfn.STDEV.S('Single data'!DC49:DH49)/SQRT(6)) -> 119.47936 | BP49: =AVERAGE('Single data'!DI49:DN49) -> 4167.3911 | BQ49: ± | BR49: =_xlfn.STDEV.S('Single data'!DI49:DN49)/SQRT(6) -> 152.74374 | BS49: =AVERAGE('Single data'!DO49:DS49) -> 1175.3049 | BT49: ± | BU49: =(_xlfn.STDEV.S('Single data'!DI49:DN49)/SQRT(6)) -> 152.74374 | BV49: =AVERAGE('Single data'!DT49:DX49) -> 1531.9518 | BW49: ± | BX49: =(_xlfn.STDEV.S('Single data'!DT49:DX49)/SQRT(5)) -> 158.09064 | BY49: =AVERAGE('Single data'!DY49:EC49) -> 1015.7375 | BZ49: ± | CA49: =(_xlfn.STDEV.S('Single data'!DY49:EC49)/SQRT(5)) -> 123.96079 | CB49: =AVERAGE('Single data'!ED49:EH49) -> 870.76781 | CC49: ± | CD49: =(_xlfn.STDEV.S('Single data'!ED49:EH49)/SQRT(5)) -> 92.631066 | CE49: =AVERAGE('Single data'!EI49:EM49) -> 898.09766 | CF49: ± | CG49: =(_xlfn.STDEV.S('Single data'!EI49:EM49)/SQRT(5)) -> 80.321955 | CH49: =AVERAGE('Single data'!EN49:ER49) -> 875.19694 | CI49: ± | CJ49: =_xlfn.STDEV.S('Single data'!EN49:ER49)/SQRT(5) -> 89.261699 | CK49: =AVERAGE('Single data'!ES49:EW49) -> 1330.1541 | CL49: ± | CM49: =(_xlfn.STDEV.S('Single data'!ES49:EW49)/SQRT(5)) -> 257.23401 | CN49: =AVERAGE('Single data'!EX49:FB49) -> 936.11728 | CO49: ± | CP49: =_xlfn.STDEV.S('Single data'!EX49:FB49)/SQRT(5) -> 44.3425 | CQ49: =AVERAGE('Single data'!FC49:FH49) -> 1307.3385 | CR49: ± | CS49: =(_xlfn.STDEV.S('Single data'!FC49:FH49)/SQRT(6)) -> 170.2039 | CT49: =AVERAGE('Single data'!FI49:FN49) -> 1209.4953 | CU49: ± | CV49: =_xlfn.STDEV.S('Single data'!FI49:FN49)/SQRT(6) -> 129.29995 | CW49: =AVERAGE('Single data'!FO49:FT49) -> 1076.3161 | CX49: ± | CY49: =(_xlfn.STDEV.S('Single data'!FO49:FT49)/SQRT(6)) -> 123.37763 | CZ49: =AVERAGE('Single data'!FU49:FY49) -> 1622.9117 | DA49: ± | DB49: =_xlfn.STDEV.S('Single data'!FU49:FY49)/SQRT(5) -> 323.08606
C50: 12-HHT | D50: =AVERAGE('Single data'!D50:O50) -> 551.60806 | E50: ± | F50: =(_xlfn.STDEV.S('Single data'!D50:O50)/SQRT(12)) -> 320.04881 | G50: =AVERAGE('Single data'!P50:S50) -> 468.04793 | H50: ± | I50: =(_xlfn.STDEV.S('Single data'!P50:S50)/SQRT(4)) -> 455.2015 | J50: =AVERAGE('Single data'!T50:W50) -> 272.37634 | K50: ± | L50: =(_xlfn.STDEV.S('Single data'!T50:W50)/SQRT(4)) -> 261.70834 | M50: =AVERAGE('Single data'!X50:AA50) -> 462.30364 | N50: ± | O50: =(_xlfn.STDEV.S('Single data'!X50:AA50)/SQRT(4)) -> 452.62148 | P50: =AVERAGE('Single data'!AB50:AE50) -> 157.42357 | Q50: ± | R50: {=_xlfn.STDEV.S('Single data'!AB50:AE50/SQRT(4))} -> 132.98245 | S50: =AVERAGE('Single data'!AF50:AI50) -> 19.956352 | T50: ± | U50: =(_xlfn.STDEV.S('Single data'!AF50:AI50)/SQRT(4)) -> 7.8450133 | V50: =AVERAGE('Single data'!AJ50:AM50) -> 22.785715 | W50: ± | X50: =(_xlfn.STDEV.S('Single data'!AJ50:AM50)/SQRT(4)) -> 5.9428983 | Y50: =AVERAGE('Single data'!AN50:AQ50) -> 326.58615 | Z50: ± | AA50: =(_xlfn.STDEV.S('Single data'!AN50:AQ50)/SQRT(4)) -> 298.33215 | AB50: =AVERAGE('Single data'!AR50:AU50) -> 122.85282 | AC50: ± | AD50: =(_xlfn.STDEV.S('Single data'!AR50:AU50)/SQRT(4)) -> 52.865316 | AE50: =AVERAGE('Single data'!AV50:AY50) -> 23.639607 | AF50: ± | AG50: =(_xlfn.STDEV.S('Single data'!AV50:AY50)/SQRT(4)) -> 8.0974883 | AH50: =AVERAGE('Single data'!AZ50:BC50) -> 49.901246 | AI50: ± | AJ50: =_xlfn.STDEV.S('Single data'!AZ50:BC50)/SQRT(4) -> 14.270781 | AK50: =AVERAGE('Single data'!BD50:BG50) -> 13.840316 | AL50: ± | AM50: =(_xlfn.STDEV.S('Single data'!BD50:BG50)/SQRT(4)) -> 4.4448755 | AN50: =AVERAGE('Single data'!BH50:BK50) -> 28.869907 | AO50: ± | AP50: =_xlfn.STDEV.S('Single data'!BH50:BK50)/SQRT(4) -> 9.3728434 | AQ50: =AVERAGE('Single data'!BL50:BO50) -> 13.870887 | AR50: ± | AS50: =(_xlfn.STDEV.S('Single data'!BL50:BO50)/SQRT(4)) -> 6.1169791 | AT50: =AVERAGE('Single data'!BP50:BS50) -> 75.792522 | AU50: ± | AV50: =_xlfn.STDEV.S('Single data'!BP50:BS50)/SQRT(4) -> 18.176448 | AW50: =AVERAGE('Single data'!BT50:BW50) -> 383.65838 | AX50: ± | AY50: =(_xlfn.STDEV.S('Single data'!BT50:BW50)/SQRT(4)) -> 375.85867 | AZ50: =AVERAGE('Single data'!BX50:CA50) -> 382.21756 | BA50: ± | BB50: =_xlfn.STDEV.S('Single data'!BX50:CA50)/SQRT(4) -> 304.85387 | BD50: =AVERAGE('Single data'!CG50:CR50) -> 4449.4286 | BE50: ± | BF50: =(_xlfn.STDEV.S('Single data'!CG50:CR50)/SQRT(12)) -> 490.92901 | BG50: =AVERAGE('Single data'!CS50:CW50) -> 2935.9588 | BH50: ± | BI50: =(_xlfn.STDEV.S('Single data'!CS50:CW50)/SQRT(5)) -> 562.04805 | BJ50: =AVERAGE('Single data'!CX50:DB50) -> 2375.5339 | BK50: ± | BL50: =(_xlfn.STDEV.S('Single data'!CX50:DB50)/SQRT(5)) -> 380.57395 | BM50: =AVERAGE('Single data'!DC50:DH50) -> 4556.947 | BN50: ± | BO50: =(_xlfn.STDEV.S('Single data'!DC50:DH50)/SQRT(6)) -> 1127.2808 | BP50: =AVERAGE('Single data'!DI50:DN50) -> 1725.6478 | BQ50: ± | BR50: =_xlfn.STDEV.S('Single data'!DI50:DN50)/SQRT(6) -> 490.60611 | BS50: =AVERAGE('Single data'!DO50:DS50) -> 3671.8555 | BT50: ± | BU50: =(_xlfn.STDEV.S('Single data'!DI50:DN50)/SQRT(6)) -> 490.60611 | BV50: =AVERAGE('Single data'!DT50:DX50) -> 2479.084 | BW50: ± | BX50: =(_xlfn.STDEV.S('Single data'!DT50:DX50)/SQRT(5)) -> 178.61787 | BY50: =AVERAGE('Single data'!DY50:EC50) -> 2664.1468 | BZ50: ± | CA50: =(_xlfn.STDEV.S('Single data'!DY50:EC50)/SQRT(5)) -> 505.27453 | CB50: =AVERAGE('Single data'!ED50:EH50) -> 859.44965 | CC50: ± | CD50: =(_xlfn.STDEV.S('Single data'!ED50:EH50)/SQRT(5)) -> 259.09625 | CE50: =AVERAGE('Single data'!EI50:EM50) -> 2935.632 | CF50: ± | CG50: =(_xlfn.STDEV.S('Single data'!EI50:EM50)/SQRT(5)) -> 527.52166 | CH50: =AVERAGE('Single data'!EN50:ER50) -> 368.31987 | CI50: ± | CJ50: =_xlfn.STDEV.S('Single data'!EN50:ER50)/SQRT(5) -> 72.882872 | CK50: =AVERAGE('Single data'!ES50:EW50) -> 5085.6065 | CL50: ± | CM50: =(_xlfn.STDEV.S('Single data'!ES50:EW50)/SQRT(5)) -> 1545.9456 | CN50: =AVERAGE('Single data'!EX50:FB50) -> 2096.8862 | CO50: ± | CP50: =_xlfn.STDEV.S('Single data'!EX50:FB50)/SQRT(5) -> 281.30766 | CQ50: =AVERAGE('Single data'!FC50:FH50) -> 4608.202 | CR50: ± | CS50: =(_xlfn.STDEV.S('Single data'!FC50:FH50)/SQRT(6)) -> 909.22864 | CT50: =AVERAGE('Single data'!FI50:FN50) -> 3058.1596 | CU50: ± | CV50: =_xlfn.STDEV.S('Single data'!FI50:FN50)/SQRT(6) -> 566.08577 | CW50: =AVERAGE('Single data'!FO50:FT50) -> 3253.8748 | CX50: ± | CY50: =(_xlfn.STDEV.S('Single data'!FO50:FT50)/SQRT(6)) -> 674.49106 | CZ50: =AVERAGE('Single data'!FU50:FY50) -> 2862.989 | DA50: ± | DB50: =_xlfn.STDEV.S('Single data'!FU50:FY50)/SQRT(5) -> 511.86581
A53: % of control | B53: SPM/iso | C53: PD1 | D53: =AVERAGE('Single data'!D53:O53) -> 100 | E53: ± | F53: =(_xlfn.STDEV.S('Single data'!D53:O53)/SQRT(12)) -> 0 | G53: =AVERAGE('Single data'!P53:S53) -> 59.501383 | H53: ± | I53: =(_xlfn.STDEV.S('Single data'!P53:S53)/SQRT(4)) -> 25.585264 | J53: =AVERAGE('Single data'!T53:W53) -> 112.75475 | K53: ± | L53: =(_xlfn.STDEV.S('Single data'!T53:W53)/SQRT(4)) -> 44.149098 | M53: =AVERAGE('Single data'!X53:AA53) -> 74.970016 | N53: ± | O53: =(_xlfn.STDEV.S('Single data'!X53:AA53)/SQRT(4)) -> 20.729263 | P53: =AVERAGE('Single data'!AB53:AE53) -> 143.25008 | Q53: ± | R53: {=_xlfn.STDEV.S('Single data'!AB53:AE53/SQRT(4))} -> 53.096545 | S53: =AVERAGE('Single data'!AF53:AI53) -> 99.07866 | T53: ± | U53: =(_xlfn.STDEV.S('Single data'!AF53:AI53)/SQRT(4)) -> 29.830831 | V53: =AVERAGE('Single data'!AJ53:AM53) -> 187.55037 | W53: ± | X53: =(_xlfn.STDEV.S('Single data'!AJ53:AM53)/SQRT(4)) -> 57.010319 | Y53: =AVERAGE('Single data'!AN53:AQ53) -> 101.02279 | Z53: ± | AA53: =(_xlfn.STDEV.S('Single data'!AN53:AQ53)/SQRT(4)) -> 49.288807 | AB53: =AVERAGE('Single data'!AR53:AU53) -> 669.78029 | AC53: ± | AD53: =(_xlfn.STDEV.S('Single data'!AR53:AU53)/SQRT(4)) -> 293.57908 | AE53: =AVERAGE('Single data'!AV53:AY53) -> 99.537303 | AF53: ± | AG53: =(_xlfn.STDEV.S('Single data'!AV53:AY53)/SQRT(4)) -> 20.40657 | AH53: =AVERAGE('Single data'!AZ53:BC53) -> 498.63675 | AI53: ± | AJ53: =_xlfn.STDEV.S('Single data'!AZ53:BC53)/SQRT(4) -> 152.42245 | AK53: =AVERAGE('Single data'!BD53:BG53) -> 116.24732 | AL53: ± | AM53: =(_xlfn.STDEV.S('Single data'!BD53:BG53)/SQRT(4)) -> 54.645224 | AN53: =AVERAGE('Single data'!BH53:BK53) -> 282.05793 | AO53: ± | AP53: =_xlfn.STDEV.S('Single data'!BH53:BK53)/SQRT(4) -> 125.73703 | AQ53: =AVERAGE('Single data'!BL53:BO53) -> 97.780602 | AR53: ± | AS53: =(_xlfn.STDEV.S('Single data'!BL53:BO53)/SQRT(4)) -> 46.729776 | AT53: =AVERAGE('Single data'!BP53:BS53) -> 244.80787 | AU53: ± | AV53: =_xlfn.STDEV.S('Single data'!BP53:BS53)/SQRT(4) -> 104.64944 | AW53: =AVERAGE('Single data'!BT53:BW53) -> 75.642304 | AX53: ± | AY53: =(_xlfn.STDEV.S('Single data'!BT53:BW53)/SQRT(4)) -> 33.38567 | AZ53: =AVERAGE('Single data'!BX53:CA53) -> 193.31881 | BA53: ± | BB53: =_xlfn.STDEV.S('Single data'!BX53:CA53)/SQRT(4) -> 77.108016 | BD53: =AVERAGE('Single data'!CG53:CR53) -> 100 | BE53: ± | BF53: =(_xlfn.STDEV.S('Single data'!CG53:CR53)/SQRT(12)) -> 0 | BG53: =AVERAGE('Single data'!CS53:CW53) -> 119.01804 | BH53: ± | BI53: =(_xlfn.STDEV.S('Single data'!CS53:CW53)/SQRT(5)) -> 28.538558 | BJ53: =AVERAGE('Single data'!CX53:DB53) -> 125.20718 | BK53: ± | BL53: =(_xlfn.STDEV.S('Single data'!CX53:DB53)/SQRT(5)) -> 36.000015 | BM53: =AVERAGE('Single data'!DC53:DH53) -> 127.27692 | BN53: ± | BO53: =(_xlfn.STDEV.S('Single data'!DC53:DH53)/SQRT(6)) -> 27.841415 | BP53: =AVERAGE('Single data'!DI53:DN53) -> 184.75949 | BQ53: ± | BR53: =_xlfn.STDEV.S('Single data'!DI53:DN53)/SQRT(6) -> 52.764781 | BS53: =AVERAGE('Single data'!DO53:DS53) -> 138.06837 | BT53: ± | BU53: =(_xlfn.STDEV.S('Single data'!DI53:DN53)/SQRT(6)) -> 52.764781 | BV53: =AVERAGE('Single data'!DT53:DX53) -> 185.82617 | BW53: ± | BX53: =(_xlfn.STDEV.S('Single data'!DT53:DX53)/SQRT(5)) -> 29.428551 | BY53: =AVERAGE('Single data'!DY53:EC53) -> 153.71685 | BZ53: ± | CA53: =(_xlfn.STDEV.S('Single data'!DY53:EC53)/SQRT(5)) -> 37.001635 | CB53: =AVERAGE('Single data'!ED53:EH53) -> 140.0414 | CC53: ± | CD53: =(_xlfn.STDEV.S('Single data'!ED53:EH53)/SQRT(5)) -> 18.362728 | CE53: =AVERAGE('Single data'!EI53:EM53) -> 141.55725 | CF53: ± | CG53: =(_xlfn.STDEV.S('Single data'!EI53:EM53)/SQRT(5)) -> 21.670448 | CH53: =AVERAGE('Single data'!EN53:ER53) -> 127.20099 | CI53: ± | CJ53: =_xlfn.STDEV.S('Single data'!EN53:ER53)/SQRT(5) -> 44.604092 | CK53: =AVERAGE('Single data'!ES53:EW53) -> 129.03167 | CL53: ± | CM53: =(_xlfn.STDEV.S('Single data'!ES53:EW53)/SQRT(5)) -> 12.105461 | CN53: =AVERAGE('Single data'!EX53:FB53) -> 150.85178 | CO53: ± | CP53: =_xlfn.STDEV.S('Single data'!EX53:FB53)/SQRT(5) -> 22.207242 | CQ53: =AVERAGE('Single data'!FC53:FH53) -> 141.69553 | CR53: ± | CS53: =(_xlfn.STDEV.S('Single data'!FC53:FH53)/SQRT(6)) -> 18.979739 | CT53: =AVERAGE('Single data'!FI53:FN53) -> 204.45217 | CU53: ± | CV53: =_xlfn.STDEV.S('Single data'!FI53:FN53)/SQRT(6) -> 41.171911 | CW53: =AVERAGE('Single data'!FO53:FT53) -> 165.60475 | CX53: ± | CY53: =(_xlfn.STDEV.S('Single data'!FO53:FT53)/SQRT(6)) -> 25.793247 | CZ53: =AVERAGE('Single data'!FU53:FY53) -> 183.36483 | DA53: ± | DB53: =_xlfn.STDEV.S('Single data'!FU53:FY53)/SQRT(5) -> 42.880483
C54: AT-PD1 | D54: =AVERAGE('Single data'!D54:O54) -> 100 | E54: ± | F54: =(_xlfn.STDEV.S('Single data'!D54:O54)/SQRT(12)) -> 0 | G54: =AVERAGE('Single data'!P54:S54) -> 62.80932 | H54: ± | I54: =(_xlfn.STDEV.S('Single data'!P54:S54)/SQRT(4)) -> 7.5325756 | J54: =AVERAGE('Single data'!T54:W54) -> 76.509453 | K54: ± | L54: =(_xlfn.STDEV.S('Single data'!T54:W54)/SQRT(4)) -> 14.379708 | M54: =AVERAGE('Single data'!X54:AA54) -> 69.351253 | N54: ± | O54: =(_xlfn.STDEV.S('Single data'!X54:AA54)/SQRT(4)) -> 8.5180146 | P54: =AVERAGE('Single data'!AB54:AE54) -> 222.15879 | Q54: ± | R54: {=_xlfn.STDEV.S('Single data'!AB54:AE54/SQRT(4))} -> 19.751331 | S54: =AVERAGE('Single data'!AF54:AI54) -> 58.718611 | T54: ± | U54: =(_xlfn.STDEV.S('Single data'!AF54:AI54)/SQRT(4)) -> 10.621404 | V54: =AVERAGE('Single data'!AJ54:AM54) -> 169.42722 | W54: ± | X54: =(_xlfn.STDEV.S('Single data'!AJ54:AM54)/SQRT(4)) -> 13.249048 | Y54: =AVERAGE('Single data'!AN54:AQ54) -> 77.52626 | Z54: ± | AA54: =(_xlfn.STDEV.S('Single data'!AN54:AQ54)/SQRT(4)) -> 6.2393604 | AB54: =AVERAGE('Single data'!AR54:AU54) -> 406.44954 | AC54: ± | AD54: =(_xlfn.STDEV.S('Single data'!AR54:AU54)/SQRT(4)) -> 99.893058 | AE54: =AVERAGE('Single data'!AV54:AY54) -> 78.132378 | AF54: ± | AG54: =(_xlfn.STDEV.S('Single data'!AV54:AY54)/SQRT(4)) -> 12.312812 | AH54: =AVERAGE('Single data'!AZ54:BC54) -> 329.26891 | AI54: ± | AJ54: =_xlfn.STDEV.S('Single data'!AZ54:BC54)/SQRT(4) -> 69.133628 | AK54: =AVERAGE('Single data'!BD54:BG54) -> 69.524213 | AL54: ± | AM54: =(_xlfn.STDEV.S('Single data'!BD54:BG54)/SQRT(4)) -> 8.0830288 | AN54: =AVERAGE('Single data'!BH54:BK54) -> 158.12836 | AO54: ± | AP54: =_xlfn.STDEV.S('Single data'!BH54:BK54)/SQRT(4) -> 25.091503 | AQ54: =AVERAGE('Single data'!BL54:BO54) -> 59.82275 | AR54: ± | AS54: =(_xlfn.STDEV.S('Single data'!BL54:BO54)/SQRT(4)) -> 16.849948 | AT54: =AVERAGE('Single data'!BP54:BS54) -> 230.06768 | AU54: ± | AV54: =_xlfn.STDEV.S('Single data'!BP54:BS54)/SQRT(4) -> 66.788357 | AW54: =AVERAGE('Single data'!BT54:BW54) -> 65.566985 | AX54: ± | AY54: =(_xlfn.STDEV.S('Single data'!BT54:BW54)/SQRT(4)) -> 2.3047667 | AZ54: =AVERAGE('Single data'!BX54:CA54) -> 234.23848 | BA54: ± | BB54: =_xlfn.STDEV.S('Single data'!BX54:CA54)/SQRT(4) -> 91.647786 | BD54: =AVERAGE('Single data'!CG54:CR54) -> 100 | BE54: ± | BF54: =(_xlfn.STDEV.S('Single data'!CG54:CR54)/SQRT(12)) -> 0 | BG54: =AVERAGE('Single data'!CS54:CW54) -> 104.50573 | BH54: ± | BI54: =(_xlfn.STDEV.S('Single data'!CS54:CW54)/SQRT(5)) -> 32.721134 | BJ54: =AVERAGE('Single data'!CX54:DB54) -> 115.43288 | BK54: ± | BL54: =(_xlfn.STDEV.S('Single data'!CX54:DB54)/SQRT(5)) -> 29.622321 | BM54: =AVERAGE('Single data'!DC54:DH54) -> 142.58946 | BN54: ± | BO54: =(_xlfn.STDEV.S('Single data'!DC54:DH54)/SQRT(6)) -> 32.07226 | BP54: =AVERAGE('Single data'!DI54:DN54) -> 207.62364 | BQ54: ± | BR54: =_xlfn.STDEV.S('Single data'!DI54:DN54)/SQRT(6) -> 60.512538 | BS54: =AVERAGE('Single data'!DO54:DS54) -> 147.62978 | BT54: ± | BU54: =(_xlfn.STDEV.S('Single data'!DI54:DN54)/SQRT(6)) -> 60.512538 | BV54: =AVERAGE('Single data'!DT54:DX54) -> 212.8979 | BW54: ± | BX54: =(_xlfn.STDEV.S('Single data'!DT54:DX54)/SQRT(5)) -> 48.409412 | BY54: =AVERAGE('Single data'!DY54:EC54) -> 137.68322 | BZ54: ± | CA54: =(_xlfn.STDEV.S('Single data'!DY54:EC54)/SQRT(5)) -> 13.309945 | CB54: =AVERAGE('Single data'!ED54:EH54) -> 131.6818 | CC54: ± | CD54: =(_xlfn.STDEV.S('Single data'!ED54:EH54)/SQRT(5)) -> 20.43248 | CE54: =AVERAGE('Single data'!EI54:EM54) -> 133.51171 | CF54: ± | CG54: =(_xlfn.STDEV.S('Single data'!EI54:EM54)/SQRT(5)) -> 15.971926 | CH54: =AVERAGE('Single data'!EN54:ER54) -> 114.27585 | CI54: ± | CJ54: =_xlfn.STDEV.S('Single data'!EN54:ER54)/SQRT(5) -> 18.769208 | CK54: =AVERAGE('Single data'!ES54:EW54) -> 104.46367 | CL54: ± | CM54: =(_xlfn.STDEV.S('Single data'!ES54:EW54)/SQRT(5)) -> 27.168736 | CN54: =AVERAGE('Single data'!EX54:FB54) -> 161.27394 | CO54: ± | CP54: =_xlfn.STDEV.S('Single data'!EX54:FB54)/SQRT(5) -> 34.812358 | CQ54: =AVERAGE('Single data'!FC54:FH54) -> 153.91739 | CR54: ± | CS54: =(_xlfn.STDEV.S('Single data'!FC54:FH54)/SQRT(6)) -> 23.183334 | CT54: =AVERAGE('Single data'!FI54:FN54) -> 203.91015 | CU54: ± | CV54: =_xlfn.STDEV.S('Single data'!FI54:FN54)/SQRT(6) -> 38.663589 | CW54: =AVERAGE('Single data'!FO54:FT54) -> 143.1796 | CX54: ± | CY54: =(_xlfn.STDEV.S('Single data'!FO54:FT54)/SQRT(6)) -> 27.680921 | CZ54: =AVERAGE('Single data'!FU54:FY54) -> 176.62967 | DA54: ± | DB54: =_xlfn.STDEV.S('Single data'!FU54:FY54)/SQRT(5) -> 50.871439
C55: PDX | D55: =AVERAGE('Single data'!D55:O55) -> 100 | E55: ± | F55: =(_xlfn.STDEV.S('Single data'!D55:O55)/SQRT(12)) -> 0 | G55: =AVERAGE('Single data'!P55:S55) -> 124.03062 | H55: ± | I55: =(_xlfn.STDEV.S('Single data'!P55:S55)/SQRT(4)) -> 27.402122 | J55: =AVERAGE('Single data'!T55:W55) -> 262.91833 | K55: ± | L55: =(_xlfn.STDEV.S('Single data'!T55:W55)/SQRT(4)) -> 76.033773 | M55: =AVERAGE('Single data'!X55:AA55) -> 205.23352 | N55: ± | O55: =(_xlfn.STDEV.S('Single data'!X55:AA55)/SQRT(4)) -> 72.112913 | P55: =AVERAGE('Single data'!AB55:AE55) -> 855.33637 | Q55: ± | R55: {=_xlfn.STDEV.S('Single data'!AB55:AE55/SQRT(4))} -> 453.61515 | S55: =AVERAGE('Single data'!AF55:AI55) -> 159.22793 | T55: ± | U55: =(_xlfn.STDEV.S('Single data'!AF55:AI55)/SQRT(4)) -> 42.611224 | V55: =AVERAGE('Single data'!AJ55:AM55) -> 679.42802 | W55: ± | X55: =(_xlfn.STDEV.S('Single data'!AJ55:AM55)/SQRT(4)) -> 183.54133 | Y55: =AVERAGE('Single data'!AN55:AQ55) -> 204.38828 | Z55: ± | AA55: =(_xlfn.STDEV.S('Single data'!AN55:AQ55)/SQRT(4)) -> 58.626669 | AB55: =AVERAGE('Single data'!AR55:AU55) -> 1381.6793 | AC55: ± | AD55: =(_xlfn.STDEV.S('Single data'!AR55:AU55)/SQRT(4)) -> 808.23354 | AE55: =AVERAGE('Single data'!AV55:AY55) -> 101.3971 | AF55: ± | AG55: =(_xlfn.STDEV.S('Single data'!AV55:AY55)/SQRT(4)) -> 20.748929 | AH55: =AVERAGE('Single data'!AZ55:BC55) -> 1237.4664 | AI55: ± | AJ55: =_xlfn.STDEV.S('Single data'!AZ55:BC55)/SQRT(4) -> 422.86237 | AK55: =AVERAGE('Single data'!BD55:BG55) -> 157.64832 | AL55: ± | AM55: =(_xlfn.STDEV.S('Single data'!BD55:BG55)/SQRT(4)) -> 48.912463 | AN55: =AVERAGE('Single data'!BH55:BK55) -> 1027.1006 | AO55: ± | AP55: =_xlfn.STDEV.S('Single data'!BH55:BK55)/SQRT(4) -> 250.90168 | AQ55: =AVERAGE('Single data'!BL55:BO55) -> 106.50966 | AR55: ± | AS55: =(_xlfn.STDEV.S('Single data'!BL55:BO55)/SQRT(4)) -> 57.341311 | AT55: =AVERAGE('Single data'!BP55:BS55) -> 720.74207 | AU55: ± | AV55: =_xlfn.STDEV.S('Single data'!BP55:BS55)/SQRT(4) -> 254.13325 | AW55: =AVERAGE('Single data'!BT55:BW55) -> 121.09217 | AX55: ± | AY55: =(_xlfn.STDEV.S('Single data'!BT55:BW55)/SQRT(4)) -> 32.693831 | AZ55: =AVERAGE('Single data'!BX55:CA55) -> 526.86219 | BA55: ± | BB55: =_xlfn.STDEV.S('Single data'!BX55:CA55)/SQRT(4) -> 239.53461 | BD55: =AVERAGE('Single data'!CG55:CR55) -> 100 | BE55: ± | BF55: =(_xlfn.STDEV.S('Single data'!CG55:CR55)/SQRT(12)) -> 0 | BG55: =AVERAGE('Single data'!CS55:CW55) -> 105.71661 | BH55: ± | BI55: =(_xlfn.STDEV.S('Single data'!CS55:CW55)/SQRT(5)) -> 32.741197 | BJ55: =AVERAGE('Single data'!CX55:DB55) -> 118.17755 | BK55: ± | BL55: =(_xlfn.STDEV.S('Single data'!CX55:DB55)/SQRT(5)) -> 40.17444 | BM55: =AVERAGE('Single data'!DC55:DH55) -> 131.14233 | BN55: ± | BO55: =(_xlfn.STDEV.S('Single data'!DC55:DH55)/SQRT(6)) -> 35.884659 | BP55: =AVERAGE('Single data'!DI55:DN55) -> 210.43373 | BQ55: ± | BR55: =_xlfn.STDEV.S('Single data'!DI55:DN55)/SQRT(6) -> 70.718085 | BS55: =AVERAGE('Single data'!DO55:DS55) -> 128.12434 | BT55: ± | BU55: =(_xlfn.STDEV.S('Single data'!DI55:DN55)/SQRT(6)) -> 70.718085 | BV55: =AVERAGE('Single data'!DT55:DX55) -> 133.58114 | BW55: ± | BX55: =(_xlfn.STDEV.S('Single data'!DT55:DX55)/SQRT(5)) -> 35.363039 | BY55: =AVERAGE('Single data'!DY55:EC55) -> 146.40781 | BZ55: ± | CA55: =(_xlfn.STDEV.S('Single data'!DY55:EC55)/SQRT(5)) -> 28.309787 | CB55: =AVERAGE('Single data'!ED55:EH55) -> 184.11585 | CC55: ± | CD55: =(_xlfn.STDEV.S('Single data'!ED55:EH55)/SQRT(5)) -> 47.870936 | CE55: =AVERAGE('Single data'!EI55:EM55) -> 125.04862 | CF55: ± | CG55: =(_xlfn.STDEV.S('Single data'!EI55:EM55)/SQRT(5)) -> 25.289323 | CH55: =AVERAGE('Single data'!EN55:ER55) -> 170.48216 | CI55: ± | CJ55: =_xlfn.STDEV.S('Single data'!EN55:ER55)/SQRT(5) -> 51.702983 | CK55: =AVERAGE('Single data'!ES55:EW55) -> 109.90563 | CL55: ± | CM55: =(_xlfn.STDEV.S('Single data'!ES55:EW55)/SQRT(5)) -> 16.921661 | CN55: =AVERAGE('Single data'!EX55:FB55) -> 129.87961 | CO55: ± | CP55: =_xlfn.STDEV.S('Single data'!EX55:FB55)/SQRT(5) -> 40.716119 | CQ55: =AVERAGE('Single data'!FC55:FH55) -> 141.94679 | CR55: ± | CS55: =(_xlfn.STDEV.S('Single data'!FC55:FH55)/SQRT(6)) -> 25.01987 | CT55: =AVERAGE('Single data'!FI55:FN55) -> 165.22192 | CU55: ± | CV55: =_xlfn.STDEV.S('Single data'!FI55:FN55)/SQRT(6) -> 50.499008 | CW55: =AVERAGE('Single data'!FO55:FT55) -> 106.16914 | CX55: ± | CY55: =(_xlfn.STDEV.S('Single data'!FO55:FT55)/SQRT(6)) -> 19.183424 | CZ55: =AVERAGE('Single data'!FU55:FY55) -> 86.219969 | DA55: ± | DB55: =_xlfn.STDEV.S('Single data'!FU55:FY55)/SQRT(5) -> 24.412701
