Workbook

Sheet Mean + S.E.M.
A1: Table S3 Effect of LCMs on the lipid mediator profile of SACM-challenged M2 macrophages
C4: compound | D4: vehicle (0.1% DMSO) | G4: 1 | M4: 2 | S4: 3 | Y4: 4 | AE4: 5 | AK4: 6 | AQ4: 7 | AW4: 8
C5: conc [µM] | G5: 0.3 | J5: 3 | M5: 0.3 | P5: 3 | S5: 0.3 | V5: 3 | Y5: 0.3 | AB5: 3 | AE5: 0.3 | AH5: 3 | AK5: 0.3 | AN5: 3 | AQ5: 0.3 | AT5: 3 | AW5: 0.3 | AZ5: 3
D7: mean | E7: ± | F7: S.E.M. | G7: mean | H7: ± | I7: S.E.M. | J7: mean | K7: ± | L7: S.E.M. | M7: mean | N7: ± | O7: S.E.M. | P7: mean | Q7: ± | R7: S.E.M. | S7: mean | T7: ± | U7: S.E.M. | V7: mean | W7: ± | X7: S.E.M. | Y7: mean | Z7: ± | AA7: S.E.M. | AB7: mean | AC7: ± | AD7: S.E.M. | AE7: mean | AF7: ± | AG7: S.E.M. | AH7: mean | AI7: ± | AJ7: S.E.M. | AK7: mean | AL7: ± | AM7: S.E.M. | AN7: mean | AO7: ± | AP7: S.E.M. | AQ7: mean | AR7: ± | AS7: S.E.M. | AT7: mean | AU7: ± | AV7: S.E.M. | AW7: mean | AX7: ± | AY7: S.E.M. | AZ7: mean | BA7: ± | BB7: S.E.M.
A8: pg per 2 * 106 cells | B8: SPM/iso | C8: PD1 | D8: =AVERAGE('Single data'!D9:H9) -> 51.693159 | E8: ± | F8: =(_xlfn.STDEV.S('Single data'!D9:H9)/SQRT(4)) -> 13.952522 | G8: =AVERAGE('Single data'!I9:L9) -> 55.722855 | H8: ± | I8: =(_xlfn.STDEV.S('Single data'!I9:L9)/SQRT(4)) -> 21.969386 | J8: =AVERAGE('Single data'!M9:P9) -> 76.714526 | K8: ± | L8: =(_xlfn.STDEV.S('Single data'!M9:P9)/SQRT(4)) -> 25.476508 | M8: =AVERAGE('Single data'!Q9:T9) -> 97.336724 | N8: ± | O8: =(_xlfn.STDEV.S('Single data'!Q9:T9)/SQRT(4)) -> 21.096852 | P8: =AVERAGE('Single data'!U9:X9) -> 160.22221 | Q8: ± | R8: {=_xlfn.STDEV.S('Single data'!U9:X9/SQRT(4))} -> 58.763984 | S8: =AVERAGE('Single data'!Y9:AB9) -> 63.794555 | T8: ± | U8: =(_xlfn.STDEV.S('Single data'!Y9:AB9)/SQRT(4)) -> 16.236776 | V8: =AVERAGE('Single data'!AC9:AF9) -> 98.638129 | W8: ± | X8: =(_xlfn.STDEV.S('Single data'!AC9:AF9)/SQRT(4)) -> 26.487037 | Y8: =AVERAGE('Single data'!AG9:AJ9) -> 62.283991 | Z8: ± | AA8: =(_xlfn.STDEV.S('Single data'!AG9:AJ9)/SQRT(4)) -> 20.998156 | AB8: =AVERAGE('Single data'!AK9:AN9) -> 86.828766 | AC8: ± | AD8: =(_xlfn.STDEV.S('Single data'!AK9:AN9)/SQRT(4)) -> 19.084194 | AE8: =AVERAGE('Single data'!AO9:AR9) -> 61.670786 | AF8: ± | AG8: =(_xlfn.STDEV.S('Single data'!AO9:AR9)/SQRT(4)) -> 10.294035 | AH8: =AVERAGE('Single data'!AS9:AV9) -> 94.819659 | AI8: ± | AJ8: =_xlfn.STDEV.S('Single data'!AS9:AV9)/SQRT(4) -> 17.126689 | AK8: =AVERAGE('Single data'!AW9:AZ9) -> 85.816371 | AL8: ± | AM8: =(_xlfn.STDEV.S('Single data'!AW9:AZ9)/SQRT(4)) -> 17.937093 | AN8: =AVERAGE('Single data'!BA9:BD9) -> 132.21829 | AO8: ± | AP8: =_xlfn.STDEV.S('Single data'!BA9:BD9)/SQRT(4) -> 42.418432 | AQ8: =AVERAGE('Single data'!BE9:BH9) -> 78.623467 | AR8: ± | AS8: =(_xlfn.STDEV.S('Single data'!BE9:BH9)/SQRT(4)) -> 19.942149 | AT8: =AVERAGE('Single data'!BI9:BL9) -> 136.19597 | AU8: ± | AV8: =_xlfn.STDEV.S('Single data'!BI9:BL9)/SQRT(4) -> 30.756166 | AW8: =AVERAGE('Single data'!BM9:BP9) -> 85.300057 | AX8: ± | AY8: =(_xlfn.STDEV.S('Single data'!BM9:BP9)/SQRT(4)) -> 21.629087 | AZ8: =AVERAGE('Single data'!BQ9:BT9) -> 113.54465 | BA8: ± | BB8: =_xlfn.STDEV.S('Single data'!BQ9:BT9)/SQRT(4) -> 32.281904
C9: AT-PD1 | D9: =AVERAGE('Single data'!D10:H10) -> 271.58538 | E9: ± | F9: =(_xlfn.STDEV.S('Single data'!D10:H10)/SQRT(4)) -> 78.662172 | G9: =AVERAGE('Single data'!I10:L10) -> 287.02981 | H9: ± | I9: =(_xlfn.STDEV.S('Single data'!I10:L10)/SQRT(4)) -> 103.03216 | J9: =AVERAGE('Single data'!M10:P10) -> 421.42731 | K9: ± | L9: =(_xlfn.STDEV.S('Single data'!M10:P10)/SQRT(4)) -> 143.77939 | M9: =AVERAGE('Single data'!Q10:T10) -> 519.02038 | N9: ± | O9: =(_xlfn.STDEV.S('Single data'!Q10:T10)/SQRT(4)) -> 105.09084 | P9: =AVERAGE('Single data'!U10:X10) -> 913.05293 | Q9: ± | R9: {=_xlfn.STDEV.S('Single data'!U10:X10/SQRT(4))} -> 318.37312 | S9: =AVERAGE('Single data'!Y10:AB10) -> 340.44553 | T9: ± | U9: =(_xlfn.STDEV.S('Single data'!Y10:AB10)/SQRT(4)) -> 80.471637 | V9: =AVERAGE('Single data'!AC10:AF10) -> 584.83796 | W9: ± | X9: =(_xlfn.STDEV.S('Single data'!AC10:AF10)/SQRT(4)) -> 142.38596 | Y9: =AVERAGE('Single data'!AG10:AJ10) -> 317.27626 | Z9: ± | AA9: =(_xlfn.STDEV.S('Single data'!AG10:AJ10)/SQRT(4)) -> 102.47119 | AB9: =AVERAGE('Single data'!AK10:AN10) -> 453.82918 | AC9: ± | AD9: =(_xlfn.STDEV.S('Single data'!AK10:AN10)/SQRT(4)) -> 136.16417 | AE9: =AVERAGE('Single data'!AO10:AR10) -> 286.59992 | AF9: ± | AG9: =(_xlfn.STDEV.S('Single data'!AO10:AR10)/SQRT(4)) -> 60.49411 | AH9: =AVERAGE('Single data'!AS10:AV10) -> 488.40724 | AI9: ± | AJ9: =_xlfn.STDEV.S('Single data'!AS10:AV10)/SQRT(4) -> 93.055494 | AK9: =AVERAGE('Single data'!AW10:AZ10) -> 472.60939 | AL9: ± | AM9: =(_xlfn.STDEV.S('Single data'!AW10:AZ10)/SQRT(4)) -> 86.426086 | AN9: =AVERAGE('Single data'!BA10:BD10) -> 703.9255 | AO9: ± | AP9: =_xlfn.STDEV.S('Single data'!BA10:BD10)/SQRT(4) -> 214.20954 | AQ9: =AVERAGE('Single data'!BE10:BH10) -> 432.30155 | AR9: ± | AS9: =(_xlfn.STDEV.S('Single data'!BE10:BH10)/SQRT(4)) -> 100.74721 | AT9: =AVERAGE('Single data'!BI10:BL10) -> 672.79209 | AU9: ± | AV9: =_xlfn.STDEV.S('Single data'!BI10:BL10)/SQRT(4) -> 123.22028 | AW9: =AVERAGE('Single data'!BM10:BP10) -> 473.8204 | AX9: ± | AY9: =(_xlfn.STDEV.S('Single data'!BM10:BP10)/SQRT(4)) -> 100.81569 | AZ9: =AVERAGE('Single data'!BQ10:BT10) -> 615.14123 | BA9: ± | BB9: =_xlfn.STDEV.S('Single data'!BQ10:BT10)/SQRT(4) -> 132.31305
C10: PDX | D10: =AVERAGE('Single data'!D11:H11) -> 1559.936 | E10: ± | F10: =(_xlfn.STDEV.S('Single data'!D11:H11)/SQRT(4)) -> 528.84882 | G10: =AVERAGE('Single data'!I11:L11) -> 1415.4021 | H10: ± | I10: =(_xlfn.STDEV.S('Single data'!I11:L11)/SQRT(4)) -> 709.95737 | J10: =AVERAGE('Single data'!M11:P11) -> 1812.3178 | K10: ± | L10: =(_xlfn.STDEV.S('Single data'!M11:P11)/SQRT(4)) -> 1007.0538 | M10: =AVERAGE('Single data'!Q11:T11) -> 2717.0999 | N10: ± | O10: =(_xlfn.STDEV.S('Single data'!Q11:T11)/SQRT(4)) -> 970.49237 | P10: =AVERAGE('Single data'!U11:X11) -> 4893.0562 | Q10: ± | R10: {=_xlfn.STDEV.S('Single data'!U11:X11/SQRT(4))} -> 2022.5667 | S10: =AVERAGE('Single data'!Y11:AB11) -> 1517.626 | T10: ± | U10: =(_xlfn.STDEV.S('Single data'!Y11:AB11)/SQRT(4)) -> 738.39739 | V10: =AVERAGE('Single data'!AC11:AF11) -> 2327.3637 | W10: ± | X10: =(_xlfn.STDEV.S('Single data'!AC11:AF11)/SQRT(4)) -> 1249.9333 | Y10: =AVERAGE('Single data'!AG11:AJ11) -> 1547.4944 | Z10: ± | AA10: =(_xlfn.STDEV.S('Single data'!AG11:AJ11)/SQRT(4)) -> 777.23319 | AB10: =AVERAGE('Single data'!AK11:AN11) -> 2066.7718 | AC10: ± | AD10: =(_xlfn.STDEV.S('Single data'!AK11:AN11)/SQRT(4)) -> 1092.9753 | AE10: =AVERAGE('Single data'!AO11:AR11) -> 1351.8363 | AF10: ± | AG10: =(_xlfn.STDEV.S('Single data'!AO11:AR11)/SQRT(4)) -> 508.752 | AH10: =AVERAGE('Single data'!AS11:AV11) -> 2047.5587 | AI10: ± | AJ10: =_xlfn.STDEV.S('Single data'!AS11:AV11)/SQRT(4) -> 1030.7003 | AK10: =AVERAGE('Single data'!AW11:AZ11) -> 1762.2088 | AL10: ± | AM10: =(_xlfn.STDEV.S('Single data'!AW11:AZ11)/SQRT(4)) -> 882.05507 | AN10: =AVERAGE('Single data'!BA11:BD11) -> 3009.7751 | AO10: ± | AP10: =_xlfn.STDEV.S('Single data'!BA11:BD11)/SQRT(4) -> 1715.3375 | AQ10: =AVERAGE('Single data'!BE11:BH11) -> 2321.7449 | AR10: ± | AS10: =(_xlfn.STDEV.S('Single data'!BE11:BH11)/SQRT(4)) -> 833.77011 | AT10: =AVERAGE('Single data'!BI11:BL11) -> 3307.8382 | AU10: ± | AV10: =_xlfn.STDEV.S('Single data'!BI11:BL11)/SQRT(4) -> 1188.8426 | AW10: =AVERAGE('Single data'!BM11:BP11) -> 2353.4337 | AX10: ± | AY10: =(_xlfn.STDEV.S('Single data'!BM11:BP11)/SQRT(4)) -> 845.63363 | AZ10: =AVERAGE('Single data'!BQ11:BT11) -> 3014.9493 | BA10: ± | BB10: =_xlfn.STDEV.S('Single data'!BQ11:BT11)/SQRT(4) -> 1106.3655
C11: RvD5 | D11: =AVERAGE('Single data'!D12:H12) -> 4761.3081 | E11: ± | F11: =(_xlfn.STDEV.S('Single data'!D12:H12)/SQRT(4)) -> 1252.8354 | G11: =AVERAGE('Single data'!I12:L12) -> 4156.8908 | H11: ± | I11: =(_xlfn.STDEV.S('Single data'!I12:L12)/SQRT(4)) -> 1293.2808 | J11: =AVERAGE('Single data'!M12:P12) -> 4181.1305 | K11: ± | L11: =(_xlfn.STDEV.S('Single data'!M12:P12)/SQRT(4)) -> 1650.532 | M11: =AVERAGE('Single data'!Q12:T12) -> 5170.9258 | N11: ± | O11: =(_xlfn.STDEV.S('Single data'!Q12:T12)/SQRT(4)) -> 1511.8281 | P11: =AVERAGE('Single data'!U12:X12) -> 4041.7425 | Q11: ± | R11: {=_xlfn.STDEV.S('Single data'!U12:X12/SQRT(4))} -> 1486.1591 | S11: =AVERAGE('Single data'!Y12:AB12) -> 4243.3659 | T11: ± | U11: =(_xlfn.STDEV.S('Single data'!Y12:AB12)/SQRT(4)) -> 1152.7968 | V11: =AVERAGE('Single data'!AC12:AF12) -> 3921.4348 | W11: ± | X11: =(_xlfn.STDEV.S('Single data'!AC12:AF12)/SQRT(4)) -> 1348.7028 | Y11: =AVERAGE('Single data'!AG12:AJ12) -> 4370.6911 | Z11: ± | AA11: =(_xlfn.STDEV.S('Single data'!AG12:AJ12)/SQRT(4)) -> 1384.847 | AB11: =AVERAGE('Single data'!AK12:AN12) -> 4402.2209 | AC11: ± | AD11: =(_xlfn.STDEV.S('Single data'!AK12:AN12)/SQRT(4)) -> 1627.8099 | AE11: =AVERAGE('Single data'!AO12:AR12) -> 4340.822 | AF11: ± | AG11: =(_xlfn.STDEV.S('Single data'!AO12:AR12)/SQRT(4)) -> 827.26038 | AH11: =AVERAGE('Single data'!AS12:AV12) -> 4714.0115 | AI11: ± | AJ11: =_xlfn.STDEV.S('Single data'!AS12:AV12)/SQRT(4) -> 1396.3881 | AK11: =AVERAGE('Single data'!AW12:AZ12) -> 4625.187 | AL11: ± | AM11: =(_xlfn.STDEV.S('Single data'!AW12:AZ12)/SQRT(4)) -> 1237.5429 | AN11: =AVERAGE('Single data'!BA12:BD12) -> 3507.0198 | AO11: ± | AP11: =_xlfn.STDEV.S('Single data'!BA12:BD12)/SQRT(4) -> 1468.558 | AQ11: =AVERAGE('Single data'!BE12:BH12) -> 4985.2624 | AR11: ± | AS11: =(_xlfn.STDEV.S('Single data'!BE12:BH12)/SQRT(4)) -> 1383.4388 | AT11: =AVERAGE('Single data'!BI12:BL12) -> 5207.5769 | AU11: ± | AV11: =_xlfn.STDEV.S('Single data'!BI12:BL12)/SQRT(4) -> 1507.4717 | AW11: =AVERAGE('Single data'!BM12:BP12) -> 4725.1921 | AX11: ± | AY11: =(_xlfn.STDEV.S('Single data'!BM12:BP12)/SQRT(4)) -> 1506.099 | AZ11: =AVERAGE('Single data'!BQ12:BT12) -> 4366.1289 | BA11: ± | BB11: =_xlfn.STDEV.S('Single data'!BQ12:BT12)/SQRT(4) -> 1322.843
C12: MaR2 | D12: =AVERAGE('Single data'!D13:H13) -> 413.7844 | E12: ± | F12: =(_xlfn.STDEV.S('Single data'!D13:H13)/SQRT(4)) -> 67.502446 | G12: =AVERAGE('Single data'!I13:L13) -> 395.57998 | H12: ± | I12: =(_xlfn.STDEV.S('Single data'!I13:L13)/SQRT(4)) -> 75.373746 | J12: =AVERAGE('Single data'!M13:P13) -> 538.82615 | K12: ± | L12: =(_xlfn.STDEV.S('Single data'!M13:P13)/SQRT(4)) -> 109.8891 | M12: =AVERAGE('Single data'!Q13:T13) -> 622.86417 | N12: ± | O12: =(_xlfn.STDEV.S('Single data'!Q13:T13)/SQRT(4)) -> 107.75537 | P12: =AVERAGE('Single data'!U13:X13) -> 1096.705 | Q12: ± | R12: {=_xlfn.STDEV.S('Single data'!U13:X13/SQRT(4))} -> 349.57377 | S12: =AVERAGE('Single data'!Y13:AB13) -> 404.95387 | T12: ± | U12: =(_xlfn.STDEV.S('Single data'!Y13:AB13)/SQRT(4)) -> 72.381569 | V12: =AVERAGE('Single data'!AC13:AF13) -> 642.68897 | W12: ± | X12: =(_xlfn.STDEV.S('Single data'!AC13:AF13)/SQRT(4)) -> 122.6517 | Y12: =AVERAGE('Single data'!AG13:AJ13) -> 415.07344 | Z12: ± | AA12: =(_xlfn.STDEV.S('Single data'!AG13:AJ13)/SQRT(4)) -> 97.951939 | AB12: =AVERAGE('Single data'!AK13:AN13) -> 594.91929 | AC12: ± | AD12: =(_xlfn.STDEV.S('Single data'!AK13:AN13)/SQRT(4)) -> 102.58859 | AE12: =AVERAGE('Single data'!AO13:AR13) -> 396.01071 | AF12: ± | AG12: =(_xlfn.STDEV.S('Single data'!AO13:AR13)/SQRT(4)) -> 56.596726 | AH12: =AVERAGE('Single data'!AS13:AV13) -> 699.57637 | AI12: ± | AJ12: =_xlfn.STDEV.S('Single data'!AS13:AV13)/SQRT(4) -> 93.487034 | AK12: =AVERAGE('Single data'!AW13:AZ13) -> 547.96574 | AL12: ± | AM12: =(_xlfn.STDEV.S('Single data'!AW13:AZ13)/SQRT(4)) -> 73.989713 | AN12: =AVERAGE('Single data'!BA13:BD13) -> 823.66414 | AO12: ± | AP12: =_xlfn.STDEV.S('Single data'!BA13:BD13)/SQRT(4) -> 183.57211 | AQ12: =AVERAGE('Single data'!BE13:BH13) -> 496.50387 | AR12: ± | AS12: =(_xlfn.STDEV.S('Single data'!BE13:BH13)/SQRT(4)) -> 115.97978 | AT12: =AVERAGE('Single data'!BI13:BL13) -> 755.27895 | AU12: ± | AV12: =_xlfn.STDEV.S('Single data'!BI13:BL13)/SQRT(4) -> 143.63684 | AW12: =AVERAGE('Single data'!BM13:BP13) -> 501.98361 | AX12: ± | AY12: =(_xlfn.STDEV.S('Single data'!BM13:BP13)/SQRT(4)) -> 112.39754 | AZ12: =AVERAGE('Single data'!BQ13:BT13) -> 677.57825 | BA12: ± | BB12: =_xlfn.STDEV.S('Single data'!BQ13:BT13)/SQRT(4) -> 139.41692
C13: RvD1 | D13: =AVERAGE('Single data'!D14:H14) -> 84.264598 | E13: ± | F13: =(_xlfn.STDEV.S('Single data'!D14:H14)/SQRT(4)) -> 23.527136 | G13: =AVERAGE('Single data'!I14:L14) -> 78.26439 | H13: ± | I13: =(_xlfn.STDEV.S('Single data'!I14:L14)/SQRT(4)) -> 24.327354 | J13: =AVERAGE('Single data'!M14:P14) -> 67.93153 | K13: ± | L13: =(_xlfn.STDEV.S('Single data'!M14:P14)/SQRT(4)) -> 22.689078 | M13: =AVERAGE('Single data'!Q14:T14) -> 73.081363 | N13: ± | O13: =(_xlfn.STDEV.S('Single data'!Q14:T14)/SQRT(4)) -> 21.915387 | P13: =AVERAGE('Single data'!U14:X14) -> 65.702083 | Q13: ± | R13: {=_xlfn.STDEV.S('Single data'!U14:X14/SQRT(4))} -> 22.725876 | S13: =AVERAGE('Single data'!Y14:AB14) -> 61.772296 | T13: ± | U13: =(_xlfn.STDEV.S('Single data'!Y14:AB14)/SQRT(4)) -> 23.343668 | V13: =AVERAGE('Single data'!AC14:AF14) -> 64.171807 | W13: ± | X13: =(_xlfn.STDEV.S('Single data'!AC14:AF14)/SQRT(4)) -> 22.404893 | Y13: =AVERAGE('Single data'!AG14:AJ14) -> 70.748389 | Z13: ± | AA13: =(_xlfn.STDEV.S('Single data'!AG14:AJ14)/SQRT(4)) -> 30.10715 | AB13: =AVERAGE('Single data'!AK14:AN14) -> 82.182942 | AC13: ± | AD13: =(_xlfn.STDEV.S('Single data'!AK14:AN14)/SQRT(4)) -> 29.489965 | AE13: =AVERAGE('Single data'!AO14:AR14) -> 69.610911 | AF13: ± | AG13: =(_xlfn.STDEV.S('Single data'!AO14:AR14)/SQRT(4)) -> 22.891567 | AH13: =AVERAGE('Single data'!AS14:AV14) -> 68.397614 | AI13: ± | AJ13: =_xlfn.STDEV.S('Single data'!AS14:AV14)/SQRT(4) -> 21.553574 | AK13: =AVERAGE('Single data'!AW14:AZ14) -> 58.40695 | AL13: ± | AM13: =(_xlfn.STDEV.S('Single data'!AW14:AZ14)/SQRT(4)) -> 16.349225 | AN13: =AVERAGE('Single data'!BA14:BD14) -> 57.612969 | AO13: ± | AP13: =_xlfn.STDEV.S('Single data'!BA14:BD14)/SQRT(4) -> 28.322023 | AQ13: =AVERAGE('Single data'!BE14:BH14) -> 78.11724 | AR13: ± | AS13: =(_xlfn.STDEV.S('Single data'!BE14:BH14)/SQRT(4)) -> 21.981508 | AT13: =AVERAGE('Single data'!BI14:BL14) -> 79.478341 | AU13: ± | AV13: =_xlfn.STDEV.S('Single data'!BI14:BL14)/SQRT(4) -> 27.310219 | AW13: =AVERAGE('Single data'!BM14:BP14) -> 78.609194 | AX13: ± | AY13: =(_xlfn.STDEV.S('Single data'!BM14:BP14)/SQRT(4)) -> 22.654477 | AZ13: =AVERAGE('Single data'!BQ14:BT14) -> 71.734514 | BA13: ± | BB13: =_xlfn.STDEV.S('Single data'!BQ14:BT14)/SQRT(4) -> 25.693568
C14: RvD2 | D14: =AVERAGE('Single data'!D15:H15) -> 800.9174 | E14: ± | F14: =(_xlfn.STDEV.S('Single data'!D15:H15)/SQRT(4)) -> 258.60279 | G14: =AVERAGE('Single data'!I15:L15) -> 718.70978 | H14: ± | I14: =(_xlfn.STDEV.S('Single data'!I15:L15)/SQRT(4)) -> 345.30828 | J14: =AVERAGE('Single data'!M15:P15) -> 677.93834 | K14: ± | L14: =(_xlfn.STDEV.S('Single data'!M15:P15)/SQRT(4)) -> 315.66709 | M14: =AVERAGE('Single data'!Q15:T15) -> 852.96182 | N14: ± | O14: =(_xlfn.STDEV.S('Single data'!Q15:T15)/SQRT(4)) -> 279.59001 | P14: =AVERAGE('Single data'!U15:X15) -> 768.05539 | Q14: ± | R14: {=_xlfn.STDEV.S('Single data'!U15:X15/SQRT(4))} -> 319.68746 | S14: =AVERAGE('Single data'!Y15:AB15) -> 741.6947 | T14: ± | U14: =(_xlfn.STDEV.S('Single data'!Y15:AB15)/SQRT(4)) -> 313.42607 | V14: =AVERAGE('Single data'!AC15:AF15) -> 576.16482 | W14: ± | X14: =(_xlfn.STDEV.S('Single data'!AC15:AF15)/SQRT(4)) -> 279.18237 | Y14: =AVERAGE('Single data'!AG15:AJ15) -> 619.79789 | Z14: ± | AA14: =(_xlfn.STDEV.S('Single data'!AG15:AJ15)/SQRT(4)) -> 269.95115 | AB14: =AVERAGE('Single data'!AK15:AN15) -> 612.65384 | AC14: ± | AD14: =(_xlfn.STDEV.S('Single data'!AK15:AN15)/SQRT(4)) -> 296.80532 | AE14: =AVERAGE('Single data'!AO15:AR15) -> 631.08236 | AF14: ± | AG14: =(_xlfn.STDEV.S('Single data'!AO15:AR15)/SQRT(4)) -> 233.31863 | AH14: =AVERAGE('Single data'!AS15:AV15) -> 715.65138 | AI14: ± | AJ14: =_xlfn.STDEV.S('Single data'!AS15:AV15)/SQRT(4) -> 315.75912 | AK14: =AVERAGE('Single data'!AW15:AZ15) -> 701.12045 | AL14: ± | AM14: =(_xlfn.STDEV.S('Single data'!AW15:AZ15)/SQRT(4)) -> 262.25225 | AN14: =AVERAGE('Single data'!BA15:BD15) -> 527.14791 | AO14: ± | AP14: =_xlfn.STDEV.S('Single data'!BA15:BD15)/SQRT(4) -> 268.20847 | AQ14: =AVERAGE('Single data'!BE15:BH15) -> 851.38741 | AR14: ± | AS14: =(_xlfn.STDEV.S('Single data'!BE15:BH15)/SQRT(4)) -> 291.7653 | AT14: =AVERAGE('Single data'!BI15:BL15) -> 902.61928 | AU14: ± | AV14: =_xlfn.STDEV.S('Single data'!BI15:BL15)/SQRT(4) -> 305.15993 | AW14: =AVERAGE('Single data'!BM15:BP15) -> 855.44162 | AX14: ± | AY14: =(_xlfn.STDEV.S('Single data'!BM15:BP15)/SQRT(4)) -> 330.35369 | AZ14: =AVERAGE('Single data'!BQ15:BT15) -> 824.41996 | BA14: ± | BB14: =_xlfn.STDEV.S('Single data'!BQ15:BT15)/SQRT(4) -> 308.01426
C15: RvD5n3-DPA | D15: =AVERAGE('Single data'!D16:H16) -> 922.29896 | E15: ± | F15: =(_xlfn.STDEV.S('Single data'!D16:H16)/SQRT(4)) -> 374.11087 | G15: =AVERAGE('Single data'!I16:L16) -> 645.88459 | H15: ± | I15: =(_xlfn.STDEV.S('Single data'!I16:L16)/SQRT(4)) -> 151.06378 | J15: =AVERAGE('Single data'!M16:P16) -> 705.94354 | K15: ± | L15: =(_xlfn.STDEV.S('Single data'!M16:P16)/SQRT(4)) -> 215.55658 | M15: =AVERAGE('Single data'!Q16:T16) -> 612.65299 | N15: ± | O15: =(_xlfn.STDEV.S('Single data'!Q16:T16)/SQRT(4)) -> 219.06916 | P15: =AVERAGE('Single data'!U16:X16) -> 891.68379 | Q15: ± | R15: {=_xlfn.STDEV.S('Single data'!U16:X16/SQRT(4))} -> 298.23706 | S15: =AVERAGE('Single data'!Y16:AB16) -> 746.41477 | T15: ± | U15: =(_xlfn.STDEV.S('Single data'!Y16:AB16)/SQRT(4)) -> 135.93055 | V15: =AVERAGE('Single data'!AC16:AF16) -> 701.90621 | W15: ± | X15: =(_xlfn.STDEV.S('Single data'!AC16:AF16)/SQRT(4)) -> 178.9053 | Y15: =AVERAGE('Single data'!AG16:AJ16) -> 666.86594 | Z15: ± | AA15: =(_xlfn.STDEV.S('Single data'!AG16:AJ16)/SQRT(4)) -> 185.35586 | AB15: =AVERAGE('Single data'!AK16:AN16) -> 869.40498 | AC15: ± | AD15: =(_xlfn.STDEV.S('Single data'!AK16:AN16)/SQRT(4)) -> 245.83032 | AE15: =AVERAGE('Single data'!AO16:AR16) -> 766.17127 | AF15: ± | AG15: =(_xlfn.STDEV.S('Single data'!AO16:AR16)/SQRT(4)) -> 128.3227 | AH15: =AVERAGE('Single data'!AS16:AV16) -> 995.37115 | AI15: ± | AJ15: =_xlfn.STDEV.S('Single data'!AS16:AV16)/SQRT(4) -> 240.78942 | AK15: =AVERAGE('Single data'!AW16:AZ16) -> 821.27946 | AL15: ± | AM15: =(_xlfn.STDEV.S('Single data'!AW16:AZ16)/SQRT(4)) -> 153.46598 | AN15: =AVERAGE('Single data'!BA16:BD16) -> 693.60027 | AO15: ± | AP15: =_xlfn.STDEV.S('Single data'!BA16:BD16)/SQRT(4) -> 240.16398 | AQ15: =AVERAGE('Single data'!BE16:BH16) -> 1099.2642 | AR15: ± | AS15: =(_xlfn.STDEV.S('Single data'!BE16:BH16)/SQRT(4)) -> 380.22241 | AT15: =AVERAGE('Single data'!BI16:BL16) -> 1241.6356 | AU15: ± | AV15: =_xlfn.STDEV.S('Single data'!BI16:BL16)/SQRT(4) -> 417.68166 | AW15: =AVERAGE('Single data'!BM16:BP16) -> 1067.2033 | AX15: ± | AY15: =(_xlfn.STDEV.S('Single data'!BM16:BP16)/SQRT(4)) -> 421.11258 | AZ15: =AVERAGE('Single data'!BQ16:BT16) -> 1013.7557 | BA15: ± | BB15: =_xlfn.STDEV.S('Single data'!BQ16:BT16)/SQRT(4) -> 338.60057
C16: LXA4 | D16: =AVERAGE('Single data'!D17:H17) -> 379.53336 | E16: ± | F16: =(_xlfn.STDEV.S('Single data'!D17:H17)/SQRT(4)) -> 193.29938 | G16: =AVERAGE('Single data'!I17:L17) -> 245.02143 | H16: ± | I16: =(_xlfn.STDEV.S('Single data'!I17:L17)/SQRT(4)) -> 150.41494 | J16: =AVERAGE('Single data'!M17:P17) -> 205.6422 | K16: ± | L16: =(_xlfn.STDEV.S('Single data'!M17:P17)/SQRT(4)) -> 119.75139 | M16: =AVERAGE('Single data'!Q17:T17) -> 264.84813 | N16: ± | O16: =(_xlfn.STDEV.S('Single data'!Q17:T17)/SQRT(4)) -> 123.93888 | P16: =AVERAGE('Single data'!U17:X17) -> 148.71089 | Q16: ± | R16: {=_xlfn.STDEV.S('Single data'!U17:X17/SQRT(4))} -> 76.578875 | S16: =AVERAGE('Single data'!Y17:AB17) -> 303.10937 | T16: ± | U16: =(_xlfn.STDEV.S('Single data'!Y17:AB17)/SQRT(4)) -> 165.58843 | V16: =AVERAGE('Single data'!AC17:AF17) -> 207.20223 | W16: ± | X16: =(_xlfn.STDEV.S('Single data'!AC17:AF17)/SQRT(4)) -> 134.24108 | Y16: =AVERAGE('Single data'!AG17:AJ17) -> 238.66264 | Z16: ± | AA16: =(_xlfn.STDEV.S('Single data'!AG17:AJ17)/SQRT(4)) -> 130.03945 | AB16: =AVERAGE('Single data'!AK17:AN17) -> 155.58936 | AC16: ± | AD16: =(_xlfn.STDEV.S('Single data'!AK17:AN17)/SQRT(4)) -> 96.143495 | AE16: =AVERAGE('Single data'!AO17:AR17) -> 250.64946 | AF16: ± | AG16: =(_xlfn.STDEV.S('Single data'!AO17:AR17)/SQRT(4)) -> 144.3782 | AH16: =AVERAGE('Single data'!AS17:AV17) -> 125.4618 | AI16: ± | AJ16: =_xlfn.STDEV.S('Single data'!AS17:AV17)/SQRT(4) -> 85.117526 | AK16: =AVERAGE('Single data'!AW17:AZ17) -> 236.4874 | AL16: ± | AM16: =(_xlfn.STDEV.S('Single data'!AW17:AZ17)/SQRT(4)) -> 126.3731 | AN16: =AVERAGE('Single data'!BA17:BD17) -> 169.34216 | AO16: ± | AP16: =_xlfn.STDEV.S('Single data'!BA17:BD17)/SQRT(4) -> 112.29835 | AQ16: =AVERAGE('Single data'!BE17:BH17) -> 269.86939 | AR16: ± | AS16: =(_xlfn.STDEV.S('Single data'!BE17:BH17)/SQRT(4)) -> 136.66064 | AT16: =AVERAGE('Single data'!BI17:BL17) -> 251.32545 | AU16: ± | AV16: =_xlfn.STDEV.S('Single data'!BI17:BL17)/SQRT(4) -> 127.91668 | AW16: =AVERAGE('Single data'!BM17:BP17) -> 321.84594 | AX16: ± | AY16: =(_xlfn.STDEV.S('Single data'!BM17:BP17)/SQRT(4)) -> 181.25181 | AZ16: =AVERAGE('Single data'!BQ17:BT17) -> 209.92125 | BA16: ± | BB16: =_xlfn.STDEV.S('Single data'!BQ17:BT17)/SQRT(4) -> 97.116157
B17: SPM precursor | C17: 17-HDHA | D17: =AVERAGE('Single data'!D18:H18) -> 29782.881 | E17: ± | F17: =(_xlfn.STDEV.S('Single data'!D18:H18)/SQRT(4)) -> 4249.9411 | G17: =AVERAGE('Single data'!I18:L18) -> 24924.828 | H17: ± | I17: =(_xlfn.STDEV.S('Single data'!I18:L18)/SQRT(4)) -> 4600.0172 | J17: =AVERAGE('Single data'!M18:P18) -> 22152.267 | K17: ± | L17: =(_xlfn.STDEV.S('Single data'!M18:P18)/SQRT(4)) -> 4535.2122 | M17: =AVERAGE('Single data'!Q18:T18) -> 22030.7 | N17: ± | O17: =(_xlfn.STDEV.S('Single data'!Q18:T18)/SQRT(4)) -> 4158.4192 | P17: =AVERAGE('Single data'!U18:X18) -> 13532.607 | Q17: ± | R17: {=_xlfn.STDEV.S('Single data'!U18:X18/SQRT(4))} -> 3289.0458 | S17: =AVERAGE('Single data'!Y18:AB18) -> 24964.195 | T17: ± | U17: =(_xlfn.STDEV.S('Single data'!Y18:AB18)/SQRT(4)) -> 5504.8138 | V17: =AVERAGE('Single data'!AC18:AF18) -> 20023.957 | W17: ± | X17: =(_xlfn.STDEV.S('Single data'!AC18:AF18)/SQRT(4)) -> 4969.8559 | Y17: =AVERAGE('Single data'!AG18:AJ18) -> 27549.093 | Z17: ± | AA17: =(_xlfn.STDEV.S('Single data'!AG18:AJ18)/SQRT(4)) -> 5101.4863 | AB17: =AVERAGE('Single data'!AK18:AN18) -> 23440.832 | AC17: ± | AD17: =(_xlfn.STDEV.S('Single data'!AK18:AN18)/SQRT(4)) -> 4123.8484 | AE17: =AVERAGE('Single data'!AO18:AR18) -> 29809.348 | AF17: ± | AG17: =(_xlfn.STDEV.S('Single data'!AO18:AR18)/SQRT(4)) -> 6244.8883 | AH17: =AVERAGE('Single data'!AS18:AV18) -> 23070.246 | AI17: ± | AJ17: =_xlfn.STDEV.S('Single data'!AS18:AV18)/SQRT(4) -> 4119.3333 | AK17: =AVERAGE('Single data'!AW18:AZ18) -> 23762.701 | AL17: ± | AM17: =(_xlfn.STDEV.S('Single data'!AW18:AZ18)/SQRT(4)) -> 5062.375 | AN17: =AVERAGE('Single data'!BA18:BD18) -> 15559.173 | AO17: ± | AP17: =_xlfn.STDEV.S('Single data'!BA18:BD18)/SQRT(4) -> 3730.4031 | AQ17: =AVERAGE('Single data'!BE18:BH18) -> 27024.723 | AR17: ± | AS17: =(_xlfn.STDEV.S('Single data'!BE18:BH18)/SQRT(4)) -> 3986.669 | AT17: =AVERAGE('Single data'!BI18:BL18) -> 22180.862 | AU17: ± | AV17: =_xlfn.STDEV.S('Single data'!BI18:BL18)/SQRT(4) -> 4489.757 | AW17: =AVERAGE('Single data'!BM18:BP18) -> 24824.066 | AX17: ± | AY17: =(_xlfn.STDEV.S('Single data'!BM18:BP18)/SQRT(4)) -> 4316.9237 | AZ17: =AVERAGE('Single data'!BQ18:BT18) -> 19516.989 | BA17: ± | BB17: =_xlfn.STDEV.S('Single data'!BQ18:BT18)/SQRT(4) -> 3611.7153
C18: 17-HDPA | D18: =AVERAGE('Single data'!D19:H19) -> 33332.703 | E18: ± | F18: =(_xlfn.STDEV.S('Single data'!D19:H19)/SQRT(4)) -> 4811.6491 | G18: =AVERAGE('Single data'!I19:L19) -> 26680.665 | H18: ± | I18: =(_xlfn.STDEV.S('Single data'!I19:L19)/SQRT(4)) -> 3697.8834 | J18: =AVERAGE('Single data'!M19:P19) -> 24398.19 | K18: ± | L18: =(_xlfn.STDEV.S('Single data'!M19:P19)/SQRT(4)) -> 3912.0302 | M18: =AVERAGE('Single data'!Q19:T19) -> 26812.131 | N18: ± | O18: =(_xlfn.STDEV.S('Single data'!Q19:T19)/SQRT(4)) -> 5819.4488 | P18: =AVERAGE('Single data'!U19:X19) -> 17224.236 | Q18: ± | R18: {=_xlfn.STDEV.S('Single data'!U19:X19/SQRT(4))} -> 4134.9591 | S18: =AVERAGE('Single data'!Y19:AB19) -> 25211.396 | T18: ± | U18: =(_xlfn.STDEV.S('Single data'!Y19:AB19)/SQRT(4)) -> 4703.5418 | V18: =AVERAGE('Single data'!AC19:AF19) -> 22568.821 | W18: ± | X18: =(_xlfn.STDEV.S('Single data'!AC19:AF19)/SQRT(4)) -> 4916.6813 | Y18: =AVERAGE('Single data'!AG19:AJ19) -> 27596.797 | Z18: ± | AA18: =(_xlfn.STDEV.S('Single data'!AG19:AJ19)/SQRT(4)) -> 4714.774 | AB18: =AVERAGE('Single data'!AK19:AN19) -> 25774.085 | AC18: ± | AD18: =(_xlfn.STDEV.S('Single data'!AK19:AN19)/SQRT(4)) -> 3580.9609 | AE18: =AVERAGE('Single data'!AO19:AR19) -> 30474.218 | AF18: ± | AG18: =(_xlfn.STDEV.S('Single data'!AO19:AR19)/SQRT(4)) -> 5146.0265 | AH18: =AVERAGE('Single data'!AS19:AV19) -> 27007.291 | AI18: ± | AJ18: =_xlfn.STDEV.S('Single data'!AS19:AV19)/SQRT(4) -> 2731.4124 | AK18: =AVERAGE('Single data'!AW19:AZ19) -> 25226.497 | AL18: ± | AM18: =(_xlfn.STDEV.S('Single data'!AW19:AZ19)/SQRT(4)) -> 4225.113 | AN18: =AVERAGE('Single data'!BA19:BD19) -> 18220.321 | AO18: ± | AP18: =_xlfn.STDEV.S('Single data'!BA19:BD19)/SQRT(4) -> 3855.7962 | AQ18: =AVERAGE('Single data'!BE19:BH19) -> 30903.213 | AR18: ± | AS18: =(_xlfn.STDEV.S('Single data'!BE19:BH19)/SQRT(4)) -> 6435.549 | AT18: =AVERAGE('Single data'!BI19:BL19) -> 28485.519 | AU18: ± | AV18: =_xlfn.STDEV.S('Single data'!BI19:BL19)/SQRT(4) -> 5945.6788 | AW18: =AVERAGE('Single data'!BM19:BP19) -> 29066.803 | AX18: ± | AY18: =(_xlfn.STDEV.S('Single data'!BM19:BP19)/SQRT(4)) -> 6920.7805 | AZ18: =AVERAGE('Single data'!BQ19:BT19) -> 24867.428 | BA18: ± | BB18: =_xlfn.STDEV.S('Single data'!BQ19:BT19)/SQRT(4) -> 5589.6634
C19: 15-HETE | D19: =AVERAGE('Single data'!D20:H20) -> 58858.95 | E19: ± | F19: =(_xlfn.STDEV.S('Single data'!D20:H20)/SQRT(4)) -> 17275.951 | G19: =AVERAGE('Single data'!I20:L20) -> 55795.067 | H19: ± | I19: =(_xlfn.STDEV.S('Single data'!I20:L20)/SQRT(4)) -> 12576.497 | J19: =AVERAGE('Single data'!M20:P20) -> 53355.521 | K19: ± | L19: =(_xlfn.STDEV.S('Single data'!M20:P20)/SQRT(4)) -> 13391.809 | M19: =AVERAGE('Single data'!Q20:T20) -> 55336.59 | N19: ± | O19: =(_xlfn.STDEV.S('Single data'!Q20:T20)/SQRT(4)) -> 10560.243 | P19: =AVERAGE('Single data'!U20:X20) -> 51322.295 | Q19: ± | R19: {=_xlfn.STDEV.S('Single data'!U20:X20/SQRT(4))} -> 14048.891 | S19: =AVERAGE('Single data'!Y20:AB20) -> 61038.315 | T19: ± | U19: =(_xlfn.STDEV.S('Single data'!Y20:AB20)/SQRT(4)) -> 13923.674 | V19: =AVERAGE('Single data'!AC20:AF20) -> 57683.755 | W19: ± | X19: =(_xlfn.STDEV.S('Single data'!AC20:AF20)/SQRT(4)) -> 12500.257 | Y19: =AVERAGE('Single data'!AG20:AJ20) -> 70622.61 | Z19: ± | AA19: =(_xlfn.STDEV.S('Single data'!AG20:AJ20)/SQRT(4)) -> 23329.616 | AB19: =AVERAGE('Single data'!AK20:AN20) -> 74122.597 | AC19: ± | AD19: =(_xlfn.STDEV.S('Single data'!AK20:AN20)/SQRT(4)) -> 18097.213 | AE19: =AVERAGE('Single data'!AO20:AR20) -> 55232.844 | AF19: ± | AG19: =(_xlfn.STDEV.S('Single data'!AO20:AR20)/SQRT(4)) -> 9894.18 | AH19: =AVERAGE('Single data'!AS20:AV20) -> 57101.307 | AI19: ± | AJ19: =_xlfn.STDEV.S('Single data'!AS20:AV20)/SQRT(4) -> 10586.473 | AK19: =AVERAGE('Single data'!AW20:AZ20) -> 54806.523 | AL19: ± | AM19: =(_xlfn.STDEV.S('Single data'!AW20:AZ20)/SQRT(4)) -> 11499.813 | AN19: =AVERAGE('Single data'!BA20:BD20) -> 55354.716 | AO19: ± | AP19: =_xlfn.STDEV.S('Single data'!BA20:BD20)/SQRT(4) -> 8842.2823 | AQ19: =AVERAGE('Single data'!BE20:BH20) -> 67687.853 | AR19: ± | AS19: =(_xlfn.STDEV.S('Single data'!BE20:BH20)/SQRT(4)) -> 15989.359 | AT19: =AVERAGE('Single data'!BI20:BL20) -> 57254.767 | AU19: ± | AV19: =_xlfn.STDEV.S('Single data'!BI20:BL20)/SQRT(4) -> 6987.5546 | AW19: =AVERAGE('Single data'!BM20:BP20) -> 61717.619 | AX19: ± | AY19: =(_xlfn.STDEV.S('Single data'!BM20:BP20)/SQRT(4)) -> 9011.6605 | AZ19: =AVERAGE('Single data'!BQ20:BT20) -> 51400.443 | BA19: ± | BB19: =_xlfn.STDEV.S('Single data'!BQ20:BT20)/SQRT(4) -> 6642.7242
C20: 14-HDHA | D20: =AVERAGE('Single data'!D21:H21) -> 6687.245 | E20: ± | F20: =(_xlfn.STDEV.S('Single data'!D21:H21)/SQRT(4)) -> 1618.2741 | G20: =AVERAGE('Single data'!I21:L21) -> 5575.6346 | H20: ± | I20: =(_xlfn.STDEV.S('Single data'!I21:L21)/SQRT(4)) -> 1508.036 | J20: =AVERAGE('Single data'!M21:P21) -> 4959.3383 | K20: ± | L20: =(_xlfn.STDEV.S('Single data'!M21:P21)/SQRT(4)) -> 1531.4519 | M20: =AVERAGE('Single data'!Q21:T21) -> 5945.5237 | N20: ± | O20: =(_xlfn.STDEV.S('Single data'!Q21:T21)/SQRT(4)) -> 1526.279 | P20: =AVERAGE('Single data'!U21:X21) -> 3946.6752 | Q20: ± | R20: {=_xlfn.STDEV.S('Single data'!U21:X21/SQRT(4))} -> 1220.603 | S20: =AVERAGE('Single data'!Y21:AB21) -> 5750.5815 | T20: ± | U20: =(_xlfn.STDEV.S('Single data'!Y21:AB21)/SQRT(4)) -> 1536.4758 | V20: =AVERAGE('Single data'!AC21:AF21) -> 4573.1836 | W20: ± | X20: =(_xlfn.STDEV.S('Single data'!AC21:AF21)/SQRT(4)) -> 1282.451 | Y20: =AVERAGE('Single data'!AG21:AJ21) -> 5735.5647 | Z20: ± | AA20: =(_xlfn.STDEV.S('Single data'!AG21:AJ21)/SQRT(4)) -> 1635.7483 | AB20: =AVERAGE('Single data'!AK21:AN21) -> 5301.3904 | AC20: ± | AD20: =(_xlfn.STDEV.S('Single data'!AK21:AN21)/SQRT(4)) -> 1493.2452 | AE20: =AVERAGE('Single data'!AO21:AR21) -> 6229.3462 | AF20: ± | AG20: =(_xlfn.STDEV.S('Single data'!AO21:AR21)/SQRT(4)) -> 1269.1669 | AH20: =AVERAGE('Single data'!AS21:AV21) -> 5650.7486 | AI20: ± | AJ20: =_xlfn.STDEV.S('Single data'!AS21:AV21)/SQRT(4) -> 1323.1027 | AK20: =AVERAGE('Single data'!AW21:AZ21) -> 5324.6929 | AL20: ± | AM20: =(_xlfn.STDEV.S('Single data'!AW21:AZ21)/SQRT(4)) -> 1270.5045 | AN20: =AVERAGE('Single data'!BA21:BD21) -> 3846.6539 | AO20: ± | AP20: =_xlfn.STDEV.S('Single data'!BA21:BD21)/SQRT(4) -> 1285.7537 | AQ20: =AVERAGE('Single data'!BE21:BH21) -> 6546.5719 | AR20: ± | AS20: =(_xlfn.STDEV.S('Single data'!BE21:BH21)/SQRT(4)) -> 1677.3621 | AT20: =AVERAGE('Single data'!BI21:BL21) -> 4829.516 | AU20: ± | AV20: =_xlfn.STDEV.S('Single data'!BI21:BL21)/SQRT(4) -> 1343.4011 | AW20: =AVERAGE('Single data'!BM21:BP21) -> 6168.2828 | AX20: ± | AY20: =(_xlfn.STDEV.S('Single data'!BM21:BP21)/SQRT(4)) -> 1763.7017 | AZ20: =AVERAGE('Single data'!BQ21:BT21) -> 4134.7955 | BA20: ± | BB20: =_xlfn.STDEV.S('Single data'!BQ21:BT21)/SQRT(4) -> 1207.7288
C21: 18-HEPE | D21: =AVERAGE('Single data'!D22:H22) -> 401.87094 | E21: ± | F21: =(_xlfn.STDEV.S('Single data'!D22:H22)/SQRT(4)) -> 109.25401 | G21: =AVERAGE('Single data'!I22:L22) -> 289.94758 | H21: ± | I21: =(_xlfn.STDEV.S('Single data'!I22:L22)/SQRT(4)) -> 87.643371 | J21: =AVERAGE('Single data'!M22:P22) -> 158.99326 | K21: ± | L21: =(_xlfn.STDEV.S('Single data'!M22:P22)/SQRT(4)) -> 48.779044 | M21: =AVERAGE('Single data'!Q22:T22) -> 181.18224 | N21: ± | O21: =(_xlfn.STDEV.S('Single data'!Q22:T22)/SQRT(4)) -> 42.062203 | P21: =AVERAGE('Single data'!U22:X22) -> 98.125222 | Q21: ± | R21: {=_xlfn.STDEV.S('Single data'!U22:X22/SQRT(4))} -> 32.132061 | S21: =AVERAGE('Single data'!Y22:AB22) -> 236.15937 | T21: ± | U21: =(_xlfn.STDEV.S('Single data'!Y22:AB22)/SQRT(4)) -> 72.256993 | V21: =AVERAGE('Single data'!AC22:AF22) -> 96.451957 | W21: ± | X21: =(_xlfn.STDEV.S('Single data'!AC22:AF22)/SQRT(4)) -> 23.58009 | Y21: =AVERAGE('Single data'!AG22:AJ22) -> 291.90153 | Z21: ± | AA21: =(_xlfn.STDEV.S('Single data'!AG22:AJ22)/SQRT(4)) -> 90.250208 | AB21: =AVERAGE('Single data'!AK22:AN22) -> 127.08169 | AC21: ± | AD21: =(_xlfn.STDEV.S('Single data'!AK22:AN22)/SQRT(4)) -> 29.842733 | AE21: =AVERAGE('Single data'!AO22:AR22) -> 290.96578 | AF21: ± | AG21: =(_xlfn.STDEV.S('Single data'!AO22:AR22)/SQRT(4)) -> 81.834392 | AH21: =AVERAGE('Single data'!AS22:AV22) -> 112.44354 | AI21: ± | AJ21: =_xlfn.STDEV.S('Single data'!AS22:AV22)/SQRT(4) -> 28.500339 | AK21: =AVERAGE('Single data'!AW22:AZ22) -> 180.71717 | AL21: ± | AM21: =(_xlfn.STDEV.S('Single data'!AW22:AZ22)/SQRT(4)) -> 47.15228 | AN21: =AVERAGE('Single data'!BA22:BD22) -> 91.360811 | AO21: ± | AP21: =_xlfn.STDEV.S('Single data'!BA22:BD22)/SQRT(4) -> 21.535184 | AQ21: =AVERAGE('Single data'!BE22:BH22) -> 286.78516 | AR21: ± | AS21: =(_xlfn.STDEV.S('Single data'!BE22:BH22)/SQRT(4)) -> 65.994336 | AT21: =AVERAGE('Single data'!BI22:BL22) -> 121.62839 | AU21: ± | AV21: =_xlfn.STDEV.S('Single data'!BI22:BL22)/SQRT(4) -> 16.786157 | AW21: =AVERAGE('Single data'!BM22:BP22) -> 237.55908 | AX21: ± | AY21: =(_xlfn.STDEV.S('Single data'!BM22:BP22)/SQRT(4)) -> 58.693397 | AZ21: =AVERAGE('Single data'!BQ22:BT22) -> 110.05428 | BA21: ± | BB21: =_xlfn.STDEV.S('Single data'!BQ22:BT22)/SQRT(4) -> 18.660153
B22: ALOX 12/15 | C22: 15-HEPE | D22: =AVERAGE('Single data'!D23:H23) -> 8274.5043 | E22: ± | F22: =(_xlfn.STDEV.S('Single data'!D23:H23)/SQRT(4)) -> 3000.9461 | G22: =AVERAGE('Single data'!I23:L23) -> 8082.4189 | H22: ± | I22: =(_xlfn.STDEV.S('Single data'!I23:L23)/SQRT(4)) -> 2716.5233 | J22: =AVERAGE('Single data'!M23:P23) -> 8192.3583 | K22: ± | L22: =(_xlfn.STDEV.S('Single data'!M23:P23)/SQRT(4)) -> 3115.1067 | M22: =AVERAGE('Single data'!Q23:T23) -> 8779.832 | N22: ± | O22: =(_xlfn.STDEV.S('Single data'!Q23:T23)/SQRT(4)) -> 2842.7555 | P22: =AVERAGE('Single data'!U23:X23) -> 7145.912 | Q22: ± | R22: {=_xlfn.STDEV.S('Single data'!U23:X23/SQRT(4))} -> 3039.0627 | S22: =AVERAGE('Single data'!Y23:AB23) -> 9031.2136 | T22: ± | U22: =(_xlfn.STDEV.S('Single data'!Y23:AB23)/SQRT(4)) -> 3092.8129 | V22: =AVERAGE('Single data'!AC23:AF23) -> 8737.192 | W22: ± | X22: =(_xlfn.STDEV.S('Single data'!AC23:AF23)/SQRT(4)) -> 3238.734 | Y22: =AVERAGE('Single data'!AG23:AJ23) -> 9869.15 | Z22: ± | AA22: =(_xlfn.STDEV.S('Single data'!AG23:AJ23)/SQRT(4)) -> 3682.9946 | AB22: =AVERAGE('Single data'!AK23:AN23) -> 9804.8675 | AC22: ± | AD22: =(_xlfn.STDEV.S('Single data'!AK23:AN23)/SQRT(4)) -> 3934.633 | AE22: =AVERAGE('Single data'!AO23:AR23) -> 7692.2321 | AF22: ± | AG22: =(_xlfn.STDEV.S('Single data'!AO23:AR23)/SQRT(4)) -> 1999.5995 | AH22: =AVERAGE('Single data'!AS23:AV23) -> 7872.6271 | AI22: ± | AJ22: =_xlfn.STDEV.S('Single data'!AS23:AV23)/SQRT(4) -> 2660.8762 | AK22: =AVERAGE('Single data'!AW23:AZ23) -> 8026.5244 | AL22: ± | AM22: =(_xlfn.STDEV.S('Single data'!AW23:AZ23)/SQRT(4)) -> 2631.2188 | AN22: =AVERAGE('Single data'!BA23:BD23) -> 7739.6801 | AO22: ± | AP22: =_xlfn.STDEV.S('Single data'!BA23:BD23)/SQRT(4) -> 3122.7822 | AQ22: =AVERAGE('Single data'!BE23:BH23) -> 10661.649 | AR22: ± | AS22: =(_xlfn.STDEV.S('Single data'!BE23:BH23)/SQRT(4)) -> 3252.586 | AT22: =AVERAGE('Single data'!BI23:BL23) -> 9388.2925 | AU22: ± | AV22: =_xlfn.STDEV.S('Single data'!BI23:BL23)/SQRT(4) -> 2705.5993 | AW22: =AVERAGE('Single data'!BM23:BP23) -> 10333.303 | AX22: ± | AY22: =(_xlfn.STDEV.S('Single data'!BM23:BP23)/SQRT(4)) -> 3186.2828 | AZ22: =AVERAGE('Single data'!BQ23:BT23) -> 8506.7975 | BA22: ± | BB22: =_xlfn.STDEV.S('Single data'!BQ23:BT23)/SQRT(4) -> 2482.5632
C23: 14-HDPA | D23: =AVERAGE('Single data'!D24:H24) -> 11324.225 | E23: ± | F23: =(_xlfn.STDEV.S('Single data'!D24:H24)/SQRT(4)) -> 2606.3636 | G23: =AVERAGE('Single data'!I24:L24) -> 8450.6005 | H23: ± | I23: =(_xlfn.STDEV.S('Single data'!I24:L24)/SQRT(4)) -> 1794.1942 | J23: =AVERAGE('Single data'!M24:P24) -> 7123.384 | K23: ± | L23: =(_xlfn.STDEV.S('Single data'!M24:P24)/SQRT(4)) -> 1732.4253 | M23: =AVERAGE('Single data'!Q24:T24) -> 9860.3927 | N23: ± | O23: =(_xlfn.STDEV.S('Single data'!Q24:T24)/SQRT(4)) -> 2840.8442 | P23: =AVERAGE('Single data'!U24:X24) -> 6380.2886 | Q23: ± | R23: {=_xlfn.STDEV.S('Single data'!U24:X24/SQRT(4))} -> 1790.2778 | S23: =AVERAGE('Single data'!Y24:AB24) -> 8274.0631 | T23: ± | U23: =(_xlfn.STDEV.S('Single data'!Y24:AB24)/SQRT(4)) -> 1742.8138 | V23: =AVERAGE('Single data'!AC24:AF24) -> 7133.2636 | W23: ± | X23: =(_xlfn.STDEV.S('Single data'!AC24:AF24)/SQRT(4)) -> 1901.5642 | Y23: =AVERAGE('Single data'!AG24:AJ24) -> 8128.3813 | Z23: ± | AA23: =(_xlfn.STDEV.S('Single data'!AG24:AJ24)/SQRT(4)) -> 2029.3582 | AB23: =AVERAGE('Single data'!AK24:AN24) -> 7951.3236 | AC23: ± | AD23: =(_xlfn.STDEV.S('Single data'!AK24:AN24)/SQRT(4)) -> 1927.5036 | AE23: =AVERAGE('Single data'!AO24:AR24) -> 9430.5531 | AF23: ± | AG23: =(_xlfn.STDEV.S('Single data'!AO24:AR24)/SQRT(4)) -> 1500.5208 | AH23: =AVERAGE('Single data'!AS24:AV24) -> 8908.2074 | AI23: ± | AJ23: =_xlfn.STDEV.S('Single data'!AS24:AV24)/SQRT(4) -> 1425.9765 | AK23: =AVERAGE('Single data'!AW24:AZ24) -> 8133.3381 | AL23: ± | AM23: =(_xlfn.STDEV.S('Single data'!AW24:AZ24)/SQRT(4)) -> 1601.473 | AN23: =AVERAGE('Single data'!BA24:BD24) -> 6141.9825 | AO23: ± | AP23: =_xlfn.STDEV.S('Single data'!BA24:BD24)/SQRT(4) -> 1791.6799 | AQ23: =AVERAGE('Single data'!BE24:BH24) -> 10321.215 | AR23: ± | AS23: =(_xlfn.STDEV.S('Single data'!BE24:BH24)/SQRT(4)) -> 2725.9437 | AT23: =AVERAGE('Single data'!BI24:BL24) -> 8222.5701 | AU23: ± | AV23: =_xlfn.STDEV.S('Single data'!BI24:BL24)/SQRT(4) -> 2337.8893 | AW23: =AVERAGE('Single data'!BM24:BP24) -> 9998.5164 | AX23: ± | AY23: =(_xlfn.STDEV.S('Single data'!BM24:BP24)/SQRT(4)) -> 2948.0575 | AZ23: =AVERAGE('Single data'!BQ24:BT24) -> 6932.1566 | BA23: ± | BB23: =_xlfn.STDEV.S('Single data'!BQ24:BT24)/SQRT(4) -> 1970.5228
C24: 12-HEPE | D24: =AVERAGE('Single data'!D25:H25) -> 1463.2701 | E24: ± | F24: =(_xlfn.STDEV.S('Single data'!D25:H25)/SQRT(4)) -> 539.69181 | G24: =AVERAGE('Single data'!I25:L25) -> 1376.0643 | H24: ± | I24: =(_xlfn.STDEV.S('Single data'!I25:L25)/SQRT(4)) -> 522.71676 | J24: =AVERAGE('Single data'!M25:P25) -> 1274.9367 | K24: ± | L24: =(_xlfn.STDEV.S('Single data'!M25:P25)/SQRT(4)) -> 549.96434 | M24: =AVERAGE('Single data'!Q25:T25) -> 1415.5594 | N24: ± | O24: =(_xlfn.STDEV.S('Single data'!Q25:T25)/SQRT(4)) -> 447.03398 | P24: =AVERAGE('Single data'!U25:X25) -> 1036.2481 | Q24: ± | R24: {=_xlfn.STDEV.S('Single data'!U25:X25/SQRT(4))} -> 458.63586 | S24: =AVERAGE('Single data'!Y25:AB25) -> 1556.0306 | T24: ± | U24: =(_xlfn.STDEV.S('Single data'!Y25:AB25)/SQRT(4)) -> 605.50655 | V24: =AVERAGE('Single data'!AC25:AF25) -> 1270.5999 | W24: ± | X24: =(_xlfn.STDEV.S('Single data'!AC25:AF25)/SQRT(4)) -> 517.89572 | Y24: =AVERAGE('Single data'!AG25:AJ25) -> 1553.066 | Z24: ± | AA24: =(_xlfn.STDEV.S('Single data'!AG25:AJ25)/SQRT(4)) -> 565.82808 | AB24: =AVERAGE('Single data'!AK25:AN25) -> 1552.5646 | AC24: ± | AD24: =(_xlfn.STDEV.S('Single data'!AK25:AN25)/SQRT(4)) -> 669.04949 | AE24: =AVERAGE('Single data'!AO25:AR25) -> 1306.0973 | AF24: ± | AG24: =(_xlfn.STDEV.S('Single data'!AO25:AR25)/SQRT(4)) -> 405.10007 | AH24: =AVERAGE('Single data'!AS25:AV25) -> 1305.1266 | AI24: ± | AJ24: =_xlfn.STDEV.S('Single data'!AS25:AV25)/SQRT(4) -> 489.47183 | AK24: =AVERAGE('Single data'!AW25:AZ25) -> 1354.6193 | AL24: ± | AM24: =(_xlfn.STDEV.S('Single data'!AW25:AZ25)/SQRT(4)) -> 509.74464 | AN24: =AVERAGE('Single data'!BA25:BD25) -> 1133.7153 | AO24: ± | AP24: =_xlfn.STDEV.S('Single data'!BA25:BD25)/SQRT(4) -> 499.75609 | AQ24: =AVERAGE('Single data'!BE25:BH25) -> 1710.4233 | AR24: ± | AS24: =(_xlfn.STDEV.S('Single data'!BE25:BH25)/SQRT(4)) -> 532.48525 | AT24: =AVERAGE('Single data'!BI25:BL25) -> 1367.8803 | AU24: ± | AV24: =_xlfn.STDEV.S('Single data'!BI25:BL25)/SQRT(4) -> 424.74743 | AW24: =AVERAGE('Single data'!BM25:BP25) -> 1669.625 | AX24: ± | AY24: =(_xlfn.STDEV.S('Single data'!BM25:BP25)/SQRT(4)) -> 562.46749 | AZ24: =AVERAGE('Single data'!BQ25:BT25) -> 1222.992 | BA24: ± | BB24: =_xlfn.STDEV.S('Single data'!BQ25:BT25)/SQRT(4) -> 387.98529
C25: 12-HETE | D25: =AVERAGE('Single data'!D26:H26) -> 12396.826 | E25: ± | F25: =(_xlfn.STDEV.S('Single data'!D26:H26)/SQRT(4)) -> 5019.7459 | G25: =AVERAGE('Single data'!I26:L26) -> 11289.734 | H25: ± | I25: =(_xlfn.STDEV.S('Single data'!I26:L26)/SQRT(4)) -> 4460.6872 | J25: =AVERAGE('Single data'!M26:P26) -> 10814.671 | K25: ± | L25: =(_xlfn.STDEV.S('Single data'!M26:P26)/SQRT(4)) -> 4585.6379 | M25: =AVERAGE('Single data'!Q26:T26) -> 12308.71 | N25: ± | O25: =(_xlfn.STDEV.S('Single data'!Q26:T26)/SQRT(4)) -> 4302.2597 | P25: =AVERAGE('Single data'!U26:X26) -> 9829.8721 | Q25: ± | R25: {=_xlfn.STDEV.S('Single data'!U26:X26/SQRT(4))} -> 3963.2853 | S25: =AVERAGE('Single data'!Y26:AB26) -> 12425.457 | T25: ± | U25: =(_xlfn.STDEV.S('Single data'!Y26:AB26)/SQRT(4)) -> 4673.1467 | V25: =AVERAGE('Single data'!AC26:AF26) -> 12900.004 | W25: ± | X25: =(_xlfn.STDEV.S('Single data'!AC26:AF26)/SQRT(4)) -> 5010.3055 | Y25: =AVERAGE('Single data'!AG26:AJ26) -> 11957.228 | Z25: ± | AA25: =(_xlfn.STDEV.S('Single data'!AG26:AJ26)/SQRT(4)) -> 4597.4193 | AB25: =AVERAGE('Single data'!AK26:AN26) -> 14878.802 | AC25: ± | AD25: =(_xlfn.STDEV.S('Single data'!AK26:AN26)/SQRT(4)) -> 6046.3174 | AE25: =AVERAGE('Single data'!AO26:AR26) -> 11044.129 | AF25: ± | AG25: =(_xlfn.STDEV.S('Single data'!AO26:AR26)/SQRT(4)) -> 3427.2723 | AH25: =AVERAGE('Single data'!AS26:AV26) -> 13136.829 | AI25: ± | AJ25: =_xlfn.STDEV.S('Single data'!AS26:AV26)/SQRT(4) -> 4776.4255 | AK25: =AVERAGE('Single data'!AW26:AZ26) -> 11954.447 | AL25: ± | AM25: =(_xlfn.STDEV.S('Single data'!AW26:AZ26)/SQRT(4)) -> 4508.154 | AN25: =AVERAGE('Single data'!BA26:BD26) -> 11986.773 | AO25: ± | AP25: =_xlfn.STDEV.S('Single data'!BA26:BD26)/SQRT(4) -> 4691.2391 | AQ25: =AVERAGE('Single data'!BE26:BH26) -> 13792.188 | AR25: ± | AS25: =(_xlfn.STDEV.S('Single data'!BE26:BH26)/SQRT(4)) -> 4748.6063 | AT25: =AVERAGE('Single data'!BI26:BL26) -> 12221.856 | AU25: ± | AV25: =_xlfn.STDEV.S('Single data'!BI26:BL26)/SQRT(4) -> 4060.507 | AW25: =AVERAGE('Single data'!BM26:BP26) -> 13701.56 | AX25: ± | AY25: =(_xlfn.STDEV.S('Single data'!BM26:BP26)/SQRT(4)) -> 5157.6048 | AZ25: =AVERAGE('Single data'!BQ26:BT26) -> 10918.909 | BA25: ± | BB25: =_xlfn.STDEV.S('Single data'!BQ26:BT26)/SQRT(4) -> 3906.0683
B26: ALOX5 | C26: LTB4 isomers | D26: =AVERAGE('Single data'!D27:H27) -> 2193.4577 | E26: ± | F26: =(_xlfn.STDEV.S('Single data'!D27:H27)/SQRT(4)) -> 1140.983 | G26: =AVERAGE('Single data'!I27:L27) -> 1872.9496 | H26: ± | I26: =(_xlfn.STDEV.S('Single data'!I27:L27)/SQRT(4)) -> 842.2361 | J26: =AVERAGE('Single data'!M27:P27) -> 1307.72 | K26: ± | L26: =(_xlfn.STDEV.S('Single data'!M27:P27)/SQRT(4)) -> 620.56589 | M26: =AVERAGE('Single data'!Q27:T27) -> 1699.6167 | N26: ± | O26: =(_xlfn.STDEV.S('Single data'!Q27:T27)/SQRT(4)) -> 589.82639 | P26: =AVERAGE('Single data'!U27:X27) -> 1101.4009 | Q26: ± | R26: {=_xlfn.STDEV.S('Single data'!U27:X27/SQRT(4))} -> 365.48852 | S26: =AVERAGE('Single data'!Y27:AB27) -> 1852.6228 | T26: ± | U26: =(_xlfn.STDEV.S('Single data'!Y27:AB27)/SQRT(4)) -> 836.1138 | V26: =AVERAGE('Single data'!AC27:AF27) -> 1414.6724 | W26: ± | X26: =(_xlfn.STDEV.S('Single data'!AC27:AF27)/SQRT(4)) -> 673.2712 | Y26: =AVERAGE('Single data'!AG27:AJ27) -> 1750.8475 | Z26: ± | AA26: =(_xlfn.STDEV.S('Single data'!AG27:AJ27)/SQRT(4)) -> 810.80555 | AB26: =AVERAGE('Single data'!AK27:AN27) -> 939.28354 | AC26: ± | AD26: =(_xlfn.STDEV.S('Single data'!AK27:AN27)/SQRT(4)) -> 466.52056 | AE26: =AVERAGE('Single data'!AO27:AR27) -> 1654.5819 | AF26: ± | AG26: =(_xlfn.STDEV.S('Single data'!AO27:AR27)/SQRT(4)) -> 751.98538 | AH26: =AVERAGE('Single data'!AS27:AV27) -> 825.23318 | AI26: ± | AJ26: =_xlfn.STDEV.S('Single data'!AS27:AV27)/SQRT(4) -> 325.52476 | AK26: =AVERAGE('Single data'!AW27:AZ27) -> 1570.6931 | AL26: ± | AM26: =(_xlfn.STDEV.S('Single data'!AW27:AZ27)/SQRT(4)) -> 666.6783 | AN26: =AVERAGE('Single data'!BA27:BD27) -> 1010.828 | AO26: ± | AP26: =_xlfn.STDEV.S('Single data'!BA27:BD27)/SQRT(4) -> 519.25313 | AQ26: =AVERAGE('Single data'!BE27:BH27) -> 1889.3168 | AR26: ± | AS26: =(_xlfn.STDEV.S('Single data'!BE27:BH27)/SQRT(4)) -> 670.60313 | AT26: =AVERAGE('Single data'!BI27:BL27) -> 1637.9674 | AU26: ± | AV26: =_xlfn.STDEV.S('Single data'!BI27:BL27)/SQRT(4) -> 522.46082 | AW26: =AVERAGE('Single data'!BM27:BP27) -> 1941.988 | AX26: ± | AY26: =(_xlfn.STDEV.S('Single data'!BM27:BP27)/SQRT(4)) -> 802.85594 | AZ26: =AVERAGE('Single data'!BQ27:BT27) -> 1408.4928 | BA26: ± | BB26: =_xlfn.STDEV.S('Single data'!BQ27:BT27)/SQRT(4) -> 476.79318
C27: LTB4 | D27: =AVERAGE('Single data'!D28:H28) -> 4562.5469 | E27: ± | F27: =(_xlfn.STDEV.S('Single data'!D28:H28)/SQRT(4)) -> 2618.3559 | G27: =AVERAGE('Single data'!I28:L28) -> 3557.8398 | H27: ± | I27: =(_xlfn.STDEV.S('Single data'!I28:L28)/SQRT(4)) -> 1586.8491 | J27: =AVERAGE('Single data'!M28:P28) -> 2034.5077 | K27: ± | L27: =(_xlfn.STDEV.S('Single data'!M28:P28)/SQRT(4)) -> 943.3091 | M27: =AVERAGE('Single data'!Q28:T28) -> 2615.1799 | N27: ± | O27: =(_xlfn.STDEV.S('Single data'!Q28:T28)/SQRT(4)) -> 1161.3012 | P27: =AVERAGE('Single data'!U28:X28) -> 715.49122 | Q27: ± | R27: {=_xlfn.STDEV.S('Single data'!U28:X28/SQRT(4))} -> 331.54091 | S27: =AVERAGE('Single data'!Y28:AB28) -> 3535.1942 | T27: ± | U27: =(_xlfn.STDEV.S('Single data'!Y28:AB28)/SQRT(4)) -> 1563.8916 | V27: =AVERAGE('Single data'!AC28:AF28) -> 2144.7249 | W27: ± | X27: =(_xlfn.STDEV.S('Single data'!AC28:AF28)/SQRT(4)) -> 1021.9051 | Y27: =AVERAGE('Single data'!AG28:AJ28) -> 3119.0507 | Z27: ± | AA27: =(_xlfn.STDEV.S('Single data'!AG28:AJ28)/SQRT(4)) -> 1378.2007 | AB27: =AVERAGE('Single data'!AK28:AN28) -> 995.00575 | AC27: ± | AD27: =(_xlfn.STDEV.S('Single data'!AK28:AN28)/SQRT(4)) -> 491.03624 | AE27: =AVERAGE('Single data'!AO28:AR28) -> 3033.4616 | AF27: ± | AG27: =(_xlfn.STDEV.S('Single data'!AO28:AR28)/SQRT(4)) -> 1324.7167 | AH27: =AVERAGE('Single data'!AS28:AV28) -> 835.58545 | AI27: ± | AJ27: =_xlfn.STDEV.S('Single data'!AS28:AV28)/SQRT(4) -> 431.88129 | AK27: =AVERAGE('Single data'!AW28:AZ28) -> 2524.614 | AL27: ± | AM27: =(_xlfn.STDEV.S('Single data'!AW28:AZ28)/SQRT(4)) -> 1089.6508 | AN27: =AVERAGE('Single data'!BA28:BD28) -> 970.58391 | AO27: ± | AP27: =_xlfn.STDEV.S('Single data'!BA28:BD28)/SQRT(4) -> 532.2043 | AQ27: =AVERAGE('Single data'!BE28:BH28) -> 3252.6139 | AR27: ± | AS27: =(_xlfn.STDEV.S('Single data'!BE28:BH28)/SQRT(4)) -> 1367.2233 | AT27: =AVERAGE('Single data'!BI28:BL28) -> 1902.9519 | AU27: ± | AV27: =_xlfn.STDEV.S('Single data'!BI28:BL28)/SQRT(4) -> 846.50508 | AW27: =AVERAGE('Single data'!BM28:BP28) -> 3449.0741 | AX27: ± | AY27: =(_xlfn.STDEV.S('Single data'!BM28:BP28)/SQRT(4)) -> 1719.5768 | AZ27: =AVERAGE('Single data'!BQ28:BT28) -> 1743.419 | BA27: ± | BB27: =_xlfn.STDEV.S('Single data'!BQ28:BT28)/SQRT(4) -> 795.45862
C28: 5-HEPE | D28: =AVERAGE('Single data'!D29:H29) -> 223.37851 | E28: ± | F28: =(_xlfn.STDEV.S('Single data'!D29:H29)/SQRT(4)) -> 112.91025 | G28: =AVERAGE('Single data'!I29:L29) -> 192.80222 | H28: ± | I28: =(_xlfn.STDEV.S('Single data'!I29:L29)/SQRT(4)) -> 80.791125 | J28: =AVERAGE('Single data'!M29:P29) -> 103.41818 | K28: ± | L28: =(_xlfn.STDEV.S('Single data'!M29:P29)/SQRT(4)) -> 36.711038 | M28: =AVERAGE('Single data'!Q29:T29) -> 107.63827 | N28: ± | O28: =(_xlfn.STDEV.S('Single data'!Q29:T29)/SQRT(4)) -> 36.701138 | P28: =AVERAGE('Single data'!U29:X29) -> 46.149545 | Q28: ± | R28: {=_xlfn.STDEV.S('Single data'!U29:X29/SQRT(4))} -> 16.509123 | S28: =AVERAGE('Single data'!Y29:AB29) -> 168.6372 | T28: ± | U28: =(_xlfn.STDEV.S('Single data'!Y29:AB29)/SQRT(4)) -> 63.519117 | V28: =AVERAGE('Single data'!AC29:AF29) -> 86.766917 | W28: ± | X28: =(_xlfn.STDEV.S('Single data'!AC29:AF29)/SQRT(4)) -> 30.695474 | Y28: =AVERAGE('Single data'!AG29:AJ29) -> 208.54647 | Z28: ± | AA28: =(_xlfn.STDEV.S('Single data'!AG29:AJ29)/SQRT(4)) -> 97.190539 | AB28: =AVERAGE('Single data'!AK29:AN29) -> 67.444593 | AC28: ± | AD28: =(_xlfn.STDEV.S('Single data'!AK29:AN29)/SQRT(4)) -> 24.284098 | AE28: =AVERAGE('Single data'!AO29:AR29) -> 162.22058 | AF28: ± | AG28: =(_xlfn.STDEV.S('Single data'!AO29:AR29)/SQRT(4)) -> 59.573219 | AH28: =AVERAGE('Single data'!AS29:AV29) -> 52.745515 | AI28: ± | AJ28: =_xlfn.STDEV.S('Single data'!AS29:AV29)/SQRT(4) -> 16.623666 | AK28: =AVERAGE('Single data'!AW29:AZ29) -> 118.13002 | AL28: ± | AM28: =(_xlfn.STDEV.S('Single data'!AW29:AZ29)/SQRT(4)) -> 42.791208 | AN28: =AVERAGE('Single data'!BA29:BD29) -> 47.300533 | AO28: ± | AP28: =_xlfn.STDEV.S('Single data'!BA29:BD29)/SQRT(4) -> 17.391109 | AQ28: =AVERAGE('Single data'!BE29:BH29) -> 163.94756 | AR28: ± | AS28: =(_xlfn.STDEV.S('Single data'!BE29:BH29)/SQRT(4)) -> 56.495351 | AT28: =AVERAGE('Single data'!BI29:BL29) -> 87.84164 | AU28: ± | AV28: =_xlfn.STDEV.S('Single data'!BI29:BL29)/SQRT(4) -> 25.207636 | AW28: =AVERAGE('Single data'!BM29:BP29) -> 149.61103 | AX28: ± | AY28: =(_xlfn.STDEV.S('Single data'!BM29:BP29)/SQRT(4)) -> 48.243815 | AZ28: =AVERAGE('Single data'!BQ29:BT29) -> 78.512627 | BA28: ± | BB28: =_xlfn.STDEV.S('Single data'!BQ29:BT29)/SQRT(4) -> 22.716419
C29: 5-HETE | D29: =AVERAGE('Single data'!D30:H30) -> 1756.9039 | E29: ± | F29: =(_xlfn.STDEV.S('Single data'!D30:H30)/SQRT(4)) -> 905.52317 | G29: =AVERAGE('Single data'!I30:L30) -> 1354.7273 | H29: ± | I29: =(_xlfn.STDEV.S('Single data'!I30:L30)/SQRT(4)) -> 581.89351 | J29: =AVERAGE('Single data'!M30:P30) -> 648.82043 | K29: ± | L29: =(_xlfn.STDEV.S('Single data'!M30:P30)/SQRT(4)) -> 261.78093 | M29: =AVERAGE('Single data'!Q30:T30) -> 717.32343 | N29: ± | O29: =(_xlfn.STDEV.S('Single data'!Q30:T30)/SQRT(4)) -> 223.05421 | P29: =AVERAGE('Single data'!U30:X30) -> 216.2905 | Q29: ± | R29: {=_xlfn.STDEV.S('Single data'!U30:X30/SQRT(4))} -> 74.656645 | S29: =AVERAGE('Single data'!Y30:AB30) -> 1114.4509 | T29: ± | U29: =(_xlfn.STDEV.S('Single data'!Y30:AB30)/SQRT(4)) -> 411.69357 | V29: =AVERAGE('Single data'!AC30:AF30) -> 515.87394 | W29: ± | X29: =(_xlfn.STDEV.S('Single data'!AC30:AF30)/SQRT(4)) -> 192.59032 | Y29: =AVERAGE('Single data'!AG30:AJ30) -> 1124.2516 | Z29: ± | AA29: =(_xlfn.STDEV.S('Single data'!AG30:AJ30)/SQRT(4)) -> 418.75397 | AB29: =AVERAGE('Single data'!AK30:AN30) -> 394.83376 | AC29: ± | AD29: =(_xlfn.STDEV.S('Single data'!AK30:AN30)/SQRT(4)) -> 115.24154 | AE29: =AVERAGE('Single data'!AO30:AR30) -> 1080.4569 | AF29: ± | AG29: =(_xlfn.STDEV.S('Single data'!AO30:AR30)/SQRT(4)) -> 377.47882 | AH29: =AVERAGE('Single data'!AS30:AV30) -> 338.85782 | AI29: ± | AJ29: =_xlfn.STDEV.S('Single data'!AS30:AV30)/SQRT(4) -> 92.3661 | AK29: =AVERAGE('Single data'!AW30:AZ30) -> 802.50975 | AL29: ± | AM29: =(_xlfn.STDEV.S('Single data'!AW30:AZ30)/SQRT(4)) -> 288.64581 | AN29: =AVERAGE('Single data'!BA30:BD30) -> 248.13355 | AO29: ± | AP29: =_xlfn.STDEV.S('Single data'!BA30:BD30)/SQRT(4) -> 83.985042 | AQ29: =AVERAGE('Single data'!BE30:BH30) -> 967.36826 | AR29: ± | AS29: =(_xlfn.STDEV.S('Single data'!BE30:BH30)/SQRT(4)) -> 302.16127 | AT29: =AVERAGE('Single data'!BI30:BL30) -> 523.84388 | AU29: ± | AV29: =_xlfn.STDEV.S('Single data'!BI30:BL30)/SQRT(4) -> 130.26322 | AW29: =AVERAGE('Single data'!BM30:BP30) -> 958.95023 | AX29: ± | AY29: =(_xlfn.STDEV.S('Single data'!BM30:BP30)/SQRT(4)) -> 311.0061 | AZ29: =AVERAGE('Single data'!BQ30:BT30) -> 445.77085 | BA29: ± | BB29: =_xlfn.STDEV.S('Single data'!BQ30:BT30)/SQRT(4) -> 144.79494
B30: PUFA | C30: AA | D30: =AVERAGE('Single data'!D31:H31) -> 782192.12 | E30: ± | F30: =(_xlfn.STDEV.S('Single data'!D31:H31)/SQRT(4)) -> 109516.35 | G30: =AVERAGE('Single data'!I31:L31) -> 678545.93 | H30: ± | I30: =(_xlfn.STDEV.S('Single data'!I31:L31)/SQRT(4)) -> 125915.1 | J30: =AVERAGE('Single data'!M31:P31) -> 712133 | K30: ± | L30: =(_xlfn.STDEV.S('Single data'!M31:P31)/SQRT(4)) -> 117227.97 | M30: =AVERAGE('Single data'!Q31:T31) -> 761029.32 | N30: ± | O30: =(_xlfn.STDEV.S('Single data'!Q31:T31)/SQRT(4)) -> 164814.78 | P30: =AVERAGE('Single data'!U31:X31) -> 615169.02 | Q30: ± | R30: {=_xlfn.STDEV.S('Single data'!U31:X31/SQRT(4))} -> 80371.996 | S30: =AVERAGE('Single data'!Y31:AB31) -> 658271.32 | T30: ± | U30: =(_xlfn.STDEV.S('Single data'!Y31:AB31)/SQRT(4)) -> 97074.289 | V30: =AVERAGE('Single data'!AC31:AF31) -> 627758.06 | W30: ± | X30: =(_xlfn.STDEV.S('Single data'!AC31:AF31)/SQRT(4)) -> 87938.036 | Y30: =AVERAGE('Single data'!AG31:AJ31) -> 564318.64 | Z30: ± | AA30: =(_xlfn.STDEV.S('Single data'!AG31:AJ31)/SQRT(4)) -> 56209.958 | AB30: =AVERAGE('Single data'!AK31:AN31) -> 538546.37 | AC30: ± | AD30: =(_xlfn.STDEV.S('Single data'!AK31:AN31)/SQRT(4)) -> 79172.434 | AE30: =AVERAGE('Single data'!AO31:AR31) -> 652621.29 | AF30: ± | AG30: =(_xlfn.STDEV.S('Single data'!AO31:AR31)/SQRT(4)) -> 69919.834 | AH30: =AVERAGE('Single data'!AS31:AV31) -> 624264.68 | AI30: ± | AJ30: =_xlfn.STDEV.S('Single data'!AS31:AV31)/SQRT(4) -> 79372.396 | AK30: =AVERAGE('Single data'!AW31:AZ31) -> 618004.83 | AL30: ± | AM30: =(_xlfn.STDEV.S('Single data'!AW31:AZ31)/SQRT(4)) -> 82239.281 | AN30: =AVERAGE('Single data'!BA31:BD31) -> 596040.47 | AO30: ± | AP30: =_xlfn.STDEV.S('Single data'!BA31:BD31)/SQRT(4) -> 59301.3 | AQ30: =AVERAGE('Single data'!BE31:BH31) -> 720622.47 | AR30: ± | AS30: =(_xlfn.STDEV.S('Single data'!BE31:BH31)/SQRT(4)) -> 121385.72 | AT30: =AVERAGE('Single data'!BI31:BL31) -> 778120.13 | AU30: ± | AV30: =_xlfn.STDEV.S('Single data'!BI31:BL31)/SQRT(4) -> 127954.06 | AW30: =AVERAGE('Single data'!BM31:BP31) -> 719922.72 | AX30: ± | AY30: =(_xlfn.STDEV.S('Single data'!BM31:BP31)/SQRT(4)) -> 112166.46 | AZ30: =AVERAGE('Single data'!BQ31:BT31) -> 839761.81 | BA30: ± | BB30: =_xlfn.STDEV.S('Single data'!BQ31:BT31)/SQRT(4) -> 119095.36
C31: EPA | D31: =AVERAGE('Single data'!D32:H32) -> 118241.84 | E31: ± | F31: =(_xlfn.STDEV.S('Single data'!D32:H32)/SQRT(4)) -> 17547.407 | G31: =AVERAGE('Single data'!I32:L32) -> 109859.99 | H31: ± | I31: =(_xlfn.STDEV.S('Single data'!I32:L32)/SQRT(4)) -> 25856.149 | J31: =AVERAGE('Single data'!M32:P32) -> 113455.76 | K31: ± | L31: =(_xlfn.STDEV.S('Single data'!M32:P32)/SQRT(4)) -> 23473.924 | M31: =AVERAGE('Single data'!Q32:T32) -> 108023.7 | N31: ± | O31: =(_xlfn.STDEV.S('Single data'!Q32:T32)/SQRT(4)) -> 20853.277 | P31: =AVERAGE('Single data'!U32:X32) -> 79998.906 | Q31: ± | R31: {=_xlfn.STDEV.S('Single data'!U32:X32/SQRT(4))} -> 8807.1684 | S31: =AVERAGE('Single data'!Y32:AB32) -> 99380.261 | T31: ± | U31: =(_xlfn.STDEV.S('Single data'!Y32:AB32)/SQRT(4)) -> 16601.686 | V31: =AVERAGE('Single data'!AC32:AF32) -> 73180.777 | W31: ± | X31: =(_xlfn.STDEV.S('Single data'!AC32:AF32)/SQRT(4)) -> 11192.775 | Y31: =AVERAGE('Single data'!AG32:AJ32) -> 89368.345 | Z31: ± | AA31: =(_xlfn.STDEV.S('Single data'!AG32:AJ32)/SQRT(4)) -> 13568.11 | AB31: =AVERAGE('Single data'!AK32:AN32) -> 83697.43 | AC31: ± | AD31: =(_xlfn.STDEV.S('Single data'!AK32:AN32)/SQRT(4)) -> 14314.009 | AE31: =AVERAGE('Single data'!AO32:AR32) -> 107446.11 | AF31: ± | AG31: =(_xlfn.STDEV.S('Single data'!AO32:AR32)/SQRT(4)) -> 17167.365 | AH31: =AVERAGE('Single data'!AS32:AV32) -> 97323.134 | AI31: ± | AJ31: =_xlfn.STDEV.S('Single data'!AS32:AV32)/SQRT(4) -> 18904.327 | AK31: =AVERAGE('Single data'!AW32:AZ32) -> 91637.728 | AL31: ± | AM31: =(_xlfn.STDEV.S('Single data'!AW32:AZ32)/SQRT(4)) -> 15393.299 | AN31: =AVERAGE('Single data'!BA32:BD32) -> 74991.995 | AO31: ± | AP31: =_xlfn.STDEV.S('Single data'!BA32:BD32)/SQRT(4) -> 10436.445 | AQ31: =AVERAGE('Single data'!BE32:BH32) -> 105085.93 | AR31: ± | AS31: =(_xlfn.STDEV.S('Single data'!BE32:BH32)/SQRT(4)) -> 19952.165 | AT31: =AVERAGE('Single data'!BI32:BL32) -> 112090.05 | AU31: ± | AV31: =_xlfn.STDEV.S('Single data'!BI32:BL32)/SQRT(4) -> 18837.927 | AW31: =AVERAGE('Single data'!BM32:BP32) -> 105304.18 | AX31: ± | AY31: =(_xlfn.STDEV.S('Single data'!BM32:BP32)/SQRT(4)) -> 18290.448 | AZ31: =AVERAGE('Single data'!BQ32:BT32) -> 128318.67 | BA31: ± | BB31: =_xlfn.STDEV.S('Single data'!BQ32:BT32)/SQRT(4) -> 20263.109
C32: DHA | D32: =AVERAGE('Single data'!D33:H33) -> 636275.25 | E32: ± | F32: =(_xlfn.STDEV.S('Single data'!D33:H33)/SQRT(4)) -> 126857.9 | G32: =AVERAGE('Single data'!I33:L33) -> 495903.83 | H32: ± | I32: =(_xlfn.STDEV.S('Single data'!I33:L33)/SQRT(4)) -> 73759.77 | J32: =AVERAGE('Single data'!M33:P33) -> 533555.96 | K32: ± | L32: =(_xlfn.STDEV.S('Single data'!M33:P33)/SQRT(4)) -> 81821.205 | M32: =AVERAGE('Single data'!Q33:T33) -> 617446.35 | N32: ± | O32: =(_xlfn.STDEV.S('Single data'!Q33:T33)/SQRT(4)) -> 181538.77 | P32: =AVERAGE('Single data'!U33:X33) -> 431541.05 | Q32: ± | R32: {=_xlfn.STDEV.S('Single data'!U33:X33/SQRT(4))} -> 93394.523 | S32: =AVERAGE('Single data'!Y33:AB33) -> 480942.76 | T32: ± | U32: =(_xlfn.STDEV.S('Single data'!Y33:AB33)/SQRT(4)) -> 82399.011 | V32: =AVERAGE('Single data'!AC33:AF33) -> 454866.36 | W32: ± | X32: =(_xlfn.STDEV.S('Single data'!AC33:AF33)/SQRT(4)) -> 77850.484 | Y32: =AVERAGE('Single data'!AG33:AJ33) -> 426593.31 | Z32: ± | AA32: =(_xlfn.STDEV.S('Single data'!AG33:AJ33)/SQRT(4)) -> 81017.159 | AB32: =AVERAGE('Single data'!AK33:AN33) -> 389173.07 | AC32: ± | AD32: =(_xlfn.STDEV.S('Single data'!AK33:AN33)/SQRT(4)) -> 60297.374 | AE32: =AVERAGE('Single data'!AO33:AR33) -> 516321.23 | AF32: ± | AG32: =(_xlfn.STDEV.S('Single data'!AO33:AR33)/SQRT(4)) -> 83423.665 | AH32: =AVERAGE('Single data'!AS33:AV33) -> 489677.6 | AI32: ± | AJ32: =_xlfn.STDEV.S('Single data'!AS33:AV33)/SQRT(4) -> 76596.293 | AK32: =AVERAGE('Single data'!AW33:AZ33) -> 472673.6 | AL32: ± | AM32: =(_xlfn.STDEV.S('Single data'!AW33:AZ33)/SQRT(4)) -> 63593.757 | AN32: =AVERAGE('Single data'!BA33:BD33) -> 423008.66 | AO32: ± | AP32: =_xlfn.STDEV.S('Single data'!BA33:BD33)/SQRT(4) -> 72910.046 | AQ32: =AVERAGE('Single data'!BE33:BH33) -> 578592.15 | AR32: ± | AS32: =(_xlfn.STDEV.S('Single data'!BE33:BH33)/SQRT(4)) -> 151368.45 | AT32: =AVERAGE('Single data'!BI33:BL33) -> 610006.38 | AU32: ± | AV32: =_xlfn.STDEV.S('Single data'!BI33:BL33)/SQRT(4) -> 140669.48 | AW32: =AVERAGE('Single data'!BM33:BP33) -> 525969.7 | AX32: ± | AY32: =(_xlfn.STDEV.S('Single data'!BM33:BP33)/SQRT(4)) -> 125657.51 | AZ32: =AVERAGE('Single data'!BQ33:BT33) -> 662947.1 | BA32: ± | BB32: =_xlfn.STDEV.S('Single data'!BQ33:BT33)/SQRT(4) -> 125073.93
C33: DPA | D33: =AVERAGE('Single data'!D34:H34) -> 14612.068 | E33: ± | F33: =(_xlfn.STDEV.S('Single data'!D34:H34)/SQRT(4)) -> 3952.6264 | G33: =AVERAGE('Single data'!I34:L34) -> 10364.551 | H33: ± | I33: =(_xlfn.STDEV.S('Single data'!I34:L34)/SQRT(4)) -> 1242.5691 | J33: =AVERAGE('Single data'!M34:P34) -> 11324.004 | K33: ± | L33: =(_xlfn.STDEV.S('Single data'!M34:P34)/SQRT(4)) -> 965.89224 | M33: =AVERAGE('Single data'!Q34:T34) -> 15694.852 | N33: ± | O33: =(_xlfn.STDEV.S('Single data'!Q34:T34)/SQRT(4)) -> 6699.2197 | P33: =AVERAGE('Single data'!U34:X34) -> 11851.468 | Q33: ± | R33: {=_xlfn.STDEV.S('Single data'!U34:X34/SQRT(4))} -> 4503.2743 | S33: =AVERAGE('Single data'!Y34:AB34) -> 9328.353 | T33: ± | U33: =(_xlfn.STDEV.S('Single data'!Y34:AB34)/SQRT(4)) -> 1162.806 | V33: =AVERAGE('Single data'!AC34:AF34) -> 9725.4408 | W33: ± | X33: =(_xlfn.STDEV.S('Single data'!AC34:AF34)/SQRT(4)) -> 1243.0716 | Y33: =AVERAGE('Single data'!AG34:AJ34) -> 8274.7143 | Z33: ± | AA33: =(_xlfn.STDEV.S('Single data'!AG34:AJ34)/SQRT(4)) -> 1335.6213 | AB33: =AVERAGE('Single data'!AK34:AN34) -> 7524.0576 | AC33: ± | AD33: =(_xlfn.STDEV.S('Single data'!AK34:AN34)/SQRT(4)) -> 1004.4792 | AE33: =AVERAGE('Single data'!AO34:AR34) -> 10710.346 | AF33: ± | AG33: =(_xlfn.STDEV.S('Single data'!AO34:AR34)/SQRT(4)) -> 1823.3261 | AH33: =AVERAGE('Single data'!AS34:AV34) -> 10422.479 | AI33: ± | AJ33: =_xlfn.STDEV.S('Single data'!AS34:AV34)/SQRT(4) -> 755.12423 | AK33: =AVERAGE('Single data'!AW34:AZ34) -> 9559.3901 | AL33: ± | AM33: =(_xlfn.STDEV.S('Single data'!AW34:AZ34)/SQRT(4)) -> 525.07039 | AN33: =AVERAGE('Single data'!BA34:BD34) -> 9004.571 | AO33: ± | AP33: =_xlfn.STDEV.S('Single data'!BA34:BD34)/SQRT(4) -> 985.01782 | AQ33: =AVERAGE('Single data'!BE34:BH34) -> 14161.262 | AR33: ± | AS33: =(_xlfn.STDEV.S('Single data'!BE34:BH34)/SQRT(4)) -> 5425.7627 | AT33: =AVERAGE('Single data'!BI34:BL34) -> 16167.406 | AU33: ± | AV33: =_xlfn.STDEV.S('Single data'!BI34:BL34)/SQRT(4) -> 4947.3839 | AW33: =AVERAGE('Single data'!BM34:BP34) -> 11987.615 | AX33: ± | AY33: =(_xlfn.STDEV.S('Single data'!BM34:BP34)/SQRT(4)) -> 4152.3373 | AZ33: =AVERAGE('Single data'!BQ34:BT34) -> 16621.853 | BA33: ± | BB33: =_xlfn.STDEV.S('Single data'!BQ34:BT34)/SQRT(4) -> 4291.7477
B34: PTGS | C34: PGE2 | D34: =AVERAGE('Single data'!D35:H35) -> 865.26299 | E34: ± | F34: =(_xlfn.STDEV.S('Single data'!D35:H35)/SQRT(4)) -> 268.25251 | G34: =AVERAGE('Single data'!I35:L35) -> 792.64374 | H34: ± | I34: =(_xlfn.STDEV.S('Single data'!I35:L35)/SQRT(4)) -> 213.92904 | J34: =AVERAGE('Single data'!M35:P35) -> 1021.4558 | K34: ± | L34: =(_xlfn.STDEV.S('Single data'!M35:P35)/SQRT(4)) -> 298.40771 | M34: =AVERAGE('Single data'!Q35:T35) -> 1482.1934 | N34: ± | O34: =(_xlfn.STDEV.S('Single data'!Q35:T35)/SQRT(4)) -> 391.13583 | P34: =AVERAGE('Single data'!U35:X35) -> 2920.7247 | Q34: ± | R34: {=_xlfn.STDEV.S('Single data'!U35:X35/SQRT(4))} -> 775.65183 | S34: =AVERAGE('Single data'!Y35:AB35) -> 1110.632 | T34: ± | U34: =(_xlfn.STDEV.S('Single data'!Y35:AB35)/SQRT(4)) -> 228.41849 | V34: =AVERAGE('Single data'!AC35:AF35) -> 3496.3223 | W34: ± | X34: =(_xlfn.STDEV.S('Single data'!AC35:AF35)/SQRT(4)) -> 922.59235 | Y34: =AVERAGE('Single data'!AG35:AJ35) -> 1351.5786 | Z34: ± | AA34: =(_xlfn.STDEV.S('Single data'!AG35:AJ35)/SQRT(4)) -> 350.30877 | AB34: =AVERAGE('Single data'!AK35:AN35) -> 3688.6206 | AC34: ± | AD34: =(_xlfn.STDEV.S('Single data'!AK35:AN35)/SQRT(4)) -> 738.49405 | AE34: =AVERAGE('Single data'!AO35:AR35) -> 935.19369 | AF34: ± | AG34: =(_xlfn.STDEV.S('Single data'!AO35:AR35)/SQRT(4)) -> 172.21334 | AH34: =AVERAGE('Single data'!AS35:AV35) -> 4257.5924 | AI34: ± | AJ34: =_xlfn.STDEV.S('Single data'!AS35:AV35)/SQRT(4) -> 883.13161 | AK34: =AVERAGE('Single data'!AW35:AZ35) -> 1348.7353 | AL34: ± | AM34: =(_xlfn.STDEV.S('Single data'!AW35:AZ35)/SQRT(4)) -> 295.99836 | AN34: =AVERAGE('Single data'!BA35:BD35) -> 4821.495 | AO34: ± | AP34: =_xlfn.STDEV.S('Single data'!BA35:BD35)/SQRT(4) -> 802.36361 | AQ34: =AVERAGE('Single data'!BE35:BH35) -> 941.60473 | AR34: ± | AS34: =(_xlfn.STDEV.S('Single data'!BE35:BH35)/SQRT(4)) -> 262.28317 | AT34: =AVERAGE('Single data'!BI35:BL35) -> 956.91386 | AU34: ± | AV34: =_xlfn.STDEV.S('Single data'!BI35:BL35)/SQRT(4) -> 294.91596 | AW34: =AVERAGE('Single data'!BM35:BP35) -> 978.18976 | AX34: ± | AY34: =(_xlfn.STDEV.S('Single data'!BM35:BP35)/SQRT(4)) -> 279.35599 | AZ34: =AVERAGE('Single data'!BQ35:BT35) -> 965.83886 | BA34: ± | BB34: =_xlfn.STDEV.S('Single data'!BQ35:BT35)/SQRT(4) -> 288.36913
C35: 15-ketoPGE2 | D35: =AVERAGE('Single data'!D36:H36) -> 580.84368 | E35: ± | F35: =(_xlfn.STDEV.S('Single data'!D36:H36)/SQRT(4)) -> 183.06103 | G35: =AVERAGE('Single data'!I36:L36) -> 378.50533 | H35: ± | I35: =(_xlfn.STDEV.S('Single data'!I36:L36)/SQRT(4)) -> 118.92336 | J35: =AVERAGE('Single data'!M36:P36) -> 324.54023 | K35: ± | L35: =(_xlfn.STDEV.S('Single data'!M36:P36)/SQRT(4)) -> 86.784692 | M35: =AVERAGE('Single data'!Q36:T36) -> 572.51334 | N35: ± | O35: =(_xlfn.STDEV.S('Single data'!Q36:T36)/SQRT(4)) -> 183.59087 | P35: =AVERAGE('Single data'!U36:X36) -> 680.79927 | Q35: ± | R35: {=_xlfn.STDEV.S('Single data'!U36:X36/SQRT(4))} -> 191.28299 | S35: =AVERAGE('Single data'!Y36:AB36) -> 508.709 | T35: ± | U35: =(_xlfn.STDEV.S('Single data'!Y36:AB36)/SQRT(4)) -> 127.11839 | V35: =AVERAGE('Single data'!AC36:AF36) -> 764.64742 | W35: ± | X35: =(_xlfn.STDEV.S('Single data'!AC36:AF36)/SQRT(4)) -> 222.51042 | Y35: =AVERAGE('Single data'!AG36:AJ36) -> 528.23832 | Z35: ± | AA35: =(_xlfn.STDEV.S('Single data'!AG36:AJ36)/SQRT(4)) -> 148.02334 | AB35: =AVERAGE('Single data'!AK36:AN36) -> 605.12827 | AC35: ± | AD35: =(_xlfn.STDEV.S('Single data'!AK36:AN36)/SQRT(4)) -> 142.79987 | AE35: =AVERAGE('Single data'!AO36:AR36) -> 526.24936 | AF35: ± | AG35: =(_xlfn.STDEV.S('Single data'!AO36:AR36)/SQRT(4)) -> 124.24 | AH35: =AVERAGE('Single data'!AS36:AV36) -> 799.87626 | AI35: ± | AJ35: =_xlfn.STDEV.S('Single data'!AS36:AV36)/SQRT(4) -> 199.8549 | AK35: =AVERAGE('Single data'!AW36:AZ36) -> 504.09653 | AL35: ± | AM35: =(_xlfn.STDEV.S('Single data'!AW36:AZ36)/SQRT(4)) -> 133.90634 | AN35: =AVERAGE('Single data'!BA36:BD36) -> 743.46314 | AO35: ± | AP35: =_xlfn.STDEV.S('Single data'!BA36:BD36)/SQRT(4) -> 156.8411 | AQ35: =AVERAGE('Single data'!BE36:BH36) -> 494.75089 | AR35: ± | AS35: =(_xlfn.STDEV.S('Single data'!BE36:BH36)/SQRT(4)) -> 159.91342 | AT35: =AVERAGE('Single data'!BI36:BL36) -> 411.56971 | AU35: ± | AV35: =_xlfn.STDEV.S('Single data'!BI36:BL36)/SQRT(4) -> 129.74595 | AW35: =AVERAGE('Single data'!BM36:BP36) -> 496.42437 | AX35: ± | AY35: =(_xlfn.STDEV.S('Single data'!BM36:BP36)/SQRT(4)) -> 171.23922 | AZ35: =AVERAGE('Single data'!BQ36:BT36) -> 414.97436 | BA35: ± | BB35: =_xlfn.STDEV.S('Single data'!BQ36:BT36)/SQRT(4) -> 166.44779
C36: PGD2 | D36: =AVERAGE('Single data'!D37:H37) -> 346.18746 | E36: ± | F36: =(_xlfn.STDEV.S('Single data'!D37:H37)/SQRT(4)) -> 91.872261 | G36: =AVERAGE('Single data'!I37:L37) -> 314.29012 | H36: ± | I36: =(_xlfn.STDEV.S('Single data'!I37:L37)/SQRT(4)) -> 80.805518 | J36: =AVERAGE('Single data'!M37:P37) -> 377.51248 | K36: ± | L36: =(_xlfn.STDEV.S('Single data'!M37:P37)/SQRT(4)) -> 92.782653 | M36: =AVERAGE('Single data'!Q37:T37) -> 557.60469 | N36: ± | O36: =(_xlfn.STDEV.S('Single data'!Q37:T37)/SQRT(4)) -> 143.63814 | P36: =AVERAGE('Single data'!U37:X37) -> 1020.8452 | Q36: ± | R36: {=_xlfn.STDEV.S('Single data'!U37:X37/SQRT(4))} -> 274.90846 | S36: =AVERAGE('Single data'!Y37:AB37) -> 410.66498 | T36: ± | U36: =(_xlfn.STDEV.S('Single data'!Y37:AB37)/SQRT(4)) -> 79.69804 | V36: =AVERAGE('Single data'!AC37:AF37) -> 1181.1922 | W36: ± | X36: =(_xlfn.STDEV.S('Single data'!AC37:AF37)/SQRT(4)) -> 310.941 | Y36: =AVERAGE('Single data'!AG37:AJ37) -> 423.08785 | Z36: ± | AA36: =(_xlfn.STDEV.S('Single data'!AG37:AJ37)/SQRT(4)) -> 101.26517 | AB36: =AVERAGE('Single data'!AK37:AN37) -> 1211.3712 | AC36: ± | AD36: =(_xlfn.STDEV.S('Single data'!AK37:AN37)/SQRT(4)) -> 301.63234 | AE36: =AVERAGE('Single data'!AO37:AR37) -> 376.57042 | AF36: ± | AG36: =(_xlfn.STDEV.S('Single data'!AO37:AR37)/SQRT(4)) -> 79.151316 | AH36: =AVERAGE('Single data'!AS37:AV37) -> 1323.9556 | AI36: ± | AJ36: =_xlfn.STDEV.S('Single data'!AS37:AV37)/SQRT(4) -> 322.02234 | AK36: =AVERAGE('Single data'!AW37:AZ37) -> 468.54652 | AL36: ± | AM36: =(_xlfn.STDEV.S('Single data'!AW37:AZ37)/SQRT(4)) -> 97.445937 | AN36: =AVERAGE('Single data'!BA37:BD37) -> 1891.1651 | AO36: ± | AP36: =_xlfn.STDEV.S('Single data'!BA37:BD37)/SQRT(4) -> 217.16748 | AQ36: =AVERAGE('Single data'!BE37:BH37) -> 428.748 | AR36: ± | AS36: =(_xlfn.STDEV.S('Single data'!BE37:BH37)/SQRT(4)) -> 120.2145 | AT36: =AVERAGE('Single data'!BI37:BL37) -> 491.60665 | AU36: ± | AV36: =_xlfn.STDEV.S('Single data'!BI37:BL37)/SQRT(4) -> 132.05576 | AW36: =AVERAGE('Single data'!BM37:BP37) -> 476.85426 | AX36: ± | AY36: =(_xlfn.STDEV.S('Single data'!BM37:BP37)/SQRT(4)) -> 120.83094 | AZ36: =AVERAGE('Single data'!BQ37:BT37) -> 528.42255 | BA36: ± | BB36: =_xlfn.STDEV.S('Single data'!BQ37:BT37)/SQRT(4) -> 180.07151
C37: PGF2α | D37: =AVERAGE('Single data'!D38:H38) -> 585.58096 | E37: ± | F37: =(_xlfn.STDEV.S('Single data'!D38:H38)/SQRT(4)) -> 67.542313 | G37: =AVERAGE('Single data'!I38:L38) -> 567.06794 | H37: ± | I37: =(_xlfn.STDEV.S('Single data'!I38:L38)/SQRT(4)) -> 41.308707 | J37: =AVERAGE('Single data'!M38:P38) -> 575.50451 | K37: ± | L37: =(_xlfn.STDEV.S('Single data'!M38:P38)/SQRT(4)) -> 47.517849 | M37: =AVERAGE('Single data'!Q38:T38) -> 847.53212 | N37: ± | O37: =(_xlfn.STDEV.S('Single data'!Q38:T38)/SQRT(4)) -> 52.824486 | P37: =AVERAGE('Single data'!U38:X38) -> 1439.5715 | Q37: ± | R37: {=_xlfn.STDEV.S('Single data'!U38:X38/SQRT(4))} -> 103.17664 | S37: =AVERAGE('Single data'!Y38:AB38) -> 637.0135 | T37: ± | U37: =(_xlfn.STDEV.S('Single data'!Y38:AB38)/SQRT(4)) -> 7.8893528 | V37: =AVERAGE('Single data'!AC38:AF38) -> 1292.72 | W37: ± | X37: =(_xlfn.STDEV.S('Single data'!AC38:AF38)/SQRT(4)) -> 43.655364 | Y37: =AVERAGE('Single data'!AG38:AJ38) -> 641.59941 | Z37: ± | AA37: =(_xlfn.STDEV.S('Single data'!AG38:AJ38)/SQRT(4)) -> 50.394361 | AB37: =AVERAGE('Single data'!AK38:AN38) -> 1486.0988 | AC37: ± | AD37: =(_xlfn.STDEV.S('Single data'!AK38:AN38)/SQRT(4)) -> 86.918013 | AE37: =AVERAGE('Single data'!AO38:AR38) -> 565.73241 | AF37: ± | AG37: =(_xlfn.STDEV.S('Single data'!AO38:AR38)/SQRT(4)) -> 23.703599 | AH37: =AVERAGE('Single data'!AS38:AV38) -> 1253.5055 | AI37: ± | AJ37: =_xlfn.STDEV.S('Single data'!AS38:AV38)/SQRT(4) -> 95.05776 | AK37: =AVERAGE('Single data'!AW38:AZ38) -> 690.06381 | AL37: ± | AM37: =(_xlfn.STDEV.S('Single data'!AW38:AZ38)/SQRT(4)) -> 28.673309 | AN37: =AVERAGE('Single data'!BA38:BD38) -> 1511.0094 | AO37: ± | AP37: =_xlfn.STDEV.S('Single data'!BA38:BD38)/SQRT(4) -> 164.09189 | AQ37: =AVERAGE('Single data'!BE38:BH38) -> 628.56 | AR37: ± | AS37: =(_xlfn.STDEV.S('Single data'!BE38:BH38)/SQRT(4)) -> 87.647509 | AT37: =AVERAGE('Single data'!BI38:BL38) -> 505.73535 | AU37: ± | AV37: =_xlfn.STDEV.S('Single data'!BI38:BL38)/SQRT(4) -> 60.482692 | AW37: =AVERAGE('Single data'!BM38:BP38) -> 660.67389 | AX37: ± | AY37: =(_xlfn.STDEV.S('Single data'!BM38:BP38)/SQRT(4)) -> 58.557938 | AZ37: =AVERAGE('Single data'!BQ38:BT38) -> 610.26331 | BA37: ± | BB37: =_xlfn.STDEV.S('Single data'!BQ38:BT38)/SQRT(4) -> 56.105376
C38: TXB2 | D38: =AVERAGE('Single data'!D39:H39) -> 18247.953 | E38: ± | F38: =(_xlfn.STDEV.S('Single data'!D39:H39)/SQRT(4)) -> 2651.146 | G38: =AVERAGE('Single data'!I39:L39) -> 16559.564 | H38: ± | I38: =(_xlfn.STDEV.S('Single data'!I39:L39)/SQRT(4)) -> 3065.4506 | J38: =AVERAGE('Single data'!M39:P39) -> 14091.407 | K38: ± | L38: =(_xlfn.STDEV.S('Single data'!M39:P39)/SQRT(4)) -> 2892.4279 | M38: =AVERAGE('Single data'!Q39:T39) -> 17461.018 | N38: ± | O38: =(_xlfn.STDEV.S('Single data'!Q39:T39)/SQRT(4)) -> 2897.0383 | P38: =AVERAGE('Single data'!U39:X39) -> 6758.5188 | Q38: ± | R38: {=_xlfn.STDEV.S('Single data'!U39:X39/SQRT(4))} -> 2272.6251 | S38: =AVERAGE('Single data'!Y39:AB39) -> 17131.966 | T38: ± | U38: =(_xlfn.STDEV.S('Single data'!Y39:AB39)/SQRT(4)) -> 2936.0864 | V38: =AVERAGE('Single data'!AC39:AF39) -> 11762.027 | W38: ± | X38: =(_xlfn.STDEV.S('Single data'!AC39:AF39)/SQRT(4)) -> 3105.1167 | Y38: =AVERAGE('Single data'!AG39:AJ39) -> 15159.427 | Z38: ± | AA38: =(_xlfn.STDEV.S('Single data'!AG39:AJ39)/SQRT(4)) -> 3021.6569 | AB38: =AVERAGE('Single data'!AK39:AN39) -> 4895.8539 | AC38: ± | AD38: =(_xlfn.STDEV.S('Single data'!AK39:AN39)/SQRT(4)) -> 1806.9512 | AE38: =AVERAGE('Single data'!AO39:AR39) -> 16854.492 | AF38: ± | AG38: =(_xlfn.STDEV.S('Single data'!AO39:AR39)/SQRT(4)) -> 2741.6375 | AH38: =AVERAGE('Single data'!AS39:AV39) -> 3788.0909 | AI38: ± | AJ38: =_xlfn.STDEV.S('Single data'!AS39:AV39)/SQRT(4) -> 1391.7876 | AK38: =AVERAGE('Single data'!AW39:AZ39) -> 18485.728 | AL38: ± | AM38: =(_xlfn.STDEV.S('Single data'!AW39:AZ39)/SQRT(4)) -> 3274.985 | AN38: =AVERAGE('Single data'!BA39:BD39) -> 6521.4968 | AO38: ± | AP38: =_xlfn.STDEV.S('Single data'!BA39:BD39)/SQRT(4) -> 2311.6377 | AQ38: =AVERAGE('Single data'!BE39:BH39) -> 19089.309 | AR38: ± | AS38: =(_xlfn.STDEV.S('Single data'!BE39:BH39)/SQRT(4)) -> 3380.8147 | AT38: =AVERAGE('Single data'!BI39:BL39) -> 16175.013 | AU38: ± | AV38: =_xlfn.STDEV.S('Single data'!BI39:BL39)/SQRT(4) -> 2655.1273 | AW38: =AVERAGE('Single data'!BM39:BP39) -> 19962.545 | AX38: ± | AY38: =(_xlfn.STDEV.S('Single data'!BM39:BP39)/SQRT(4)) -> 2931.0262 | AZ38: =AVERAGE('Single data'!BQ39:BT39) -> 18563.563 | BA38: ± | BB38: =_xlfn.STDEV.S('Single data'!BQ39:BT39)/SQRT(4) -> 3387.3379
C39: PGE1/PGD1 | D39: =AVERAGE('Single data'!D40:H40) -> 38.297705 | E39: ± | F39: =(_xlfn.STDEV.S('Single data'!D40:H40)/SQRT(4)) -> 5.7246939 | G39: =AVERAGE('Single data'!I40:L40) -> 30.393068 | H39: ± | I39: =(_xlfn.STDEV.S('Single data'!I40:L40)/SQRT(4)) -> 3.5163105 | J39: =AVERAGE('Single data'!M40:P40) -> 32.279877 | K39: ± | L39: =(_xlfn.STDEV.S('Single data'!M40:P40)/SQRT(4)) -> 3.9825326 | M39: =AVERAGE('Single data'!Q40:T40) -> 46.290272 | N39: ± | O39: =(_xlfn.STDEV.S('Single data'!Q40:T40)/SQRT(4)) -> 3.1589176 | P39: =AVERAGE('Single data'!U40:X40) -> 90.604391 | Q39: ± | R39: {=_xlfn.STDEV.S('Single data'!U40:X40/SQRT(4))} -> 0.71706396 | S39: =AVERAGE('Single data'!Y40:AB40) -> 36.228252 | T39: ± | U39: =(_xlfn.STDEV.S('Single data'!Y40:AB40)/SQRT(4)) -> 2.4042937 | V39: =AVERAGE('Single data'!AC40:AF40) -> 86.893158 | W39: ± | X39: =(_xlfn.STDEV.S('Single data'!AC40:AF40)/SQRT(4)) -> 6.3804796 | Y39: =AVERAGE('Single data'!AG40:AJ40) -> 41.957198 | Z39: ± | AA39: =(_xlfn.STDEV.S('Single data'!AG40:AJ40)/SQRT(4)) -> 4.2541906 | AB39: =AVERAGE('Single data'!AK40:AN40) -> 98.138789 | AC39: ± | AD39: =(_xlfn.STDEV.S('Single data'!AK40:AN40)/SQRT(4)) -> 10.336349 | AE39: =AVERAGE('Single data'!AO40:AR40) -> 36.923763 | AF39: ± | AG39: =(_xlfn.STDEV.S('Single data'!AO40:AR40)/SQRT(4)) -> 2.6044634 | AH39: =AVERAGE('Single data'!AS40:AV40) -> 110.17005 | AI39: ± | AJ39: =_xlfn.STDEV.S('Single data'!AS40:AV40)/SQRT(4) -> 10.471978 | AK39: =AVERAGE('Single data'!AW40:AZ40) -> 40.575464 | AL39: ± | AM39: =(_xlfn.STDEV.S('Single data'!AW40:AZ40)/SQRT(4)) -> 3.3300823 | AN39: =AVERAGE('Single data'!BA40:BD40) -> 115.36917 | AO39: ± | AP39: =_xlfn.STDEV.S('Single data'!BA40:BD40)/SQRT(4) -> 14.721357 | AQ39: =AVERAGE('Single data'!BE40:BH40) -> 34.352592 | AR39: ± | AS39: =(_xlfn.STDEV.S('Single data'!BE40:BH40)/SQRT(4)) -> 4.156891 | AT39: =AVERAGE('Single data'!BI40:BL40) -> 27.833754 | AU39: ± | AV39: =_xlfn.STDEV.S('Single data'!BI40:BL40)/SQRT(4) -> 4.3794837 | AW39: =AVERAGE('Single data'!BM40:BP40) -> 36.904496 | AX39: ± | AY39: =(_xlfn.STDEV.S('Single data'!BM40:BP40)/SQRT(4)) -> 6.2295011 | AZ39: =AVERAGE('Single data'!BQ40:BT40) -> 29.736827 | BA39: ± | BB39: =_xlfn.STDEV.S('Single data'!BQ40:BT40)/SQRT(4) -> 3.7372758
B40: EET | C40: 5.6-EET | D40: =AVERAGE('Single data'!D41:H41) -> 33.77455 | E40: ± | F40: =(_xlfn.STDEV.S('Single data'!D41:H41)/SQRT(4)) -> 12.176192 | G40: =AVERAGE('Single data'!I41:L41) -> 16.448462 | H40: ± | I40: =(_xlfn.STDEV.S('Single data'!I41:L41)/SQRT(4)) -> 3.0354722 | J40: =AVERAGE('Single data'!M41:P41) -> 13.545551 | K40: ± | L40: =(_xlfn.STDEV.S('Single data'!M41:P41)/SQRT(4)) -> 0.6645591 | M40: =AVERAGE('Single data'!Q41:T41) -> 25.817215 | N40: ± | O40: =(_xlfn.STDEV.S('Single data'!Q41:T41)/SQRT(4)) -> 12.876265 | P40: =AVERAGE('Single data'!U41:X41) -> 12.119497 | Q40: ± | R40: {=_xlfn.STDEV.S('Single data'!U41:X41/SQRT(4))} -> 4.8421648 | S40: =AVERAGE('Single data'!Y41:AB41) -> 16.054192 | T40: ± | U40: =(_xlfn.STDEV.S('Single data'!Y41:AB41)/SQRT(4)) -> 1.5731341 | V40: =AVERAGE('Single data'!AC41:AF41) -> 11.50739 | W40: ± | X40: =(_xlfn.STDEV.S('Single data'!AC41:AF41)/SQRT(4)) -> 2.0292866 | Y40: =AVERAGE('Single data'!AG41:AJ41) -> 17.022068 | Z40: ± | AA40: =(_xlfn.STDEV.S('Single data'!AG41:AJ41)/SQRT(4)) -> 1.5213947 | AB40: =AVERAGE('Single data'!AK41:AN41) -> 11.855119 | AC40: ± | AD40: =(_xlfn.STDEV.S('Single data'!AK41:AN41)/SQRT(4)) -> 4.1385121 | AE40: =AVERAGE('Single data'!AO41:AR41) -> 18.071695 | AF40: ± | AG40: =(_xlfn.STDEV.S('Single data'!AO41:AR41)/SQRT(4)) -> 2.2854674 | AH40: =AVERAGE('Single data'!AS41:AV41) -> 7.4200389 | AI40: ± | AJ40: =_xlfn.STDEV.S('Single data'!AS41:AV41)/SQRT(4) -> 1.5303393 | AK40: =AVERAGE('Single data'!AW41:AZ41) -> 13.680251 | AL40: ± | AM40: =(_xlfn.STDEV.S('Single data'!AW41:AZ41)/SQRT(4)) -> 2.0313549 | AN40: =AVERAGE('Single data'!BA41:BD41) -> 12.166126 | AO40: ± | AP40: =_xlfn.STDEV.S('Single data'!BA41:BD41)/SQRT(4) -> 4.3796769 | AQ40: =AVERAGE('Single data'!BE41:BH41) -> 28.17741 | AR40: ± | AS40: =(_xlfn.STDEV.S('Single data'!BE41:BH41)/SQRT(4)) -> 10.859306 | AT40: =AVERAGE('Single data'!BI41:BL41) -> 21.331977 | AU40: ± | AV40: =_xlfn.STDEV.S('Single data'!BI41:BL41)/SQRT(4) -> 8.5498939 | AW40: =AVERAGE('Single data'!BM41:BP41) -> 38.913335 | AX40: ± | AY40: =(_xlfn.STDEV.S('Single data'!BM41:BP41)/SQRT(4)) -> 15.83148 | AZ40: =AVERAGE('Single data'!BQ41:BT41) -> 16.227403 | BA40: ± | BB40: =_xlfn.STDEV.S('Single data'!BQ41:BT41)/SQRT(4) -> 6.2992615
C41: 11.12-EET | D41: =AVERAGE('Single data'!D42:H42) -> 208.58243 | E41: ± | F41: =(_xlfn.STDEV.S('Single data'!D42:H42)/SQRT(4)) -> 28.912319 | G41: =AVERAGE('Single data'!I42:L42) -> 126.31637 | H41: ± | I41: =(_xlfn.STDEV.S('Single data'!I42:L42)/SQRT(4)) -> 18.480712 | J41: =AVERAGE('Single data'!M42:P42) -> 122.29402 | K41: ± | L41: =(_xlfn.STDEV.S('Single data'!M42:P42)/SQRT(4)) -> 22.38984 | M41: =AVERAGE('Single data'!Q42:T42) -> 171.70679 | N41: ± | O41: =(_xlfn.STDEV.S('Single data'!Q42:T42)/SQRT(4)) -> 26.059632 | P41: =AVERAGE('Single data'!U42:X42) -> 125.44605 | Q41: ± | R41: {=_xlfn.STDEV.S('Single data'!U42:X42/SQRT(4))} -> 15.12615 | S41: =AVERAGE('Single data'!Y42:AB42) -> 140.11093 | T41: ± | U41: =(_xlfn.STDEV.S('Single data'!Y42:AB42)/SQRT(4)) -> 13.404643 | V41: =AVERAGE('Single data'!AC42:AF42) -> 120.63619 | W41: ± | X41: =(_xlfn.STDEV.S('Single data'!AC42:AF42)/SQRT(4)) -> 14.754308 | Y41: =AVERAGE('Single data'!AG42:AJ42) -> 144.35191 | Z41: ± | AA41: =(_xlfn.STDEV.S('Single data'!AG42:AJ42)/SQRT(4)) -> 8.0976344 | AB41: =AVERAGE('Single data'!AK42:AN42) -> 123.10057 | AC41: ± | AD41: =(_xlfn.STDEV.S('Single data'!AK42:AN42)/SQRT(4)) -> 34.241349 | AE41: =AVERAGE('Single data'!AO42:AR42) -> 149.47435 | AF41: ± | AG41: =(_xlfn.STDEV.S('Single data'!AO42:AR42)/SQRT(4)) -> 18.140329 | AH41: =AVERAGE('Single data'!AS42:AV42) -> 136.95832 | AI41: ± | AJ41: =_xlfn.STDEV.S('Single data'!AS42:AV42)/SQRT(4) -> 9.1998337 | AK41: =AVERAGE('Single data'!AW42:AZ42) -> 132.40406 | AL41: ± | AM41: =(_xlfn.STDEV.S('Single data'!AW42:AZ42)/SQRT(4)) -> 13.152666 | AN41: =AVERAGE('Single data'!BA42:BD42) -> 104.61252 | AO41: ± | AP41: =_xlfn.STDEV.S('Single data'!BA42:BD42)/SQRT(4) -> 12.785968 | AQ41: =AVERAGE('Single data'!BE42:BH42) -> 181.35461 | AR41: ± | AS41: =(_xlfn.STDEV.S('Single data'!BE42:BH42)/SQRT(4)) -> 35.068585 | AT41: =AVERAGE('Single data'!BI42:BL42) -> 150.99121 | AU41: ± | AV41: =_xlfn.STDEV.S('Single data'!BI42:BL42)/SQRT(4) -> 19.95628 | AW41: =AVERAGE('Single data'!BM42:BP42) -> 206.32601 | AX41: ± | AY41: =(_xlfn.STDEV.S('Single data'!BM42:BP42)/SQRT(4)) -> 45.32995 | AZ41: =AVERAGE('Single data'!BQ42:BT42) -> 116.45072 | BA41: ± | BB41: =_xlfn.STDEV.S('Single data'!BQ42:BT42)/SQRT(4) -> 18.561949
C42: 14.15-EET | D42: =AVERAGE('Single data'!D43:H43) -> 423.69389 | E42: ± | F42: =(_xlfn.STDEV.S('Single data'!D43:H43)/SQRT(4)) -> 73.301402 | G42: =AVERAGE('Single data'!I43:L43) -> 344.56201 | H42: ± | I42: =(_xlfn.STDEV.S('Single data'!I43:L43)/SQRT(4)) -> 40.269563 | J42: =AVERAGE('Single data'!M43:P43) -> 389.85212 | K42: ± | L42: =(_xlfn.STDEV.S('Single data'!M43:P43)/SQRT(4)) -> 80.498073 | M42: =AVERAGE('Single data'!Q43:T43) -> 295.22604 | N42: ± | O42: =(_xlfn.STDEV.S('Single data'!Q43:T43)/SQRT(4)) -> 73.390811 | P42: =AVERAGE('Single data'!U43:X43) -> 309.15717 | Q42: ± | R42: {=_xlfn.STDEV.S('Single data'!U43:X43/SQRT(4))} -> 114.45244 | S42: =AVERAGE('Single data'!Y43:AB43) -> 322.04679 | T42: ± | U42: =(_xlfn.STDEV.S('Single data'!Y43:AB43)/SQRT(4)) -> 68.011743 | V42: =AVERAGE('Single data'!AC43:AF43) -> 363.78402 | W42: ± | X42: =(_xlfn.STDEV.S('Single data'!AC43:AF43)/SQRT(4)) -> 55.382555 | Y42: =AVERAGE('Single data'!AG43:AJ43) -> 358.60418 | Z42: ± | AA42: =(_xlfn.STDEV.S('Single data'!AG43:AJ43)/SQRT(4)) -> 71.639994 | AB42: =AVERAGE('Single data'!AK43:AN43) -> 456.18074 | AC42: ± | AD42: =(_xlfn.STDEV.S('Single data'!AK43:AN43)/SQRT(4)) -> 108.30201 | AE42: =AVERAGE('Single data'!AO43:AR43) -> 331.41938 | AF42: ± | AG42: =(_xlfn.STDEV.S('Single data'!AO43:AR43)/SQRT(4)) -> 84.191223 | AH42: =AVERAGE('Single data'!AS43:AV43) -> 316.90923 | AI42: ± | AJ42: =_xlfn.STDEV.S('Single data'!AS43:AV43)/SQRT(4) -> 80.700763 | AK42: =AVERAGE('Single data'!AW43:AZ43) -> 292.4897 | AL42: ± | AM42: =(_xlfn.STDEV.S('Single data'!AW43:AZ43)/SQRT(4)) -> 49.476016 | AN42: =AVERAGE('Single data'!BA43:BD43) -> 319.43865 | AO42: ± | AP42: =_xlfn.STDEV.S('Single data'!BA43:BD43)/SQRT(4) -> 86.827185 | AQ42: =AVERAGE('Single data'!BE43:BH43) -> 361.75823 | AR42: ± | AS42: =(_xlfn.STDEV.S('Single data'!BE43:BH43)/SQRT(4)) -> 58.699048 | AT42: =AVERAGE('Single data'!BI43:BL43) -> 407.63664 | AU42: ± | AV42: =_xlfn.STDEV.S('Single data'!BI43:BL43)/SQRT(4) -> 118.90895 | AW42: =AVERAGE('Single data'!BM43:BP43) -> 468.25375 | AX42: ± | AY42: =(_xlfn.STDEV.S('Single data'!BM43:BP43)/SQRT(4)) -> 56.606129 | AZ42: =AVERAGE('Single data'!BQ43:BT43) -> 370.58592 | BA42: ± | BB42: =_xlfn.STDEV.S('Single data'!BQ43:BT43)/SQRT(4) -> 129.54723
C43: 13-HDHA | D43: =AVERAGE('Single data'!D44:H44) -> 1513.7741 | E43: ± | F43: =(_xlfn.STDEV.S('Single data'!D44:H44)/SQRT(4)) -> 224.95285 | G43: =AVERAGE('Single data'!I44:L44) -> 1288.9524 | H43: ± | I43: =(_xlfn.STDEV.S('Single data'!I44:L44)/SQRT(4)) -> 288.27227 | J43: =AVERAGE('Single data'!M44:P44) -> 1270.2188 | K43: ± | L43: =(_xlfn.STDEV.S('Single data'!M44:P44)/SQRT(4)) -> 309.04289 | M43: =AVERAGE('Single data'!Q44:T44) -> 1142.0243 | N43: ± | O43: =(_xlfn.STDEV.S('Single data'!Q44:T44)/SQRT(4)) -> 235.35551 | P43: =AVERAGE('Single data'!U44:X44) -> 1034.5417 | Q43: ± | R43: {=_xlfn.STDEV.S('Single data'!U44:X44/SQRT(4))} -> 209.198 | S43: =AVERAGE('Single data'!Y44:AB44) -> 1189.3324 | T43: ± | U43: =(_xlfn.STDEV.S('Single data'!Y44:AB44)/SQRT(4)) -> 293.03578 | V43: =AVERAGE('Single data'!AC44:AF44) -> 1050.4352 | W43: ± | X43: =(_xlfn.STDEV.S('Single data'!AC44:AF44)/SQRT(4)) -> 285.94706 | Y43: =AVERAGE('Single data'!AG44:AJ44) -> 1313.2138 | Z43: ± | AA43: =(_xlfn.STDEV.S('Single data'!AG44:AJ44)/SQRT(4)) -> 298.25654 | AB43: =AVERAGE('Single data'!AK44:AN44) -> 1096.4355 | AC43: ± | AD43: =(_xlfn.STDEV.S('Single data'!AK44:AN44)/SQRT(4)) -> 238.01969 | AE43: =AVERAGE('Single data'!AO44:AR44) -> 1422.9404 | AF43: ± | AG43: =(_xlfn.STDEV.S('Single data'!AO44:AR44)/SQRT(4)) -> 324.03921 | AH43: =AVERAGE('Single data'!AS44:AV44) -> 1104.8239 | AI43: ± | AJ43: =_xlfn.STDEV.S('Single data'!AS44:AV44)/SQRT(4) -> 232.18663 | AK43: =AVERAGE('Single data'!AW44:AZ44) -> 1149.8315 | AL43: ± | AM43: =(_xlfn.STDEV.S('Single data'!AW44:AZ44)/SQRT(4)) -> 264.84709 | AN43: =AVERAGE('Single data'!BA44:BD44) -> 1009.5205 | AO43: ± | AP43: =_xlfn.STDEV.S('Single data'!BA44:BD44)/SQRT(4) -> 237.46754 | AQ43: =AVERAGE('Single data'!BE44:BH44) -> 1224.7933 | AR43: ± | AS43: =(_xlfn.STDEV.S('Single data'!BE44:BH44)/SQRT(4)) -> 220.8834 | AT43: =AVERAGE('Single data'!BI44:BL44) -> 966.25354 | AU43: ± | AV43: =_xlfn.STDEV.S('Single data'!BI44:BL44)/SQRT(4) -> 192.07008 | AW43: =AVERAGE('Single data'!BM44:BP44) -> 1139.5194 | AX43: ± | AY43: =(_xlfn.STDEV.S('Single data'!BM44:BP44)/SQRT(4)) -> 230.61571 | AZ43: =AVERAGE('Single data'!BQ44:BT44) -> 934.9926 | BA43: ± | BB43: =_xlfn.STDEV.S('Single data'!BQ44:BT44)/SQRT(4) -> 190.0457
C44: 7-HDHA | D44: =AVERAGE('Single data'!D45:H45) -> 1964.4444 | E44: ± | F44: =(_xlfn.STDEV.S('Single data'!D45:H45)/SQRT(4)) -> 290.62159 | G44: =AVERAGE('Single data'!I45:L45) -> 1833.7988 | H44: ± | I44: =(_xlfn.STDEV.S('Single data'!I45:L45)/SQRT(4)) -> 282.72499 | J44: =AVERAGE('Single data'!M45:P45) -> 1992.8878 | K44: ± | L44: =(_xlfn.STDEV.S('Single data'!M45:P45)/SQRT(4)) -> 337.5522 | M44: =AVERAGE('Single data'!Q45:T45) -> 1952.448 | N44: ± | O44: =(_xlfn.STDEV.S('Single data'!Q45:T45)/SQRT(4)) -> 303.27744 | P44: =AVERAGE('Single data'!U45:X45) -> 1433.8753 | Q44: ± | R44: {=_xlfn.STDEV.S('Single data'!U45:X45/SQRT(4))} -> 320.38175 | S44: =AVERAGE('Single data'!Y45:AB45) -> 1714.5785 | T44: ± | U44: =(_xlfn.STDEV.S('Single data'!Y45:AB45)/SQRT(4)) -> 217.74396 | V44: =AVERAGE('Single data'!AC45:AF45) -> 1648.7204 | W44: ± | X44: =(_xlfn.STDEV.S('Single data'!AC45:AF45)/SQRT(4)) -> 338.86916 | Y44: =AVERAGE('Single data'!AG45:AJ45) -> 1772.8114 | Z44: ± | AA44: =(_xlfn.STDEV.S('Single data'!AG45:AJ45)/SQRT(4)) -> 308.36755 | AB44: =AVERAGE('Single data'!AK45:AN45) -> 1554.916 | AC44: ± | AD44: =(_xlfn.STDEV.S('Single data'!AK45:AN45)/SQRT(4)) -> 281.41126 | AE44: =AVERAGE('Single data'!AO45:AR45) -> 1714.7173 | AF44: ± | AG44: =(_xlfn.STDEV.S('Single data'!AO45:AR45)/SQRT(4)) -> 220.15273 | AH44: =AVERAGE('Single data'!AS45:AV45) -> 1678.7462 | AI44: ± | AJ44: =_xlfn.STDEV.S('Single data'!AS45:AV45)/SQRT(4) -> 218.8446 | AK44: =AVERAGE('Single data'!AW45:AZ45) -> 1864.1714 | AL44: ± | AM44: =(_xlfn.STDEV.S('Single data'!AW45:AZ45)/SQRT(4)) -> 231.72398 | AN44: =AVERAGE('Single data'!BA45:BD45) -> 1244.0446 | AO44: ± | AP44: =_xlfn.STDEV.S('Single data'!BA45:BD45)/SQRT(4) -> 268.32562 | AQ44: =AVERAGE('Single data'!BE45:BH45) -> 1747.053 | AR44: ± | AS44: =(_xlfn.STDEV.S('Single data'!BE45:BH45)/SQRT(4)) -> 263.20376 | AT44: =AVERAGE('Single data'!BI45:BL45) -> 1701.5498 | AU44: ± | AV44: =_xlfn.STDEV.S('Single data'!BI45:BL45)/SQRT(4) -> 359.48696 | AW44: =AVERAGE('Single data'!BM45:BP45) -> 1682.924 | AX44: ± | AY44: =(_xlfn.STDEV.S('Single data'!BM45:BP45)/SQRT(4)) -> 268.66792 | AZ44: =AVERAGE('Single data'!BQ45:BT45) -> 1516.0734 | BA44: ± | BB44: =_xlfn.STDEV.S('Single data'!BQ45:BT45)/SQRT(4) -> 287.55047
C45: 4-HDHA | D45: =AVERAGE('Single data'!D46:H46) -> 295.25364 | E45: ± | F45: =(_xlfn.STDEV.S('Single data'!D46:H46)/SQRT(4)) -> 56.284133 | G45: =AVERAGE('Single data'!I46:L46) -> 164.32132 | H45: ± | I45: =(_xlfn.STDEV.S('Single data'!I46:L46)/SQRT(4)) -> 43.562248 | J45: =AVERAGE('Single data'!M46:P46) -> 129.15242 | K45: ± | L45: =(_xlfn.STDEV.S('Single data'!M46:P46)/SQRT(4)) -> 27.015336 | M45: =AVERAGE('Single data'!Q46:T46) -> 138.52945 | N45: ± | O45: =(_xlfn.STDEV.S('Single data'!Q46:T46)/SQRT(4)) -> 32.523851 | P45: =AVERAGE('Single data'!U46:X46) -> 107.02976 | Q45: ± | R45: {=_xlfn.STDEV.S('Single data'!U46:X46/SQRT(4))} -> 21.418919 | S45: =AVERAGE('Single data'!Y46:AB46) -> 154.88298 | T45: ± | U45: =(_xlfn.STDEV.S('Single data'!Y46:AB46)/SQRT(4)) -> 35.740316 | V45: =AVERAGE('Single data'!AC46:AF46) -> 101.98895 | W45: ± | X45: =(_xlfn.STDEV.S('Single data'!AC46:AF46)/SQRT(4)) -> 22.380075 | Y45: =AVERAGE('Single data'!AG46:AJ46) -> 177.78618 | Z45: ± | AA45: =(_xlfn.STDEV.S('Single data'!AG46:AJ46)/SQRT(4)) -> 43.306035 | AB45: =AVERAGE('Single data'!AK46:AN46) -> 98.425094 | AC45: ± | AD45: =(_xlfn.STDEV.S('Single data'!AK46:AN46)/SQRT(4)) -> 19.099115 | AE45: =AVERAGE('Single data'!AO46:AR46) -> 217.95947 | AF45: ± | AG45: =(_xlfn.STDEV.S('Single data'!AO46:AR46)/SQRT(4)) -> 47.794956 | AH45: =AVERAGE('Single data'!AS46:AV46) -> 124.57989 | AI45: ± | AJ45: =_xlfn.STDEV.S('Single data'!AS46:AV46)/SQRT(4) -> 22.855463 | AK45: =AVERAGE('Single data'!AW46:AZ46) -> 134.99938 | AL45: ± | AM45: =(_xlfn.STDEV.S('Single data'!AW46:AZ46)/SQRT(4)) -> 28.524708 | AN45: =AVERAGE('Single data'!BA46:BD46) -> 77.876253 | AO45: ± | AP45: =_xlfn.STDEV.S('Single data'!BA46:BD46)/SQRT(4) -> 17.491762 | AQ45: =AVERAGE('Single data'!BE46:BH46) -> 187.78947 | AR45: ± | AS45: =(_xlfn.STDEV.S('Single data'!BE46:BH46)/SQRT(4)) -> 42.794103 | AT45: =AVERAGE('Single data'!BI46:BL46) -> 124.1355 | AU45: ± | AV45: =_xlfn.STDEV.S('Single data'!BI46:BL46)/SQRT(4) -> 26.047441 | AW45: =AVERAGE('Single data'!BM46:BP46) -> 166.43916 | AX45: ± | AY45: =(_xlfn.STDEV.S('Single data'!BM46:BP46)/SQRT(4)) -> 34.633696 | AZ45: =AVERAGE('Single data'!BQ46:BT46) -> 114.25634 | BA45: ± | BB45: =_xlfn.STDEV.S('Single data'!BQ46:BT46)/SQRT(4) -> 23.685346
C46: 7-HDPA | D46: =AVERAGE('Single data'!D47:H47) -> 1142.0444 | E46: ± | F46: =(_xlfn.STDEV.S('Single data'!D47:H47)/SQRT(4)) -> 578.08505 | G46: =AVERAGE('Single data'!I47:L47) -> 1130.8414 | H46: ± | I46: =(_xlfn.STDEV.S('Single data'!I47:L47)/SQRT(4)) -> 569.23862 | J46: =AVERAGE('Single data'!M47:P47) -> 1152.8818 | K46: ± | L46: =(_xlfn.STDEV.S('Single data'!M47:P47)/SQRT(4)) -> 619.76285 | M46: =AVERAGE('Single data'!Q47:T47) -> 1039.0239 | N46: ± | O46: =(_xlfn.STDEV.S('Single data'!Q47:T47)/SQRT(4)) -> 518.25526 | P46: =AVERAGE('Single data'!U47:X47) -> 796.53228 | Q46: ± | R46: {=_xlfn.STDEV.S('Single data'!U47:X47/SQRT(4))} -> 441.57195 | S46: =AVERAGE('Single data'!Y47:AB47) -> 1011.4795 | T46: ± | U46: =(_xlfn.STDEV.S('Single data'!Y47:AB47)/SQRT(4)) -> 501.88814 | V46: =AVERAGE('Single data'!AC47:AF47) -> 911.53475 | W46: ± | X46: =(_xlfn.STDEV.S('Single data'!AC47:AF47)/SQRT(4)) -> 484.32685 | Y46: =AVERAGE('Single data'!AG47:AJ47) -> 1115.7681 | Z46: ± | AA46: =(_xlfn.STDEV.S('Single data'!AG47:AJ47)/SQRT(4)) -> 573.10512 | AB46: =AVERAGE('Single data'!AK47:AN47) -> 905.29203 | AC46: ± | AD46: =(_xlfn.STDEV.S('Single data'!AK47:AN47)/SQRT(4)) -> 520.5445 | AE46: =AVERAGE('Single data'!AO47:AR47) -> 992.60315 | AF46: ± | AG46: =(_xlfn.STDEV.S('Single data'!AO47:AR47)/SQRT(4)) -> 444.36448 | AH46: =AVERAGE('Single data'!AS47:AV47) -> 923.07342 | AI46: ± | AJ46: =_xlfn.STDEV.S('Single data'!AS47:AV47)/SQRT(4) -> 474.82194 | AK46: =AVERAGE('Single data'!AW47:AZ47) -> 1035.4943 | AL46: ± | AM46: =(_xlfn.STDEV.S('Single data'!AW47:AZ47)/SQRT(4)) -> 516.35396 | AN46: =AVERAGE('Single data'!BA47:BD47) -> 707.2102 | AO46: ± | AP46: =_xlfn.STDEV.S('Single data'!BA47:BD47)/SQRT(4) -> 414.78219 | AQ46: =AVERAGE('Single data'!BE47:BH47) -> 1016.7269 | AR46: ± | AS46: =(_xlfn.STDEV.S('Single data'!BE47:BH47)/SQRT(4)) -> 477.34845 | AT46: =AVERAGE('Single data'!BI47:BL47) -> 833.05547 | AU46: ± | AV46: =_xlfn.STDEV.S('Single data'!BI47:BL47)/SQRT(4) -> 394.29105 | AW46: =AVERAGE('Single data'!BM47:BP47) -> 946.48964 | AX46: ± | AY46: =(_xlfn.STDEV.S('Single data'!BM47:BP47)/SQRT(4)) -> 450.1108 | AZ46: =AVERAGE('Single data'!BQ47:BT47) -> 764.13365 | BA46: ± | BB46: =_xlfn.STDEV.S('Single data'!BQ47:BT47)/SQRT(4) -> 389.88994
C47: 11-HEPE | D47: =AVERAGE('Single data'!D48:H48) -> 153.61212 | E47: ± | F47: =(_xlfn.STDEV.S('Single data'!D48:H48)/SQRT(4)) -> 43.690715 | G47: =AVERAGE('Single data'!I48:L48) -> 136.74393 | H47: ± | I47: =(_xlfn.STDEV.S('Single data'!I48:L48)/SQRT(4)) -> 40.41855 | J47: =AVERAGE('Single data'!M48:P48) -> 126.47578 | K47: ± | L47: =(_xlfn.STDEV.S('Single data'!M48:P48)/SQRT(4)) -> 40.419829 | M47: =AVERAGE('Single data'!Q48:T48) -> 139.29306 | N47: ± | O47: =(_xlfn.STDEV.S('Single data'!Q48:T48)/SQRT(4)) -> 37.009717 | P47: =AVERAGE('Single data'!U48:X48) -> 95.76256 | Q47: ± | R47: {=_xlfn.STDEV.S('Single data'!U48:X48/SQRT(4))} -> 38.825542 | S47: =AVERAGE('Single data'!Y48:AB48) -> 155.55788 | T47: ± | U47: =(_xlfn.STDEV.S('Single data'!Y48:AB48)/SQRT(4)) -> 42.349446 | V47: =AVERAGE('Single data'!AC48:AF48) -> 122.07891 | W47: ± | X47: =(_xlfn.STDEV.S('Single data'!AC48:AF48)/SQRT(4)) -> 37.281596 | Y47: =AVERAGE('Single data'!AG48:AJ48) -> 156.28313 | Z47: ± | AA47: =(_xlfn.STDEV.S('Single data'!AG48:AJ48)/SQRT(4)) -> 49.727234 | AB47: =AVERAGE('Single data'!AK48:AN48) -> 120.06535 | AC47: ± | AD47: =(_xlfn.STDEV.S('Single data'!AK48:AN48)/SQRT(4)) -> 42.39471 | AE47: =AVERAGE('Single data'!AO48:AR48) -> 140.43885 | AF47: ± | AG47: =(_xlfn.STDEV.S('Single data'!AO48:AR48)/SQRT(4)) -> 31.781009 | AH47: =AVERAGE('Single data'!AS48:AV48) -> 99.615159 | AI47: ± | AJ47: =_xlfn.STDEV.S('Single data'!AS48:AV48)/SQRT(4) -> 32.972974 | AK47: =AVERAGE('Single data'!AW48:AZ48) -> 131.44779 | AL47: ± | AM47: =(_xlfn.STDEV.S('Single data'!AW48:AZ48)/SQRT(4)) -> 36.351057 | AN47: =AVERAGE('Single data'!BA48:BD48) -> 110.74319 | AO47: ± | AP47: =_xlfn.STDEV.S('Single data'!BA48:BD48)/SQRT(4) -> 37.504456 | AQ47: =AVERAGE('Single data'!BE48:BH48) -> 176.05035 | AR47: ± | AS47: =(_xlfn.STDEV.S('Single data'!BE48:BH48)/SQRT(4)) -> 44.751833 | AT47: =AVERAGE('Single data'!BI48:BL48) -> 133.69316 | AU47: ± | AV47: =_xlfn.STDEV.S('Single data'!BI48:BL48)/SQRT(4) -> 32.403539 | AW47: =AVERAGE('Single data'!BM48:BP48) -> 172.58332 | AX47: ± | AY47: =(_xlfn.STDEV.S('Single data'!BM48:BP48)/SQRT(4)) -> 43.317482 | AZ47: =AVERAGE('Single data'!BQ48:BT48) -> 132.64844 | BA47: ± | BB47: =_xlfn.STDEV.S('Single data'!BQ48:BT48)/SQRT(4) -> 29.164375
C48: 11-HETE | D48: =AVERAGE('Single data'!D49:H49) -> 1470.7631 | E48: ± | F48: =(_xlfn.STDEV.S('Single data'!D49:H49)/SQRT(4)) -> 320.09011 | G48: =AVERAGE('Single data'!I49:L49) -> 1206.5303 | H48: ± | I48: =(_xlfn.STDEV.S('Single data'!I49:L49)/SQRT(4)) -> 244.41421 | J48: =AVERAGE('Single data'!M49:P49) -> 981.77362 | K48: ± | L48: =(_xlfn.STDEV.S('Single data'!M49:P49)/SQRT(4)) -> 230.96541 | M48: =AVERAGE('Single data'!Q49:T49) -> 1180.5971 | N48: ± | O48: =(_xlfn.STDEV.S('Single data'!Q49:T49)/SQRT(4)) -> 244.25351 | P48: =AVERAGE('Single data'!U49:X49) -> 701.06103 | Q48: ± | R48: {=_xlfn.STDEV.S('Single data'!U49:X49/SQRT(4))} -> 197.87539 | S48: =AVERAGE('Single data'!Y49:AB49) -> 1242.417 | T48: ± | U48: =(_xlfn.STDEV.S('Single data'!Y49:AB49)/SQRT(4)) -> 261.40234 | V48: =AVERAGE('Single data'!AC49:AF49) -> 891.70081 | W48: ± | X48: =(_xlfn.STDEV.S('Single data'!AC49:AF49)/SQRT(4)) -> 215.04903 | Y48: =AVERAGE('Single data'!AG49:AJ49) -> 1151.3823 | Z48: ± | AA48: =(_xlfn.STDEV.S('Single data'!AG49:AJ49)/SQRT(4)) -> 261.85628 | AB48: =AVERAGE('Single data'!AK49:AN49) -> 765.31371 | AC48: ± | AD48: =(_xlfn.STDEV.S('Single data'!AK49:AN49)/SQRT(4)) -> 207.06582 | AE48: =AVERAGE('Single data'!AO49:AR49) -> 1253.4645 | AF48: ± | AG48: =(_xlfn.STDEV.S('Single data'!AO49:AR49)/SQRT(4)) -> 243.33237 | AH48: =AVERAGE('Single data'!AS49:AV49) -> 735.54106 | AI48: ± | AJ48: =_xlfn.STDEV.S('Single data'!AS49:AV49)/SQRT(4) -> 184.59251 | AK48: =AVERAGE('Single data'!AW49:AZ49) -> 1175.2552 | AL48: ± | AM48: =(_xlfn.STDEV.S('Single data'!AW49:AZ49)/SQRT(4)) -> 225.33916 | AN48: =AVERAGE('Single data'!BA49:BD49) -> 794.53412 | AO48: ± | AP48: =_xlfn.STDEV.S('Single data'!BA49:BD49)/SQRT(4) -> 179.98709 | AQ48: =AVERAGE('Single data'!BE49:BH49) -> 1383.2479 | AR48: ± | AS48: =(_xlfn.STDEV.S('Single data'!BE49:BH49)/SQRT(4)) -> 265.12821 | AT48: =AVERAGE('Single data'!BI49:BL49) -> 1051.1425 | AU48: ± | AV48: =_xlfn.STDEV.S('Single data'!BI49:BL49)/SQRT(4) -> 184.94044 | AW48: =AVERAGE('Single data'!BM49:BP49) -> 1390.251 | AX48: ± | AY48: =(_xlfn.STDEV.S('Single data'!BM49:BP49)/SQRT(4)) -> 268.45057 | AZ48: =AVERAGE('Single data'!BQ49:BT49) -> 1019.784 | BA48: ± | BB48: =_xlfn.STDEV.S('Single data'!BQ49:BT49)/SQRT(4) -> 156.39513
C49: 8-HETE | D49: =AVERAGE('Single data'!D50:H50) -> 12816.264 | E49: ± | F49: =(_xlfn.STDEV.S('Single data'!D50:H50)/SQRT(4)) -> 4652.0913 | G49: =AVERAGE('Single data'!I50:L50) -> 11574.684 | H49: ± | I49: =(_xlfn.STDEV.S('Single data'!I50:L50)/SQRT(4)) -> 3585.9538 | J49: =AVERAGE('Single data'!M50:P50) -> 11431.296 | K49: ± | L49: =(_xlfn.STDEV.S('Single data'!M50:P50)/SQRT(4)) -> 3714.401 | M49: =AVERAGE('Single data'!Q50:T50) -> 11208.14 | N49: ± | O49: =(_xlfn.STDEV.S('Single data'!Q50:T50)/SQRT(4)) -> 3060.8236 | P49: =AVERAGE('Single data'!U50:X50) -> 8888.134 | Q49: ± | R49: {=_xlfn.STDEV.S('Single data'!U50:X50/SQRT(4))} -> 3258.9614 | S49: =AVERAGE('Single data'!Y50:AB50) -> 12038.613 | T49: ± | U49: =(_xlfn.STDEV.S('Single data'!Y50:AB50)/SQRT(4)) -> 3579.2514 | V49: =AVERAGE('Single data'!AC50:AF50) -> 11002.417 | W49: ± | X49: =(_xlfn.STDEV.S('Single data'!AC50:AF50)/SQRT(4)) -> 3431.4705 | Y49: =AVERAGE('Single data'!AG50:AJ50) -> 12013.827 | Z49: ± | AA49: =(_xlfn.STDEV.S('Single data'!AG50:AJ50)/SQRT(4)) -> 3730.7331 | AB49: =AVERAGE('Single data'!AK50:AN50) -> 11913.826 | AC49: ± | AD49: =(_xlfn.STDEV.S('Single data'!AK50:AN50)/SQRT(4)) -> 3924.5561 | AE49: =AVERAGE('Single data'!AO50:AR50) -> 11341.906 | AF49: ± | AG49: =(_xlfn.STDEV.S('Single data'!AO50:AR50)/SQRT(4)) -> 2843.1837 | AH49: =AVERAGE('Single data'!AS50:AV50) -> 10593.977 | AI49: ± | AJ49: =_xlfn.STDEV.S('Single data'!AS50:AV50)/SQRT(4) -> 3144.565 | AK49: =AVERAGE('Single data'!AW50:AZ50) -> 10855.479 | AL49: ± | AM49: =(_xlfn.STDEV.S('Single data'!AW50:AZ50)/SQRT(4)) -> 2959.9274 | AN49: =AVERAGE('Single data'!BA50:BD50) -> 9733.3604 | AO49: ± | AP49: =_xlfn.STDEV.S('Single data'!BA50:BD50)/SQRT(4) -> 3163.6339 | AQ49: =AVERAGE('Single data'!BE50:BH50) -> 11837.428 | AR49: ± | AS49: =(_xlfn.STDEV.S('Single data'!BE50:BH50)/SQRT(4)) -> 3419.3905 | AT49: =AVERAGE('Single data'!BI50:BL50) -> 10261.129 | AU49: ± | AV49: =_xlfn.STDEV.S('Single data'!BI50:BL50)/SQRT(4) -> 2470.7489 | AW49: =AVERAGE('Single data'!BM50:BP50) -> 11539.327 | AX49: ± | AY49: =(_xlfn.STDEV.S('Single data'!BM50:BP50)/SQRT(4)) -> 3445.6477 | AZ49: =AVERAGE('Single data'!BQ50:BT50) -> 9325.6151 | BA49: ± | BB49: =_xlfn.STDEV.S('Single data'!BQ50:BT50)/SQRT(4) -> 2552.3231
C50: 9-HODE | D50: =AVERAGE('Single data'!D51:H51) -> 2381.811 | E50: ± | F50: =(_xlfn.STDEV.S('Single data'!D51:H51)/SQRT(4)) -> 254.08399 | G50: =AVERAGE('Single data'!I51:L51) -> 1591.0792 | H50: ± | I50: =(_xlfn.STDEV.S('Single data'!I51:L51)/SQRT(4)) -> 180.02193 | J50: =AVERAGE('Single data'!M51:P51) -> 1297.3098 | K50: ± | L50: =(_xlfn.STDEV.S('Single data'!M51:P51)/SQRT(4)) -> 167.94142 | M50: =AVERAGE('Single data'!Q51:T51) -> 1818.5465 | N50: ± | O50: =(_xlfn.STDEV.S('Single data'!Q51:T51)/SQRT(4)) -> 229.23856 | P50: =AVERAGE('Single data'!U51:X51) -> 3544.3074 | Q50: ± | R50: {=_xlfn.STDEV.S('Single data'!U51:X51/SQRT(4))} -> 281.10565 | S50: =AVERAGE('Single data'!Y51:AB51) -> 1688.4109 | T50: ± | U50: =(_xlfn.STDEV.S('Single data'!Y51:AB51)/SQRT(4)) -> 106.38534 | V50: =AVERAGE('Single data'!AC51:AF51) -> 1582.1647 | W50: ± | X50: =(_xlfn.STDEV.S('Single data'!AC51:AF51)/SQRT(4)) -> 183.38077 | Y50: =AVERAGE('Single data'!AG51:AJ51) -> 1789.0682 | Z50: ± | AA50: =(_xlfn.STDEV.S('Single data'!AG51:AJ51)/SQRT(4)) -> 180.16782 | AB50: =AVERAGE('Single data'!AK51:AN51) -> 1409.0036 | AC50: ± | AD50: =(_xlfn.STDEV.S('Single data'!AK51:AN51)/SQRT(4)) -> 266.63964 | AE50: =AVERAGE('Single data'!AO51:AR51) -> 1844.9848 | AF50: ± | AG50: =(_xlfn.STDEV.S('Single data'!AO51:AR51)/SQRT(4)) -> 181.30026 | AH50: =AVERAGE('Single data'!AS51:AV51) -> 1215.3235 | AI50: ± | AJ50: =_xlfn.STDEV.S('Single data'!AS51:AV51)/SQRT(4) -> 163.91586 | AK50: =AVERAGE('Single data'!AW51:AZ51) -> 1576.8791 | AL50: ± | AM50: =(_xlfn.STDEV.S('Single data'!AW51:AZ51)/SQRT(4)) -> 115.701 | AN50: =AVERAGE('Single data'!BA51:BD51) -> 1160.0095 | AO50: ± | AP50: =_xlfn.STDEV.S('Single data'!BA51:BD51)/SQRT(4) -> 139.84999 | AQ50: =AVERAGE('Single data'!BE51:BH51) -> 2186.5647 | AR50: ± | AS50: =(_xlfn.STDEV.S('Single data'!BE51:BH51)/SQRT(4)) -> 258.20364 | AT50: =AVERAGE('Single data'!BI51:BL51) -> 1637.1034 | AU50: ± | AV50: =_xlfn.STDEV.S('Single data'!BI51:BL51)/SQRT(4) -> 273.4835 | AW50: =AVERAGE('Single data'!BM51:BP51) -> 2165.4175 | AX50: ± | AY50: =(_xlfn.STDEV.S('Single data'!BM51:BP51)/SQRT(4)) -> 315.04885 | AZ50: =AVERAGE('Single data'!BQ51:BT51) -> 1656.8827 | BA50: ± | BB50: =_xlfn.STDEV.S('Single data'!BQ51:BT51)/SQRT(4) -> 252.61091
C51: 13-HODE | D51: =AVERAGE('Single data'!D52:H52) -> 59776.975 | E51: ± | F51: =(_xlfn.STDEV.S('Single data'!D52:H52)/SQRT(4)) -> 13231.116 | G51: =AVERAGE('Single data'!I52:L52) -> 43733.17 | H51: ± | I51: =(_xlfn.STDEV.S('Single data'!I52:L52)/SQRT(4)) -> 8699.9851 | J51: =AVERAGE('Single data'!M52:P52) -> 40971.921 | K51: ± | L51: =(_xlfn.STDEV.S('Single data'!M52:P52)/SQRT(4)) -> 12358.365 | M51: =AVERAGE('Single data'!Q52:T52) -> 58427.768 | N51: ± | O51: =(_xlfn.STDEV.S('Single data'!Q52:T52)/SQRT(4)) -> 12670.709 | P51: =AVERAGE('Single data'!U52:X52) -> 45656.365 | Q51: ± | R51: {=_xlfn.STDEV.S('Single data'!U52:X52/SQRT(4))} -> 12226.785 | S51: =AVERAGE('Single data'!Y52:AB52) -> 49595.934 | T51: ± | U51: =(_xlfn.STDEV.S('Single data'!Y52:AB52)/SQRT(4)) -> 10110.802 | V51: =AVERAGE('Single data'!AC52:AF52) -> 40016.933 | W51: ± | X51: =(_xlfn.STDEV.S('Single data'!AC52:AF52)/SQRT(4)) -> 11312.237 | Y51: =AVERAGE('Single data'!AG52:AJ52) -> 50969.277 | Z51: ± | AA51: =(_xlfn.STDEV.S('Single data'!AG52:AJ52)/SQRT(4)) -> 9003.769 | AB51: =AVERAGE('Single data'!AK52:AN52) -> 57946.688 | AC51: ± | AD51: =(_xlfn.STDEV.S('Single data'!AK52:AN52)/SQRT(4)) -> 16125.874 | AE51: =AVERAGE('Single data'!AO52:AR52) -> 50656.843 | AF51: ± | AG51: =(_xlfn.STDEV.S('Single data'!AO52:AR52)/SQRT(4)) -> 6647.577 | AH51: =AVERAGE('Single data'!AS52:AV52) -> 50910.166 | AI51: ± | AJ51: =_xlfn.STDEV.S('Single data'!AS52:AV52)/SQRT(4) -> 10942.28 | AK51: =AVERAGE('Single data'!AW52:AZ52) -> 46885.192 | AL51: ± | AM51: =(_xlfn.STDEV.S('Single data'!AW52:AZ52)/SQRT(4)) -> 9955.4946 | AN51: =AVERAGE('Single data'!BA52:BD52) -> 33833.494 | AO51: ± | AP51: =_xlfn.STDEV.S('Single data'!BA52:BD52)/SQRT(4) -> 10357.275 | AQ51: =AVERAGE('Single data'!BE52:BH52) -> 67030.244 | AR51: ± | AS51: =(_xlfn.STDEV.S('Single data'!BE52:BH52)/SQRT(4)) -> 10898.068 | AT51: =AVERAGE('Single data'!BI52:BL52) -> 58862.013 | AU51: ± | AV51: =_xlfn.STDEV.S('Single data'!BI52:BL52)/SQRT(4) -> 13723.386 | AW51: =AVERAGE('Single data'!BM52:BP52) -> 63388.298 | AX51: ± | AY51: =(_xlfn.STDEV.S('Single data'!BM52:BP52)/SQRT(4)) -> 13998.164 | AZ51: =AVERAGE('Single data'!BQ52:BT52) -> 48540.05 | BA51: ± | BB51: =_xlfn.STDEV.S('Single data'!BQ52:BT52)/SQRT(4) -> 11135.647
C52: 12-HHT | D52: =AVERAGE('Single data'!D53:H53) -> 8721.1693 | E52: ± | F52: =(_xlfn.STDEV.S('Single data'!D53:H53)/SQRT(4)) -> 1248.1727 | G52: =AVERAGE('Single data'!I53:L53) -> 7925.8293 | H52: ± | I52: =(_xlfn.STDEV.S('Single data'!I53:L53)/SQRT(4)) -> 1000.5674 | J52: =AVERAGE('Single data'!M53:P53) -> 6449.1387 | K52: ± | L52: =(_xlfn.STDEV.S('Single data'!M53:P53)/SQRT(4)) -> 1479.2137 | M52: =AVERAGE('Single data'!Q53:T53) -> 7832.9668 | N52: ± | O52: =(_xlfn.STDEV.S('Single data'!Q53:T53)/SQRT(4)) -> 1042.2793 | P52: =AVERAGE('Single data'!U53:X53) -> 3860.3463 | Q52: ± | R52: {=_xlfn.STDEV.S('Single data'!U53:X53/SQRT(4))} -> 1422.1117 | S52: =AVERAGE('Single data'!Y53:AB53) -> 9106.6145 | T52: ± | U52: =(_xlfn.STDEV.S('Single data'!Y53:AB53)/SQRT(4)) -> 1460.5504 | V52: =AVERAGE('Single data'!AC53:AF53) -> 5631.3252 | W52: ± | X52: =(_xlfn.STDEV.S('Single data'!AC53:AF53)/SQRT(4)) -> 1387.7571 | Y52: =AVERAGE('Single data'!AG53:AJ53) -> 9668.0297 | Z52: ± | AA52: =(_xlfn.STDEV.S('Single data'!AG53:AJ53)/SQRT(4)) -> 2579.68 | AB52: =AVERAGE('Single data'!AK53:AN53) -> 3263.4168 | AC52: ± | AD52: =(_xlfn.STDEV.S('Single data'!AK53:AN53)/SQRT(4)) -> 1160.9961 | AE52: =AVERAGE('Single data'!AO53:AR53) -> 8325.3543 | AF52: ± | AG52: =(_xlfn.STDEV.S('Single data'!AO53:AR53)/SQRT(4)) -> 1311.3454 | AH52: =AVERAGE('Single data'!AS53:AV53) -> 2379.9925 | AI52: ± | AJ52: =_xlfn.STDEV.S('Single data'!AS53:AV53)/SQRT(4) -> 869.84583 | AK52: =AVERAGE('Single data'!AW53:AZ53) -> 8366.2728 | AL52: ± | AM52: =(_xlfn.STDEV.S('Single data'!AW53:AZ53)/SQRT(4)) -> 1411.4535 | AN52: =AVERAGE('Single data'!BA53:BD53) -> 3940.667 | AO52: ± | AP52: =_xlfn.STDEV.S('Single data'!BA53:BD53)/SQRT(4) -> 1204.7934 | AQ52: =AVERAGE('Single data'!BE53:BH53) -> 11302.314 | AR52: ± | AS52: =(_xlfn.STDEV.S('Single data'!BE53:BH53)/SQRT(4)) -> 1629.0246 | AT52: =AVERAGE('Single data'!BI53:BL53) -> 7227.921 | AU52: ± | AV52: =_xlfn.STDEV.S('Single data'!BI53:BL53)/SQRT(4) -> 971.99962 | AW52: =AVERAGE('Single data'!BM53:BP53) -> 11554.753 | AX52: ± | AY52: =(_xlfn.STDEV.S('Single data'!BM53:BP53)/SQRT(4)) -> 2255.5547 | AZ52: =AVERAGE('Single data'!BQ53:BT53) -> 7609.0719 | BA52: ± | BB52: =_xlfn.STDEV.S('Single data'!BQ53:BT53)/SQRT(4) -> 724.05833
... C54: 5,15-diHEPE | D54: =AVERAGE('Single data'!D55:H55) -> 788.85955 | E54: ± | F54: =(_xlfn.STDEV.S('Single data'!D55:H55)/SQRT(4)) -> 403.49915 | G54: =AVERAGE('Single data'!I55:L55) -> 542.70075 | H54: ± | I54: =(_xlfn.STDEV.S('Single data'!I55:L55)/SQRT(4)) -> 285.60075 | J54: =AVERAGE('Single data'!M55:P55) -> 413.16553 | K54: ± | L54: =(_xlfn.STDEV.S('Single data'!M55:P55)/SQRT(4)) -> 248.4899 | M54: =AVERAGE('Single data'!Q55:T55) -> 537.41017 | N54: ± | O54: =(_xlfn.STDEV.S('Single data'!Q55:T55)/SQRT(4)) -> 270.89331 | P54: =AVERAGE('Single data'!U55:X55) -> 254.73437 | Q54: ± | R54: {=_xlfn.STDEV.S('Single data'!U55:X55/SQRT(4))} -> 150.42888 | S54: =AVERAGE('Single data'!Y55:AB55) -> 550.63853 | T54: ± | U54: =(_xlfn.STDEV.S('Single data'!Y55:AB55)/SQRT(4)) -> 298.77489 | V54: =AVERAGE('Single data'!AC55:AF55) -> 407.5403 | W54: ± | X54: =(_xlfn.STDEV.S('Single data'!AC55:AF55)/SQRT(4)) -> 255.85892 | Y54: =AVERAGE('Single data'!AG55:AJ55) -> 610.91912 | Z54: ± | AA54: =(_xlfn.STDEV.S('Single data'!AG55:AJ55)/SQRT(4)) -> 320.63494 | AB54: =AVERAGE('Single data'!AK55:AN55) -> 409.8186 | AC54: ± | AD54: =(_xlfn.STDEV.S('Single data'!AK55:AN55)/SQRT(4)) -> 251.35147 | AE54: =AVERAGE('Single data'!AO55:AR55) -> 525.22819 | AF54: ± | AG54: =(_xlfn.STDEV.S('Single data'!AO55:AR55)/SQRT(4)) -> 255.59505 | AH54: =AVERAGE('Single data'!AS55:AV55) -> 350.84358 | AI54: ± | AJ54: =_xlfn.STDEV.S('Single data'!AS55:AV55)/SQRT(4) -> 209.15015 | AK54: =AVERAGE('Single data'!AW55:AZ55) -> 462.39606 | AL54: ± | AM54: =(_xlfn.STDEV.S('Single data'!AW55:AZ55)/SQRT(4)) -> 258.69232 | AN54: =AVERAGE('Single data'!BA55:BD55) -> 323.46441 | AO54: ± | AP54: =_xlfn.STDEV.S('Single data'!BA55:BD55)/SQRT(4) -> 215.04436 | AQ54: =AVERAGE('Single data'!BE55:BH55) -> 667.38534 | AR54: ± | AS54: =(_xlfn.STDEV.S('Single data'!BE55:BH55)/SQRT(4)) -> 320.57887 | AT54: =AVERAGE('Single data'!BI55:BL55) -> 540.64852 | AU54: ± | AV54: =_xlfn.STDEV.S('Single data'!BI55:BL55)/SQRT(4) -> 276.85219 | AW54: =AVERAGE('Single data'!BM55:BP55) -> 663.68066 | AX54: ± | AY54: =(_xlfn.STDEV.S('Single data'!BM55:BP55)/SQRT(4)) -> 363.61651 | AZ54: =AVERAGE('Single data'!BQ55:BT55) -> 415.26136 | BA54: ± | BB54: =_xlfn.STDEV.S('Single data'!BQ55:BT55)/SQRT(4) -> 218.0293
A57: % of control | B57: SPM/iso | C57: PD1 | D57: =AVERAGE('Single data'!D58:H58) -> 100 | E57: ± | F57: =(_xlfn.STDEV.S('Single data'!D58:H58)/SQRT(4)) -> 0 | G57: =AVERAGE('Single data'!I58:L58) -> 122.50173 | H57: ± | I57: =(_xlfn.STDEV.S('Single data'!I58:L58)/SQRT(4)) -> 26.772917 | J57: =AVERAGE('Single data'!M58:P58) -> 176.24066 | K57: ± | L57: =(_xlfn.STDEV.S('Single data'!M58:P58)/SQRT(4)) -> 39.771875 | M57: =AVERAGE('Single data'!Q58:T58) -> 212.60021 | N57: ± | O57: =(_xlfn.STDEV.S('Single data'!Q58:T58)/SQRT(4)) -> 65.661331 | P57: =AVERAGE('Single data'!U58:X58) -> 283.6529 | Q57: ± | R57: {=_xlfn.STDEV.S('Single data'!U58:X58/SQRT(4))} -> 72.561396 | S57: =AVERAGE('Single data'!Y58:AB58) -> 153.61836 | T57: ± | U57: =(_xlfn.STDEV.S('Single data'!Y58:AB58)/SQRT(4)) -> 35.157234 | V57: =AVERAGE('Single data'!AC58:AF58) -> 229.91453 | W57: ± | X57: =(_xlfn.STDEV.S('Single data'!AC58:AF58)/SQRT(4)) -> 43.962331 | Y57: =AVERAGE('Single data'!AG58:AJ58) -> 138.84247 | Z57: ± | AA57: =(_xlfn.STDEV.S('Single data'!AG58:AJ58)/SQRT(4)) -> 27.100831 | AB57: =AVERAGE('Single data'!AK58:AN58) -> 214.74198 | AC57: ± | AD57: =(_xlfn.STDEV.S('Single data'!AK58:AN58)/SQRT(4)) -> 50.882848 | AE57: =AVERAGE('Single data'!AO58:AR58) -> 167.54423 | AF57: ± | AG57: =(_xlfn.STDEV.S('Single data'!AO58:AR58)/SQRT(4)) -> 52.253398 | AH57: =AVERAGE('Single data'!AS58:AV58) -> 260.38435 | AI57: ± | AJ57: =_xlfn.STDEV.S('Single data'!AS58:AV58)/SQRT(4) -> 93.486326 | AK57: =AVERAGE('Single data'!AW58:AZ58) -> 224.24583 | AL57: ± | AM57: =(_xlfn.STDEV.S('Single data'!AW58:AZ58)/SQRT(4)) -> 65.795316 | AN57: =AVERAGE('Single data'!BA58:BD58) -> 291.52773 | AO57: ± | AP57: =_xlfn.STDEV.S('Single data'!BA58:BD58)/SQRT(4) -> 74.300741 | AQ57: =AVERAGE('Single data'!BE58:BH58) -> 155.43535 | AR57: ± | AS57: =(_xlfn.STDEV.S('Single data'!BE58:BH58)/SQRT(4)) -> 30.561964 | AT57: =AVERAGE('Single data'!BI58:BL58) -> 295.66313 | AU57: ± | AV57: =_xlfn.STDEV.S('Single data'!BI58:BL58)/SQRT(4) -> 90.657786 | AW57: =AVERAGE('Single data'!BM58:BP58) -> 166.1121 | AX57: ± | AY57: =_xlfn.STDEV.S('Single data'!BM58:BP58)/SQRT(4) -> 29.791716 | AZ57: =AVERAGE('Single data'!BQ58:BT58) -> 218.22707 | BA57: ± | BB57: =_xlfn.STDEV.S('Single data'!BQ58:BT58)/SQRT(4) -> 38.850151
C58: AT-PD1 | D58: =AVERAGE('Single data'!D59:H59) -> 100 | E58: ± | F58: =(_xlfn.STDEV.S('Single data'!D59:H59)/SQRT(4)) -> 0 | G58: =AVERAGE('Single data'!I59:L59) -> 118.39315 | H58: ± | I58: =(_xlfn.STDEV.S('Single data'!I59:L59)/SQRT(4)) -> 19.914605 | J58: =AVERAGE('Single data'!M59:P59) -> 179.81731 | K58: ± | L58: =(_xlfn.STDEV.S('Single data'!M59:P59)/SQRT(4)) -> 35.154557 | M58: =AVERAGE('Single data'!Q59:T59) -> 215.46473 | N58: ± | O58: =(_xlfn.STDEV.S('Single data'!Q59:T59)/SQRT(4)) -> 62.376047 | P58: =AVERAGE('Single data'!U59:X59) -> 320.52081 | Q58: ± | R58: {=_xlfn.STDEV.S('Single data'!U59:X59/SQRT(4))} -> 84.699385 | S58: =AVERAGE('Single data'!Y59:AB59) -> 158.75231 | T58: ± | U58: =(_xlfn.STDEV.S('Single data'!Y59:AB59)/SQRT(4)) -> 37.643776 | V58: =AVERAGE('Single data'!AC59:AF59) -> 269.43027 | W58: ± | X58: =(_xlfn.STDEV.S('Single data'!AC59:AF59)/SQRT(4)) -> 62.749004 | Y58: =AVERAGE('Single data'!AG59:AJ59) -> 132.41236 | Z58: ± | AA58: =(_xlfn.STDEV.S('Single data'!AG59:AJ59)/SQRT(4)) -> 20.240898 | AB58: =AVERAGE('Single data'!AK59:AN59) -> 212.83283 | AC58: ± | AD58: =(_xlfn.STDEV.S('Single data'!AK59:AN59)/SQRT(4)) -> 62.211588 | AE58: =AVERAGE('Single data'!AO59:AR59) -> 138.71234 | AF58: ± | AG58: =(_xlfn.STDEV.S('Single data'!AO59:AR59)/SQRT(4)) -> 36.863361 | AH58: =AVERAGE('Single data'!AS59:AV59) -> 257.73796 | AI58: ± | AJ58: =_xlfn.STDEV.S('Single data'!AS59:AV59)/SQRT(4) -> 92.274664 | AK58: =AVERAGE('Single data'!AW59:AZ59) -> 240.01947 | AL58: ± | AM58: =(_xlfn.STDEV.S('Single data'!AW59:AZ59)/SQRT(4)) -> 72.162811 | AN58: =AVERAGE('Single data'!BA59:BD59) -> 300.80851 | AO58: ± | AP58: =_xlfn.STDEV.S('Single data'!BA59:BD59)/SQRT(4) -> 67.523754 | AQ58: =AVERAGE('Single data'!BE59:BH59) -> 171.09431 | AR58: ± | AS58: =(_xlfn.STDEV.S('Single data'!BE59:BH59)/SQRT(4)) -> 41.79421 | AT58: =AVERAGE('Single data'!BI59:BL59) -> 289.75052 | AU58: ± | AV58: =_xlfn.STDEV.S('Single data'!BI59:BL59)/SQRT(4) -> 92.721855 | AW58: =AVERAGE('Single data'!BM59:BP59) -> 193.25148 | AX58: ± | AY58: =_xlfn.STDEV.S('Single data'!BM59:BP59)/SQRT(4) -> 51.874036 | AZ58: =AVERAGE('Single data'!BQ59:BT59) -> 250.1566 | BA58: ± | BB58: =_xlfn.STDEV.S('Single data'!BQ59:BT59)/SQRT(4) -> 67.013773
C59: PDX | D59: =AVERAGE('Single data'!D60:H60) -> 100 | E59: ± | F59: =(_xlfn.STDEV.S('Single data'!D60:H60)/SQRT(4)) -> 0 | G59: =AVERAGE('Single data'!I60:L60) -> 99.195783 | H59: ± | I59: =(_xlfn.STDEV.S('Single data'!I60:L60)/SQRT(4)) -> 13.711145 | J59: =AVERAGE('Single data'!M60:P60) -> 109.53964 | K59: ± | L59: =(_xlfn.STDEV.S('Single data'!M60:P60)/SQRT(4)) -> 18.705619 | M59: =AVERAGE('Single data'!Q60:T60) -> 139.54082 | N59: ± | O59: =(_xlfn.STDEV.S('Single data'!Q60:T60)/SQRT(4)) -> 18.354589 | P59: =AVERAGE('Single data'!U60:X60) -> 230.62654 | Q59: ± | R59: {=_xlfn.STDEV.S('Single data'!U60:X60/SQRT(4))} -> 75.262604 | S59: =AVERAGE('Single data'!Y60:AB60) -> 101.33828 | T59: ± | U59: =(_xlfn.STDEV.S('Single data'!Y60:AB60)/SQRT(4)) -> 9.1690048 | V59: =AVERAGE('Single data'!AC60:AF60) -> 133.07978 | W59: ± | X59: =(_xlfn.STDEV.S('Single data'!AC60:AF60)/SQRT(4)) -> 27.288715 | Y59: =AVERAGE('Single data'!AG60:AJ60) -> 102.55197 | Z59: ± | AA59: =(_xlfn.STDEV.S('Single data'!AG60:AJ60)/SQRT(4)) -> 12.18142 | AB59: =AVERAGE('Single data'!AK60:AN60) -> 125.66738 | AC59: ± | AD59: =(_xlfn.STDEV.S('Single data'!AK60:AN60)/SQRT(4)) -> 19.713066 | AE59: =AVERAGE('Single data'!AO60:AR60) -> 109.01026 | AF59: ± | AG59: =(_xlfn.STDEV.S('Single data'!AO60:AR60)/SQRT(4)) -> 13.864883 | AH59: =AVERAGE('Single data'!AS60:AV60) -> 133.92791 | AI59: ± | AJ59: =_xlfn.STDEV.S('Single data'!AS60:AV60)/SQRT(4) -> 20.73977 | AK59: =AVERAGE('Single data'!AW60:AZ60) -> 114.14765 | AL59: ± | AM59: =(_xlfn.STDEV.S('Single data'!AW60:AZ60)/SQRT(4)) -> 11.82066 | AN59: =AVERAGE('Single data'!BA60:BD60) -> 158.40305 | AO59: ± | AP59: =_xlfn.STDEV.S('Single data'!BA60:BD60)/SQRT(4) -> 46.642512 | AQ59: =AVERAGE('Single data'!BE60:BH60) -> 123.74651 | AR59: ± | AS59: =(_xlfn.STDEV.S('Single data'!BE60:BH60)/SQRT(4)) -> 11.505853 | AT59: =AVERAGE('Single data'!BI60:BL60) -> 166.57696 | AU59: ± | AV59: =_xlfn.STDEV.S('Single data'!BI60:BL60)/SQRT(4) -> 28.13329 | AW59: =AVERAGE('Single data'!BM60:BP60) -> 121.16227 | AX59: ± | AY59: =_xlfn.STDEV.S('Single data'!BM60:BP60)/SQRT(4) -> 18.194682 | AZ59: =AVERAGE('Single data'!BQ60:BT60) -> 145.92549 | BA59: ± | BB59: =_xlfn.STDEV.S('Single data'!BQ60:BT60)/SQRT(4) -> 29.001352
C60: RvD5 | D60: =AVERAGE('Single data'!D61:H61) -> 100 | E60: ± | F60: =(_xlfn.STDEV.S('Single data'!D61:H61)/SQRT(4)) -> 0 | G60: =AVERAGE('Single data'!I61:L61) -> 106.29596 | H60: ± | I60: =(_xlfn.STDEV.S('Single data'!I61:L61)/SQRT(4)) -> 19.244624 | J60: =AVERAGE('Single data'!M61:P61) -> 99.182659 | K60: ± | L60: =(_xlfn.STDEV.S('Single data'!M61:P61)/SQRT(4)) -> 18.11271 | M60: =AVERAGE('Single data'!Q61:T61) -> 101.99469 | N60: ± | O60: =(_xlfn.STDEV.S('Single data'!Q61:T61)/SQRT(4)) -> 14.10681 | P60: =AVERAGE('Single data'!U61:X61) -> 73.393427 | Q60: ± | R60: {=_xlfn.STDEV.S('Single data'!U61:X61/SQRT(4))} -> 12.350269 | S60: =AVERAGE('Single data'!Y61:AB61) -> 111.08313 | T60: ± | U60: =(_xlfn.STDEV.S('Single data'!Y61:AB61)/SQRT(4)) -> 20.450777 | V60: =AVERAGE('Single data'!AC61:AF61) -> 94.48999 | W60: ± | X60: =(_xlfn.STDEV.S('Single data'!AC61:AF61)/SQRT(4)) -> 12.177528 | Y60: =AVERAGE('Single data'!AG61:AJ61) -> 109.24769 | Z60: ± | AA60: =(_xlfn.STDEV.S('Single data'!AG61:AJ61)/SQRT(4)) -> 16.904079 | AB60: =AVERAGE('Single data'!AK61:AN61) -> 110.03572 | AC60: ± | AD60: =(_xlfn.STDEV.S('Single data'!AK61:AN61)/SQRT(4)) -> 22.002139 | AE60: =AVERAGE('Single data'!AO61:AR61) -> 124.2609 | AF60: ± | AG60: =(_xlfn.STDEV.S('Single data'!AO61:AR61)/SQRT(4)) -> 30.24296 | AH60: =AVERAGE('Single data'!AS61:AV61) -> 123.7211 | AI60: ± | AJ60: =_xlfn.STDEV.S('Single data'!AS61:AV61)/SQRT(4) -> 24.108769 | AK60: =AVERAGE('Single data'!AW61:AZ61) -> 121.10728 | AL60: ± | AM60: =(_xlfn.STDEV.S('Single data'!AW61:AZ61)/SQRT(4)) -> 22.314611 | AN60: =AVERAGE('Single data'!BA61:BD61) -> 80.551171 | AO60: ± | AP60: =_xlfn.STDEV.S('Single data'!BA61:BD61)/SQRT(4) -> 14.494598 | AQ60: =AVERAGE('Single data'!BE61:BH61) -> 100.442 | AR60: ± | AS60: =(_xlfn.STDEV.S('Single data'!BE61:BH61)/SQRT(4)) -> 15.498051 | AT60: =AVERAGE('Single data'!BI61:BL61) -> 103.71099 | AU60: ± | AV60: =_xlfn.STDEV.S('Single data'!BI61:BL61)/SQRT(4) -> 15.929271 | AW60: =AVERAGE('Single data'!BM61:BP61) -> 90.30352 | AX60: ± | AY60: =_xlfn.STDEV.S('Single data'!BM61:BP61)/SQRT(4) -> 12.115742 | AZ60: =AVERAGE('Single data'!BQ61:BT61) -> 84.685635 | BA60: ± | BB60: =_xlfn.STDEV.S('Single data'!BQ61:BT61)/SQRT(4) -> 10.820713
C61: MaR2 | D61: =AVERAGE('Single data'!D62:H62) -> 100 | E61: ± | F61: =(_xlfn.STDEV.S('Single data'!D62:H62)/SQRT(4)) -> 0 | G61: =AVERAGE('Single data'!I62:L62) -> 110.40348 | H61: ± | I61: =(_xlfn.STDEV.S('Single data'!I62:L62)/SQRT(4)) -> 18.190934 | J61: =AVERAGE('Single data'!M62:P62) -> 147.87224 | K61: ± | L61: =(_xlfn.STDEV.S('Single data'!M62:P62)/SQRT(4)) -> 20.980897 | M61: =AVERAGE('Single data'!Q62:T62) -> 148.28552 | N61: ± | O61: =(_xlfn.STDEV.S('Single data'!Q62:T62)/SQRT(4)) -> 21.842407 | P61: =AVERAGE('Single data'!U62:X62) -> 235.83553 | Q61: ± | R61: {=_xlfn.STDEV.S('Single data'!U62:X62/SQRT(4))} -> 41.701596 | S61: =AVERAGE('Single data'!Y62:AB62) -> 112.54497 | T61: ± | U61: =(_xlfn.STDEV.S('Single data'!Y62:AB62)/SQRT(4)) -> 16.721208 | V61: =AVERAGE('Single data'!AC62:AF62) -> 173.79817 | W61: ± | X61: =(_xlfn.STDEV.S('Single data'!AC62:AF62)/SQRT(4)) -> 20.810805 | Y61: =AVERAGE('Single data'!AG62:AJ62) -> 114.75765 | Z61: ± | AA61: =(_xlfn.STDEV.S('Single data'!AG62:AJ62)/SQRT(4)) -> 21.267016 | AB61: =AVERAGE('Single data'!AK62:AN62) -> 163.43887 | AC61: ± | AD61: =(_xlfn.STDEV.S('Single data'!AK62:AN62)/SQRT(4)) -> 19.128129 | AE61: =AVERAGE('Single data'!AO62:AR62) -> 113.33377 | AF61: ± | AG61: =(_xlfn.STDEV.S('Single data'!AO62:AR62)/SQRT(4)) -> 20.472547 | AH61: =AVERAGE('Single data'!AS62:AV62) -> 200.25135 | AI61: ± | AJ61: =_xlfn.STDEV.S('Single data'!AS62:AV62)/SQRT(4) -> 37.186812 | AK61: =AVERAGE('Single data'!AW62:AZ62) -> 155.9745 | AL61: ± | AM61: =(_xlfn.STDEV.S('Single data'!AW62:AZ62)/SQRT(4)) -> 25.902906 | AN61: =AVERAGE('Single data'!BA62:BD62) -> 218.68288 | AO61: ± | AP61: =_xlfn.STDEV.S('Single data'!BA62:BD62)/SQRT(4) -> 32.011806 | AQ61: =AVERAGE('Single data'!BE62:BH62) -> 113.96229 | AR61: ± | AS61: =(_xlfn.STDEV.S('Single data'!BE62:BH62)/SQRT(4)) -> 16.933872 | AT61: =AVERAGE('Single data'!BI62:BL62) -> 177.09854 | AU61: ± | AV61: =_xlfn.STDEV.S('Single data'!BI62:BL62)/SQRT(4) -> 22.378905 | AW61: =AVERAGE('Single data'!BM62:BP62) -> 114.06443 | AX61: ± | AY61: =_xlfn.STDEV.S('Single data'!BM62:BP62)/SQRT(4) -> 12.371133 | AZ61: =AVERAGE('Single data'!BQ62:BT62) -> 156.93534 | BA61: ± | BB61: =_xlfn.STDEV.S('Single data'!BQ62:BT62)/SQRT(4) -> 19.610594
C62: RvD1 | D62: =AVERAGE('Single data'!D63:H63) -> 100 | E62: ± | F62: =(_xlfn.STDEV.S('Single data'!D63:H63)/SQRT(4)) -> 0 | G62: =AVERAGE('Single data'!I63:L63) -> 105.69263 | H62: ± | I62: =(_xlfn.STDEV.S('Single data'!I63:L63)/SQRT(4)) -> 16.144422 | J62: =AVERAGE('Single data'!M63:P63) -> 93.05116 | K62: ± | L62: =(_xlfn.STDEV.S('Single data'!M63:P63)/SQRT(4)) -> 17.334184 | M62: =AVERAGE('Single data'!Q63:T63) -> 88.384122 | N62: ± | O62: =(_xlfn.STDEV.S('Single data'!Q63:T63)/SQRT(4)) -> 16.329996 | P62: =AVERAGE('Single data'!U63:X63) -> 74.577127 | Q62: ± | R62: {=_xlfn.STDEV.S('Single data'!U63:X63/SQRT(4))} -> 14.852139 | S62: =AVERAGE('Single data'!Y63:AB63) -> 79.175514 | T62: ± | U62: =(_xlfn.STDEV.S('Single data'!Y63:AB63)/SQRT(4)) -> 12.980347 | V62: =AVERAGE('Single data'!AC63:AF63) -> 82.61964 | W62: ± | X62: =(_xlfn.STDEV.S('Single data'!AC63:AF63)/SQRT(4)) -> 12.551745 | Y62: =AVERAGE('Single data'!AG63:AJ63) -> 86.571695 | Z62: ± | AA62: =(_xlfn.STDEV.S('Single data'!AG63:AJ63)/SQRT(4)) -> 17.878512 | AB62: =AVERAGE('Single data'!AK63:AN63) -> 119.95243 | AC62: ± | AD62: =(_xlfn.STDEV.S('Single data'!AK63:AN63)/SQRT(4)) -> 34.779483 | AE62: =AVERAGE('Single data'!AO63:AR63) -> 99.588299 | AF62: ± | AG62: =(_xlfn.STDEV.S('Single data'!AO63:AR63)/SQRT(4)) -> 23.303701 | AH62: =AVERAGE('Single data'!AS63:AV63) -> 98.87223 | AI62: ± | AJ62: =_xlfn.STDEV.S('Single data'!AS63:AV63)/SQRT(4) -> 24.203739 | AK62: =AVERAGE('Single data'!AW63:AZ63) -> 86.576675 | AL62: ± | AM62: =(_xlfn.STDEV.S('Single data'!AW63:AZ63)/SQRT(4)) -> 21.345502 | AN62: =AVERAGE('Single data'!BA63:BD63) -> 64.167356 | AO62: ± | AP62: =_xlfn.STDEV.S('Single data'!BA63:BD63)/SQRT(4) -> 13.312354 | AQ62: =AVERAGE('Single data'!BE63:BH63) -> 101.93116 | AR62: ± | AS62: =(_xlfn.STDEV.S('Single data'!BE63:BH63)/SQRT(4)) -> 25.394019 | AT62: =AVERAGE('Single data'!BI63:BL63) -> 91.638546 | AU62: ± | AV62: =_xlfn.STDEV.S('Single data'!BI63:BL63)/SQRT(4) -> 16.975962 | AW62: =AVERAGE('Single data'!BM63:BP63) -> 98.561548 | AX62: ± | AY62: =_xlfn.STDEV.S('Single data'!BM63:BP63)/SQRT(4) -> 20.755109 | AZ62: =AVERAGE('Single data'!BQ63:BT63) -> 85.772934 | BA62: ± | BB62: =_xlfn.STDEV.S('Single data'!BQ63:BT63)/SQRT(4) -> 17.513441
C63: RvD2 | D63: =AVERAGE('Single data'!D64:H64) -> 100 | E63: ± | F63: =(_xlfn.STDEV.S('Single data'!D64:H64)/SQRT(4)) -> 0 | G63: =AVERAGE('Single data'!I64:L64) -> 109.79056 | H63: ± | I63: =(_xlfn.STDEV.S('Single data'!I64:L64)/SQRT(4)) -> 23.848957 | J63: =AVERAGE('Single data'!M64:P64) -> 102.34242 | K63: ± | L63: =(_xlfn.STDEV.S('Single data'!M64:P64)/SQRT(4)) -> 21.637643 | M63: =AVERAGE('Single data'!Q64:T64) -> 100.40476 | N63: ± | O63: =(_xlfn.STDEV.S('Single data'!Q64:T64)/SQRT(4)) -> 16.270137 | P63: =AVERAGE('Single data'!U64:X64) -> 80.427935 | Q63: ± | R63: {=_xlfn.STDEV.S('Single data'!U64:X64/SQRT(4))} -> 14.99975 | S63: =AVERAGE('Single data'!Y64:AB64) -> 115.21658 | T63: ± | U63: =(_xlfn.STDEV.S('Single data'!Y64:AB64)/SQRT(4)) -> 19.505344 | V63: =AVERAGE('Single data'!AC64:AF64) -> 81.030497 | W63: ± | X63: =(_xlfn.STDEV.S('Single data'!AC64:AF64)/SQRT(4)) -> 11.451422 | Y63: =AVERAGE('Single data'!AG64:AJ64) -> 94.81687 | Z63: ± | AA63: =(_xlfn.STDEV.S('Single data'!AG64:AJ64)/SQRT(4)) -> 19.197333 | AB63: =AVERAGE('Single data'!AK64:AN64) -> 95.478873 | AC63: ± | AD63: =(_xlfn.STDEV.S('Single data'!AK64:AN64)/SQRT(4)) -> 22.998764 | AE63: =AVERAGE('Single data'!AO64:AR64) -> 105.29443 | AF63: ± | AG63: =(_xlfn.STDEV.S('Single data'!AO64:AR64)/SQRT(4)) -> 21.14432 | AH63: =AVERAGE('Single data'!AS64:AV64) -> 115.21779 | AI63: ± | AJ63: =_xlfn.STDEV.S('Single data'!AS64:AV64)/SQRT(4) -> 27.656719 | AK63: =AVERAGE('Single data'!AW64:AZ64) -> 115.69822 | AL63: ± | AM63: =(_xlfn.STDEV.S('Single data'!AW64:AZ64)/SQRT(4)) -> 22.7263 | AN63: =AVERAGE('Single data'!BA64:BD64) -> 75.886154 | AO63: ± | AP63: =_xlfn.STDEV.S('Single data'!BA64:BD64)/SQRT(4) -> 14.45535 | AQ63: =AVERAGE('Single data'!BE64:BH64) -> 98.651095 | AR63: ± | AS63: =(_xlfn.STDEV.S('Single data'!BE64:BH64)/SQRT(4)) -> 16.374873 | AT63: =AVERAGE('Single data'!BI64:BL64) -> 106.01149 | AU63: ± | AV63: =_xlfn.STDEV.S('Single data'!BI64:BL64)/SQRT(4) -> 19.15331 | AW63: =AVERAGE('Single data'!BM64:BP64) -> 92.069638 | AX63: ± | AY63: =_xlfn.STDEV.S('Single data'!BM64:BP64)/SQRT(4) -> 14.963003 | AZ63: =AVERAGE('Single data'!BQ64:BT64) -> 90.37018 | BA63: ± | BB63: =_xlfn.STDEV.S('Single data'!BQ64:BT64)/SQRT(4) -> 13.650346
C64: RvD5n3-DPA | D64: =AVERAGE('Single data'!D65:H65) -> 100 | E64: ± | F64: =(_xlfn.STDEV.S('Single data'!D65:H65)/SQRT(4)) -> 0 | G64: =AVERAGE('Single data'!I65:L65) -> 104.63424 | H64: ± | I64: =(_xlfn.STDEV.S('Single data'!I65:L65)/SQRT(4)) -> 14.573298 | J64: =AVERAGE('Single data'!M65:P65) -> 112.22039 | K64: ± | L64: =(_xlfn.STDEV.S('Single data'!M65:P65)/SQRT(4)) -> 20.356241 | M64: =AVERAGE('Single data'!Q65:T65) -> 92.952264 | N64: ± | O64: =(_xlfn.STDEV.S('Single data'!Q65:T65)/SQRT(4)) -> 30.815206 | P64: =AVERAGE('Single data'!U65:X65) -> 94.50108 | Q64: ± | R64: {=_xlfn.STDEV.S('Single data'!U65:X65/SQRT(4))} -> 20.768852 | S64: =AVERAGE('Single data'!Y65:AB65) -> 123.47173 | T64: ± | U64: =(_xlfn.STDEV.S('Single data'!Y65:AB65)/SQRT(4)) -> 12.041932 | V64: =AVERAGE('Single data'!AC65:AF65) -> 114.3874 | W64: ± | X64: =(_xlfn.STDEV.S('Single data'!AC65:AF65)/SQRT(4)) -> 14.637055 | Y64: =AVERAGE('Single data'!AG65:AJ65) -> 106.43847 | Z64: ± | AA64: =(_xlfn.STDEV.S('Single data'!AG65:AJ65)/SQRT(4)) -> 20.080919 | AB64: =AVERAGE('Single data'!AK65:AN65) -> 138.95866 | AC64: ± | AD64: =(_xlfn.STDEV.S('Single data'!AK65:AN65)/SQRT(4)) -> 20.468348 | AE64: =AVERAGE('Single data'!AO65:AR65) -> 128.89966 | AF64: ± | AG64: =(_xlfn.STDEV.S('Single data'!AO65:AR65)/SQRT(4)) -> 17.381808 | AH64: =AVERAGE('Single data'!AS65:AV65) -> 160.82342 | AI64: ± | AJ64: =_xlfn.STDEV.S('Single data'!AS65:AV65)/SQRT(4) -> 19.829584 | AK64: =AVERAGE('Single data'!AW65:AZ65) -> 135.94655 | AL64: ± | AM64: =(_xlfn.STDEV.S('Single data'!AW65:AZ65)/SQRT(4)) -> 14.201214 | AN64: =AVERAGE('Single data'!BA65:BD65) -> 109.77064 | AO64: ± | AP64: =_xlfn.STDEV.S('Single data'!BA65:BD65)/SQRT(4) -> 22.818552 | AQ64: =AVERAGE('Single data'!BE65:BH65) -> 112.14564 | AR64: ± | AS64: =(_xlfn.STDEV.S('Single data'!BE65:BH65)/SQRT(4)) -> 15.503368 | AT64: =AVERAGE('Single data'!BI65:BL65) -> 128.35749 | AU64: ± | AV64: =_xlfn.STDEV.S('Single data'!BI65:BL65)/SQRT(4) -> 13.626447 | AW64: =AVERAGE('Single data'!BM65:BP65) -> 103.96122 | AX64: ± | AY64: =_xlfn.STDEV.S('Single data'!BM65:BP65)/SQRT(4) -> 12.185159 | AZ64: =AVERAGE('Single data'!BQ65:BT65) -> 105.36598 | BA64: ± | BB64: =_xlfn.STDEV.S('Single data'!BQ65:BT65)/SQRT(4) -> 13.576685
C65: LXA4 | D65: =AVERAGE('Single data'!D66:H66) -> 100 | E65: ± | F65: =(_xlfn.STDEV.S('Single data'!D66:H66)/SQRT(4)) -> 0 | G65: =AVERAGE('Single data'!I66:L66) -> 66.769266 | H65: ± | I65: =(_xlfn.STDEV.S('Single data'!I66:L66)/SQRT(4)) -> 14.167578 | J65: =AVERAGE('Single data'!M66:P66) -> 53.139587 | K65: ± | L65: =(_xlfn.STDEV.S('Single data'!M66:P66)/SQRT(4)) -> 8.963649 | M65: =AVERAGE('Single data'!Q66:T66) -> 66.361713 | N65: ± | O65: =(_xlfn.STDEV.S('Single data'!Q66:T66)/SQRT(4)) -> 13.678637 | P65: =AVERAGE('Single data'!U66:X66) -> 41.381921 | Q65: ± | R65: {=_xlfn.STDEV.S('Single data'!U66:X66/SQRT(4))} -> 14.68478 | S65: =AVERAGE('Single data'!Y66:AB66) -> 92.279264 | T65: ± | U65: =(_xlfn.STDEV.S('Single data'!Y66:AB66)/SQRT(4)) -> 21.639858 | V65: =AVERAGE('Single data'!AC66:AF66) -> 52.712931 | W65: ± | X65: =(_xlfn.STDEV.S('Single data'!AC66:AF66)/SQRT(4)) -> 11.64264 | Y65: =AVERAGE('Single data'!AG66:AJ66) -> 68.992237 | Z65: ± | AA65: =(_xlfn.STDEV.S('Single data'!AG66:AJ66)/SQRT(4)) -> 13.638998 | AB65: =AVERAGE('Single data'!AK66:AN66) -> 52.606815 | AC65: ± | AD65: =(_xlfn.STDEV.S('Single data'!AK66:AN66)/SQRT(4)) -> 19.127036 | AE65: =AVERAGE('Single data'!AO66:AR66) -> 69.511473 | AF65: ± | AG65: =(_xlfn.STDEV.S('Single data'!AO66:AR66)/SQRT(4)) -> 16.169662 | AH65: =AVERAGE('Single data'!AS66:AV66) -> 37.407959 | AI65: ± | AJ65: =_xlfn.STDEV.S('Single data'!AS66:AV66)/SQRT(4) -> 10.658249 | AK65: =AVERAGE('Single data'!AW66:AZ66) -> 63.265701 | AL65: ± | AM65: =(_xlfn.STDEV.S('Single data'!AW66:AZ66)/SQRT(4)) -> 12.22063 | AN65: =AVERAGE('Single data'!BA66:BD66) -> 57.71999 | AO65: ± | AP65: =_xlfn.STDEV.S('Single data'!BA66:BD66)/SQRT(4) -> 24.372579 | AQ65: =AVERAGE('Single data'!BE66:BH66) -> 68.08867 | AR65: ± | AS65: =(_xlfn.STDEV.S('Single data'!BE66:BH66)/SQRT(4)) -> 17.104675 | AT65: =AVERAGE('Single data'!BI66:BL66) -> 65.704437 | AU65: ± | AV65: =_xlfn.STDEV.S('Single data'!BI66:BL66)/SQRT(4) -> 16.89625 | AW65: =AVERAGE('Single data'!BM66:BP66) -> 71.67383 | AX65: ± | AY65: =_xlfn.STDEV.S('Single data'!BM66:BP66)/SQRT(4) -> 13.829416 | AZ65: =AVERAGE('Single data'!BQ66:BT66) -> 51.137581 | BA65: ± | BB65: =_xlfn.STDEV.S('Single data'!BQ66:BT66)/SQRT(4) -> 7.5363477
B66: SPM precursor | C66: 17-HDHA | D66: =AVERAGE('Single data'!D67:H67) -> 100 | E66: ± | F66: =(_xlfn.STDEV.S('Single data'!D67:H67)/SQRT(4)) -> 0 | G66: =AVERAGE('Single data'!I67:L67) -> 88.294096 | H66: ± | I66: =(_xlfn.STDEV.S('Single data'!I67:L67)/SQRT(4)) -> 7.0648679 | J66: =AVERAGE('Single data'!M67:P67) -> 77.565117 | K66: ± | L66: =(_xlfn.STDEV.S('Single data'!M67:P67)/SQRT(4)) -> 6.7819362 | M66: =AVERAGE('Single data'!Q67:T67) -> 76.372054 | N66: ± | O66: =(_xlfn.STDEV.S('Single data'!Q67:T67)/SQRT(4)) -> 5.9328122 | P66: =AVERAGE('Single data'!U67:X67) -> 45.461004 | Q66: ± | R66: {=_xlfn.STDEV.S('Single data'!U67:X67/SQRT(4))} -> 4.8865126 | S66: =AVERAGE('Single data'!Y67:AB67) -> 87.719441 | T66: ± | U66: =(_xlfn.STDEV.S('Single data'!Y67:AB67)/SQRT(4)) -> 10.629893 | V66: =AVERAGE('Single data'!AC67:AF67) -> 68.903808 | W66: ± | X66: =(_xlfn.STDEV.S('Single data'!AC67:AF67)/SQRT(4)) -> 9.4428229 | Y66: =AVERAGE('Single data'!AG67:AJ67) -> 97.325841 | Z66: ± | AA66: =(_xlfn.STDEV.S('Single data'!AG67:AJ67)/SQRT(4)) -> 7.0810385 | AB66: =AVERAGE('Single data'!AK67:AN67) -> 85.777761 | AC66: ± | AD66: =(_xlfn.STDEV.S('Single data'!AK67:AN67)/SQRT(4)) -> 12.926717 | AE66: =AVERAGE('Single data'!AO67:AR67) -> 108.59719 | AF66: ± | AG66: =(_xlfn.STDEV.S('Single data'!AO67:AR67)/SQRT(4)) -> 18.302773 | AH66: =AVERAGE('Single data'!AS67:AV67) -> 84.325626 | AI66: ± | AJ66: =_xlfn.STDEV.S('Single data'!AS67:AV67)/SQRT(4) -> 12.406434 | AK66: =AVERAGE('Single data'!AW67:AZ67) -> 84.500333 | AL66: ± | AM66: =(_xlfn.STDEV.S('Single data'!AW67:AZ67)/SQRT(4)) -> 11.059215 | AN66: =AVERAGE('Single data'!BA67:BD67) -> 54.24874 | AO66: ± | AP66: =_xlfn.STDEV.S('Single data'!BA67:BD67)/SQRT(4) -> 7.2781584 | AQ66: =AVERAGE('Single data'!BE67:BH67) -> 95.649789 | AR66: ± | AS66: =(_xlfn.STDEV.S('Single data'!BE67:BH67)/SQRT(4)) -> 7.2157109 | AT66: =AVERAGE('Single data'!BI67:BL67) -> 78.080931 | AU66: ± | AV66: =_xlfn.STDEV.S('Single data'!BI67:BL67)/SQRT(4) -> 10.535355 | AW66: =AVERAGE('Single data'!BM67:BP67) -> 87.669163 | AX66: ± | AY66: =_xlfn.STDEV.S('Single data'!BM67:BP67)/SQRT(4) -> 9.6022586 | AZ66: =AVERAGE('Single data'!BQ67:BT67) -> 68.731618 | BA66: ± | BB66: =_xlfn.STDEV.S('Single data'!BQ67:BT67)/SQRT(4) -> 8.0994188
C67: 17-HDPA | D67: =AVERAGE('Single data'!D68:H68) -> 100 | E67: ± | F67: =(_xlfn.STDEV.S('Single data'!D68:H68)/SQRT(4)) -> 0 | G67: =AVERAGE('Single data'!I68:L68) -> 89.022098 | H67: ± | I67: =(_xlfn.STDEV.S('Single data'!I68:L68)/SQRT(4)) -> 6.5456287 | J67: =AVERAGE('Single data'!M68:P68) -> 80.695254 | K67: ± | L67: =(_xlfn.STDEV.S('Single data'!M68:P68)/SQRT(4)) -> 6.8881469 | M67: =AVERAGE('Single data'!Q68:T68) -> 78.379934 | N67: ± | O67: =(_xlfn.STDEV.S('Single data'!Q68:T68)/SQRT(4)) -> 6.8860455 | P67: =AVERAGE('Single data'!U68:X68) -> 49.191072 | Q67: ± | R67: {=_xlfn.STDEV.S('Single data'!U68:X68/SQRT(4))} -> 6.0385475 | S67: =AVERAGE('Single data'!Y68:AB68) -> 83.958294 | T67: ± | U67: =(_xlfn.STDEV.S('Single data'!Y68:AB68)/SQRT(4)) -> 11.574798 | V67: =AVERAGE('Single data'!AC68:AF68) -> 73.316191 | W67: ± | X67: =(_xlfn.STDEV.S('Single data'!AC68:AF68)/SQRT(4)) -> 11.242541 | Y67: =AVERAGE('Single data'!AG68:AJ68) -> 92.289615 | Z67: ± | AA67: =(_xlfn.STDEV.S('Single data'!AG68:AJ68)/SQRT(4)) -> 11.266738 | AB67: =AVERAGE('Single data'!AK68:AN68) -> 86.546891 | AC67: ± | AD67: =(_xlfn.STDEV.S('Single data'!AK68:AN68)/SQRT(4)) -> 7.4200658 | AE67: =AVERAGE('Single data'!AO68:AR68) -> 105.63512 | AF67: ± | AG67: =(_xlfn.STDEV.S('Single data'!AO68:AR68)/SQRT(4)) -> 19.508649 | AH67: =AVERAGE('Single data'!AS68:AV68) -> 93.171573 | AI67: ± | AJ67: =_xlfn.STDEV.S('Single data'!AS68:AV68)/SQRT(4) -> 11.928628 | AK67: =AVERAGE('Single data'!AW68:AZ68) -> 84.511284 | AL67: ± | AM67: =(_xlfn.STDEV.S('Single data'!AW68:AZ68)/SQRT(4)) -> 10.488304 | AN67: =AVERAGE('Single data'!BA68:BD68) -> 59.549106 | AO67: ± | AP67: =_xlfn.STDEV.S('Single data'!BA68:BD68)/SQRT(4) -> 7.5727483 | AQ67: =AVERAGE('Single data'!BE68:BH68) -> 90.385114 | AR67: ± | AS67: =(_xlfn.STDEV.S('Single data'!BE68:BH68)/SQRT(4)) -> 6.3261313 | AT67: =AVERAGE('Single data'!BI68:BL68) -> 83.711259 | AU67: ± | AV67: =_xlfn.STDEV.S('Single data'!BI68:BL68)/SQRT(4) -> 6.8186067 | AW67: =AVERAGE('Single data'!BM68:BP68) -> 84.255521 | AX67: ± | AY67: =_xlfn.STDEV.S('Single data'!BM68:BP68)/SQRT(4) -> 9.4017413 | AZ67: =AVERAGE('Single data'!BQ68:BT68) -> 72.35722 | BA67: ± | BB67: =_xlfn.STDEV.S('Single data'!BQ68:BT68)/SQRT(4) -> 7.0467011
C68: 15-HETE | D68: =AVERAGE('Single data'!D69:H69) -> 100 | E68: ± | F68: =(_xlfn.STDEV.S('Single data'!D69:H69)/SQRT(4)) -> 0 | G68: =AVERAGE('Single data'!I69:L69) -> 99.145886 | H68: ± | I68: =(_xlfn.STDEV.S('Single data'!I69:L69)/SQRT(4)) -> 10.969644 | J68: =AVERAGE('Single data'!M69:P69) -> 92.315893 | K68: ± | L68: =(_xlfn.STDEV.S('Single data'!M69:P69)/SQRT(4)) -> 8.9967846 | M68: =AVERAGE('Single data'!Q69:T69) -> 97.170024 | N68: ± | O68: =(_xlfn.STDEV.S('Single data'!Q69:T69)/SQRT(4)) -> 14.241689 | P68: =AVERAGE('Single data'!U69:X69) -> 84.490394 | Q68: ± | R68: {=_xlfn.STDEV.S('Single data'!U69:X69/SQRT(4))} -> 9.5138252 | S68: =AVERAGE('Single data'!Y69:AB69) -> 107.65854 | T68: ± | U68: =(_xlfn.STDEV.S('Single data'!Y69:AB69)/SQRT(4)) -> 12.92391 | V68: =AVERAGE('Single data'!AC69:AF69) -> 105.00759 | W68: ± | X68: =(_xlfn.STDEV.S('Single data'!AC69:AF69)/SQRT(4)) -> 17.099774 | Y68: =AVERAGE('Single data'!AG69:AJ69) -> 115.20567 | Z68: ± | AA68: =(_xlfn.STDEV.S('Single data'!AG69:AJ69)/SQRT(4)) -> 10.977382 | AB68: =AVERAGE('Single data'!AK69:AN69) -> 141.84206 | AC68: ± | AD68: =(_xlfn.STDEV.S('Single data'!AK69:AN69)/SQRT(4)) -> 30.592028 | AE68: =AVERAGE('Single data'!AO69:AR69) -> 103.77557 | AF68: ± | AG68: =(_xlfn.STDEV.S('Single data'!AO69:AR69)/SQRT(4)) -> 17.572451 | AH68: =AVERAGE('Single data'!AS69:AV69) -> 107.7157 | AI68: ± | AJ68: =_xlfn.STDEV.S('Single data'!AS69:AV69)/SQRT(4) -> 18.390871 | AK68: =AVERAGE('Single data'!AW69:AZ69) -> 99.198998 | AL68: ± | AM68: =(_xlfn.STDEV.S('Single data'!AW69:AZ69)/SQRT(4)) -> 14.113448 | AN68: =AVERAGE('Single data'!BA69:BD69) -> 113.28178 | AO68: ± | AP68: =_xlfn.STDEV.S('Single data'!BA69:BD69)/SQRT(4) -> 27.587106 | AQ68: =AVERAGE('Single data'!BE69:BH69) -> 117.1071 | AR68: ± | AS68: =(_xlfn.STDEV.S('Single data'!BE69:BH69)/SQRT(4)) -> 19.766527 | AT68: =AVERAGE('Single data'!BI69:BL69) -> 111.37797 | AU68: ± | AV68: =_xlfn.STDEV.S('Single data'!BI69:BL69)/SQRT(4) -> 29.848296 | AW68: =AVERAGE('Single data'!BM69:BP69) -> 116.06195 | AX68: ± | AY68: =_xlfn.STDEV.S('Single data'!BM69:BP69)/SQRT(4) -> 26.612338 | AZ68: =AVERAGE('Single data'!BQ69:BT69) -> 96.606631 | BA68: ± | BB68: =_xlfn.STDEV.S('Single data'!BQ69:BT69)/SQRT(4) -> 20.066761
C69: 14-HDHA | D69: =AVERAGE('Single data'!D70:H70) -> 100 | E69: ± | F69: =(_xlfn.STDEV.S('Single data'!D70:H70)/SQRT(4)) -> 0 | G69: =AVERAGE('Single data'!I70:L70) -> 95.742629 | H69: ± | I69: =(_xlfn.STDEV.S('Single data'!I70:L70)/SQRT(4)) -> 12.080548 | J69: =AVERAGE('Single data'!M70:P70) -> 81.69343 | K69: ± | L69: =(_xlfn.STDEV.S('Single data'!M70:P70)/SQRT(4)) -> 11.234407 | M69: =AVERAGE('Single data'!Q70:T70) -> 87.770546 | N69: ± | O69: =(_xlfn.STDEV.S('Single data'!Q70:T70)/SQRT(4)) -> 10.958788 | P69: =AVERAGE('Single data'!U70:X70) -> 55.753678 | Q69: ± | R69: {=_xlfn.STDEV.S('Single data'!U70:X70/SQRT(4))} -> 6.9055392 | S69: =AVERAGE('Single data'!Y70:AB70) -> 99.415959 | T69: ± | U69: =(_xlfn.STDEV.S('Single data'!Y70:AB70)/SQRT(4)) -> 14.816046 | V69: =AVERAGE('Single data'!AC70:AF70) -> 77.493904 | W69: ± | X69: =(_xlfn.STDEV.S('Single data'!AC70:AF70)/SQRT(4)) -> 13.853005 | Y69: =AVERAGE('Single data'!AG70:AJ70) -> 96.716553 | Z69: ± | AA69: =(_xlfn.STDEV.S('Single data'!AG70:AJ70)/SQRT(4)) -> 10.444311 | AB69: =AVERAGE('Single data'!AK70:AN70) -> 94.592231 | AC69: ± | AD69: =(_xlfn.STDEV.S('Single data'!AK70:AN70)/SQRT(4)) -> 15.96433 | AE69: =AVERAGE('Single data'!AO70:AR70) -> 118.50632 | AF69: ± | AG69: =(_xlfn.STDEV.S('Single data'!AO70:AR70)/SQRT(4)) -> 25.021593 | AH69: =AVERAGE('Single data'!AS70:AV70) -> 104.79612 | AI69: ± | AJ69: =_xlfn.STDEV.S('Single data'!AS70:AV70)/SQRT(4) -> 19.964662 | AK69: =AVERAGE('Single data'!AW70:AZ70) -> 95.306069 | AL69: ± | AM69: =(_xlfn.STDEV.S('Single data'!AW70:AZ70)/SQRT(4)) -> 15.093771 | AN69: =AVERAGE('Single data'!BA70:BD70) -> 64.109926 | AO69: ± | AP69: =_xlfn.STDEV.S('Single data'!BA70:BD70)/SQRT(4) -> 9.257853 | AQ69: =AVERAGE('Single data'!BE70:BH70) -> 95.575931 | AR69: ± | AS69: =(_xlfn.STDEV.S('Single data'!BE70:BH70)/SQRT(4)) -> 9.6801489 | AT69: =AVERAGE('Single data'!BI70:BL70) -> 69.019089 | AU69: ± | AV69: =_xlfn.STDEV.S('Single data'!BI70:BL70)/SQRT(4) -> 7.1002114 | AW69: =AVERAGE('Single data'!BM70:BP70) -> 88.35269 | AX69: ± | AY69: =_xlfn.STDEV.S('Single data'!BM70:BP70)/SQRT(4) -> 10.443807 | AZ69: =AVERAGE('Single data'!BQ70:BT70) -> 58.350536 | BA69: ± | BB69: =_xlfn.STDEV.S('Single data'!BQ70:BT70)/SQRT(4) -> 5.920413
C70: 18-HEPE | D70: =AVERAGE('Single data'!D71:H71) -> 100 | E70: ± | F70: =(_xlfn.STDEV.S('Single data'!D71:H71)/SQRT(4)) -> 0 | G70: =AVERAGE('Single data'!I71:L71) -> 70.407169 | H70: ± | I70: =(_xlfn.STDEV.S('Single data'!I71:L71)/SQRT(4)) -> 6.7036958 | J70: =AVERAGE('Single data'!M71:P71) -> 39.416025 | K70: ± | L70: =(_xlfn.STDEV.S('Single data'!M71:P71)/SQRT(4)) -> 4.7746543 | M70: =AVERAGE('Single data'!Q71:T71) -> 45.263652 | N70: ± | O70: =(_xlfn.STDEV.S('Single data'!Q71:T71)/SQRT(4)) -> 5.3131358 | P70: =AVERAGE('Single data'!U71:X71) -> 23.900457 | Q70: ± | R70: {=_xlfn.STDEV.S('Single data'!U71:X71/SQRT(4))} -> 3.9790013 | S70: =AVERAGE('Single data'!Y71:AB71) -> 56.359921 | T70: ± | U70: =(_xlfn.STDEV.S('Single data'!Y71:AB71)/SQRT(4)) -> 3.7557623 | V70: =AVERAGE('Single data'!AC71:AF71) -> 25.37727 | W70: ± | X70: =(_xlfn.STDEV.S('Single data'!AC71:AF71)/SQRT(4)) -> 4.6426858 | Y70: =AVERAGE('Single data'!AG71:AJ71) -> 67.715977 | Z70: ± | AA70: =(_xlfn.STDEV.S('Single data'!AG71:AJ71)/SQRT(4)) -> 3.8318775 | AB70: =AVERAGE('Single data'!AK71:AN71) -> 35.838123 | AC70: ± | AD70: =(_xlfn.STDEV.S('Single data'!AK71:AN71)/SQRT(4)) -> 8.3185186 | AE70: =AVERAGE('Single data'!AO71:AR71) -> 72.894718 | AF70: ± | AG70: =(_xlfn.STDEV.S('Single data'!AO71:AR71)/SQRT(4)) -> 8.0350906 | AH70: =AVERAGE('Single data'!AS71:AV71) -> 30.170804 | AI70: ± | AJ70: =_xlfn.STDEV.S('Single data'!AS71:AV71)/SQRT(4) -> 5.5451729 | AK70: =AVERAGE('Single data'!AW71:AZ71) -> 47.063873 | AL70: ± | AM70: =(_xlfn.STDEV.S('Single data'!AW71:AZ71)/SQRT(4)) -> 7.2585272 | AN70: =AVERAGE('Single data'!BA71:BD71) -> 27.445374 | AO70: ± | AP70: =_xlfn.STDEV.S('Single data'!BA71:BD71)/SQRT(4) -> 7.756482 | AQ70: =AVERAGE('Single data'!BE71:BH71) -> 71.47768 | AR70: ± | AS70: =(_xlfn.STDEV.S('Single data'!BE71:BH71)/SQRT(4)) -> 7.7950115 | AT70: =AVERAGE('Single data'!BI71:BL71) -> 34.353549 | AU70: ± | AV70: =_xlfn.STDEV.S('Single data'!BI71:BL71)/SQRT(4) -> 8.0016733 | AW70: =AVERAGE('Single data'!BM71:BP71) -> 64.002914 | AX70: ± | AY70: =_xlfn.STDEV.S('Single data'!BM71:BP71)/SQRT(4) -> 14.958752 | AZ70: =AVERAGE('Single data'!BQ71:BT71) -> 31.012231 | BA70: ± | BB70: =_xlfn.STDEV.S('Single data'!BQ71:BT71)/SQRT(4) -> 7.5986466
B71: 12/ 15- LOX | C71: 15-HEPE | D71: =AVERAGE('Single data'!D72:H72) -> 100 | E71: ± | F71: =(_xlfn.STDEV.S('Single data'!D72:H72)/SQRT(4)) -> 0 | G71: =AVERAGE('Single data'!I72:L72) -> 98.65466 | H71: ± | I71: =(_xlfn.STDEV.S('Single data'!I72:L72)/SQRT(4)) -> 8.3465947 | J71: =AVERAGE('Single data'!M72:P72) -> 94.606768 | K71: ± | L71: =(_xlfn.STDEV.S('Single data'!M72:P72)/SQRT(4)) -> 6.8639409 | M71: =AVERAGE('Single data'!Q72:T72) -> 102.42861 | N71: ± | O71: =(_xlfn.STDEV.S('Single data'!Q72:T72)/SQRT(4)) -> 12.964419 | P71: =AVERAGE('Single data'!U72:X72) -> 78.951477 | Q71: ± | R71: {=_xlfn.STDEV.S('Single data'!U72:X72/SQRT(4))} -> 12.792711 | S71: =AVERAGE('Single data'!Y72:AB72) -> 111.41856 | T71: ± | U71: =(_xlfn.STDEV.S('Single data'!Y72:AB72)/SQRT(4)) -> 12.35607 | V71: =AVERAGE('Single data'!AC72:AF72) -> 105.59223 | W71: ± | X71: =(_xlfn.STDEV.S('Single data'!AC72:AF72)/SQRT(4)) -> 13.455398 | Y71: =AVERAGE('Single data'!AG72:AJ72) -> 113.15524 | Z71: ± | AA71: =(_xlfn.STDEV.S('Single data'!AG72:AJ72)/SQRT(4)) -> 9.8980179 | AB71: =AVERAGE('Single data'!AK72:AN72) -> 128.9404 | AC71: ± | AD71: =(_xlfn.STDEV.S('Single data'!AK72:AN72)/SQRT(4)) -> 29.750524 | AE71: =AVERAGE('Single data'!AO72:AR72) -> 105.94187 | AF71: ± | AG71: =(_xlfn.STDEV.S('Single data'!AO72:AR72)/SQRT(4)) -> 19.117265 | AH71: =AVERAGE('Single data'!AS72:AV72) -> 102.66436 | AI71: ± | AJ71: =_xlfn.STDEV.S('Single data'!AS72:AV72)/SQRT(4) -> 16.911944 | AK71: =AVERAGE('Single data'!AW72:AZ72) -> 103.70028 | AL71: ± | AM71: =(_xlfn.STDEV.S('Single data'!AW72:AZ72)/SQRT(4)) -> 15.908 | AN71: =AVERAGE('Single data'!BA72:BD72) -> 105.09625 | AO71: ± | AP71: =_xlfn.STDEV.S('Single data'!BA72:BD72)/SQRT(4) -> 23.643983 | AQ71: =AVERAGE('Single data'!BE72:BH72) -> 126.69431 | AR71: ± | AS71: =(_xlfn.STDEV.S('Single data'!BE72:BH72)/SQRT(4)) -> 21.008499 | AT71: =AVERAGE('Single data'!BI72:BL72) -> 123.21565 | AU71: ± | AV71: =_xlfn.STDEV.S('Single data'!BI72:BL72)/SQRT(4) -> 30.385847 | AW71: =AVERAGE('Single data'!BM72:BP72) -> 134.66709 | AX71: ± | AY71: =_xlfn.STDEV.S('Single data'!BM72:BP72)/SQRT(4) -> 34.363554 | AZ71: =AVERAGE('Single data'!BQ72:BT72) -> 105.91179 | BA71: ± | BB71: =_xlfn.STDEV.S('Single data'!BQ72:BT72)/SQRT(4) -> 18.432249
C72: 14-HDPA | D72: =AVERAGE('Single data'!D73:H73) -> 100 | E72: ± | F72: =(_xlfn.STDEV.S('Single data'!D73:H73)/SQRT(4)) -> 0 | G72: =AVERAGE('Single data'!I73:L73) -> 89.636202 | H72: ± | I72: =(_xlfn.STDEV.S('Single data'!I73:L73)/SQRT(4)) -> 8.2152719 | J72: =AVERAGE('Single data'!M73:P73) -> 74.44779 | K72: ± | L72: =(_xlfn.STDEV.S('Single data'!M73:P73)/SQRT(4)) -> 9.5649314 | M72: =AVERAGE('Single data'!Q73:T73) -> 79.580595 | N72: ± | O72: =(_xlfn.STDEV.S('Single data'!Q73:T73)/SQRT(4)) -> 8.0177945 | P72: =AVERAGE('Single data'!U73:X73) -> 50.864925 | Q72: ± | R72: {=_xlfn.STDEV.S('Single data'!U73:X73/SQRT(4))} -> 4.2109918 | S72: =AVERAGE('Single data'!Y73:AB73) -> 88.51038 | T72: ± | U72: =(_xlfn.STDEV.S('Single data'!Y73:AB73)/SQRT(4)) -> 10.892234 | V72: =AVERAGE('Single data'!AC73:AF73) -> 72.451509 | W72: ± | X72: =(_xlfn.STDEV.S('Single data'!AC73:AF73)/SQRT(4)) -> 11.658384 | Y72: =AVERAGE('Single data'!AG73:AJ73) -> 85.772154 | Z72: ± | AA72: =(_xlfn.STDEV.S('Single data'!AG73:AJ73)/SQRT(4)) -> 11.754559 | AB72: =AVERAGE('Single data'!AK73:AN73) -> 82.49569 | AC72: ± | AD72: =(_xlfn.STDEV.S('Single data'!AK73:AN73)/SQRT(4)) -> 6.5170785 | AE72: =AVERAGE('Single data'!AO73:AR73) -> 108.95997 | AF72: ± | AG72: =(_xlfn.STDEV.S('Single data'!AO73:AR73)/SQRT(4)) -> 22.587163 | AH72: =AVERAGE('Single data'!AS73:AV73) -> 98.011824 | AI72: ± | AJ72: =_xlfn.STDEV.S('Single data'!AS73:AV73)/SQRT(4) -> 10.792009 | AK72: =AVERAGE('Single data'!AW73:AZ73) -> 87.846309 | AL72: ± | AM72: =(_xlfn.STDEV.S('Single data'!AW73:AZ73)/SQRT(4)) -> 11.037416 | AN72: =AVERAGE('Single data'!BA73:BD73) -> 61.974334 | AO72: ± | AP72: =_xlfn.STDEV.S('Single data'!BA73:BD73)/SQRT(4) -> 7.0228105 | AQ72: =AVERAGE('Single data'!BE73:BH73) -> 84.22906 | AR72: ± | AS72: =(_xlfn.STDEV.S('Single data'!BE73:BH73)/SQRT(4)) -> 5.9153477 | AT72: =AVERAGE('Single data'!BI73:BL73) -> 65.570097 | AU72: ± | AV72: =_xlfn.STDEV.S('Single data'!BI73:BL73)/SQRT(4) -> 5.7327869 | AW72: =AVERAGE('Single data'!BM73:BP73) -> 79.492897 | AX72: ± | AY72: =_xlfn.STDEV.S('Single data'!BM73:BP73)/SQRT(4) -> 8.1762991 | AZ72: =AVERAGE('Single data'!BQ73:BT73) -> 55.67494 | BA72: ± | BB72: =_xlfn.STDEV.S('Single data'!BQ73:BT73)/SQRT(4) -> 6.3691924
C73: 12-HEPE | D73: =AVERAGE('Single data'!D74:H74) -> 100 | E73: ± | F73: =(_xlfn.STDEV.S('Single data'!D74:H74)/SQRT(4)) -> 0 | G73: =AVERAGE('Single data'!I74:L74) -> 98.274837 | H73: ± | I73: =(_xlfn.STDEV.S('Single data'!I74:L74)/SQRT(4)) -> 9.7355559 | J73: =AVERAGE('Single data'!M74:P74) -> 85.719168 | K73: ± | L73: =(_xlfn.STDEV.S('Single data'!M74:P74)/SQRT(4)) -> 9.1229963 | M73: =AVERAGE('Single data'!Q74:T74) -> 94.051753 | N73: ± | O73: =(_xlfn.STDEV.S('Single data'!Q74:T74)/SQRT(4)) -> 13.90316 | P73: =AVERAGE('Single data'!U74:X74) -> 64.197595 | Q73: ± | R73: {=_xlfn.STDEV.S('Single data'!U74:X74/SQRT(4))} -> 11.898036 | S73: =AVERAGE('Single data'!Y74:AB74) -> 112.14043 | T73: ± | U73: =(_xlfn.STDEV.S('Single data'!Y74:AB74)/SQRT(4)) -> 13.576681 | V73: =AVERAGE('Single data'!AC74:AF74) -> 90.929581 | W73: ± | X73: =(_xlfn.STDEV.S('Single data'!AC74:AF74)/SQRT(4)) -> 13.306411 | Y73: =AVERAGE('Single data'!AG74:AJ74) -> 107.12072 | Z73: ± | AA73: =(_xlfn.STDEV.S('Single data'!AG74:AJ74)/SQRT(4)) -> 5.5959828 | AB73: =AVERAGE('Single data'!AK74:AN74) -> 121.35517 | AC73: ± | AD73: =(_xlfn.STDEV.S('Single data'!AK74:AN74)/SQRT(4)) -> 28.368694 | AE73: =AVERAGE('Single data'!AO74:AR74) -> 106.08278 | AF73: ± | AG73: =(_xlfn.STDEV.S('Single data'!AO74:AR74)/SQRT(4)) -> 19.60705 | AH73: =AVERAGE('Single data'!AS74:AV74) -> 102.59325 | AI73: ± | AJ73: =_xlfn.STDEV.S('Single data'!AS74:AV74)/SQRT(4) -> 20.374807 | AK73: =AVERAGE('Single data'!AW74:AZ74) -> 102.69599 | AL73: ± | AM73: =(_xlfn.STDEV.S('Single data'!AW74:AZ74)/SQRT(4)) -> 16.776851 | AN73: =AVERAGE('Single data'!BA74:BD74) -> 91.02624 | AO73: ± | AP73: =_xlfn.STDEV.S('Single data'!BA74:BD74)/SQRT(4) -> 21.511958 | AQ73: =AVERAGE('Single data'!BE74:BH74) -> 114.1453 | AR73: ± | AS73: =(_xlfn.STDEV.S('Single data'!BE74:BH74)/SQRT(4)) -> 19.795413 | AT73: =AVERAGE('Single data'!BI74:BL74) -> 98.046156 | AU73: ± | AV73: =_xlfn.STDEV.S('Single data'!BI74:BL74)/SQRT(4) -> 22.877464 | AW73: =AVERAGE('Single data'!BM74:BP74) -> 117.50865 | AX73: ± | AY73: =_xlfn.STDEV.S('Single data'!BM74:BP74)/SQRT(4) -> 27.34613 | AZ73: =AVERAGE('Single data'!BQ74:BT74) -> 82.982573 | BA73: ± | BB73: =_xlfn.STDEV.S('Single data'!BQ74:BT74)/SQRT(4) -> 14.183656
C74: 12-HETE | D74: =AVERAGE('Single data'!D75:H75) -> 100 | E74: ± | F74: =(_xlfn.STDEV.S('Single data'!D75:H75)/SQRT(4)) -> 0 | G74: =AVERAGE('Single data'!I75:L75) -> 98.433568 | H74: ± | I74: =(_xlfn.STDEV.S('Single data'!I75:L75)/SQRT(4)) -> 12.334608 | J74: =AVERAGE('Single data'!M75:P75) -> 89.827167 | K74: ± | L74: =(_xlfn.STDEV.S('Single data'!M75:P75)/SQRT(4)) -> 12.240794 | M74: =AVERAGE('Single data'!Q75:T75) -> 97.72833 | N74: ± | O74: =(_xlfn.STDEV.S('Single data'!Q75:T75)/SQRT(4)) -> 15.27902 | P74: =AVERAGE('Single data'!U75:X75) -> 74.706125 | Q74: ± | R74: {=_xlfn.STDEV.S('Single data'!U75:X75/SQRT(4))} -> 11.309083 | S74: =AVERAGE('Single data'!Y75:AB75) -> 111.84985 | T74: ± | U74: =(_xlfn.STDEV.S('Single data'!Y75:AB75)/SQRT(4)) -> 19.142444 | V74: =AVERAGE('Single data'!AC75:AF75) -> 113.96598 | W74: ± | X74: =(_xlfn.STDEV.S('Single data'!AC75:AF75)/SQRT(4)) -> 22.28585 | Y74: =AVERAGE('Single data'!AG75:AJ75) -> 104.0952 | Z74: ± | AA74: =(_xlfn.STDEV.S('Single data'!AG75:AJ75)/SQRT(4)) -> 12.892747 | AB74: =AVERAGE('Single data'!AK75:AN75) -> 141.7592 | AC74: ± | AD74: =(_xlfn.STDEV.S('Single data'!AK75:AN75)/SQRT(4)) -> 27.818095 | AE74: =AVERAGE('Single data'!AO75:AR75) -> 115.85658 | AF74: ± | AG74: =(_xlfn.STDEV.S('Single data'!AO75:AR75)/SQRT(4)) -> 27.692575 | AH74: =AVERAGE('Single data'!AS75:AV75) -> 129.38052 | AI74: ± | AJ74: =_xlfn.STDEV.S('Single data'!AS75:AV75)/SQRT(4) -> 27.131656 | AK74: =AVERAGE('Single data'!AW75:AZ75) -> 109.48832 | AL74: ± | AM74: =(_xlfn.STDEV.S('Single data'!AW75:AZ75)/SQRT(4)) -> 19.396108 | AN74: =AVERAGE('Single data'!BA75:BD75) -> 124.73796 | AO74: ± | AP74: =_xlfn.STDEV.S('Single data'!BA75:BD75)/SQRT(4) -> 31.341655 | AQ74: =AVERAGE('Single data'!BE75:BH75) -> 109.65776 | AR74: ± | AS74: =(_xlfn.STDEV.S('Single data'!BE75:BH75)/SQRT(4)) -> 18.291802 | AT74: =AVERAGE('Single data'!BI75:BL75) -> 105.25813 | AU74: ± | AV74: =_xlfn.STDEV.S('Single data'!BI75:BL75)/SQRT(4) -> 24.393533 | AW74: =AVERAGE('Single data'!BM75:BP75) -> 106.78712 | AX74: ± | AY74: =_xlfn.STDEV.S('Single data'!BM75:BP75)/SQRT(4) -> 16.236353 | AZ74: =AVERAGE('Single data'!BQ75:BT75) -> 84.725638 | BA74: ± | BB74: =_xlfn.STDEV.S('Single data'!BQ75:BT75)/SQRT(4) -> 11.298286
B75: 5-LOX | C75: LTB4 isomers | D75: =AVERAGE('Single data'!D76:H76) -> 100 | E75: ± | F75: =(_xlfn.STDEV.S('Single data'!D76:H76)/SQRT(4)) -> 0 | G75: =AVERAGE('Single data'!I76:L76) -> 95.133207 | H75: ± | I75: =(_xlfn.STDEV.S('Single data'!I76:L76)/SQRT(4)) -> 16.261699 | J75: =AVERAGE('Single data'!M76:P76) -> 73.855708 | K75: ± | L75: =(_xlfn.STDEV.S('Single data'!M76:P76)/SQRT(4)) -> 20.030693 | M75: =AVERAGE('Single data'!Q76:T76) -> 86.299684 | N75: ± | O75: =(_xlfn.STDEV.S('Single data'!Q76:T76)/SQRT(4)) -> 18.855117 | P75: =AVERAGE('Single data'!U76:X76) -> 64.678279 | Q75: ± | R75: {=_xlfn.STDEV.S('Single data'!U76:X76/SQRT(4))} -> 27.334417 | S75: =AVERAGE('Single data'!Y76:AB76) -> 102.2648 | T75: ± | U75: =(_xlfn.STDEV.S('Single data'!Y76:AB76)/SQRT(4)) -> 23.241001 | V75: =AVERAGE('Single data'!AC76:AF76) -> 76.393527 | W75: ± | X75: =(_xlfn.STDEV.S('Single data'!AC76:AF76)/SQRT(4)) -> 19.356585 | Y75: =AVERAGE('Single data'!AG76:AJ76) -> 91.534375 | Z75: ± | AA75: =(_xlfn.STDEV.S('Single data'!AG76:AJ76)/SQRT(4)) -> 18.29611 | AB75: =AVERAGE('Single data'!AK76:AN76) -> 68.591528 | AC75: ± | AD75: =(_xlfn.STDEV.S('Single data'!AK76:AN76)/SQRT(4)) -> 26.981689 | AE75: =AVERAGE('Single data'!AO76:AR76) -> 94.012205 | AF75: ± | AG75: =(_xlfn.STDEV.S('Single data'!AO76:AR76)/SQRT(4)) -> 23.934319 | AH75: =AVERAGE('Single data'!AS76:AV76) -> 64.918692 | AI75: ± | AJ75: =_xlfn.STDEV.S('Single data'!AS76:AV76)/SQRT(4) -> 23.623922 | AK75: =AVERAGE('Single data'!AW76:AZ76) -> 92.074465 | AL75: ± | AM75: =(_xlfn.STDEV.S('Single data'!AW76:AZ76)/SQRT(4)) -> 22.831914 | AN75: =AVERAGE('Single data'!BA76:BD76) -> 85.077182 | AO75: ± | AP75: =_xlfn.STDEV.S('Single data'!BA76:BD76)/SQRT(4) -> 45.26001 | AQ75: =AVERAGE('Single data'!BE76:BH76) -> 94.482134 | AR75: ± | AS75: =(_xlfn.STDEV.S('Single data'!BE76:BH76)/SQRT(4)) -> 22.332485 | AT75: =AVERAGE('Single data'!BI76:BL76) -> 93.657547 | AU75: ± | AV75: =_xlfn.STDEV.S('Single data'!BI76:BL76)/SQRT(4) -> 26.159812 | AW75: =AVERAGE('Single data'!BM76:BP76) -> 89.272138 | AX75: ± | AY75: =_xlfn.STDEV.S('Single data'!BM76:BP76)/SQRT(4) -> 16.566205 | AZ75: =AVERAGE('Single data'!BQ76:BT76) -> 73.868113 | BA75: ± | BB75: =_xlfn.STDEV.S('Single data'!BQ76:BT76)/SQRT(4) -> 18.11145
C76: LTB4 | D76: =AVERAGE('Single data'!D77:H77) -> 100 | E76: ± | F76: =(_xlfn.STDEV.S('Single data'!D77:H77)/SQRT(4)) -> 0 | G76: =AVERAGE('Single data'!I77:L77) -> 79.208219 | H76: ± | I76: =(_xlfn.STDEV.S('Single data'!I77:L77)/SQRT(4)) -> 10.204773 | J76: =AVERAGE('Single data'!M77:P77) -> 45.462102 | K76: ± | L76: =(_xlfn.STDEV.S('Single data'!M77:P77)/SQRT(4)) -> 8.4650771 | M76: =AVERAGE('Single data'!Q77:T77) -> 57.413132 | N76: ± | O76: =(_xlfn.STDEV.S('Single data'!Q77:T77)/SQRT(4)) -> 11.785447 | P76: =AVERAGE('Single data'!U77:X77) -> 20.984952 | Q76: ± | R76: {=_xlfn.STDEV.S('Single data'!U77:X77/SQRT(4))} -> 8.0637966 | S76: =AVERAGE('Single data'!Y77:AB77) -> 87.163578 | T76: ± | U76: =(_xlfn.STDEV.S('Single data'!Y77:AB77)/SQRT(4)) -> 16.519443 | V76: =AVERAGE('Single data'!AC77:AF77) -> 49.844701 | W76: ± | X76: =(_xlfn.STDEV.S('Single data'!AC77:AF77)/SQRT(4)) -> 9.0778887 | Y76: =AVERAGE('Single data'!AG77:AJ77) -> 75.321549 | Z76: ± | AA76: =(_xlfn.STDEV.S('Single data'!AG77:AJ77)/SQRT(4)) -> 13.395608 | AB76: =AVERAGE('Single data'!AK77:AN77) -> 31.433362 | AC76: ± | AD76: =(_xlfn.STDEV.S('Single data'!AK77:AN77)/SQRT(4)) -> 11.001149 | AE76: =AVERAGE('Single data'!AO77:AR77) -> 80.317836 | AF76: ± | AG76: =(_xlfn.STDEV.S('Single data'!AO77:AR77)/SQRT(4)) -> 21.89617 | AH76: =AVERAGE('Single data'!AS77:AV77) -> 25.746482 | AI76: ± | AJ76: =_xlfn.STDEV.S('Single data'!AS77:AV77)/SQRT(4) -> 7.4904076 | AK76: =AVERAGE('Single data'!AW77:AZ77) -> 63.187498 | AL76: ± | AM76: =(_xlfn.STDEV.S('Single data'!AW77:AZ77)/SQRT(4)) -> 12.067754 | AN76: =AVERAGE('Single data'!BA77:BD77) -> 33.812155 | AO76: ± | AP76: =_xlfn.STDEV.S('Single data'!BA77:BD77)/SQRT(4) -> 13.05841 | AQ76: =AVERAGE('Single data'!BE77:BH77) -> 76.237992 | AR76: ± | AS76: =(_xlfn.STDEV.S('Single data'!BE77:BH77)/SQRT(4)) -> 21.787662 | AT76: =AVERAGE('Single data'!BI77:BL77) -> 48.859987 | AU76: ± | AV76: =_xlfn.STDEV.S('Single data'!BI77:BL77)/SQRT(4) -> 13.260711 | AW76: =AVERAGE('Single data'!BM77:BP77) -> 71.544877 | AX76: ± | AY76: =_xlfn.STDEV.S('Single data'!BM77:BP77)/SQRT(4) -> 11.852948 | AZ76: =AVERAGE('Single data'!BQ77:BT77) -> 39.504829 | BA76: ± | BB76: =_xlfn.STDEV.S('Single data'!BQ77:BT77)/SQRT(4) -> 6.7071764
C77: 5-HEPE | D77: =AVERAGE('Single data'!D78:H78) -> 100 | E77: ± | F77: =(_xlfn.STDEV.S('Single data'!D78:H78)/SQRT(4)) -> 0 | G77: =AVERAGE('Single data'!I78:L78) -> 74.307609 | H77: ± | I77: =(_xlfn.STDEV.S('Single data'!I78:L78)/SQRT(4)) -> 3.9118994 | J77: =AVERAGE('Single data'!M78:P78) -> 45.60495 | K77: ± | L77: =(_xlfn.STDEV.S('Single data'!M78:P78)/SQRT(4)) -> 6.5373388 | M77: =AVERAGE('Single data'!Q78:T78) -> 54.371197 | N77: ± | O77: =(_xlfn.STDEV.S('Single data'!Q78:T78)/SQRT(4)) -> 10.014407 | P77: =AVERAGE('Single data'!U78:X78) -> 27.717751 | Q77: ± | R77: {=_xlfn.STDEV.S('Single data'!U78:X78/SQRT(4))} -> 9.4969754 | S77: =AVERAGE('Single data'!Y78:AB78) -> 69.836384 | T77: ± | U77: =(_xlfn.STDEV.S('Single data'!Y78:AB78)/SQRT(4)) -> 5.9003425 | V77: =AVERAGE('Single data'!AC78:AF78) -> 40.406879 | W77: ± | X77: =(_xlfn.STDEV.S('Single data'!AC78:AF78)/SQRT(4)) -> 7.4658999 | Y77: =AVERAGE('Single data'!AG78:AJ78) -> 75.770134 | Z77: ± | AA77: =(_xlfn.STDEV.S('Single data'!AG78:AJ78)/SQRT(4)) -> 3.297077 | AB77: =AVERAGE('Single data'!AK78:AN78) -> 34.330567 | AC77: ± | AD77: =(_xlfn.STDEV.S('Single data'!AK78:AN78)/SQRT(4)) -> 8.3319341 | AE77: =AVERAGE('Single data'!AO78:AR78) -> 70.293947 | AF77: ± | AG77: =(_xlfn.STDEV.S('Single data'!AO78:AR78)/SQRT(4)) -> 10.997816 | AH77: =AVERAGE('Single data'!AS78:AV78) -> 27.559958 | AI77: ± | AJ77: =_xlfn.STDEV.S('Single data'!AS78:AV78)/SQRT(4) -> 6.9006993 | AK77: =AVERAGE('Single data'!AW78:AZ78) -> 51.973183 | AL77: ± | AM77: =(_xlfn.STDEV.S('Single data'!AW78:AZ78)/SQRT(4)) -> 7.1831518 | AN77: =AVERAGE('Single data'!BA78:BD78) -> 27.251799 | AO77: ± | AP77: =_xlfn.STDEV.S('Single data'!BA78:BD78)/SQRT(4) -> 8.4315311 | AQ77: =AVERAGE('Single data'!BE78:BH78) -> 79.253956 | AR77: ± | AS77: =(_xlfn.STDEV.S('Single data'!BE78:BH78)/SQRT(4)) -> 15.218415 | AT77: =AVERAGE('Single data'!BI78:BL78) -> 50.887219 | AU77: ± | AV77: =_xlfn.STDEV.S('Single data'!BI78:BL78)/SQRT(4) -> 13.082381 | AW77: =AVERAGE('Single data'!BM78:BP78) -> 79.613089 | AX77: ± | AY77: =_xlfn.STDEV.S('Single data'!BM78:BP78)/SQRT(4) -> 17.553962 | AZ77: =AVERAGE('Single data'!BQ78:BT78) -> 45.097791 | BA77: ± | BB77: =_xlfn.STDEV.S('Single data'!BQ78:BT78)/SQRT(4) -> 11.318334
C78: 5-HETE | D78: =AVERAGE('Single data'!D79:H79) -> 100 | E78: ± | F78: =(_xlfn.STDEV.S('Single data'!D79:H79)/SQRT(4)) -> 0 | G78: =AVERAGE('Single data'!I79:L79) -> 68.216547 | H78: ± | I78: =(_xlfn.STDEV.S('Single data'!I79:L79)/SQRT(4)) -> 2.9255821 | J78: =AVERAGE('Single data'!M79:P79) -> 34.237274 | K78: ± | L78: =(_xlfn.STDEV.S('Single data'!M79:P79)/SQRT(4)) -> 3.7305538 | M78: =AVERAGE('Single data'!Q79:T79) -> 46.562723 | N78: ± | O78: =(_xlfn.STDEV.S('Single data'!Q79:T79)/SQRT(4)) -> 8.9255413 | P78: =AVERAGE('Single data'!U79:X79) -> 14.743683 | Q78: ± | R78: {=_xlfn.STDEV.S('Single data'!U79:X79/SQRT(4))} -> 4.2037608 | S78: =AVERAGE('Single data'!Y79:AB79) -> 60.936249 | T78: ± | U78: =(_xlfn.STDEV.S('Single data'!Y79:AB79)/SQRT(4)) -> 5.7886891 | V78: =AVERAGE('Single data'!AC79:AF79) -> 28.178175 | W78: ± | X78: =(_xlfn.STDEV.S('Single data'!AC79:AF79)/SQRT(4)) -> 3.8348121 | Y78: =AVERAGE('Single data'!AG79:AJ79) -> 61.474716 | Z78: ± | AA78: =(_xlfn.STDEV.S('Single data'!AG79:AJ79)/SQRT(4)) -> 5.6364761 | AB78: =AVERAGE('Single data'!AK79:AN79) -> 26.562928 | AC78: ± | AD78: =(_xlfn.STDEV.S('Single data'!AK79:AN79)/SQRT(4)) -> 7.0340088 | AE78: =AVERAGE('Single data'!AO79:AR79) -> 62.428337 | AF78: ± | AG78: =(_xlfn.STDEV.S('Single data'!AO79:AR79)/SQRT(4)) -> 10.669422 | AH78: =AVERAGE('Single data'!AS79:AV79) -> 23.429303 | AI78: ± | AJ78: =_xlfn.STDEV.S('Single data'!AS79:AV79)/SQRT(4) -> 5.8336288 | AK78: =AVERAGE('Single data'!AW79:AZ79) -> 44.946957 | AL78: ± | AM78: =(_xlfn.STDEV.S('Single data'!AW79:AZ79)/SQRT(4)) -> 4.9407582 | AN78: =AVERAGE('Single data'!BA79:BD79) -> 18.246671 | AO78: ± | AP78: =_xlfn.STDEV.S('Single data'!BA79:BD79)/SQRT(4) -> 5.0737314 | AQ78: =AVERAGE('Single data'!BE79:BH79) -> 61.6815 | AR78: ± | AS78: =(_xlfn.STDEV.S('Single data'!BE79:BH79)/SQRT(4)) -> 10.560906 | AT78: =AVERAGE('Single data'!BI79:BL79) -> 37.915687 | AU78: ± | AV78: =_xlfn.STDEV.S('Single data'!BI79:BL79)/SQRT(4) -> 9.1746102 | AW78: =AVERAGE('Single data'!BM79:BP79) -> 60.72709 | AX78: ± | AY78: =_xlfn.STDEV.S('Single data'!BM79:BP79)/SQRT(4) -> 10.628592 | AZ78: =AVERAGE('Single data'!BQ79:BT79) -> 28.530083 | BA78: ± | BB78: =_xlfn.STDEV.S('Single data'!BQ79:BT79)/SQRT(4) -> 5.9053695
B79: PUFA | C79: AA | D79: =AVERAGE('Single data'!D80:H80) -> 100 | E79: ± | F79: =(_xlfn.STDEV.S('Single data'!D80:H80)/SQRT(4)) -> 0 | G79: =AVERAGE('Single data'!I80:L80) -> 92.993673 | H79: ± | I79: =(_xlfn.STDEV.S('Single data'!I80:L80)/SQRT(4)) -> 8.2825256 | J79: =AVERAGE('Single data'!M80:P80) -> 98.512361 | K79: ± | L79: =(_xlfn.STDEV.S('Single data'!M80:P80)/SQRT(4)) -> 7.6892115 | M79: =AVERAGE('Single data'!Q80:T80) -> 96.934694 | N79: ± | O79: =(_xlfn.STDEV.S('Single data'!Q80:T80)/SQRT(4)) -> 7.9362463 | P79: =AVERAGE('Single data'!U80:X80) -> 82.48932 | Q79: ± | R79: {=_xlfn.STDEV.S('Single data'!U80:X80/SQRT(4))} -> 7.7135028 | S79: =AVERAGE('Single data'!Y80:AB80) -> 90.735369 | T79: ± | U79: =(_xlfn.STDEV.S('Single data'!Y80:AB80)/SQRT(4)) -> 3.5648205 | V79: =AVERAGE('Single data'!AC80:AF80) -> 86.786761 | W79: ± | X79: =(_xlfn.STDEV.S('Single data'!AC80:AF80)/SQRT(4)) -> 2.1381406 | Y79: =AVERAGE('Single data'!AG80:AJ80) -> 80.386644 | Z79: ± | AA79: =(_xlfn.STDEV.S('Single data'!AG80:AJ80)/SQRT(4)) -> 6.9110462 | AB79: =AVERAGE('Single data'!AK80:AN80) -> 75.193549 | AC79: ± | AD79: =(_xlfn.STDEV.S('Single data'!AK80:AN80)/SQRT(4)) -> 5.7562748 | AE79: =AVERAGE('Single data'!AO80:AR80) -> 92.084235 | AF79: ± | AG79: =(_xlfn.STDEV.S('Single data'!AO80:AR80)/SQRT(4)) -> 5.4952947 | AH79: =AVERAGE('Single data'!AS80:AV80) -> 86.913634 | AI79: ± | AJ79: =_xlfn.STDEV.S('Single data'!AS80:AV80)/SQRT(4) -> 2.4531207 | AK79: =AVERAGE('Single data'!AW80:AZ80) -> 86.124002 | AL79: ± | AM79: =(_xlfn.STDEV.S('Single data'!AW80:AZ80)/SQRT(4)) -> 3.9671018 | AN79: =AVERAGE('Single data'!BA80:BD80) -> 84.780502 | AO79: ± | AP79: =_xlfn.STDEV.S('Single data'!BA80:BD80)/SQRT(4) -> 6.8558812 | AQ79: =AVERAGE('Single data'!BE80:BH80) -> 93.450095 | AR79: ± | AS79: =(_xlfn.STDEV.S('Single data'!BE80:BH80)/SQRT(4)) -> 3.9867296 | AT79: =AVERAGE('Single data'!BI80:BL80) -> 100.98146 | AU79: ± | AV79: =_xlfn.STDEV.S('Single data'!BI80:BL80)/SQRT(4) -> 3.5538659 | AW79: =AVERAGE('Single data'!BM80:BP80) -> 93.53719 | AX79: ± | AY79: =_xlfn.STDEV.S('Single data'!BM80:BP80)/SQRT(4) -> 1.4880334 | AZ79: =AVERAGE('Single data'!BQ80:BT80) -> 110.42552 | BA79: ± | BB79: =_xlfn.STDEV.S('Single data'!BQ80:BT80)/SQRT(4) -> 5.1785548
C80: EPA | D80: =AVERAGE('Single data'!D81:H81) -> 100 | E80: ± | F80: =(_xlfn.STDEV.S('Single data'!D81:H81)/SQRT(4)) -> 0 | G80: =AVERAGE('Single data'!I81:L81) -> 97.171981 | H80: ± | I80: =(_xlfn.STDEV.S('Single data'!I81:L81)/SQRT(4)) -> 14.34979 | J80: =AVERAGE('Single data'!M81:P81) -> 100.32474 | K80: ± | L80: =(_xlfn.STDEV.S('Single data'!M81:P81)/SQRT(4)) -> 11.253248 | M80: =AVERAGE('Single data'!Q81:T81) -> 94.376957 | N80: ± | O80: =(_xlfn.STDEV.S('Single data'!Q81:T81)/SQRT(4)) -> 4.3652386 | P80: =AVERAGE('Single data'!U81:X81) -> 75.21724 | Q80: ± | R80: {=_xlfn.STDEV.S('Single data'!U81:X81/SQRT(4))} -> 9.0670558 | S80: =AVERAGE('Single data'!Y81:AB81) -> 88.336465 | T80: ± | U80: =(_xlfn.STDEV.S('Single data'!Y81:AB81)/SQRT(4)) -> 4.5376772 | V80: =AVERAGE('Single data'!AC81:AF81) -> 66.303903 | W80: ± | X80: =(_xlfn.STDEV.S('Single data'!AC81:AF81)/SQRT(4)) -> 5.2180907 | Y80: =AVERAGE('Single data'!AG81:AJ81) -> 80.819989 | Z80: ± | AA80: =(_xlfn.STDEV.S('Single data'!AG81:AJ81)/SQRT(4)) -> 5.8587587 | AB80: =AVERAGE('Single data'!AK81:AN81) -> 75.622121 | AC80: ± | AD80: =(_xlfn.STDEV.S('Single data'!AK81:AN81)/SQRT(4)) -> 7.2298358 | AE80: =AVERAGE('Single data'!AO81:AR81) -> 95.980557 | AF80: ± | AG80: =(_xlfn.STDEV.S('Single data'!AO81:AR81)/SQRT(4)) -> 4.4770765 | AH80: =AVERAGE('Single data'!AS81:AV81) -> 84.160985 | AI80: ± | AJ80: =_xlfn.STDEV.S('Single data'!AS81:AV81)/SQRT(4) -> 4.704589 | AK80: =AVERAGE('Single data'!AW81:AZ81) -> 81.16671 | AL80: ± | AM80: =(_xlfn.STDEV.S('Single data'!AW81:AZ81)/SQRT(4)) -> 2.803541 | AN80: =AVERAGE('Single data'!BA81:BD81) -> 69.15335 | AO80: ± | AP80: =_xlfn.STDEV.S('Single data'!BA81:BD81)/SQRT(4) -> 7.3537637 | AQ80: =AVERAGE('Single data'!BE81:BH81) -> 91.822323 | AR80: ± | AS80: =(_xlfn.STDEV.S('Single data'!BE81:BH81)/SQRT(4)) -> 5.1441865 | AT80: =AVERAGE('Single data'!BI81:BL81) -> 100.09829 | AU80: ± | AV80: =_xlfn.STDEV.S('Single data'!BI81:BL81)/SQRT(4) -> 5.0443888 | AW80: =AVERAGE('Single data'!BM81:BP81) -> 93.642954 | AX80: ± | AY80: =_xlfn.STDEV.S('Single data'!BM81:BP81)/SQRT(4) -> 5.1317655 | AZ80: =AVERAGE('Single data'!BQ81:BT81) -> 115.00442 | BA80: ± | BB80: =_xlfn.STDEV.S('Single data'!BQ81:BT81)/SQRT(4) -> 4.4135343
C81: DHA | D81: =AVERAGE('Single data'!D82:H82) -> 100 | E81: ± | F81: =(_xlfn.STDEV.S('Single data'!D82:H82)/SQRT(4)) -> 0 | G81: =AVERAGE('Single data'!I82:L82) -> 91.495776 | H81: ± | I81: =(_xlfn.STDEV.S('Single data'!I82:L82)/SQRT(4)) -> 5.9009437 | J81: =AVERAGE('Single data'!M82:P82) -> 98.966748 | K81: ± | L81: =(_xlfn.STDEV.S('Single data'!M82:P82)/SQRT(4)) -> 7.966333 | M81: =AVERAGE('Single data'!Q82:T82) -> 98.951786 | N81: ± | O81: =(_xlfn.STDEV.S('Single data'!Q82:T82)/SQRT(4)) -> 7.7032345 | P81: =AVERAGE('Single data'!U82:X82) -> 73.136021 | Q81: ± | R81: {=_xlfn.STDEV.S('Single data'!U82:X82/SQRT(4))} -> 4.6603027 | S81: =AVERAGE('Single data'!Y82:AB82) -> 87.704276 | T81: ± | U81: =(_xlfn.STDEV.S('Single data'!Y82:AB82)/SQRT(4)) -> 3.4773477 | V81: =AVERAGE('Single data'!AC82:AF82) -> 82.460177 | W81: ± | X81: =(_xlfn.STDEV.S('Single data'!AC82:AF82)/SQRT(4)) -> 3.1306331 | Y81: =AVERAGE('Single data'!AG82:AJ82) -> 78.370513 | Z81: ± | AA81: =(_xlfn.STDEV.S('Single data'!AG82:AJ82)/SQRT(4)) -> 8.1620129 | AB81: =AVERAGE('Single data'!AK82:AN82) -> 71.750256 | AC81: ± | AD81: =(_xlfn.STDEV.S('Single data'!AK82:AN82)/SQRT(4)) -> 5.1791254 | AE81: =AVERAGE('Single data'!AO82:AR82) -> 95.591525 | AF81: ± | AG81: =(_xlfn.STDEV.S('Single data'!AO82:AR82)/SQRT(4)) -> 6.9369321 | AH81: =AVERAGE('Single data'!AS82:AV82) -> 89.773005 | AI81: ± | AJ81: =_xlfn.STDEV.S('Single data'!AS82:AV82)/SQRT(4) -> 4.8992483 | AK81: =AVERAGE('Single data'!AW82:AZ82) -> 88.064298 | AL81: ± | AM81: =(_xlfn.STDEV.S('Single data'!AW82:AZ82)/SQRT(4)) -> 6.1637095 | AN81: =AVERAGE('Single data'!BA82:BD82) -> 77.272003 | AO81: ± | AP81: =_xlfn.STDEV.S('Single data'!BA82:BD82)/SQRT(4) -> 3.9708499 | AQ81: =AVERAGE('Single data'!BE82:BH82) -> 93.815857 | AR81: ± | AS81: =(_xlfn.STDEV.S('Single data'!BE82:BH82)/SQRT(4)) -> 4.3855452 | AT81: =AVERAGE('Single data'!BI82:BL82) -> 100.89298 | AU81: ± | AV81: =_xlfn.STDEV.S('Single data'!BI82:BL82)/SQRT(4) -> 6.72956 | AW81: =AVERAGE('Single data'!BM82:BP82) -> 86.608233 | AX81: ± | AY81: =_xlfn.STDEV.S('Single data'!BM82:BP82)/SQRT(4) -> 4.6635205 | AZ81: =AVERAGE('Single data'!BQ82:BT82) -> 113.21207 | BA81: ± | BB81: =_xlfn.STDEV.S('Single data'!BQ82:BT82)/SQRT(4) -> 7.4287924
C82: DPA | D82: =AVERAGE('Single data'!D83:H83) -> 100 | E82: ± | F82: =(_xlfn.STDEV.S('Single data'!D83:H83)/SQRT(4)) -> 0 | G82: =AVERAGE('Single data'!I83:L83) -> 92.731399 | H82: ± | I82: =(_xlfn.STDEV.S('Single data'!I83:L83)/SQRT(4)) -> 6.2437136 | J82: =AVERAGE('Single data'!M83:P83) -> 103.67555 | K82: ± | L82: =(_xlfn.STDEV.S('Single data'!M83:P83)/SQRT(4)) -> 10.600171 | M82: =AVERAGE('Single data'!Q83:T83) -> 99.193932 | N82: ± | O82: =(_xlfn.STDEV.S('Single data'!Q83:T83)/SQRT(4)) -> 10.564644 | P82: =AVERAGE('Single data'!U83:X83) -> 77.676667 | Q82: ± | R82: {=_xlfn.STDEV.S('Single data'!U83:X83/SQRT(4))} -> 4.9755291 | S82: =AVERAGE('Single data'!Y83:AB83) -> 83.36294 | T82: ± | U82: =(_xlfn.STDEV.S('Single data'!Y83:AB83)/SQRT(4)) -> 4.6760645 | V82: =AVERAGE('Single data'!AC83:AF83) -> 86.943923 | W82: ± | X82: =(_xlfn.STDEV.S('Single data'!AC83:AF83)/SQRT(4)) -> 7.6696099 | Y82: =AVERAGE('Single data'!AG83:AJ83) -> 74.0421 | Z82: ± | AA82: =(_xlfn.STDEV.S('Single data'!AG83:AJ83)/SQRT(4)) -> 9.6274728 | AB82: =AVERAGE('Single data'!AK83:AN83) -> 67.760213 | AC82: ± | AD82: =(_xlfn.STDEV.S('Single data'!AK83:AN83)/SQRT(4)) -> 8.1748506 | AE82: =AVERAGE('Single data'!AO83:AR83) -> 95.894542 | AF82: ± | AG82: =(_xlfn.STDEV.S('Single data'!AO83:AR83)/SQRT(4)) -> 12.77893 | AH82: =AVERAGE('Single data'!AS83:AV83) -> 95.626734 | AI82: ± | AJ82: =_xlfn.STDEV.S('Single data'!AS83:AV83)/SQRT(4) -> 9.7238371 | AK82: =AVERAGE('Single data'!AW83:AZ83) -> 87.846311 | AL82: ± | AM82: =(_xlfn.STDEV.S('Single data'!AW83:AZ83)/SQRT(4)) -> 8.4159207 | AN82: =AVERAGE('Single data'!BA83:BD83) -> 81.304997 | AO82: ± | AP82: =_xlfn.STDEV.S('Single data'!BA83:BD83)/SQRT(4) -> 6.3684456 | AQ82: =AVERAGE('Single data'!BE83:BH83) -> 91.503835 | AR82: ± | AS82: =(_xlfn.STDEV.S('Single data'!BE83:BH83)/SQRT(4)) -> 6.4414467 | AT82: =AVERAGE('Single data'!BI83:BL83) -> 111.06878 | AU82: ± | AV82: =_xlfn.STDEV.S('Single data'!BI83:BL83)/SQRT(4) -> 13.607054 | AW82: =AVERAGE('Single data'!BM83:BP83) -> 79.837408 | AX82: ± | AY82: =_xlfn.STDEV.S('Single data'!BM83:BP83)/SQRT(4) -> 5.3024604 | AZ82: =AVERAGE('Single data'!BQ83:BT83) -> 118.68123 | BA82: ± | BB82: =_xlfn.STDEV.S('Single data'!BQ83:BT83)/SQRT(4) -> 13.203043
B83: PTGS | C83: PGE2 | D83: =AVERAGE('Single data'!D84:H84) -> 100 | E83: ± | F83: =(_xlfn.STDEV.S('Single data'!D84:H84)/SQRT(4)) -> 0 | G83: =AVERAGE('Single data'!I84:L84) -> 88.458046 | H83: ± | I83: =(_xlfn.STDEV.S('Single data'!I84:L84)/SQRT(4)) -> 5.1384701 | J83: =AVERAGE('Single data'!M84:P84) -> 113.29132 | K83: ± | L83: =(_xlfn.STDEV.S('Single data'!M84:P84)/SQRT(4)) -> 6.8973573 | M83: =AVERAGE('Single data'!Q84:T84) -> 165.98454 | N83: ± | O83: =(_xlfn.STDEV.S('Single data'!Q84:T84)/SQRT(4)) -> 20.004181 | P83: =AVERAGE('Single data'!U84:X84) -> 326.51224 | Q83: ± | R83: {=_xlfn.STDEV.S('Single data'!U84:X84/SQRT(4))} -> 30.750817 | S83: =AVERAGE('Single data'!Y84:AB84) -> 133.67544 | T83: ± | U83: =(_xlfn.STDEV.S('Single data'!Y84:AB84)/SQRT(4)) -> 17.955562 | V83: =AVERAGE('Single data'!AC84:AF84) -> 403.34556 | W83: ± | X83: =(_xlfn.STDEV.S('Single data'!AC84:AF84)/SQRT(4)) -> 53.554745 | Y83: =AVERAGE('Single data'!AG84:AJ84) -> 153.19709 | Z83: ± | AA83: =(_xlfn.STDEV.S('Single data'!AG84:AJ84)/SQRT(4)) -> 10.426575 | AB83: =AVERAGE('Single data'!AK84:AN84) -> 454.61459 | AC83: ± | AD83: =(_xlfn.STDEV.S('Single data'!AK84:AN84)/SQRT(4)) -> 102.16986 | AE83: =AVERAGE('Single data'!AO84:AR84) -> 117.28741 | AF83: ± | AG83: =(_xlfn.STDEV.S('Single data'!AO84:AR84)/SQRT(4)) -> 21.202154 | AH83: =AVERAGE('Single data'!AS84:AV84) -> 513.30335 | AI83: ± | AJ83: =_xlfn.STDEV.S('Single data'!AS84:AV84)/SQRT(4) -> 86.458904 | AK83: =AVERAGE('Single data'!AW84:AZ84) -> 161.07664 | AL83: ± | AM83: =(_xlfn.STDEV.S('Single data'!AW84:AZ84)/SQRT(4)) -> 22.732352 | AN83: =AVERAGE('Single data'!BA84:BD84) -> 660.43695 | AO83: ± | AP83: =_xlfn.STDEV.S('Single data'!BA84:BD84)/SQRT(4) -> 201.81345 | AQ83: =AVERAGE('Single data'!BE84:BH84) -> 104.76676 | AR83: ± | AS83: =(_xlfn.STDEV.S('Single data'!BE84:BH84)/SQRT(4)) -> 15.603274 | AT83: =AVERAGE('Single data'!BI84:BL84) -> 101.81388 | AU83: ± | AV83: =_xlfn.STDEV.S('Single data'!BI84:BL84)/SQRT(4) -> 11.559462 | AW83: =AVERAGE('Single data'!BM84:BP84) -> 107.37433 | AX83: ± | AY83: =_xlfn.STDEV.S('Single data'!BM84:BP84)/SQRT(4) -> 12.121801 | AZ83: =AVERAGE('Single data'!BQ84:BT84) -> 103.42277 | BA83: ± | BB83: =_xlfn.STDEV.S('Single data'!BQ84:BT84)/SQRT(4) -> 9.6479278
C84: 15-ketoPGE2 | D84: =AVERAGE('Single data'!D85:H85) -> 100 | E84: ± | F84: =(_xlfn.STDEV.S('Single data'!D85:H85)/SQRT(4)) -> 0 | G84: =AVERAGE('Single data'!I85:L85) -> 66.474611 | H84: ± | I84: =(_xlfn.STDEV.S('Single data'!I85:L85)/SQRT(4)) -> 9.4226498 | J84: =AVERAGE('Single data'!M85:P85) -> 56.870577 | K84: ± | L84: =(_xlfn.STDEV.S('Single data'!M85:P85)/SQRT(4)) -> 5.4856002 | M84: =AVERAGE('Single data'!Q85:T85) -> 93.959656 | N84: ± | O84: =(_xlfn.STDEV.S('Single data'!Q85:T85)/SQRT(4)) -> 10.633239 | P84: =AVERAGE('Single data'!U85:X85) -> 115.87999 | Q84: ± | R84: {=_xlfn.STDEV.S('Single data'!U85:X85/SQRT(4))} -> 13.474922 | S84: =AVERAGE('Single data'!Y85:AB85) -> 90.693556 | T84: ± | U84: =(_xlfn.STDEV.S('Single data'!Y85:AB85)/SQRT(4)) -> 9.6287344 | V84: =AVERAGE('Single data'!AC85:AF85) -> 129.24703 | W84: ± | X84: =(_xlfn.STDEV.S('Single data'!AC85:AF85)/SQRT(4)) -> 12.798632 | Y84: =AVERAGE('Single data'!AG85:AJ85) -> 92.998096 | Z84: ± | AA84: =(_xlfn.STDEV.S('Single data'!AG85:AJ85)/SQRT(4)) -> 10.248273 | AB84: =AVERAGE('Single data'!AK85:AN85) -> 108.38301 | AC84: ± | AD84: =(_xlfn.STDEV.S('Single data'!AK85:AN85)/SQRT(4)) -> 14.346998 | AE84: =AVERAGE('Single data'!AO85:AR85) -> 95.63872 | AF84: ± | AG84: =(_xlfn.STDEV.S('Single data'!AO85:AR85)/SQRT(4)) -> 12.386111 | AH84: =AVERAGE('Single data'!AS85:AV85) -> 140.4879 | AI84: ± | AJ84: =_xlfn.STDEV.S('Single data'!AS85:AV85)/SQRT(4) -> 15.469606 | AK84: =AVERAGE('Single data'!AW85:AZ85) -> 87.728192 | AL84: ± | AM84: =(_xlfn.STDEV.S('Single data'!AW85:AZ85)/SQRT(4)) -> 7.4842181 | AN84: =AVERAGE('Single data'!BA85:BD85) -> 138.76023 | AO84: ± | AP84: =_xlfn.STDEV.S('Single data'!BA85:BD85)/SQRT(4) -> 23.769872 | AQ84: =AVERAGE('Single data'!BE85:BH85) -> 82.017324 | AR84: ± | AS84: =(_xlfn.STDEV.S('Single data'!BE85:BH85)/SQRT(4)) -> 7.7638562 | AT84: =AVERAGE('Single data'!BI85:BL85) -> 64.721746 | AU84: ± | AV84: =_xlfn.STDEV.S('Single data'!BI85:BL85)/SQRT(4) -> 2.313525 | AW84: =AVERAGE('Single data'!BM85:BP85) -> 79.61573 | AX84: ± | AY84: =_xlfn.STDEV.S('Single data'!BM85:BP85)/SQRT(4) -> 6.2237661 | AZ84: =AVERAGE('Single data'!BQ85:BT85) -> 61.649146 | BA84: ± | BB84: =_xlfn.STDEV.S('Single data'!BQ85:BT85)/SQRT(4) -> 8.4992983
C85: PGD2 | D85: =AVERAGE('Single data'!D86:H86) -> 100 | E85: ± | F85: =(_xlfn.STDEV.S('Single data'!D86:H86)/SQRT(4)) -> 0 | G85: =AVERAGE('Single data'!I86:L86) -> 87.032119 | H85: ± | I85: =(_xlfn.STDEV.S('Single data'!I86:L86)/SQRT(4)) -> 6.5796114 | J85: =AVERAGE('Single data'!M86:P86) -> 106.8014 | K85: ± | L85: =(_xlfn.STDEV.S('Single data'!M86:P86)/SQRT(4)) -> 9.8974154 | M85: =AVERAGE('Single data'!Q86:T86) -> 147.91736 | N85: ± | O85: =(_xlfn.STDEV.S('Single data'!Q86:T86)/SQRT(4)) -> 21.450197 | P85: =AVERAGE('Single data'!U86:X86) -> 260.93316 | Q85: ± | R85: {=_xlfn.STDEV.S('Single data'!U86:X86/SQRT(4))} -> 7.9214436 | S85: =AVERAGE('Single data'!Y86:AB86) -> 120.27369 | T85: ± | U85: =(_xlfn.STDEV.S('Single data'!Y86:AB86)/SQRT(4)) -> 16.364229 | V85: =AVERAGE('Single data'!AC86:AF86) -> 327.48213 | W85: ± | X85: =(_xlfn.STDEV.S('Single data'!AC86:AF86)/SQRT(4)) -> 42.195623 | Y85: =AVERAGE('Single data'!AG86:AJ86) -> 117.63566 | Z85: ± | AA85: =(_xlfn.STDEV.S('Single data'!AG86:AJ86)/SQRT(4)) -> 5.0299991 | AB85: =AVERAGE('Single data'!AK86:AN86) -> 337.72026 | AC85: ± | AD85: =(_xlfn.STDEV.S('Single data'!AK86:AN86)/SQRT(4)) -> 31.368815 | AE85: =AVERAGE('Single data'!AO86:AR86) -> 109.87798 | AF85: ± | AG85: =(_xlfn.STDEV.S('Single data'!AO86:AR86)/SQRT(4)) -> 18.965872 | AH85: =AVERAGE('Single data'!AS86:AV86) -> 367.07147 | AI85: ± | AJ85: =_xlfn.STDEV.S('Single data'!AS86:AV86)/SQRT(4) -> 22.53217 | AK85: =AVERAGE('Single data'!AW86:AZ86) -> 135.50801 | AL85: ± | AM85: =(_xlfn.STDEV.S('Single data'!AW86:AZ86)/SQRT(4)) -> 13.920982 | AN85: =AVERAGE('Single data'!BA86:BD86) -> 601.7036 | AO85: ± | AP85: =_xlfn.STDEV.S('Single data'!BA86:BD86)/SQRT(4) -> 129.29736 | AQ85: =AVERAGE('Single data'!BE86:BH86) -> 113.40151 | AR85: ± | AS85: =(_xlfn.STDEV.S('Single data'!BE86:BH86)/SQRT(4)) -> 20.541837 | AT85: =AVERAGE('Single data'!BI86:BL86) -> 129.00673 | AU85: ± | AV85: =_xlfn.STDEV.S('Single data'!BI86:BL86)/SQRT(4) -> 19.337862 | AW85: =AVERAGE('Single data'!BM86:BP86) -> 125.54187 | AX85: ± | AY85: =_xlfn.STDEV.S('Single data'!BM86:BP86)/SQRT(4) -> 11.98206 | AZ85: =AVERAGE('Single data'!BQ86:BT86) -> 128.78888 | BA85: ± | BB85: =_xlfn.STDEV.S('Single data'!BQ86:BT86)/SQRT(4) -> 21.958737
C86: PGF2α | D86: =AVERAGE('Single data'!D87:H87) -> 100 | E86: ± | F86: =(_xlfn.STDEV.S('Single data'!D87:H87)/SQRT(4)) -> 0 | G86: =AVERAGE('Single data'!I87:L87) -> 95.631123 | H86: ± | I86: =(_xlfn.STDEV.S('Single data'!I87:L87)/SQRT(4)) -> 8.1964344 | J86: =AVERAGE('Single data'!M87:P87) -> 96.307565 | K86: ± | L86: =(_xlfn.STDEV.S('Single data'!M87:P87)/SQRT(4)) -> 5.2774347 | M86: =AVERAGE('Single data'!Q87:T87) -> 143.10646 | N86: ± | O86: =(_xlfn.STDEV.S('Single data'!Q87:T87)/SQRT(4)) -> 16.085262 | P86: =AVERAGE('Single data'!U87:X87) -> 247.55605 | Q86: ± | R86: {=_xlfn.STDEV.S('Single data'!U87:X87/SQRT(4))} -> 39.054004 | S86: =AVERAGE('Single data'!Y87:AB87) -> 109.46928 | T86: ± | U86: =(_xlfn.STDEV.S('Single data'!Y87:AB87)/SQRT(4)) -> 12.572015 | V86: =AVERAGE('Single data'!AC87:AF87) -> 221.4548 | W86: ± | X86: =(_xlfn.STDEV.S('Single data'!AC87:AF87)/SQRT(4)) -> 25.25269 | Y86: =AVERAGE('Single data'!AG87:AJ87) -> 107.65229 | Z86: ± | AA86: =(_xlfn.STDEV.S('Single data'!AG87:AJ87)/SQRT(4)) -> 7.0161586 | AB86: =AVERAGE('Single data'!AK87:AN87) -> 255.64295 | AC86: ± | AD86: =(_xlfn.STDEV.S('Single data'!AK87:AN87)/SQRT(4)) -> 34.387599 | AE86: =AVERAGE('Single data'!AO87:AR87) -> 98.374589 | AF86: ± | AG86: =(_xlfn.STDEV.S('Single data'!AO87:AR87)/SQRT(4)) -> 14.58219 | AH86: =AVERAGE('Single data'!AS87:AV87) -> 216.95086 | AI86: ± | AJ86: =_xlfn.STDEV.S('Single data'!AS87:AV87)/SQRT(4) -> 34.868863 | AK86: =AVERAGE('Single data'!AW87:AZ87) -> 118.08838 | AL86: ± | AM86: =(_xlfn.STDEV.S('Single data'!AW87:AZ87)/SQRT(4)) -> 12.525258 | AN86: =AVERAGE('Single data'!BA87:BD87) -> 265.87111 | AO86: ± | AP86: =_xlfn.STDEV.S('Single data'!BA87:BD87)/SQRT(4) -> 54.37647 | AQ86: =AVERAGE('Single data'!BE87:BH87) -> 105.42071 | AR86: ± | AS86: =(_xlfn.STDEV.S('Single data'!BE87:BH87)/SQRT(4)) -> 16.265325 | AT86: =AVERAGE('Single data'!BI87:BL87) -> 83.906046 | AU86: ± | AV86: =_xlfn.STDEV.S('Single data'!BI87:BL87)/SQRT(4) -> 8.260667 | AW86: =AVERAGE('Single data'!BM87:BP87) -> 112.2933 | AX86: ± | AY86: =_xlfn.STDEV.S('Single data'!BM87:BP87)/SQRT(4) -> 14.57305 | AZ86: =AVERAGE('Single data'!BQ87:BT87) -> 103.31612 | BA86: ± | BB86: =_xlfn.STDEV.S('Single data'!BQ87:BT87)/SQRT(4) -> 12.414577
C87: TXB2 | D87: =AVERAGE('Single data'!D88:H88) -> 100 | E87: ± | F87: =(_xlfn.STDEV.S('Single data'!D88:H88)/SQRT(4)) -> 0 | G87: =AVERAGE('Single data'!I88:L88) -> 90.023082 | H87: ± | I87: =(_xlfn.STDEV.S('Single data'!I88:L88)/SQRT(4)) -> 7.9033393 | J87: =AVERAGE('Single data'!M88:P88) -> 75.201464 | K87: ± | L87: =(_xlfn.STDEV.S('Single data'!M88:P88)/SQRT(4)) -> 6.2471825 | M87: =AVERAGE('Single data'!Q88:T88) -> 94.583944 | N87: ± | O87: =(_xlfn.STDEV.S('Single data'!Q88:T88)/SQRT(4)) -> 8.2879574 | P87: =AVERAGE('Single data'!U88:X88) -> 34.48635 | Q87: ± | R87: {=_xlfn.STDEV.S('Single data'!U88:X88/SQRT(4))} -> 7.4186753 | S87: =AVERAGE('Single data'!Y88:AB88) -> 95.090542 | T87: ± | U87: =(_xlfn.STDEV.S('Single data'!Y88:AB88)/SQRT(4)) -> 15.500743 | V87: =AVERAGE('Single data'!AC88:AF88) -> 62.701766 | W87: ± | X87: =(_xlfn.STDEV.S('Single data'!AC88:AF88)/SQRT(4)) -> 14.019946 | Y87: =AVERAGE('Single data'!AG88:AJ88) -> 81.619231 | Z87: ± | AA87: =(_xlfn.STDEV.S('Single data'!AG88:AJ88)/SQRT(4)) -> 7.5896158 | AB87: =AVERAGE('Single data'!AK88:AN88) -> 25.584588 | AC87: ± | AD87: =(_xlfn.STDEV.S('Single data'!AK88:AN88)/SQRT(4)) -> 6.4201384 | AE87: =AVERAGE('Single data'!AO88:AR88) -> 94.123902 | AF87: ± | AG87: =(_xlfn.STDEV.S('Single data'!AO88:AR88)/SQRT(4)) -> 15.001758 | AH87: =AVERAGE('Single data'!AS88:AV88) -> 19.972018 | AI87: ± | AJ87: =_xlfn.STDEV.S('Single data'!AS88:AV88)/SQRT(4) -> 5.2343731 | AK87: =AVERAGE('Single data'!AW88:AZ88) -> 101.69361 | AL87: ± | AM87: =(_xlfn.STDEV.S('Single data'!AW88:AZ88)/SQRT(4)) -> 15.452439 | AN87: =AVERAGE('Single data'!BA88:BD88) -> 35.558363 | AO87: ± | AP87: =_xlfn.STDEV.S('Single data'!BA88:BD88)/SQRT(4) -> 11.614469 | AQ87: =AVERAGE('Single data'!BE88:BH88) -> 106.13957 | AR87: ± | AS87: =(_xlfn.STDEV.S('Single data'!BE88:BH88)/SQRT(4)) -> 18.154513 | AT87: =AVERAGE('Single data'!BI88:BL88) -> 88.542024 | AU87: ± | AV87: =_xlfn.STDEV.S('Single data'!BI88:BL88)/SQRT(4) -> 10.320159 | AW87: =AVERAGE('Single data'!BM88:BP88) -> 110.95112 | AX87: ± | AY87: =_xlfn.STDEV.S('Single data'!BM88:BP88)/SQRT(4) -> 14.345851 | AZ87: =AVERAGE('Single data'!BQ88:BT88) -> 100.55865 | BA87: ± | BB87: =_xlfn.STDEV.S('Single data'!BQ88:BT88)/SQRT(4) -> 10.416554
C88: PGE1/PGD1 | D88: =AVERAGE('Single data'!D89:H89) -> 100 | E88: ± | F88: =(_xlfn.STDEV.S('Single data'!D89:H89)/SQRT(4)) -> 0 | G88: =AVERAGE('Single data'!I89:L89) -> 81.01034 | H88: ± | I88: =(_xlfn.STDEV.S('Single data'!I89:L89)/SQRT(4)) -> 9.0694602 | J88: =AVERAGE('Single data'!M89:P89) -> 84.471441 | K88: ± | L88: =(_xlfn.STDEV.S('Single data'!M89:P89)/SQRT(4)) -> 5.3253481 | M88: =AVERAGE('Single data'!Q89:T89) -> 121.56917 | N88: ± | O88: =(_xlfn.STDEV.S('Single data'!Q89:T89)/SQRT(4)) -> 15.263687 | P88: =AVERAGE('Single data'!U89:X89) -> 244.14118 | Q88: ± | R88: {=_xlfn.STDEV.S('Single data'!U89:X89/SQRT(4))} -> 41.740386 | S88: =AVERAGE('Single data'!Y89:AB89) -> 99.089656 | T88: ± | U88: =(_xlfn.STDEV.S('Single data'!Y89:AB89)/SQRT(4)) -> 14.224216 | V88: =AVERAGE('Single data'!AC89:AF89) -> 236.8953 | W88: ± | X88: =(_xlfn.STDEV.S('Single data'!AC89:AF89)/SQRT(4)) -> 34.030109 | Y88: =AVERAGE('Single data'!AG89:AJ89) -> 111.46483 | Z88: ± | AA88: =(_xlfn.STDEV.S('Single data'!AG89:AJ89)/SQRT(4)) -> 10.050273 | AB88: =AVERAGE('Single data'!AK89:AN89) -> 267.87346 | AC88: ± | AD88: =(_xlfn.STDEV.S('Single data'!AK89:AN89)/SQRT(4)) -> 45.912275 | AE88: =AVERAGE('Single data'!AO89:AR89) -> 101.4164 | AF88: ± | AG88: =(_xlfn.STDEV.S('Single data'!AO89:AR89)/SQRT(4)) -> 15.521305 | AH88: =AVERAGE('Single data'!AS89:AV89) -> 301.56981 | AI88: ± | AJ88: =_xlfn.STDEV.S('Single data'!AS89:AV89)/SQRT(4) -> 51.339683 | AK88: =AVERAGE('Single data'!AW89:AZ89) -> 110.0846 | AL88: ± | AM88: =(_xlfn.STDEV.S('Single data'!AW89:AZ89)/SQRT(4)) -> 14.765457 | AN88: =AVERAGE('Single data'!BA89:BD89) -> 327.42221 | AO88: ± | AP88: =_xlfn.STDEV.S('Single data'!BA89:BD89)/SQRT(4) -> 77.268124 | AQ88: =AVERAGE('Single data'!BE89:BH89) -> 89.92937 | AR88: ± | AS88: =(_xlfn.STDEV.S('Single data'!BE89:BH89)/SQRT(4)) -> 13.345103 | AT88: =AVERAGE('Single data'!BI89:BL89) -> 70.662216 | AU88: ± | AV88: =_xlfn.STDEV.S('Single data'!BI89:BL89)/SQRT(4) -> 6.6545864 | AW88: =AVERAGE('Single data'!BM89:BP89) -> 94.136192 | AX88: ± | AY88: =_xlfn.STDEV.S('Single data'!BM89:BP89)/SQRT(4) -> 10.821559 | AZ88: =AVERAGE('Single data'!BQ89:BT89) -> 77.089652 | BA88: ± | BB88: =_xlfn.STDEV.S('Single data'!BQ89:BT89)/SQRT(4) -> 9.683236
B89: EET | C89: 5.6-EET | D89: =AVERAGE('Single data'!D90:H90) -> 100 | E89: ± | F89: =(_xlfn.STDEV.S('Single data'!D90:H90)/SQRT(4)) -> 0 | G89: =AVERAGE('Single data'!I90:L90) -> 69.798322 | H89: ± | I89: =(_xlfn.STDEV.S('Single data'!I90:L90)/SQRT(4)) -> 7.9508507 | J89: =AVERAGE('Single data'!M90:P90) -> 60.712927 | K89: ± | L89: =(_xlfn.STDEV.S('Single data'!M90:P90)/SQRT(4)) -> 6.6917156 | M89: =AVERAGE('Single data'!Q90:T90) -> 65.096875 | N89: ± | O89: =(_xlfn.STDEV.S('Single data'!Q90:T90)/SQRT(4)) -> 16.556431 | P89: =AVERAGE('Single data'!U90:X90) -> 36.504564 | Q89: ± | R89: {=_xlfn.STDEV.S('Single data'!U90:X90/SQRT(4))} -> 13.930087 | S89: =AVERAGE('Single data'!Y90:AB90) -> 71.658208 | T89: ± | U89: =(_xlfn.STDEV.S('Single data'!Y90:AB90)/SQRT(4)) -> 10.528724 | V89: =AVERAGE('Single data'!AC90:AF90) -> 50.30571 | W89: ± | X89: =(_xlfn.STDEV.S('Single data'!AC90:AF90)/SQRT(4)) -> 8.6250035 | Y89: =AVERAGE('Single data'!AG90:AJ90) -> 76.076027 | Z89: ± | AA89: =(_xlfn.STDEV.S('Single data'!AG90:AJ90)/SQRT(4)) -> 9.0175607 | AB89: =AVERAGE('Single data'!AK90:AN90) -> 50.263842 | AC89: ± | AD89: =(_xlfn.STDEV.S('Single data'!AK90:AN90)/SQRT(4)) -> 15.241422 | AE89: =AVERAGE('Single data'!AO90:AR90) -> 78.536122 | AF89: ± | AG89: =(_xlfn.STDEV.S('Single data'!AO90:AR90)/SQRT(4)) -> 6.0406068 | AH89: =AVERAGE('Single data'!AS90:AV90) -> 31.658926 | AI89: ± | AJ89: =_xlfn.STDEV.S('Single data'!AS90:AV90)/SQRT(4) -> 4.6655695 | AK89: =AVERAGE('Single data'!AW90:AZ90) -> 59.13184 | AL89: ± | AM89: =(_xlfn.STDEV.S('Single data'!AW90:AZ90)/SQRT(4)) -> 6.8243589 | AN89: =AVERAGE('Single data'!BA90:BD90) -> 51.126871 | AO89: ± | AP89: =_xlfn.STDEV.S('Single data'!BA90:BD90)/SQRT(4) -> 16.597493 | AQ89: =AVERAGE('Single data'!BE90:BH90) -> 80.797233 | AR89: ± | AS89: =(_xlfn.STDEV.S('Single data'!BE90:BH90)/SQRT(4)) -> 17.797307 | AT89: =AVERAGE('Single data'!BI90:BL90) -> 62.084081 | AU89: ± | AV89: =_xlfn.STDEV.S('Single data'!BI90:BL90)/SQRT(4) -> 15.02226 | AW89: =AVERAGE('Single data'!BM90:BP90) -> 109.27732 | AX89: ± | AY89: =_xlfn.STDEV.S('Single data'!BM90:BP90)/SQRT(4) -> 24.694284 | AZ89: =AVERAGE('Single data'!BQ90:BT90) -> 46.087765 | BA89: ± | BB89: =_xlfn.STDEV.S('Single data'!BQ90:BT90)/SQRT(4) -> 3.938157
C90: 11.12-EET | D90: =AVERAGE('Single data'!D91:H91) -> 100 | E90: ± | F90: =(_xlfn.STDEV.S('Single data'!D91:H91)/SQRT(4)) -> 0 | G90: =AVERAGE('Single data'!I91:L91) -> 70.054816 | H90: ± | I90: =(_xlfn.STDEV.S('Single data'!I91:L91)/SQRT(4)) -> 17.099828 | J90: =AVERAGE('Single data'!M91:P91) -> 69.251183 | K90: ± | L90: =(_xlfn.STDEV.S('Single data'!M91:P91)/SQRT(4)) -> 20.963139 | M90: =AVERAGE('Single data'!Q91:T91) -> 87.625552 | N90: ± | O90: =(_xlfn.STDEV.S('Single data'!Q91:T91)/SQRT(4)) -> 5.5129447 | P90: =AVERAGE('Single data'!U91:X91) -> 69.870466 | Q90: ± | R90: {=_xlfn.STDEV.S('Single data'!U91:X91/SQRT(4))} -> 16.016108 | S90: =AVERAGE('Single data'!Y91:AB91) -> 72.180635 | T90: ± | U90: =(_xlfn.STDEV.S('Single data'!Y91:AB91)/SQRT(4)) -> 6.8273379 | V90: =AVERAGE('Single data'!AC91:AF91) -> 61.971719 | W90: ± | X90: =(_xlfn.STDEV.S('Single data'!AC91:AF91)/SQRT(4)) -> 8.0014613 | Y90: =AVERAGE('Single data'!AG91:AJ91) -> 78.128337 | Z90: ± | AA90: =(_xlfn.STDEV.S('Single data'!AG91:AJ91)/SQRT(4)) -> 14.751643 | AB90: =AVERAGE('Single data'!AK91:AN91) -> 74.573675 | AC90: ± | AD90: =(_xlfn.STDEV.S('Single data'!AK91:AN91)/SQRT(4)) -> 29.327402 | AE90: =AVERAGE('Single data'!AO91:AR91) -> 77.882222 | AF90: ± | AG90: =(_xlfn.STDEV.S('Single data'!AO91:AR91)/SQRT(4)) -> 11.095054 | AH90: =AVERAGE('Single data'!AS91:AV91) -> 75.307528 | AI90: ± | AJ90: =_xlfn.STDEV.S('Single data'!AS91:AV91)/SQRT(4) -> 15.901046 | AK90: =AVERAGE('Single data'!AW91:AZ91) -> 69.098782 | AL90: ± | AM90: =(_xlfn.STDEV.S('Single data'!AW91:AZ91)/SQRT(4)) -> 10.318781 | AN90: =AVERAGE('Single data'!BA91:BD91) -> 56.381591 | AO90: ± | AP90: =_xlfn.STDEV.S('Single data'!BA91:BD91)/SQRT(4) -> 11.781095 | AQ90: =AVERAGE('Single data'!BE91:BH91) -> 99.941935 | AR90: ± | AS90: =(_xlfn.STDEV.S('Single data'!BE91:BH91)/SQRT(4)) -> 27.573183 | AT90: =AVERAGE('Single data'!BI91:BL91) -> 79.452829 | AU90: ± | AV90: =_xlfn.STDEV.S('Single data'!BI91:BL91)/SQRT(4) -> 9.1608007 | AW90: =AVERAGE('Single data'!BM91:BP91) -> 116.97046 | AX90: ± | AY90: =_xlfn.STDEV.S('Single data'!BM91:BP91)/SQRT(4) -> 36.967315 | AZ90: =AVERAGE('Single data'!BQ91:BT91) -> 60.750636 | BA90: ± | BB90: =_xlfn.STDEV.S('Single data'!BQ91:BT91)/SQRT(4) -> 7.3372183
C91: 14.15-EET | D91: =AVERAGE('Single data'!D92:H92) -> 100 | E91: ± | F91: =(_xlfn.STDEV.S('Single data'!D92:H92)/SQRT(4)) -> 0 | G91: =AVERAGE('Single data'!I92:L92) -> 90.973247 | H91: ± | I91: =(_xlfn.STDEV.S('Single data'!I92:L92)/SQRT(4)) -> 16.417705 | J91: =AVERAGE('Single data'!M92:P92) -> 98.723677 | K91: ± | L91: =(_xlfn.STDEV.S('Single data'!M92:P92)/SQRT(4)) -> 17.292742 | M91: =AVERAGE('Single data'!Q92:T92) -> 81.652976 | N91: ± | O91: =(_xlfn.STDEV.S('Single data'!Q92:T92)/SQRT(4)) -> 23.894052 | P91: =AVERAGE('Single data'!U92:X92) -> 86.280229 | Q91: ± | R91: {=_xlfn.STDEV.S('Single data'!U92:X92/SQRT(4))} -> 31.062498 | S91: =AVERAGE('Single data'!Y92:AB92) -> 81.674568 | T91: ± | U91: =(_xlfn.STDEV.S('Single data'!Y92:AB92)/SQRT(4)) -> 14.398952 | V91: =AVERAGE('Single data'!AC92:AF92) -> 98.781215 | W91: ± | X91: =(_xlfn.STDEV.S('Single data'!AC92:AF92)/SQRT(4)) -> 22.265957 | Y91: =AVERAGE('Single data'!AG92:AJ92) -> 90.830478 | Z91: ± | AA91: =(_xlfn.STDEV.S('Single data'!AG92:AJ92)/SQRT(4)) -> 14.565989 | AB91: =AVERAGE('Single data'!AK92:AN92) -> 119.27971 | AC91: ± | AD91: =(_xlfn.STDEV.S('Single data'!AK92:AN92)/SQRT(4)) -> 25.554543 | AE91: =AVERAGE('Single data'!AO92:AR92) -> 89.206511 | AF91: ± | AG91: =(_xlfn.STDEV.S('Single data'!AO92:AR92)/SQRT(4)) -> 24.748448 | AH91: =AVERAGE('Single data'!AS92:AV92) -> 84.674827 | AI91: ± | AJ91: =_xlfn.STDEV.S('Single data'!AS92:AV92)/SQRT(4) -> 21.169644 | AK91: =AVERAGE('Single data'!AW92:AZ92) -> 76.410288 | AL91: ± | AM91: =(_xlfn.STDEV.S('Single data'!AW92:AZ92)/SQRT(4)) -> 14.337541 | AN91: =AVERAGE('Single data'!BA92:BD92) -> 87.50653 | AO91: ± | AP91: =_xlfn.STDEV.S('Single data'!BA92:BD92)/SQRT(4) -> 24.494954 | AQ91: =AVERAGE('Single data'!BE92:BH92) -> 98.262466 | AR91: ± | AS91: =(_xlfn.STDEV.S('Single data'!BE92:BH92)/SQRT(4)) -> 24.369438 | AT91: =AVERAGE('Single data'!BI92:BL92) -> 106.3259 | AU91: ± | AV91: =_xlfn.STDEV.S('Single data'!BI92:BL92)/SQRT(4) -> 29.400654 | AW91: =AVERAGE('Single data'!BM92:BP92) -> 130.51394 | AX91: ± | AY91: =_xlfn.STDEV.S('Single data'!BM92:BP92)/SQRT(4) -> 35.641762 | AZ91: =AVERAGE('Single data'!BQ92:BT92) -> 97.286497 | BA91: ± | BB91: =_xlfn.STDEV.S('Single data'!BQ92:BT92)/SQRT(4) -> 31.744007
C92: 13-HDHA | D92: =AVERAGE('Single data'!D93:H93) -> 100 | E92: ± | F92: =(_xlfn.STDEV.S('Single data'!D93:H93)/SQRT(4)) -> 0 | G92: =AVERAGE('Single data'!I93:L93) -> 89.043539 | H92: ± | I92: =(_xlfn.STDEV.S('Single data'!I93:L93)/SQRT(4)) -> 8.8732304 | J92: =AVERAGE('Single data'!M93:P93) -> 87.447151 | K92: ± | L92: =(_xlfn.STDEV.S('Single data'!M93:P93)/SQRT(4)) -> 11.049198 | M92: =AVERAGE('Single data'!Q93:T93) -> 77.103837 | N92: ± | O92: =(_xlfn.STDEV.S('Single data'!Q93:T93)/SQRT(4)) -> 4.6281626 | P92: =AVERAGE('Single data'!U93:X93) -> 70.614586 | Q92: ± | R92: {=_xlfn.STDEV.S('Single data'!U93:X93/SQRT(4))} -> 5.9385646 | S92: =AVERAGE('Single data'!Y93:AB93) -> 81.93686 | T92: ± | U92: =(_xlfn.STDEV.S('Single data'!Y93:AB93)/SQRT(4)) -> 10.819864 | V92: =AVERAGE('Single data'!AC93:AF93) -> 71.722222 | W92: ± | X92: =(_xlfn.STDEV.S('Single data'!AC93:AF93)/SQRT(4)) -> 11.54495 | Y92: =AVERAGE('Single data'!AG93:AJ93) -> 90.328281 | Z92: ± | AA92: =(_xlfn.STDEV.S('Single data'!AG93:AJ93)/SQRT(4)) -> 8.8869458 | AB92: =AVERAGE('Single data'!AK93:AN93) -> 76.971717 | AC92: ± | AD92: =(_xlfn.STDEV.S('Single data'!AK93:AN93)/SQRT(4)) -> 8.9273664 | AE92: =AVERAGE('Single data'!AO93:AR93) -> 100.44078 | AF92: ± | AG92: =(_xlfn.STDEV.S('Single data'!AO93:AR93)/SQRT(4)) -> 14.190114 | AH92: =AVERAGE('Single data'!AS93:AV93) -> 78.011948 | AI92: ± | AJ92: =_xlfn.STDEV.S('Single data'!AS93:AV93)/SQRT(4) -> 9.1275888 | AK92: =AVERAGE('Single data'!AW93:AZ93) -> 80.174859 | AL92: ± | AM92: =(_xlfn.STDEV.S('Single data'!AW93:AZ93)/SQRT(4)) -> 9.9638448 | AN92: =AVERAGE('Single data'!BA93:BD93) -> 71.113667 | AO92: ± | AP92: =_xlfn.STDEV.S('Single data'!BA93:BD93)/SQRT(4) -> 10.599789 | AQ92: =AVERAGE('Single data'!BE93:BH93) -> 84.269128 | AR92: ± | AS92: =(_xlfn.STDEV.S('Single data'!BE93:BH93)/SQRT(4)) -> 5.5436476 | AT92: =AVERAGE('Single data'!BI93:BL93) -> 66.40086 | AU92: ± | AV92: =_xlfn.STDEV.S('Single data'!BI93:BL93)/SQRT(4) -> 5.9981228 | AW92: =AVERAGE('Single data'!BM93:BP93) -> 78.273956 | AX92: ± | AY92: =_xlfn.STDEV.S('Single data'!BM93:BP93)/SQRT(4) -> 7.8279662 | AZ92: =AVERAGE('Single data'!BQ93:BT93) -> 64.441908 | BA92: ± | BB92: =_xlfn.STDEV.S('Single data'!BQ93:BT93)/SQRT(4) -> 6.8007721
C93: 7-HDHA | D93: =AVERAGE('Single data'!D94:H94) -> 100 | E93: ± | F93: =(_xlfn.STDEV.S('Single data'!D94:H94)/SQRT(4)) -> 0 | G93: =AVERAGE('Single data'!I94:L94) -> 98.036714 | H93: ± | I93: =(_xlfn.STDEV.S('Single data'!I94:L94)/SQRT(4)) -> 8.9566827 | J93: =AVERAGE('Single data'!M94:P94) -> 106.91295 | K93: ± | L93: =(_xlfn.STDEV.S('Single data'!M94:P94)/SQRT(4)) -> 12.732798 | M93: =AVERAGE('Single data'!Q94:T94) -> 105.04199 | N93: ± | O93: =(_xlfn.STDEV.S('Single data'!Q94:T94)/SQRT(4)) -> 16.275301 | P93: =AVERAGE('Single data'!U94:X94) -> 73.709061 | Q93: ± | R93: {=_xlfn.STDEV.S('Single data'!U94:X94/SQRT(4))} -> 11.318257 | S93: =AVERAGE('Single data'!Y94:AB94) -> 93.485434 | T93: ± | U93: =(_xlfn.STDEV.S('Single data'!Y94:AB94)/SQRT(4)) -> 10.402433 | V93: =AVERAGE('Single data'!AC94:AF94) -> 87.440097 | W93: ± | X93: =(_xlfn.STDEV.S('Single data'!AC94:AF94)/SQRT(4)) -> 13.692947 | Y93: =AVERAGE('Single data'!AG94:AJ94) -> 94.607942 | Z93: ± | AA93: =(_xlfn.STDEV.S('Single data'!AG94:AJ94)/SQRT(4)) -> 10.041427 | AB93: =AVERAGE('Single data'!AK94:AN94) -> 86.374776 | AC93: ± | AD93: =(_xlfn.STDEV.S('Single data'!AK94:AN94)/SQRT(4)) -> 15.164831 | AE93: =AVERAGE('Single data'!AO94:AR94) -> 95.103727 | AF93: ± | AG93: =(_xlfn.STDEV.S('Single data'!AO94:AR94)/SQRT(4)) -> 14.013342 | AH93: =AVERAGE('Single data'!AS94:AV94) -> 94.296442 | AI93: ± | AJ93: =_xlfn.STDEV.S('Single data'!AS94:AV94)/SQRT(4) -> 15.867957 | AK93: =AVERAGE('Single data'!AW94:AZ94) -> 103.23607 | AL93: ± | AM93: =(_xlfn.STDEV.S('Single data'!AW94:AZ94)/SQRT(4)) -> 14.673079 | AN93: =AVERAGE('Single data'!BA94:BD94) -> 66.951813 | AO93: ± | AP93: =_xlfn.STDEV.S('Single data'!BA94:BD94)/SQRT(4) -> 10.92928 | AQ93: =AVERAGE('Single data'!BE94:BH94) -> 92.352259 | AR93: ± | AS93: =(_xlfn.STDEV.S('Single data'!BE94:BH94)/SQRT(4)) -> 11.039236 | AT93: =AVERAGE('Single data'!BI94:BL94) -> 90.881594 | AU93: ± | AV93: =_xlfn.STDEV.S('Single data'!BI94:BL94)/SQRT(4) -> 17.24583 | AW93: =AVERAGE('Single data'!BM94:BP94) -> 89.515254 | AX93: ± | AY93: =_xlfn.STDEV.S('Single data'!BM94:BP94)/SQRT(4) -> 12.401268 | AZ93: =AVERAGE('Single data'!BQ94:BT94) -> 81.306517 | BA93: ± | BB93: =_xlfn.STDEV.S('Single data'!BQ94:BT94)/SQRT(4) -> 14.25425
C94: 4-HDHA | D94: =AVERAGE('Single data'!D95:H95) -> 100 | E94: ± | F94: =(_xlfn.STDEV.S('Single data'!D95:H95)/SQRT(4)) -> 0 | G94: =AVERAGE('Single data'!I95:L95) -> 54.71821 | H94: ± | I94: =(_xlfn.STDEV.S('Single data'!I95:L95)/SQRT(4)) -> 6.1280197 | J94: =AVERAGE('Single data'!M95:P95) -> 43.529251 | K94: ± | L94: =(_xlfn.STDEV.S('Single data'!M95:P95)/SQRT(4)) -> 2.8287649 | M94: =AVERAGE('Single data'!Q95:T95) -> 47.022564 | N94: ± | O94: =(_xlfn.STDEV.S('Single data'!Q95:T95)/SQRT(4)) -> 4.1118717 | P94: =AVERAGE('Single data'!U95:X95) -> 38.075899 | Q94: ± | R94: {=_xlfn.STDEV.S('Single data'!U95:X95/SQRT(4))} -> 4.06093 | S94: =AVERAGE('Single data'!Y95:AB95) -> 51.378181 | T94: ± | U94: =(_xlfn.STDEV.S('Single data'!Y95:AB95)/SQRT(4)) -> 3.705985 | V94: =AVERAGE('Single data'!AC95:AF95) -> 34.396667 | W94: ± | X94: =(_xlfn.STDEV.S('Single data'!AC95:AF95)/SQRT(4)) -> 3.0550056 | Y94: =AVERAGE('Single data'!AG95:AJ95) -> 61.842727 | Z94: ± | AA94: =(_xlfn.STDEV.S('Single data'!AG95:AJ95)/SQRT(4)) -> 9.2793743 | AB94: =AVERAGE('Single data'!AK95:AN95) -> 33.435178 | AC94: ± | AD94: =(_xlfn.STDEV.S('Single data'!AK95:AN95)/SQRT(4)) -> 1.984542 | AE94: =AVERAGE('Single data'!AO95:AR95) -> 75.332651 | AF94: ± | AG94: =(_xlfn.STDEV.S('Single data'!AO95:AR95)/SQRT(4)) -> 10.376927 | AH94: =AVERAGE('Single data'!AS95:AV95) -> 43.381199 | AI94: ± | AJ94: =_xlfn.STDEV.S('Single data'!AS95:AV95)/SQRT(4) -> 3.9557714 | AK94: =AVERAGE('Single data'!AW95:AZ95) -> 45.934793 | AL94: ± | AM94: =(_xlfn.STDEV.S('Single data'!AW95:AZ95)/SQRT(4)) -> 4.0404799 | AN94: =AVERAGE('Single data'!BA95:BD95) -> 26.552242 | AO94: ± | AP94: =_xlfn.STDEV.S('Single data'!BA95:BD95)/SQRT(4) -> 2.5248658 | AQ94: =AVERAGE('Single data'!BE95:BH95) -> 65.605228 | AR94: ± | AS94: =(_xlfn.STDEV.S('Single data'!BE95:BH95)/SQRT(4)) -> 7.7111011 | AT94: =AVERAGE('Single data'!BI95:BL95) -> 42.692607 | AU94: ± | AV94: =_xlfn.STDEV.S('Single data'!BI95:BL95)/SQRT(4) -> 1.9578548 | AW94: =AVERAGE('Single data'!BM95:BP95) -> 58.839842 | AX94: ± | AY94: =_xlfn.STDEV.S('Single data'!BM95:BP95)/SQRT(4) -> 6.3877042 | AZ94: =AVERAGE('Single data'!BQ95:BT95) -> 40.104922 | BA94: ± | BB94: =_xlfn.STDEV.S('Single data'!BQ95:BT95)/SQRT(4) -> 3.6061042
C95: 7-HDPA | D95: =AVERAGE('Single data'!D96:H96) -> 100 | E95: ± | F95: =(_xlfn.STDEV.S('Single data'!D96:H96)/SQRT(4)) -> 0 | G95: =AVERAGE('Single data'!I96:L96) -> 79.147167 | H95: ± | I95: =(_xlfn.STDEV.S('Single data'!I96:L96)/SQRT(4)) -> 7.8100972 | J95: =AVERAGE('Single data'!M96:P96) -> 71.550247 | K95: ± | L95: =(_xlfn.STDEV.S('Single data'!M96:P96)/SQRT(4)) -> 13.880887 | M95: =AVERAGE('Single data'!Q96:T96) -> 69.282886 | N95: ± | O95: =(_xlfn.STDEV.S('Single data'!Q96:T96)/SQRT(4)) -> 8.8717038 | P95: =AVERAGE('Single data'!U96:X96) -> 49.629193 | Q95: ± | R95: {=_xlfn.STDEV.S('Single data'!U96:X96/SQRT(4))} -> 10.911766 | S95: =AVERAGE('Single data'!Y96:AB96) -> 70.350292 | T95: ± | U95: =(_xlfn.STDEV.S('Single data'!Y96:AB96)/SQRT(4)) -> 6.3257502 | V95: =AVERAGE('Single data'!AC96:AF96) -> 56.829766 | W95: ± | X95: =(_xlfn.STDEV.S('Single data'!AC96:AF96)/SQRT(4)) -> 11.722882 | Y95: =AVERAGE('Single data'!AG96:AJ96) -> 79.789747 | Z95: ± | AA95: =(_xlfn.STDEV.S('Single data'!AG96:AJ96)/SQRT(4)) -> 9.225852 | AB95: =AVERAGE('Single data'!AK96:AN96) -> 58.439414 | AC95: ± | AD95: =(_xlfn.STDEV.S('Single data'!AK96:AN96)/SQRT(4)) -> 12.936631 | AE95: =AVERAGE('Single data'!AO96:AR96) -> 85.874024 | AF95: ± | AG95: =(_xlfn.STDEV.S('Single data'!AO96:AR96)/SQRT(4)) -> 9.0871458 | AH95: =AVERAGE('Single data'!AS96:AV96) -> 65.499524 | AI95: ± | AJ95: =_xlfn.STDEV.S('Single data'!AS96:AV96)/SQRT(4) -> 7.6887932 | AK95: =AVERAGE('Single data'!AW96:AZ96) -> 71.680652 | AL95: ± | AM95: =(_xlfn.STDEV.S('Single data'!AW96:AZ96)/SQRT(4)) -> 6.783795 | AN95: =AVERAGE('Single data'!BA96:BD96) -> 43.779117 | AO95: ± | AP95: =_xlfn.STDEV.S('Single data'!BA96:BD96)/SQRT(4) -> 11.114876 | AQ95: =AVERAGE('Single data'!BE96:BH96) -> 75.444039 | AR95: ± | AS95: =(_xlfn.STDEV.S('Single data'!BE96:BH96)/SQRT(4)) -> 5.3584009 | AT95: =AVERAGE('Single data'!BI96:BL96) -> 58.688309 | AU95: ± | AV95: =_xlfn.STDEV.S('Single data'!BI96:BL96)/SQRT(4) -> 5.3420631 | AW95: =AVERAGE('Single data'!BM96:BP96) -> 71.276986 | AX95: ± | AY95: =_xlfn.STDEV.S('Single data'!BM96:BP96)/SQRT(4) -> 6.0773199 | AZ95: =AVERAGE('Single data'!BQ96:BT96) -> 51.553527 | BA95: ± | BB95: =_xlfn.STDEV.S('Single data'!BQ96:BT96)/SQRT(4) -> 6.9089116
C96: 11-HEPE | D96: =AVERAGE('Single data'!D97:H97) -> 100 | E96: ± | F96: =(_xlfn.STDEV.S('Single data'!D97:H97)/SQRT(4)) -> 0 | G96: =AVERAGE('Single data'!I97:L97) -> 87.52759 | H96: ± | I96: =(_xlfn.STDEV.S('Single data'!I97:L97)/SQRT(4)) -> 4.1887775 | J96: =AVERAGE('Single data'!M97:P97) -> 78.946234 | K96: ± | L96: =(_xlfn.STDEV.S('Single data'!M97:P97)/SQRT(4)) -> 4.215044 | M96: =AVERAGE('Single data'!Q97:T97) -> 86.908079 | N96: ± | O96: =(_xlfn.STDEV.S('Single data'!Q97:T97)/SQRT(4)) -> 7.6147635 | P96: =AVERAGE('Single data'!U97:X97) -> 58.345411 | Q96: ± | R96: {=_xlfn.STDEV.S('Single data'!U97:X97/SQRT(4))} -> 11.5689 | S96: =AVERAGE('Single data'!Y97:AB97) -> 103.24853 | T96: ± | U96: =(_xlfn.STDEV.S('Single data'!Y97:AB97)/SQRT(4)) -> 10.951718 | V96: =AVERAGE('Single data'!AC97:AF97) -> 80.026657 | W96: ± | X96: =(_xlfn.STDEV.S('Single data'!AC97:AF97)/SQRT(4)) -> 11.92593 | Y96: =AVERAGE('Single data'!AG97:AJ97) -> 95.975808 | Z96: ± | AA96: =(_xlfn.STDEV.S('Single data'!AG97:AJ97)/SQRT(4)) -> 5.0397543 | AB96: =AVERAGE('Single data'!AK97:AN97) -> 81.432199 | AC96: ± | AD96: =(_xlfn.STDEV.S('Single data'!AK97:AN97)/SQRT(4)) -> 15.479429 | AE96: =AVERAGE('Single data'!AO97:AR97) -> 99.047885 | AF96: ± | AG96: =(_xlfn.STDEV.S('Single data'!AO97:AR97)/SQRT(4)) -> 14.95548 | AH96: =AVERAGE('Single data'!AS97:AV97) -> 65.111167 | AI96: ± | AJ96: =_xlfn.STDEV.S('Single data'!AS97:AV97)/SQRT(4) -> 8.0190091 | AK96: =AVERAGE('Single data'!AW97:AZ97) -> 88.672862 | AL96: ± | AM96: =(_xlfn.STDEV.S('Single data'!AW97:AZ97)/SQRT(4)) -> 12.047984 | AN96: =AVERAGE('Single data'!BA97:BD97) -> 78.260879 | AO96: ± | AP96: =_xlfn.STDEV.S('Single data'!BA97:BD97)/SQRT(4) -> 16.461189 | AQ96: =AVERAGE('Single data'!BE97:BH97) -> 114.05773 | AR96: ± | AS96: =(_xlfn.STDEV.S('Single data'!BE97:BH97)/SQRT(4)) -> 19.390832 | AT96: =AVERAGE('Single data'!BI97:BL97) -> 91.056926 | AU96: ± | AV96: =_xlfn.STDEV.S('Single data'!BI97:BL97)/SQRT(4) -> 19.369966 | AW96: =AVERAGE('Single data'!BM97:BP97) -> 117.36442 | AX96: ± | AY96: =_xlfn.STDEV.S('Single data'!BM97:BP97)/SQRT(4) -> 25.488754 | AZ96: =AVERAGE('Single data'!BQ97:BT97) -> 89.621647 | BA96: ± | BB96: =_xlfn.STDEV.S('Single data'!BQ97:BT97)/SQRT(4) -> 15.993819
C97: 11-HETE | D97: =AVERAGE('Single data'!D98:H98) -> 100 | E97: ± | F97: =(_xlfn.STDEV.S('Single data'!D98:H98)/SQRT(4)) -> 0 | G97: =AVERAGE('Single data'!I98:L98) -> 84.833715 | H97: ± | I97: =(_xlfn.STDEV.S('Single data'!I98:L98)/SQRT(4)) -> 8.6959663 | J97: =AVERAGE('Single data'!M98:P98) -> 67.451203 | K97: ± | L97: =(_xlfn.STDEV.S('Single data'!M98:P98)/SQRT(4)) -> 6.7773401 | M97: =AVERAGE('Single data'!Q98:T98) -> 78.402658 | N97: ± | O97: =(_xlfn.STDEV.S('Single data'!Q98:T98)/SQRT(4)) -> 6.6972867 | P97: =AVERAGE('Single data'!U98:X98) -> 45.762407 | Q97: ± | R97: {=_xlfn.STDEV.S('Single data'!U98:X98/SQRT(4))} -> 6.4563602 | S97: =AVERAGE('Single data'!Y98:AB98) -> 85.926391 | T97: ± | U97: =(_xlfn.STDEV.S('Single data'!Y98:AB98)/SQRT(4)) -> 8.9199795 | V97: =AVERAGE('Single data'!AC98:AF98) -> 60.859799 | W97: ± | X97: =(_xlfn.STDEV.S('Single data'!AC98:AF98)/SQRT(4)) -> 9.0673548 | Y97: =AVERAGE('Single data'!AG98:AJ98) -> 78.384175 | Z97: ± | AA97: =(_xlfn.STDEV.S('Single data'!AG98:AJ98)/SQRT(4)) -> 4.8750935 | AB97: =AVERAGE('Single data'!AK98:AN98) -> 53.219063 | AC97: ± | AD97: =(_xlfn.STDEV.S('Single data'!AK98:AN98)/SQRT(4)) -> 7.561983 | AE97: =AVERAGE('Single data'!AO98:AR98) -> 89.154302 | AF97: ± | AG97: =(_xlfn.STDEV.S('Single data'!AO98:AR98)/SQRT(4)) -> 11.992015 | AH97: =AVERAGE('Single data'!AS98:AV98) -> 50.761324 | AI97: ± | AJ97: =_xlfn.STDEV.S('Single data'!AS98:AV98)/SQRT(4) -> 5.9811617 | AK97: =AVERAGE('Single data'!AW98:AZ98) -> 83.129629 | AL97: ± | AM97: =(_xlfn.STDEV.S('Single data'!AW98:AZ98)/SQRT(4)) -> 10.180917 | AN97: =AVERAGE('Single data'!BA98:BD98) -> 59.611423 | AO97: ± | AP97: =_xlfn.STDEV.S('Single data'!BA98:BD98)/SQRT(4) -> 12.63681 | AQ97: =AVERAGE('Single data'!BE98:BH98) -> 93.165584 | AR97: ± | AS97: =(_xlfn.STDEV.S('Single data'!BE98:BH98)/SQRT(4)) -> 9.6239742 | AT97: =AVERAGE('Single data'!BI98:BL98) -> 74.353204 | AU97: ± | AV97: =_xlfn.STDEV.S('Single data'!BI98:BL98)/SQRT(4) -> 13.30295 | AW97: =AVERAGE('Single data'!BM98:BP98) -> 97.287534 | AX97: ± | AY97: =_xlfn.STDEV.S('Single data'!BM98:BP98)/SQRT(4) -> 16.122511 | AZ97: =AVERAGE('Single data'!BQ98:BT98) -> 71.698089 | BA97: ± | BB97: =_xlfn.STDEV.S('Single data'!BQ98:BT98)/SQRT(4) -> 10.735135
C98: 8-HETE | D98: =AVERAGE('Single data'!D99:H99) -> 100 | E98: ± | F98: =(_xlfn.STDEV.S('Single data'!D99:H99)/SQRT(4)) -> 0 | G98: =AVERAGE('Single data'!I99:L99) -> 91.632147 | H98: ± | I98: =(_xlfn.STDEV.S('Single data'!I99:L99)/SQRT(4)) -> 9.8198094 | J98: =AVERAGE('Single data'!M99:P99) -> 88.57953 | K98: ± | L98: =(_xlfn.STDEV.S('Single data'!M99:P99)/SQRT(4)) -> 9.9735702 | M98: =AVERAGE('Single data'!Q99:T99) -> 89.775579 | N98: ± | O98: =(_xlfn.STDEV.S('Single data'!Q99:T99)/SQRT(4)) -> 12.367123 | P98: =AVERAGE('Single data'!U99:X99) -> 65.03788 | Q98: ± | R98: {=_xlfn.STDEV.S('Single data'!U99:X99/SQRT(4))} -> 8.2258633 | S98: =AVERAGE('Single data'!Y99:AB99) -> 96.064382 | T98: ± | U98: =(_xlfn.STDEV.S('Single data'!Y99:AB99)/SQRT(4)) -> 11.786739 | V98: =AVERAGE('Single data'!AC99:AF99) -> 85.913577 | W98: ± | X98: =(_xlfn.STDEV.S('Single data'!AC99:AF99)/SQRT(4)) -> 11.834815 | Y98: =AVERAGE('Single data'!AG99:AJ99) -> 94.041546 | Z98: ± | AA98: =(_xlfn.STDEV.S('Single data'!AG99:AJ99)/SQRT(4)) -> 8.8927828 | AB98: =AVERAGE('Single data'!AK99:AN99) -> 98.039134 | AC98: ± | AD98: =(_xlfn.STDEV.S('Single data'!AK99:AN99)/SQRT(4)) -> 15.730823 | AE98: =AVERAGE('Single data'!AO99:AR99) -> 98.237947 | AF98: ± | AG98: =(_xlfn.STDEV.S('Single data'!AO99:AR99)/SQRT(4)) -> 18.049819 | AH98: =AVERAGE('Single data'!AS99:AV99) -> 87.191053 | AI98: ± | AJ98: =_xlfn.STDEV.S('Single data'!AS99:AV99)/SQRT(4) -> 12.131648 | AK98: =AVERAGE('Single data'!AW99:AZ99) -> 90.00759 | AL98: ± | AM98: =(_xlfn.STDEV.S('Single data'!AW99:AZ99)/SQRT(4)) -> 12.656112 | AN98: =AVERAGE('Single data'!BA99:BD99) -> 85.269268 | AO98: ± | AP98: =_xlfn.STDEV.S('Single data'!BA99:BD99)/SQRT(4) -> 18.002488 | AQ98: =AVERAGE('Single data'!BE99:BH99) -> 92.62325 | AR98: ± | AS98: =(_xlfn.STDEV.S('Single data'!BE99:BH99)/SQRT(4)) -> 11.760915 | AT98: =AVERAGE('Single data'!BI99:BL99) -> 87.87986 | AU98: ± | AV98: =_xlfn.STDEV.S('Single data'!BI99:BL99)/SQRT(4) -> 17.741659 | AW98: =AVERAGE('Single data'!BM99:BP99) -> 92.851725 | AX98: ± | AY98: =_xlfn.STDEV.S('Single data'!BM99:BP99)/SQRT(4) -> 14.462131 | AZ98: =AVERAGE('Single data'!BQ99:BT99) -> 75.581396 | BA98: ± | BB98: =_xlfn.STDEV.S('Single data'!BQ99:BT99)/SQRT(4) -> 11.257984
