Workbook

Sheet Mean + S.E.M.
A1: Table S3 Effect of LCMs on the lipid mediator profile of SACM-challenged M2 macrophages
C4: compound | D4: vehicle (0.1% DMSO) | G4: 1 | M4: 2 | S4: 3 | Y4: 4 | AE4: 5 | AK4: 6 | AQ4: 7 | AW4: 8
C5: conc [µM] | G5: 0.3 | J5: 3 | M5: 0.3 | P5: 3 | S5: 0.3 | V5: 3 | Y5: 0.3 | AB5: 3 | AE5: 0.3 | AH5: 3 | AK5: 0.3 | AN5: 3 | AQ5: 0.3 | AT5: 3 | AW5: 0.3 | AZ5: 3
D7: mean | E7: ± | F7: S.E.M. | G7: mean | H7: ± | I7: S.E.M. | J7: mean | K7: ± | L7: S.E.M. | M7: mean | N7: ± | O7: S.E.M. | P7: mean | Q7: ± | R7: S.E.M. | S7: mean | T7: ± | U7: S.E.M. | V7: mean | W7: ± | X7: S.E.M. | Y7: mean | Z7: ± | AA7: S.E.M. | AB7: mean | AC7: ± | AD7: S.E.M. | AE7: mean | AF7: ± | AG7: S.E.M. | AH7: mean | AI7: ± | AJ7: S.E.M. | AK7: mean | AL7: ± | AM7: S.E.M. | AN7: mean | AO7: ± | AP7: S.E.M. | AQ7: mean | AR7: ± | AS7: S.E.M. | AT7: mean | AU7: ± | AV7: S.E.M. | AW7: mean | AX7: ± | AY7: S.E.M. | AZ7: mean | BA7: ± | BB7: S.E.M.
A8: pg per 2 * 106 cells | B8: SPM/iso | C8: PD1 | D8: =AVERAGE('Single data'!D9:H9) -> 51.693159 | E8: ± | F8: =(_xlfn.STDEV.S('Single data'!D9:H9)/SQRT(4)) -> 13.952522 | G8: =AVERAGE('Single data'!I9:L9) -> 55.722855 | H8: ± | I8: =(_xlfn.STDEV.S('Single data'!I9:L9)/SQRT(4)) -> 21.969386 | J8: =AVERAGE('Single data'!M9:P9) -> 76.714526 | K8: ± | L8: =(_xlfn.STDEV.S('Single data'!M9:P9)/SQRT(4)) -> 25.476508 | M8: =AVERAGE('Single data'!Q9:T9) -> 97.336724 | N8: ± | O8: =(_xlfn.STDEV.S('Single data'!Q9:T9)/SQRT(4)) -> 21.096852 | P8: =AVERAGE('Single data'!U9:X9) -> 160.22221 | Q8: ± | R8: {=_xlfn.STDEV.S('Single data'!U9:X9/SQRT(4))} -> 58.763984 | S8: =AVERAGE('Single data'!Y9:AB9) -> 63.794555 | T8: ± | U8: =(_xlfn.STDEV.S('Single data'!Y9:AB9)/SQRT(4)) -> 16.236776 | V8: =AVERAGE('Single data'!AC9:AF9) -> 98.638129 | W8: ± | X8: =(_xlfn.STDEV.S('Single data'!AC9:AF9)/SQRT(4)) -> 26.487037 | Y8: =AVERAGE('Single data'!AG9:AJ9) -> 62.283991 | Z8: ± | AA8: =(_xlfn.STDEV.S('Single data'!AG9:AJ9)/SQRT(4)) -> 20.998156 | AB8: =AVERAGE('Single data'!AK9:AN9) -> 86.828766 | AC8: ± | AD8: =(_xlfn.STDEV.S('Single data'!AK9:AN9)/SQRT(4)) -> 19.084194 | AE8: =AVERAGE('Single data'!AO9:AR9) -> 61.670786 | AF8: ± | AG8: =(_xlfn.STDEV.S('Single data'!AO9:AR9)/SQRT(4)) -> 10.294035 | AH8: =AVERAGE('Single data'!AS9:AV9) -> 94.819659 | AI8: ± | AJ8: =_xlfn.STDEV.S('Single data'!AS9:AV9)/SQRT(4) -> 17.126689 | AK8: =AVERAGE('Single data'!AW9:AZ9) -> 85.816371 | AL8: ± | AM8: =(_xlfn.STDEV.S('Single data'!AW9:AZ9)/SQRT(4)) -> 17.937093 | AN8: =AVERAGE('Single data'!BA9:BD9) -> 132.21829 | AO8: ± | AP8: =_xlfn.STDEV.S('Single data'!BA9:BD9)/SQRT(4) -> 42.418432 | AQ8: =AVERAGE('Single data'!BE9:BH9) -> 78.623467 | AR8: ± | AS8: =(_xlfn.STDEV.S('Single data'!BE9:BH9)/SQRT(4)) -> 19.942149 | AT8: =AVERAGE('Single data'!BI9:BL9) -> 136.19597 | AU8: ± | AV8: =_xlfn.STDEV.S('Single data'!BI9:BL9)/SQRT(4) -> 30.756166 | AW8: =AVERAGE('Single data'!BM9:BP9) -> 85.300057 | AX8: ± | AY8: =(_xlfn.STDEV.S('Single data'!BM9:BP9)/SQRT(4)) -> 21.629087 | AZ8: =AVERAGE('Single data'!BQ9:BT9) -> 113.54465 | BA8: ± | BB8: =_xlfn.STDEV.S('Single data'!BQ9:BT9)/SQRT(4) -> 32.281904
C9: AT-PD1 | D9: =AVERAGE('Single data'!D10:H10) -> 271.58538 | E9: ± | F9: =(_xlfn.STDEV.S('Single data'!D10:H10)/SQRT(4)) -> 78.662172 | G9: =AVERAGE('Single data'!I10:L10) -> 287.02981 | H9: ± | I9: =(_xlfn.STDEV.S('Single data'!I10:L10)/SQRT(4)) -> 103.03216 | J9: =AVERAGE('Single data'!M10:P10) -> 421.42731 | K9: ± | L9: =(_xlfn.STDEV.S('Single data'!M10:P10)/SQRT(4)) -> 143.77939 | M9: =AVERAGE('Single data'!Q10:T10) -> 519.02038 | N9: ± | O9: =(_xlfn.STDEV.S('Single data'!Q10:T10)/SQRT(4)) -> 105.09084 | P9: =AVERAGE('Single data'!U10:X10) -> 913.05293 | Q9: ± | R9: {=_xlfn.STDEV.S('Single data'!U10:X10/SQRT(4))} -> 318.37312 | S9: =AVERAGE('Single data'!Y10:AB10) -> 340.44553 | T9: ± | U9: =(_xlfn.STDEV.S('Single data'!Y10:AB10)/SQRT(4)) -> 80.471637 | V9: =AVERAGE('Single data'!AC10:AF10) -> 584.83796 | W9: ± | X9: =(_xlfn.STDEV.S('Single data'!AC10:AF10)/SQRT(4)) -> 142.38596 | Y9: =AVERAGE('Single data'!AG10:AJ10) -> 317.27626 | Z9: ± | AA9: =(_xlfn.STDEV.S('Single data'!AG10:AJ10)/SQRT(4)) -> 102.47119 | AB9: =AVERAGE('Single data'!AK10:AN10) -> 453.82918 | AC9: ± | AD9: =(_xlfn.STDEV.S('Single data'!AK10:AN10)/SQRT(4)) -> 136.16417 | AE9: =AVERAGE('Single data'!AO10:AR10) -> 286.59992 | AF9: ± | AG9: =(_xlfn.STDEV.S('Single data'!AO10:AR10)/SQRT(4)) -> 60.49411 | AH9: =AVERAGE('Single data'!AS10:AV10) -> 488.40724 | AI9: ± | AJ9: =_xlfn.STDEV.S('Single data'!AS10:AV10)/SQRT(4) -> 93.055494 | AK9: =AVERAGE('Single data'!AW10:AZ10) -> 472.60939 | AL9: ± | AM9: =(_xlfn.STDEV.S('Single data'!AW10:AZ10)/SQRT(4)) -> 86.426086 | AN9: =AVERAGE('Single data'!BA10:BD10) -> 703.9255 | AO9: ± | AP9: =_xlfn.STDEV.S('Single data'!BA10:BD10)/SQRT(4) -> 214.20954 | AQ9: =AVERAGE('Single data'!BE10:BH10) -> 432.30155 | AR9: ± | AS9: =(_xlfn.STDEV.S('Single data'!BE10:BH10)/SQRT(4)) -> 100.74721 | AT9: =AVERAGE('Single data'!BI10:BL10) -> 672.79209 | AU9: ± | AV9: =_xlfn.STDEV.S('Single data'!BI10:BL10)/SQRT(4) -> 123.22028 | AW9: =AVERAGE('Single data'!BM10:BP10) -> 473.8204 | AX9: ± | AY9: =(_xlfn.STDEV.S('Single data'!BM10:BP10)/SQRT(4)) -> 100.81569 | AZ9: =AVERAGE('Single data'!BQ10:BT10) -> 615.14123 | BA9: ± | BB9: =_xlfn.STDEV.S('Single data'!BQ10:BT10)/SQRT(4) -> 132.31305
C10: PDX | D10: =AVERAGE('Single data'!D11:H11) -> 1559.936 | E10: ± | F10: =(_xlfn.STDEV.S('Single data'!D11:H11)/SQRT(4)) -> 528.84882 | G10: =AVERAGE('Single data'!I11:L11) -> 1415.4021 | H10: ± | I10: =(_xlfn.STDEV.S('Single data'!I11:L11)/SQRT(4)) -> 709.95737 | J10: =AVERAGE('Single data'!M11:P11) -> 1812.3178 | K10: ± | L10: =(_xlfn.STDEV.S('Single data'!M11:P11)/SQRT(4)) -> 1007.0538 | M10: =AVERAGE('Single data'!Q11:T11) -> 2717.0999 | N10: ± | O10: =(_xlfn.STDEV.S('Single data'!Q11:T11)/SQRT(4)) -> 970.49237 | P10: =AVERAGE('Single data'!U11:X11) -> 4893.0562 | Q10: ± | R10: {=_xlfn.STDEV.S('Single data'!U11:X11/SQRT(4))} -> 2022.5667 | S10: =AVERAGE('Single data'!Y11:AB11) -> 1517.626 | T10: ± | U10: =(_xlfn.STDEV.S('Single data'!Y11:AB11)/SQRT(4)) -> 738.39739 | V10: =AVERAGE('Single data'!AC11:AF11) -> 2327.3637 | W10: ± | X10: =(_xlfn.STDEV.S('Single data'!AC11:AF11)/SQRT(4)) -> 1249.9333 | Y10: =AVERAGE('Single data'!AG11:AJ11) -> 1547.4944 | Z10: ± | AA10: =(_xlfn.STDEV.S('Single data'!AG11:AJ11)/SQRT(4)) -> 777.23319 | AB10: =AVERAGE('Single data'!AK11:AN11) -> 2066.7718 | AC10: ± | AD10: =(_xlfn.STDEV.S('Single data'!AK11:AN11)/SQRT(4)) -> 1092.9753 | AE10: =AVERAGE('Single data'!AO11:AR11) -> 1351.8363 | AF10: ± | AG10: =(_xlfn.STDEV.S('Single data'!AO11:AR11)/SQRT(4)) -> 508.752 | AH10: =AVERAGE('Single data'!AS11:AV11) -> 2047.5587 | AI10: ± | AJ10: =_xlfn.STDEV.S('Single data'!AS11:AV11)/SQRT(4) -> 1030.7003 | AK10: =AVERAGE('Single data'!AW11:AZ11) -> 1762.2088 | AL10: ± | AM10: =(_xlfn.STDEV.S('Single data'!AW11:AZ11)/SQRT(4)) -> 882.05507 | AN10: =AVERAGE('Single data'!BA11:BD11) -> 3009.7751 | AO10: ± | AP10: =_xlfn.STDEV.S('Single data'!BA11:BD11)/SQRT(4) -> 1715.3375 | AQ10: =AVERAGE('Single data'!BE11:BH11) -> 2321.7449 | AR10: ± | AS10: =(_xlfn.STDEV.S('Single data'!BE11:BH11)/SQRT(4)) -> 833.77011 | AT10: =AVERAGE('Single data'!BI11:BL11) -> 3307.8382 | AU10: ± | AV10: =_xlfn.STDEV.S('Single data'!BI11:BL11)/SQRT(4) -> 1188.8426 | AW10: =AVERAGE('Single data'!BM11:BP11) -> 2353.4337 | AX10: ± | AY10: =(_xlfn.STDEV.S('Single data'!BM11:BP11)/SQRT(4)) -> 845.63363 | AZ10: =AVERAGE('Single data'!BQ11:BT11) -> 3014.9493 | BA10: ± | BB10: =_xlfn.STDEV.S('Single data'!BQ11:BT11)/SQRT(4) -> 1106.3655
C11: RvD5 | D11: =AVERAGE('Single data'!D12:H12) -> 4761.3081 | E11: ± | F11: =(_xlfn.STDEV.S('Single data'!D12:H12)/SQRT(4)) -> 1252.8354 | G11: =AVERAGE('Single data'!I12:L12) -> 4156.8908 | H11: ± | I11: =(_xlfn.STDEV.S('Single data'!I12:L12)/SQRT(4)) -> 1293.2808 | J11: =AVERAGE('Single data'!M12:P12) -> 4181.1305 | K11: ± | L11: =(_xlfn.STDEV.S('Single data'!M12:P12)/SQRT(4)) -> 1650.532 | M11: =AVERAGE('Single data'!Q12:T12) -> 5170.9258 | N11: ± | O11: =(_xlfn.STDEV.S('Single data'!Q12:T12)/SQRT(4)) -> 1511.8281 | P11: =AVERAGE('Single data'!U12:X12) -> 4041.7425 | Q11: ± | R11: {=_xlfn.STDEV.S('Single data'!U12:X12/SQRT(4))} -> 1486.1591 | S11: =AVERAGE('Single data'!Y12:AB12) -> 4243.3659 | T11: ± | U11: =(_xlfn.STDEV.S('Single data'!Y12:AB12)/SQRT(4)) -> 1152.7968 | V11: =AVERAGE('Single data'!AC12:AF12) -> 3921.4348 | W11: ± | X11: =(_xlfn.STDEV.S('Single data'!AC12:AF12)/SQRT(4)) -> 1348.7028 | Y11: =AVERAGE('Single data'!AG12:AJ12) -> 4370.6911 | Z11: ± | AA11: =(_xlfn.STDEV.S('Single data'!AG12:AJ12)/SQRT(4)) -> 1384.847 | AB11: =AVERAGE('Single data'!AK12:AN12) -> 4402.2209 | AC11: ± | AD11: =(_xlfn.STDEV.S('Single data'!AK12:AN12)/SQRT(4)) -> 1627.8099 | AE11: =AVERAGE('Single data'!AO12:AR12) -> 4340.822 | AF11: ± | AG11: =(_xlfn.STDEV.S('Single data'!AO12:AR12)/SQRT(4)) -> 827.26038 | AH11: =AVERAGE('Single data'!AS12:AV12) -> 4714.0115 | AI11: ± | AJ11: =_xlfn.STDEV.S('Single data'!AS12:AV12)/SQRT(4) -> 1396.3881 | AK11: =AVERAGE('Single data'!AW12:AZ12) -> 4625.187 | AL11: ± | AM11: =(_xlfn.STDEV.S('Single data'!AW12:AZ12)/SQRT(4)) -> 1237.5429 | AN11: =AVERAGE('Single data'!BA12:BD12) -> 3507.0198 | AO11: ± | AP11: =_xlfn.STDEV.S('Single data'!BA12:BD12)/SQRT(4) -> 1468.558 | AQ11: =AVERAGE('Single data'!BE12:BH12) -> 4985.2624 | AR11: ± | AS11: =(_xlfn.STDEV.S('Single data'!BE12:BH12)/SQRT(4)) -> 1383.4388 | AT11: =AVERAGE('Single data'!BI12:BL12) -> 5207.5769 | AU11: ± | AV11: =_xlfn.STDEV.S('Single data'!BI12:BL12)/SQRT(4) -> 1507.4717 | AW11: =AVERAGE('Single data'!BM12:BP12) -> 4725.1921 | AX11: ± | AY11: =(_xlfn.STDEV.S('Single data'!BM12:BP12)/SQRT(4)) -> 1506.099 | AZ11: =AVERAGE('Single data'!BQ12:BT12) -> 4366.1289 | BA11: ± | BB11: =_xlfn.STDEV.S('Single data'!BQ12:BT12)/SQRT(4) -> 1322.843
C12: MaR2 | D12: =AVERAGE('Single data'!D13:H13) -> 413.7844 | E12: ± | F12: =(_xlfn.STDEV.S('Single data'!D13:H13)/SQRT(4)) -> 67.502446 | G12: =AVERAGE('Single data'!I13:L13) -> 395.57998 | H12: ± | I12: =(_xlfn.STDEV.S('Single data'!I13:L13)/SQRT(4)) -> 75.373746 | J12: =AVERAGE('Single data'!M13:P13) -> 538.82615 | K12: ± | L12: =(_xlfn.STDEV.S('Single data'!M13:P13)/SQRT(4)) -> 109.8891 | M12: =AVERAGE('Single data'!Q13:T13) -> 622.86417 | N12: ± | O12: =(_xlfn.STDEV.S('Single data'!Q13:T13)/SQRT(4)) -> 107.75537 | P12: =AVERAGE('Single data'!U13:X13) -> 1096.705 | Q12: ± | R12: {=_xlfn.STDEV.S('Single data'!U13:X13/SQRT(4))} -> 349.57377 | S12: =AVERAGE('Single data'!Y13:AB13) -> 404.95387 | T12: ± | U12: =(_xlfn.STDEV.S('Single data'!Y13:AB13)/SQRT(4)) -> 72.381569 | V12: =AVERAGE('Single data'!AC13:AF13) -> 642.68897 | W12: ± | X12: =(_xlfn.STDEV.S('Single data'!AC13:AF13)/SQRT(4)) -> 122.6517 | Y12: =AVERAGE('Single data'!AG13:AJ13) -> 415.07344 | Z12: ± | AA12: =(_xlfn.STDEV.S('Single data'!AG13:AJ13)/SQRT(4)) -> 97.951939 | AB12: =AVERAGE('Single data'!AK13:AN13) -> 594.91929 | AC12: ± | AD12: =(_xlfn.STDEV.S('Single data'!AK13:AN13)/SQRT(4)) -> 102.58859 | AE12: =AVERAGE('Single data'!AO13:AR13) -> 396.01071 | AF12: ± | AG12: =(_xlfn.STDEV.S('Single data'!AO13:AR13)/SQRT(4)) -> 56.596726 | AH12: =AVERAGE('Single data'!AS13:AV13) -> 699.57637 | AI12: ± | AJ12: =_xlfn.STDEV.S('Single data'!AS13:AV13)/SQRT(4) -> 93.487034 | AK12: =AVERAGE('Single data'!AW13:AZ13) -> 547.96574 | AL12: ± | AM12: =(_xlfn.STDEV.S('Single data'!AW13:AZ13)/SQRT(4)) -> 73.989713 | AN12: =AVERAGE('Single data'!BA13:BD13) -> 823.66414 | AO12: ± | AP12: =_xlfn.STDEV.S('Single data'!BA13:BD13)/SQRT(4) -> 183.57211 | AQ12: =AVERAGE('Single data'!BE13:BH13) -> 496.50387 | AR12: ± | AS12: =(_xlfn.STDEV.S('Single data'!BE13:BH13)/SQRT(4)) -> 115.97978 | AT12: =AVERAGE('Single data'!BI13:BL13) -> 755.27895 | AU12: ± | AV12: =_xlfn.STDEV.S('Single data'!BI13:BL13)/SQRT(4) -> 143.63684 | AW12: =AVERAGE('Single data'!BM13:BP13) -> 501.98361 | AX12: ± | AY12: =(_xlfn.STDEV.S('Single data'!BM13:BP13)/SQRT(4)) -> 112.39754 | AZ12: =AVERAGE('Single data'!BQ13:BT13) -> 677.57825 | BA12: ± | BB12: =_xlfn.STDEV.S('Single data'!BQ13:BT13)/SQRT(4) -> 139.41692
C13: RvD1 | D13: =AVERAGE('Single data'!D14:H14) -> 84.264598 | E13: ± | F13: =(_xlfn.STDEV.S('Single data'!D14:H14)/SQRT(4)) -> 23.527136 | G13: =AVERAGE('Single data'!I14:L14) -> 78.26439 | H13: ± | I13: =(_xlfn.STDEV.S('Single data'!I14:L14)/SQRT(4)) -> 24.327354 | J13: =AVERAGE('Single data'!M14:P14) -> 67.93153 | K13: ± | L13: =(_xlfn.STDEV.S('Single data'!M14:P14)/SQRT(4)) -> 22.689078 | M13: =AVERAGE('Single data'!Q14:T14) -> 73.081363 | N13: ± | O13: =(_xlfn.STDEV.S('Single data'!Q14:T14)/SQRT(4)) -> 21.915387 | P13: =AVERAGE('Single data'!U14:X14) -> 65.702083 | Q13: ± | R13: {=_xlfn.STDEV.S('Single data'!U14:X14/SQRT(4))} -> 22.725876 | S13: =AVERAGE('Single data'!Y14:AB14) -> 61.772296 | T13: ± | U13: =(_xlfn.STDEV.S('Single data'!Y14:AB14)/SQRT(4)) -> 23.343668 | V13: =AVERAGE('Single data'!AC14:AF14) -> 64.171807 | W13: ± | X13: =(_xlfn.STDEV.S('Single data'!AC14:AF14)/SQRT(4)) -> 22.404893 | Y13: =AVERAGE('Single data'!AG14:AJ14) -> 70.748389 | Z13: ± | AA13: =(_xlfn.STDEV.S('Single data'!AG14:AJ14)/SQRT(4)) -> 30.10715 | AB13: =AVERAGE('Single data'!AK14:AN14) -> 82.182942 | AC13: ± | AD13: =(_xlfn.STDEV.S('Single data'!AK14:AN14)/SQRT(4)) -> 29.489965 | AE13: =AVERAGE('Single data'!AO14:AR14) -> 69.610911 | AF13: ± | AG13: =(_xlfn.STDEV.S('Single data'!AO14:AR14)/SQRT(4)) -> 22.891567 | AH13: =AVERAGE('Single data'!AS14:AV14) -> 68.397614 | AI13: ± | AJ13: =_xlfn.STDEV.S('Single data'!AS14:AV14)/SQRT(4) -> 21.553574 | AK13: =AVERAGE('Single data'!AW14:AZ14) -> 58.40695 | AL13: ± | AM13: =(_xlfn.STDEV.S('Single data'!AW14:AZ14)/SQRT(4)) -> 16.349225 | AN13: =AVERAGE('Single data'!BA14:BD14) -> 57.612969 | AO13: ± | AP13: =_xlfn.STDEV.S('Single data'!BA14:BD14)/SQRT(4) -> 28.322023 | AQ13: =AVERAGE('Single data'!BE14:BH14) -> 78.11724 | AR13: ± | AS13: =(_xlfn.STDEV.S('Single data'!BE14:BH14)/SQRT(4)) -> 21.981508 | AT13: =AVERAGE('Single data'!BI14:BL14) -> 79.478341 | AU13: ± | AV13: =_xlfn.STDEV.S('Single data'!BI14:BL14)/SQRT(4) -> 27.310219 | AW13: =AVERAGE('Single data'!BM14:BP14) -> 78.609194 | AX13: ± | AY13: =(_xlfn.STDEV.S('Single data'!BM14:BP14)/SQRT(4)) -> 22.654477 | AZ13: =AVERAGE('Single data'!BQ14:BT14) -> 71.734514 | BA13: ± | BB13: =_xlfn.STDEV.S('Single data'!BQ14:BT14)/SQRT(4) -> 25.693568
C14: RvD2 | D14: =AVERAGE('Single data'!D15:H15) -> 800.9174 | E14: ± | F14: =(_xlfn.STDEV.S('Single data'!D15:H15)/SQRT(4)) -> 258.60279 | G14: =AVERAGE('Single data'!I15:L15) -> 718.70978 | H14: ± | I14: =(_xlfn.STDEV.S('Single data'!I15:L15)/SQRT(4)) -> 345.30828 | J14: =AVERAGE('Single data'!M15:P15) -> 677.93834 | K14: ± | L14: =(_xlfn.STDEV.S('Single data'!M15:P15)/SQRT(4)) -> 315.66709 | M14: =AVERAGE('Single data'!Q15:T15) -> 852.96182 | N14: ± | O14: =(_xlfn.STDEV.S('Single data'!Q15:T15)/SQRT(4)) -> 279.59001 | P14: =AVERAGE('Single data'!U15:X15) -> 768.05539 | Q14: ± | R14: {=_xlfn.STDEV.S('Single data'!U15:X15/SQRT(4))} -> 319.68746 | S14: =AVERAGE('Single data'!Y15:AB15) -> 741.6947 | T14: ± | U14: =(_xlfn.STDEV.S('Single data'!Y15:AB15)/SQRT(4)) -> 313.42607 | V14: =AVERAGE('Single data'!AC15:AF15) -> 576.16482 | W14: ± | X14: =(_xlfn.STDEV.S('Single data'!AC15:AF15)/SQRT(4)) -> 279.18237 | Y14: =AVERAGE('Single data'!AG15:AJ15) -> 619.79789 | Z14: ± | AA14: =(_xlfn.STDEV.S('Single data'!AG15:AJ15)/SQRT(4)) -> 269.95115 | AB14: =AVERAGE('Single data'!AK15:AN15) -> 612.65384 | AC14: ± | AD14: =(_xlfn.STDEV.S('Single data'!AK15:AN15)/SQRT(4)) -> 296.80532 | AE14: =AVERAGE('Single data'!AO15:AR15) -> 631.08236 | AF14: ± | AG14: =(_xlfn.STDEV.S('Single data'!AO15:AR15)/SQRT(4)) -> 233.31863 | AH14: =AVERAGE('Single data'!AS15:AV15) -> 715.65138 | AI14: ± | AJ14: =_xlfn.STDEV.S('Single data'!AS15:AV15)/SQRT(4) -> 315.75912 | AK14: =AVERAGE('Single data'!AW15:AZ15) -> 701.12045 | AL14: ± | AM14: =(_xlfn.STDEV.S('Single data'!AW15:AZ15)/SQRT(4)) -> 262.25225 | AN14: =AVERAGE('Single data'!BA15:BD15) -> 527.14791 | AO14: ± | AP14: =_xlfn.STDEV.S('Single data'!BA15:BD15)/SQRT(4) -> 268.20847 | AQ14: =AVERAGE('Single data'!BE15:BH15) -> 851.38741 | AR14: ± | AS14: =(_xlfn.STDEV.S('Single data'!BE15:BH15)/SQRT(4)) -> 291.7653 | AT14: =AVERAGE('Single data'!BI15:BL15) -> 902.61928 | AU14: ± | AV14: =_xlfn.STDEV.S('Single data'!BI15:BL15)/SQRT(4) -> 305.15993 | AW14: =AVERAGE('Single data'!BM15:BP15) -> 855.44162 | AX14: ± | AY14: =(_xlfn.STDEV.S('Single data'!BM15:BP15)/SQRT(4)) -> 330.35369 | AZ14: =AVERAGE('Single data'!BQ15:BT15) -> 824.41996 | BA14: ± | BB14: =_xlfn.STDEV.S('Single data'!BQ15:BT15)/SQRT(4) -> 308.01426
C15: RvD5n3-DPA | D15: =AVERAGE('Single data'!D16:H16) -> 922.29896 | E15: ± | F15: =(_xlfn.STDEV.S('Single data'!D16:H16)/SQRT(4)) -> 374.11087 | G15: =AVERAGE('Single data'!I16:L16) -> 645.88459 | H15: ± | I15: =(_xlfn.STDEV.S('Single data'!I16:L16)/SQRT(4)) -> 151.06378 | J15: =AVERAGE('Single data'!M16:P16) -> 705.94354 | K15: ± | L15: =(_xlfn.STDEV.S('Single data'!M16:P16)/SQRT(4)) -> 215.55658 | M15: =AVERAGE('Single data'!Q16:T16) -> 612.65299 | N15: ± | O15: =(_xlfn.STDEV.S('Single data'!Q16:T16)/SQRT(4)) -> 219.06916 | P15: =AVERAGE('Single data'!U16:X16) -> 891.68379 | Q15: ± | R15: {=_xlfn.STDEV.S('Single data'!U16:X16/SQRT(4))} -> 298.23706 | S15: =AVERAGE('Single data'!Y16:AB16) -> 746.41477 | T15: ± | U15: =(_xlfn.STDEV.S('Single data'!Y16:AB16)/SQRT(4)) -> 135.93055 | V15: =AVERAGE('Single data'!AC16:AF16) -> 701.90621 | W15: ± | X15: =(_xlfn.STDEV.S('Single data'!AC16:AF16)/SQRT(4)) -> 178.9053 | Y15: =AVERAGE('Single data'!AG16:AJ16) -> 666.86594 | Z15: ± | AA15: =(_xlfn.STDEV.S('Single data'!AG16:AJ16)/SQRT(4)) -> 185.35586 | AB15: =AVERAGE('Single data'!AK16:AN16) -> 869.40498 | AC15: ± | AD15: =(_xlfn.STDEV.S('Single data'!AK16:AN16)/SQRT(4)) -> 245.83032 | AE15: =AVERAGE('Single data'!AO16:AR16) -> 766.17127 | AF15: ± | AG15: =(_xlfn.STDEV.S('Single data'!AO16:AR16)/SQRT(4)) -> 128.3227 | AH15: =AVERAGE('Single data'!AS16:AV16) -> 995.37115 | AI15: ± | AJ15: =_xlfn.STDEV.S('Single data'!AS16:AV16)/SQRT(4) -> 240.78942 | AK15: =AVERAGE('Single data'!AW16:AZ16) -> 821.27946 | AL15: ± | AM15: =(_xlfn.STDEV.S('Single data'!AW16:AZ16)/SQRT(4)) -> 153.46598 | AN15: =AVERAGE('Single data'!BA16:BD16) -> 693.60027 | AO15: ± | AP15: =_xlfn.STDEV.S('Single data'!BA16:BD16)/SQRT(4) -> 240.16398 | AQ15: =AVERAGE('Single data'!BE16:BH16) -> 1099.2642 | AR15: ± | AS15: =(_xlfn.STDEV.S('Single data'!BE16:BH16)/SQRT(4)) -> 380.22241 | AT15: =AVERAGE('Single data'!BI16:BL16) -> 1241.6356 | AU15: ± | AV15: =_xlfn.STDEV.S('Single data'!BI16:BL16)/SQRT(4) -> 417.68166 | AW15: =AVERAGE('Single data'!BM16:BP16) -> 1067.2033 | AX15: ± | AY15: =(_xlfn.STDEV.S('Single data'!BM16:BP16)/SQRT(4)) -> 421.11258 | AZ15: =AVERAGE('Single data'!BQ16:BT16) -> 1013.7557 | BA15: ± | BB15: =_xlfn.STDEV.S('Single data'!BQ16:BT16)/SQRT(4) -> 338.60057
C16: LXA4 | D16: =AVERAGE('Single data'!D17:H17) -> 379.53336 | E16: ± | F16: =(_xlfn.STDEV.S('Single data'!D17:H17)/SQRT(4)) -> 193.29938 | G16: =AVERAGE('Single data'!I17:L17) -> 245.02143 | H16: ± | I16: =(_xlfn.STDEV.S('Single data'!I17:L17)/SQRT(4)) -> 150.41494 | J16: =AVERAGE('Single data'!M17:P17) -> 205.6422 | K16: ± | L16: =(_xlfn.STDEV.S('Single data'!M17:P17)/SQRT(4)) -> 119.75139 | M16: =AVERAGE('Single data'!Q17:T17) -> 264.84813 | N16: ± | O16: =(_xlfn.STDEV.S('Single data'!Q17:T17)/SQRT(4)) -> 123.93888 | P16: =AVERAGE('Single data'!U17:X17) -> 148.71089 | Q16: ± | R16: {=_xlfn.STDEV.S('Single data'!U17:X17/SQRT(4))} -> 76.578875 | S16: =AVERAGE('Single data'!Y17:AB17) -> 303.10937 | T16: ± | U16: =(_xlfn.STDEV.S('Single data'!Y17:AB17)/SQRT(4)) -> 165.58843 | V16: =AVERAGE('Single data'!AC17:AF17) -> 207.20223 | W16: ± | X16: =(_xlfn.STDEV.S('Single data'!AC17:AF17)/SQRT(4)) -> 134.24108 | Y16: =AVERAGE('Single data'!AG17:AJ17) -> 238.66264 | Z16: ± | AA16: =(_xlfn.STDEV.S('Single data'!AG17:AJ17)/SQRT(4)) -> 130.03945 | AB16: =AVERAGE('Single data'!AK17:AN17) -> 155.58936 | AC16: ± | AD16: =(_xlfn.STDEV.S('Single data'!AK17:AN17)/SQRT(4)) -> 96.143495 | AE16: =AVERAGE('Single data'!AO17:AR17) -> 250.64946 | AF16: ± | AG16: =(_xlfn.STDEV.S('Single data'!AO17:AR17)/SQRT(4)) -> 144.3782 | AH16: =AVERAGE('Single data'!AS17:AV17) -> 125.4618 | AI16: ± | AJ16: =_xlfn.STDEV.S('Single data'!AS17:AV17)/SQRT(4) -> 85.117526 | AK16: =AVERAGE('Single data'!AW17:AZ17) -> 236.4874 | AL16: ± | AM16: =(_xlfn.STDEV.S('Single data'!AW17:AZ17)/SQRT(4)) -> 126.3731 | AN16: =AVERAGE('Single data'!BA17:BD17) -> 169.34216 | AO16: ± | AP16: =_xlfn.STDEV.S('Single data'!BA17:BD17)/SQRT(4) -> 112.29835 | AQ16: =AVERAGE('Single data'!BE17:BH17) -> 269.86939 | AR16: ± | AS16: =(_xlfn.STDEV.S('Single data'!BE17:BH17)/SQRT(4)) -> 136.66064 | AT16: =AVERAGE('Single data'!BI17:BL17) -> 251.32545 | AU16: ± | AV16: =_xlfn.STDEV.S('Single data'!BI17:BL17)/SQRT(4) -> 127.91668 | AW16: =AVERAGE('Single data'!BM17:BP17) -> 321.84594 | AX16: ± | AY16: =(_xlfn.STDEV.S('Single data'!BM17:BP17)/SQRT(4)) -> 181.25181 | AZ16: =AVERAGE('Single data'!BQ17:BT17) -> 209.92125 | BA16: ± | BB16: =_xlfn.STDEV.S('Single data'!BQ17:BT17)/SQRT(4) -> 97.116157
B17: SPM precursor | C17: 17-HDHA | D17: =AVERAGE('Single data'!D18:H18) -> 29782.881 | E17: ± | F17: =(_xlfn.STDEV.S('Single data'!D18:H18)/SQRT(4)) -> 4249.9411 | G17: =AVERAGE('Single data'!I18:L18) -> 24924.828 | H17: ± | I17: =(_xlfn.STDEV.S('Single data'!I18:L18)/SQRT(4)) -> 4600.0172 | J17: =AVERAGE('Single data'!M18:P18) -> 22152.267 | K17: ± | L17: =(_xlfn.STDEV.S('Single data'!M18:P18)/SQRT(4)) -> 4535.2122 | M17: =AVERAGE('Single data'!Q18:T18) -> 22030.7 | N17: ± | O17: =(_xlfn.STDEV.S('Single data'!Q18:T18)/SQRT(4)) -> 4158.4192 | P17: =AVERAGE('Single data'!U18:X18) -> 13532.607 | Q17: ± | R17: {=_xlfn.STDEV.S('Single data'!U18:X18/SQRT(4))} -> 3289.0458 | S17: =AVERAGE('Single data'!Y18:AB18) -> 24964.195 | T17: ± | U17: =(_xlfn.STDEV.S('Single data'!Y18:AB18)/SQRT(4)) -> 5504.8138 | V17: =AVERAGE('Single data'!AC18:AF18) -> 20023.957 | W17: ± | X17: =(_xlfn.STDEV.S('Single data'!AC18:AF18)/SQRT(4)) -> 4969.8559 | Y17: =AVERAGE('Single data'!AG18:AJ18) -> 27549.093 | Z17: ± | AA17: =(_xlfn.STDEV.S('Single data'!AG18:AJ18)/SQRT(4)) -> 5101.4863 | AB17: =AVERAGE('Single data'!AK18:AN18) -> 23440.832 | AC17: ± | AD17: =(_xlfn.STDEV.S('Single data'!AK18:AN18)/SQRT(4)) -> 4123.8484 | AE17: =AVERAGE('Single data'!AO18:AR18) -> 29809.348 | AF17: ± | AG17: =(_xlfn.STDEV.S('Single data'!AO18:AR18)/SQRT(4)) -> 6244.8883 | AH17: =AVERAGE('Single data'!AS18:AV18) -> 23070.246 | AI17: ± | AJ17: =_xlfn.STDEV.S('Single data'!AS18:AV18)/SQRT(4) -> 4119.3333 | AK17: =AVERAGE('Single data'!AW18:AZ18) -> 23762.701 | AL17: ± | AM17: =(_xlfn.STDEV.S('Single data'!AW18:AZ18)/SQRT(4)) -> 5062.375 | AN17: =AVERAGE('Single data'!BA18:BD18) -> 15559.173 | AO17: ± | AP17: =_xlfn.STDEV.S('Single data'!BA18:BD18)/SQRT(4) -> 3730.4031 | AQ17: =AVERAGE('Single data'!BE18:BH18) -> 27024.723 | AR17: ± | AS17: =(_xlfn.STDEV.S('Single data'!BE18:BH18)/SQRT(4)) -> 3986.669 | AT17: =AVERAGE('Single data'!BI18:BL18) -> 22180.862 | AU17: ± | AV17: =_xlfn.STDEV.S('Single data'!BI18:BL18)/SQRT(4) -> 4489.757 | AW17: =AVERAGE('Single data'!BM18:BP18) -> 24824.066 | AX17: ± | AY17: =(_xlfn.STDEV.S('Single data'!BM18:BP18)/SQRT(4)) -> 4316.9237 | AZ17: =AVERAGE('Single data'!BQ18:BT18) -> 19516.989 | BA17: ± | BB17: =_xlfn.STDEV.S('Single data'!BQ18:BT18)/SQRT(4) -> 3611.7153
C18: 17-HDPA | D18: =AVERAGE('Single data'!D19:H19) -> 33332.703 | E18: ± | F18: =(_xlfn.STDEV.S('Single data'!D19:H19)/SQRT(4)) -> 4811.6491 | G18: =AVERAGE('Single data'!I19:L19) -> 26680.665 | H18: ± | I18: =(_xlfn.STDEV.S('Single data'!I19:L19)/SQRT(4)) -> 3697.8834 | J18: =AVERAGE('Single data'!M19:P19) -> 24398.19 | K18: ± | L18: =(_xlfn.STDEV.S('Single data'!M19:P19)/SQRT(4)) -> 3912.0302 | M18: =AVERAGE('Single data'!Q19:T19) -> 26812.131 | N18: ± | O18: =(_xlfn.STDEV.S('Single data'!Q19:T19)/SQRT(4)) -> 5819.4488 | P18: =AVERAGE('Single data'!U19:X19) -> 17224.236 | Q18: ± | R18: {=_xlfn.STDEV.S('Single data'!U19:X19/SQRT(4))} -> 4134.9591 | S18: =AVERAGE('Single data'!Y19:AB19) -> 25211.396 | T18: ± | U18: =(_xlfn.STDEV.S('Single data'!Y19:AB19)/SQRT(4)) -> 4703.5418 | V18: =AVERAGE('Single data'!AC19:AF19) -> 22568.821 | W18: ± | X18: =(_xlfn.STDEV.S('Single data'!AC19:AF19)/SQRT(4)) -> 4916.6813 | Y18: =AVERAGE('Single data'!AG19:AJ19) -> 27596.797 | Z18: ± | AA18: =(_xlfn.STDEV.S('Single data'!AG19:AJ19)/SQRT(4)) -> 4714.774 | AB18: =AVERAGE('Single data'!AK19:AN19) -> 25774.085 | AC18: ± | AD18: =(_xlfn.STDEV.S('Single data'!AK19:AN19)/SQRT(4)) -> 3580.9609 | AE18: =AVERAGE('Single data'!AO19:AR19) -> 30474.218 | AF18: ± | AG18: =(_xlfn.STDEV.S('Single data'!AO19:AR19)/SQRT(4)) -> 5146.0265 | AH18: =AVERAGE('Single data'!AS19:AV19) -> 27007.291 | AI18: ± | AJ18: =_xlfn.STDEV.S('Single data'!AS19:AV19)/SQRT(4) -> 2731.4124 | AK18: =AVERAGE('Single data'!AW19:AZ19) -> 25226.497 | AL18: ± | AM18: =(_xlfn.STDEV.S('Single data'!AW19:AZ19)/SQRT(4)) -> 4225.113 | AN18: =AVERAGE('Single data'!BA19:BD19) -> 18220.321 | AO18: ± | AP18: =_xlfn.STDEV.S('Single data'!BA19:BD19)/SQRT(4) -> 3855.7962 | AQ18: =AVERAGE('Single data'!BE19:BH19) -> 30903.213 | AR18: ± | AS18: =(_xlfn.STDEV.S('Single data'!BE19:BH19)/SQRT(4)) -> 6435.549 | AT18: =AVERAGE('Single data'!BI19:BL19) -> 28485.519 | AU18: ± | AV18: =_xlfn.STDEV.S('Single data'!BI19:BL19)/SQRT(4) -> 5945.6788 | AW18: =AVERAGE('Single data'!BM19:BP19) -> 29066.803 | AX18: ± | AY18: =(_xlfn.STDEV.S('Single data'!BM19:BP19)/SQRT(4)) -> 6920.7805 | AZ18: =AVERAGE('Single data'!BQ19:BT19) -> 24867.428 | BA18: ± | BB18: =_xlfn.STDEV.S('Single data'!BQ19:BT19)/SQRT(4) -> 5589.6634
C19: 15-HETE | D19: =AVERAGE('Single data'!D20:H20) -> 58858.95 | E19: ± | F19: =(_xlfn.STDEV.S('Single data'!D20:H20)/SQRT(4)) -> 17275.951 | G19: =AVERAGE('Single data'!I20:L20) -> 55795.067 | H19: ± | I19: =(_xlfn.STDEV.S('Single data'!I20:L20)/SQRT(4)) -> 12576.497 | J19: =AVERAGE('Single data'!M20:P20) -> 53355.521 | K19: ± | L19: =(_xlfn.STDEV.S('Single data'!M20:P20)/SQRT(4)) -> 13391.809 | M19: =AVERAGE('Single data'!Q20:T20) -> 55336.59 | N19: ± | O19: =(_xlfn.STDEV.S('Single data'!Q20:T20)/SQRT(4)) -> 10560.243 | P19: =AVERAGE('Single data'!U20:X20) -> 51322.295 | Q19: ± | R19: {=_xlfn.STDEV.S('Single data'!U20:X20/SQRT(4))} -> 14048.891 | S19: =AVERAGE('Single data'!Y20:AB20) -> 61038.315 | T19: ± | U19: =(_xlfn.STDEV.S('Single data'!Y20:AB20)/SQRT(4)) -> 13923.674 | V19: =AVERAGE('Single data'!AC20:AF20) -> 57683.755 | W19: ± | X19: =(_xlfn.STDEV.S('Single data'!AC20:AF20)/SQRT(4)) -> 12500.257 | Y19: =AVERAGE('Single data'!AG20:AJ20) -> 70622.61 | Z19: ± | AA19: =(_xlfn.STDEV.S('Single data'!AG20:AJ20)/SQRT(4)) -> 23329.616 | AB19: =AVERAGE('Single data'!AK20:AN20) -> 74122.597 | AC19: ± | AD19: =(_xlfn.STDEV.S('Single data'!AK20:AN20)/SQRT(4)) -> 18097.213 | AE19: =AVERAGE('Single data'!AO20:AR20) -> 55232.844 | AF19: ± | AG19: =(_xlfn.STDEV.S('Single data'!AO20:AR20)/SQRT(4)) -> 9894.18 | AH19: =AVERAGE('Single data'!AS20:AV20) -> 57101.307 | AI19: ± | AJ19: =_xlfn.STDEV.S('Single data'!AS20:AV20)/SQRT(4) -> 10586.473 | AK19: =AVERAGE('Single data'!AW20:AZ20) -> 54806.523 | AL19: ± | AM19: =(_xlfn.STDEV.S('Single data'!AW20:AZ20)/SQRT(4)) -> 11499.813 | AN19: =AVERAGE('Single data'!BA20:BD20) -> 55354.716 | AO19: ± | AP19: =_xlfn.STDEV.S('Single data'!BA20:BD20)/SQRT(4) -> 8842.2823 | AQ19: =AVERAGE('Single data'!BE20:BH20) -> 67687.853 | AR19: ± | AS19: =(_xlfn.STDEV.S('Single data'!BE20:BH20)/SQRT(4)) -> 15989.359 | AT19: =AVERAGE('Single data'!BI20:BL20) -> 57254.767 | AU19: ± | AV19: =_xlfn.STDEV.S('Single data'!BI20:BL20)/SQRT(4) -> 6987.5546 | AW19: =AVERAGE('Single data'!BM20:BP20) -> 61717.619 | AX19: ± | AY19: =(_xlfn.STDEV.S('Single data'!BM20:BP20)/SQRT(4)) -> 9011.6605 | AZ19: =AVERAGE('Single data'!BQ20:BT20) -> 51400.443 | BA19: ± | BB19: =_xlfn.STDEV.S('Single data'!BQ20:BT20)/SQRT(4) -> 6642.7242
C20: 14-HDHA | D20: =AVERAGE('Single data'!D21:H21) -> 6687.245 | E20: ± | F20: =(_xlfn.STDEV.S('Single data'!D21:H21)/SQRT(4)) -> 1618.2741 | G20: =AVERAGE('Single data'!I21:L21) -> 5575.6346 | H20: ± | I20: =(_xlfn.STDEV.S('Single data'!I21:L21)/SQRT(4)) -> 1508.036 | J20: =AVERAGE('Single data'!M21:P21) -> 4959.3383 | K20: ± | L20: =(_xlfn.STDEV.S('Single data'!M21:P21)/SQRT(4)) -> 1531.4519 | M20: =AVERAGE('Single data'!Q21:T21) -> 5945.5237 | N20: ± | O20: =(_xlfn.STDEV.S('Single data'!Q21:T21)/SQRT(4)) -> 1526.279 | P20: =AVERAGE('Single data'!U21:X21) -> 3946.6752 | Q20: ± | R20: {=_xlfn.STDEV.S('Single data'!U21:X21/SQRT(4))} -> 1220.603 | S20: =AVERAGE('Single data'!Y21:AB21) -> 5750.5815 | T20: ± | U20: =(_xlfn.STDEV.S('Single data'!Y21:AB21)/SQRT(4)) -> 1536.4758 | V20: =AVERAGE('Single data'!AC21:AF21) -> 4573.1836 | W20: ± | X20: =(_xlfn.STDEV.S('Single data'!AC21:AF21)/SQRT(4)) -> 1282.451 | Y20: =AVERAGE('Single data'!AG21:AJ21) -> 5735.5647 | Z20: ± | AA20: =(_xlfn.STDEV.S('Single data'!AG21:AJ21)/SQRT(4)) -> 1635.7483 | AB20: =AVERAGE('Single data'!AK21:AN21) -> 5301.3904 | AC20: ± | AD20: =(_xlfn.STDEV.S('Single data'!AK21:AN21)/SQRT(4)) -> 1493.2452 | AE20: =AVERAGE('Single data'!AO21:AR21) -> 6229.3462 | AF20: ± | AG20: =(_xlfn.STDEV.S('Single data'!AO21:AR21)/SQRT(4)) -> 1269.1669 | AH20: =AVERAGE('Single data'!AS21:AV21) -> 5650.7486 | AI20: ± | AJ20: =_xlfn.STDEV.S('Single data'!AS21:AV21)/SQRT(4) -> 1323.1027 | AK20: =AVERAGE('Single data'!AW21:AZ21) -> 5324.6929 | AL20: ± | AM20: =(_xlfn.STDEV.S('Single data'!AW21:AZ21)/SQRT(4)) -> 1270.5045 | AN20: =AVERAGE('Single data'!BA21:BD21) -> 3846.6539 | AO20: ± | AP20: =_xlfn.STDEV.S('Single data'!BA21:BD21)/SQRT(4) -> 1285.7537 | AQ20: =AVERAGE('Single data'!BE21:BH21) -> 6546.5719 | AR20: ± | AS20: =(_xlfn.STDEV.S('Single data'!BE21:BH21)/SQRT(4)) -> 1677.3621 | AT20: =AVERAGE('Single data'!BI21:BL21) -> 4829.516 | AU20: ± | AV20: =_xlfn.STDEV.S('Single data'!BI21:BL21)/SQRT(4) -> 1343.4011 | AW20: =AVERAGE('Single data'!BM21:BP21) -> 6168.2828 | AX20: ± | AY20: =(_xlfn.STDEV.S('Single data'!BM21:BP21)/SQRT(4)) -> 1763.7017 | AZ20: =AVERAGE('Single data'!BQ21:BT21) -> 4134.7955 | BA20: ± | BB20: =_xlfn.STDEV.S('Single data'!BQ21:BT21)/SQRT(4) -> 1207.7288
C21: 18-HEPE | D21: =AVERAGE('Single data'!D22:H22) -> 401.87094 | E21: ± | F21: =(_xlfn.STDEV.S('Single data'!D22:H22)/SQRT(4)) -> 109.25401 | G21: =AVERAGE('Single data'!I22:L22) -> 289.94758 | H21: ± | I21: =(_xlfn.STDEV.S('Single data'!I22:L22)/SQRT(4)) -> 87.643371 | J21: =AVERAGE('Single data'!M22:P22) -> 158.99326 | K21: ± | L21: =(_xlfn.STDEV.S('Single data'!M22:P22)/SQRT(4)) -> 48.779044 | M21: =AVERAGE('Single data'!Q22:T22) -> 181.18224 | N21: ± | O21: =(_xlfn.STDEV.S('Single data'!Q22:T22)/SQRT(4)) -> 42.062203 | P21: =AVERAGE('Single data'!U22:X22) -> 98.125222 | Q21: ± | R21: {=_xlfn.STDEV.S('Single data'!U22:X22/SQRT(4))} -> 32.132061 | S21: =AVERAGE('Single data'!Y22:AB22) -> 236.15937 | T21: ± | U21: =(_xlfn.STDEV.S('Single data'!Y22:AB22)/SQRT(4)) -> 72.256993 | V21: =AVERAGE('Single data'!AC22:AF22) -> 96.451957 | W21: ± | X21: =(_xlfn.STDEV.S('Single data'!AC22:AF22)/SQRT(4)) -> 23.58009 | Y21: =AVERAGE('Single data'!AG22:AJ22) -> 291.90153 | Z21: ± | AA21: =(_xlfn.STDEV.S('Single data'!AG22:AJ22)/SQRT(4)) -> 90.250208 | AB21: =AVERAGE('Single data'!AK22:AN22) -> 127.08169 | AC21: ± | AD21: =(_xlfn.STDEV.S('Single data'!AK22:AN22)/SQRT(4)) -> 29.842733 | AE21: =AVERAGE('Single data'!AO22:AR22) -> 290.96578 | AF21: ± | AG21: =(_xlfn.STDEV.S('Single data'!AO22:AR22)/SQRT(4)) -> 81.834392 | AH21: =AVERAGE('Single data'!AS22:AV22) -> 112.44354 | AI21: ± | AJ21: =_xlfn.STDEV.S('Single data'!AS22:AV22)/SQRT(4) -> 28.500339 | AK21: =AVERAGE('Single data'!AW22:AZ22) -> 180.71717 | AL21: ± | AM21: =(_xlfn.STDEV.S('Single data'!AW22:AZ22)/SQRT(4)) -> 47.15228 | AN21: =AVERAGE('Single data'!BA22:BD22) -> 91.360811 | AO21: ± | AP21: =_xlfn.STDEV.S('Single data'!BA22:BD22)/SQRT(4) -> 21.535184 | AQ21: =AVERAGE('Single data'!BE22:BH22) -> 286.78516 | AR21: ± | AS21: =(_xlfn.STDEV.S('Single data'!BE22:BH22)/SQRT(4)) -> 65.994336 | AT21: =AVERAGE('Single data'!BI22:BL22) -> 121.62839 | AU21: ± | AV21: =_xlfn.STDEV.S('Single data'!BI22:BL22)/SQRT(4) -> 16.786157 | AW21: =AVERAGE('Single data'!BM22:BP22) -> 237.55908 | AX21: ± | AY21: =(_xlfn.STDEV.S('Single data'!BM22:BP22)/SQRT(4)) -> 58.693397 | AZ21: =AVERAGE('Single data'!BQ22:BT22) -> 110.05428 | BA21: ± | BB21: =_xlfn.STDEV.S('Single data'!BQ22:BT22)/SQRT(4) -> 18.660153
B22: ALOX 12/15 | C22: 15-HEPE | D22: =AVERAGE('Single data'!D23:H23) -> 8274.5043 | E22: ± | F22: =(_xlfn.STDEV.S('Single data'!D23:H23)/SQRT(4)) -> 3000.9461 | G22: =AVERAGE('Single data'!I23:L23) -> 8082.4189 | H22: ± | I22: =(_xlfn.STDEV.S('Single data'!I23:L23)/SQRT(4)) -> 2716.5233 | J22: =AVERAGE('Single data'!M23:P23) -> 8192.3583 | K22: ± | L22: =(_xlfn.STDEV.S('Single data'!M23:P23)/SQRT(4)) -> 3115.1067 | M22: =AVERAGE('Single data'!Q23:T23) -> 8779.832 | N22: ± | O22: =(_xlfn.STDEV.S('Single data'!Q23:T23)/SQRT(4)) -> 2842.7555 | P22: =AVERAGE('Single data'!U23:X23) -> 7145.912 | Q22: ± | R22: {=_xlfn.STDEV.S('Single data'!U23:X23/SQRT(4))} -> 3039.0627 | S22: =AVERAGE('Single data'!Y23:AB23) -> 9031.2136 | T22: ± | U22: =(_xlfn.STDEV.S('Single data'!Y23:AB23)/SQRT(4)) -> 3092.8129 | V22: =AVERAGE('Single data'!AC23:AF23) -> 8737.192 | W22: ± | X22: =(_xlfn.STDEV.S('Single data'!AC23:AF23)/SQRT(4)) -> 3238.734 | Y22: =AVERAGE('Single data'!AG23:AJ23) -> 9869.15 | Z22: ± | AA22: =(_xlfn.STDEV.S('Single data'!AG23:AJ23)/SQRT(4)) -> 3682.9946 | AB22: =AVERAGE('Single data'!AK23:AN23) -> 9804.8675 | AC22: ± | AD22: =(_xlfn.STDEV.S('Single data'!AK23:AN23)/SQRT(4)) -> 3934.633 | AE22: =AVERAGE('Single data'!AO23:AR23) -> 7692.2321 | AF22: ± | AG22: =(_xlfn.STDEV.S('Single data'!AO23:AR23)/SQRT(4)) -> 1999.5995 | AH22: =AVERAGE('Single data'!AS23:AV23) -> 7872.6271 | AI22: ± | AJ22: =_xlfn.STDEV.S('Single data'!AS23:AV23)/SQRT(4) -> 2660.8762 | AK22: =AVERAGE('Single data'!AW23:AZ23) -> 8026.5244 | AL22: ± | AM22: =(_xlfn.STDEV.S('Single data'!AW23:AZ23)/SQRT(4)) -> 2631.2188 | AN22: =AVERAGE('Single data'!BA23:BD23) -> 7739.6801 | AO22: ± | AP22: =_xlfn.STDEV.S('Single data'!BA23:BD23)/SQRT(4) -> 3122.7822 | AQ22: =AVERAGE('Single data'!BE23:BH23) -> 10661.649 | AR22: ± | AS22: =(_xlfn.STDEV.S('Single data'!BE23:BH23)/SQRT(4)) -> 3252.586 | AT22: =AVERAGE('Single data'!BI23:BL23) -> 9388.2925 | AU22: ± | AV22: =_xlfn.STDEV.S('Single data'!BI23:BL23)/SQRT(4) -> 2705.5993 | AW22: =AVERAGE('Single data'!BM23:BP23) -> 10333.303 | AX22: ± | AY22: =(_xlfn.STDEV.S('Single data'!BM23:BP23)/SQRT(4)) -> 3186.2828 | AZ22: =AVERAGE('Single data'!BQ23:BT23) -> 8506.7975 | BA22: ± | BB22: =_xlfn.STDEV.S('Single data'!BQ23:BT23)/SQRT(4) -> 2482.5632
C23: 14-HDPA | D23: =AVERAGE('Single data'!D24:H24) -> 11324.225 | E23: ± | F23: =(_xlfn.STDEV.S('Single data'!D24:H24)/SQRT(4)) -> 2606.3636 | G23: =AVERAGE('Single data'!I24:L24) -> 8450.6005 | H23: ± | I23: =(_xlfn.STDEV.S('Single data'!I24:L24)/SQRT(4)) -> 1794.1942 | J23: =AVERAGE('Single data'!M24:P24) -> 7123.384 | K23: ± | L23: =(_xlfn.STDEV.S('Single data'!M24:P24)/SQRT(4)) -> 1732.4253 | M23: =AVERAGE('Single data'!Q24:T24) -> 9860.3927 | N23: ± | O23: =(_xlfn.STDEV.S('Single data'!Q24:T24)/SQRT(4)) -> 2840.8442 | P23: =AVERAGE('Single data'!U24:X24) -> 6380.2886 | Q23: ± | R23: {=_xlfn.STDEV.S('Single data'!U24:X24/SQRT(4))} -> 1790.2778 | S23: =AVERAGE('Single data'!Y24:AB24) -> 8274.0631 | T23: ± | U23: =(_xlfn.STDEV.S('Single data'!Y24:AB24)/SQRT(4)) -> 1742.8138 | V23: =AVERAGE('Single data'!AC24:AF24) -> 7133.2636 | W23: ± | X23: =(_xlfn.STDEV.S('Single data'!AC24:AF24)/SQRT(4)) -> 1901.5642 | Y23: =AVERAGE('Single data'!AG24:AJ24) -> 8128.3813 | Z23: ± | AA23: =(_xlfn.STDEV.S('Single data'!AG24:AJ24)/SQRT(4)) -> 2029.3582 | AB23: =AVERAGE('Single data'!AK24:AN24) -> 7951.3236 | AC23: ± | AD23: =(_xlfn.STDEV.S('Single data'!AK24:AN24)/SQRT(4)) -> 1927.5036 | AE23: =AVERAGE('Single data'!AO24:AR24) -> 9430.5531 | AF23: ± | AG23: =(_xlfn.STDEV.S('Single data'!AO24:AR24)/SQRT(4)) -> 1500.5208 | AH23: =AVERAGE('Single data'!AS24:AV24) -> 8908.2074 | AI23: ± | AJ23: =_xlfn.STDEV.S('Single data'!AS24:AV24)/SQRT(4) -> 1425.9765 | AK23: =AVERAGE('Single data'!AW24:AZ24) -> 8133.3381 | AL23: ± | AM23: =(_xlfn.STDEV.S('Single data'!AW24:AZ24)/SQRT(4)) -> 1601.473 | AN23: =AVERAGE('Single data'!BA24:BD24) -> 6141.9825 | AO23: ± | AP23: =_xlfn.STDEV.S('Single data'!BA24:BD24)/SQRT(4) -> 1791.6799 | AQ23: =AVERAGE('Single data'!BE24:BH24) -> 10321.215 | AR23: ± | AS23: =(_xlfn.STDEV.S('Single data'!BE24:BH24)/SQRT(4)) -> 2725.9437 | AT23: =AVERAGE('Single data'!BI24:BL24) -> 8222.5701 | AU23: ± | AV23: =_xlfn.STDEV.S('Single data'!BI24:BL24)/SQRT(4) -> 2337.8893 | AW23: =AVERAGE('Single data'!BM24:BP24) -> 9998.5164 | AX23: ± | AY23: =(_xlfn.STDEV.S('Single data'!BM24:BP24)/SQRT(4)) -> 2948.0575 | AZ23: =AVERAGE('Single data'!BQ24:BT24) -> 6932.1566 | BA23: ± | BB23: =_xlfn.STDEV.S('Single data'!BQ24:BT24)/SQRT(4) -> 1970.5228
C24: 12-HEPE | D24: =AVERAGE('Single data'!D25:H25) -> 1463.2701 | E24: ± | F24: =(_xlfn.STDEV.S('Single data'!D25:H25)/SQRT(4)) -> 539.69181 | G24: =AVERAGE('Single data'!I25:L25) -> 1376.0643 | H24: ± | I24: =(_xlfn.STDEV.S('Single data'!I25:L25)/SQRT(4)) -> 522.71676 | J24: =AVERAGE('Single data'!M25:P25) -> 1274.9367 | K24: ± | L24: =(_xlfn.STDEV.S('Single data'!M25:P25)/SQRT(4)) -> 549.96434 | M24: =AVERAGE('Single data'!Q25:T25) -> 1415.5594 | N24: ± | O24: =(_xlfn.STDEV.S('Single data'!Q25:T25)/SQRT(4)) -> 447.03398 | P24: =AVERAGE('Single data'!U25:X25) -> 1036.2481 | Q24: ± | R24: {=_xlfn.STDEV.S('Single data'!U25:X25/SQRT(4))} -> 458.63586 | S24: =AVERAGE('Single data'!Y25:AB25) -> 1556.0306 | T24: ± | U24: =(_xlfn.STDEV.S('Single data'!Y25:AB25)/SQRT(4)) -> 605.50655 | V24: =AVERAGE('Single data'!AC25:AF25) -> 1270.5999 | W24: ± | X24: =(_xlfn.STDEV.S('Single data'!AC25:AF25)/SQRT(4)) -> 517.89572 | Y24: =AVERAGE('Single data'!AG25:AJ25) -> 1553.066 | Z24: ± | AA24: =(_xlfn.STDEV.S('Single data'!AG25:AJ25)/SQRT(4)) -> 565.82808 | AB24: =AVERAGE('Single data'!AK25:AN25) -> 1552.5646 | AC24: ± | AD24: =(_xlfn.STDEV.S('Single data'!AK25:AN25)/SQRT(4)) -> 669.04949 | AE24: =AVERAGE('Single data'!AO25:AR25) -> 1306.0973 | AF24: ± | AG24: =(_xlfn.STDEV.S('Single data'!AO25:AR25)/SQRT(4)) -> 405.10007 | AH24: =AVERAGE('Single data'!AS25:AV25) -> 1305.1266 | AI24: ± | AJ24: =_xlfn.STDEV.S('Single data'!AS25:AV25)/SQRT(4) -> 489.47183 | AK24: =AVERAGE('Single data'!AW25:AZ25) -> 1354.6193 | AL24: ± | AM24: =(_xlfn.STDEV.S('Single data'!AW25:AZ25)/SQRT(4)) -> 509.74464 | AN24: =AVERAGE('Single data'!BA25:BD25) -> 1133.7153 | AO24: ± | AP24: =_xlfn.STDEV.S('Single data'!BA25:BD25)/SQRT(4) -> 499.75609 | AQ24: =AVERAGE('Single data'!BE25:BH25) -> 1710.4233 | AR24: ± | AS24: =(_xlfn.STDEV.S('Single data'!BE25:BH25)/SQRT(4)) -> 532.48525 | AT24: =AVERAGE('Single data'!BI25:BL25) -> 1367.8803 | AU24: ± | AV24: =_xlfn.STDEV.S('Single data'!BI25:BL25)/SQRT(4) -> 424.74743 | AW24: =AVERAGE('Single data'!BM25:BP25) -> 1669.625 | AX24: ± | AY24: =(_xlfn.STDEV.S('Single data'!BM25:BP25)/SQRT(4)) -> 562.46749 | AZ24: =AVERAGE('Single data'!BQ25:BT25) -> 1222.992 | BA24: ± | BB24: =_xlfn.STDEV.S('Single data'!BQ25:BT25)/SQRT(4) -> 387.98529
C25: 12-HETE | D25: =AVERAGE('Single data'!D26:H26) -> 12396.826 | E25: ± | F25: =(_xlfn.STDEV.S('Single data'!D26:H26)/SQRT(4)) -> 5019.7459 | G25: =AVERAGE('Single data'!I26:L26) -> 11289.734 | H25: ± | I25: =(_xlfn.STDEV.S('Single data'!I26:L26)/SQRT(4)) -> 4460.6872 | J25: =AVERAGE('Single data'!M26:P26) -> 10814.671 | K25: ± | L25: =(_xlfn.STDEV.S('Single data'!M26:P26)/SQRT(4)) -> 4585.6379 | M25: =AVERAGE('Single data'!Q26:T26) -> 12308.71 | N25: ± | O25: =(_xlfn.STDEV.S('Single data'!Q26:T26)/SQRT(4)) -> 4302.2597 | P25: =AVERAGE('Single data'!U26:X26) -> 9829.8721 | Q25: ± | R25: {=_xlfn.STDEV.S('Single data'!U26:X26/SQRT(4))} -> 3963.2853 | S25: =AVERAGE('Single data'!Y26:AB26) -> 12425.457 | T25: ± | U25: =(_xlfn.STDEV.S('Single data'!Y26:AB26)/SQRT(4)) -> 4673.1467 | V25: =AVERAGE('Single data'!AC26:AF26) -> 12900.004 | W25: ± | X25: =(_xlfn.STDEV.S('Single data'!AC26:AF26)/SQRT(4)) -> 5010.3055 | Y25: =AVERAGE('Single data'!AG26:AJ26) -> 11957.228 | Z25: ± | AA25: =(_xlfn.STDEV.S('Single data'!AG26:AJ26)/SQRT(4)) -> 4597.4193 | AB25: =AVERAGE('Single data'!AK26:AN26) -> 14878.802 | AC25: ± | AD25: =(_xlfn.STDEV.S('Single data'!AK26:AN26)/SQRT(4)) -> 6046.3174 | AE25: =AVERAGE('Single data'!AO26:AR26) -> 11044.129 | AF25: ± | AG25: =(_xlfn.STDEV.S('Single data'!AO26:AR26)/SQRT(4)) -> 3427.2723 | AH25: =AVERAGE('Single data'!AS26:AV26) -> 13136.829 | AI25: ± | AJ25: =_xlfn.STDEV.S('Single data'!AS26:AV26)/SQRT(4) -> 4776.4255 | AK25: =AVERAGE('Single data'!AW26:AZ26) -> 11954.447 | AL25: ± | AM25: =(_xlfn.STDEV.S('Single data'!AW26:AZ26)/SQRT(4)) -> 4508.154 | AN25: =AVERAGE('Single data'!BA26:BD26) -> 11986.773 | AO25: ± | AP25: =_xlfn.STDEV.S('Single data'!BA26:BD26)/SQRT(4) -> 4691.2391 | AQ25: =AVERAGE('Single data'!BE26:BH26) -> 13792.188 | AR25: ± | AS25: =(_xlfn.STDEV.S('Single data'!BE26:BH26)/SQRT(4)) -> 4748.6063 | AT25: =AVERAGE('Single data'!BI26:BL26) -> 12221.856 | AU25: ± | AV25: =_xlfn.STDEV.S('Single data'!BI26:BL26)/SQRT(4) -> 4060.507 | AW25: =AVERAGE('Single data'!BM26:BP26) -> 13701.56 | AX25: ± | AY25: =(_xlfn.STDEV.S('Single data'!BM26:BP26)/SQRT(4)) -> 5157.6048 | AZ25: =AVERAGE('Single data'!BQ26:BT26) -> 10918.909 | BA25: ± | BB25: =_xlfn.STDEV.S('Single data'!BQ26:BT26)/SQRT(4) -> 3906.0683
B26: ALOX5 | C26: LTB4 isomers | D26: =AVERAGE('Single data'!D27:H27) -> 2193.4577 | E26: ± | F26: =(_xlfn.STDEV.S('Single data'!D27:H27)/SQRT(4)) -> 1140.983 | G26: =AVERAGE('Single data'!I27:L27) -> 1872.9496 | H26: ± | I26: =(_xlfn.STDEV.S('Single data'!I27:L27)/SQRT(4)) -> 842.2361 | J26: =AVERAGE('Single data'!M27:P27) -> 1307.72 | K26: ± | L26: =(_xlfn.STDEV.S('Single data'!M27:P27)/SQRT(4)) -> 620.56589 | M26: =AVERAGE('Single data'!Q27:T27) -> 1699.6167 | N26: ± | O26: =(_xlfn.STDEV.S('Single data'!Q27:T27)/SQRT(4)) -> 589.82639 | P26: =AVERAGE('Single data'!U27:X27) -> 1101.4009 | Q26: ± | R26: {=_xlfn.STDEV.S('Single data'!U27:X27/SQRT(4))} -> 365.48852 | S26: =AVERAGE('Single data'!Y27:AB27) -> 1852.6228 | T26: ± | U26: =(_xlfn.STDEV.S('Single data'!Y27:AB27)/SQRT(4)) -> 836.1138 | V26: =AVERAGE('Single data'!AC27:AF27) -> 1414.6724 | W26: ± | X26: =(_xlfn.STDEV.S('Single data'!AC27:AF27)/SQRT(4)) -> 673.2712 | Y26: =AVERAGE('Single data'!AG27:AJ27) -> 1750.8475 | Z26: ± | AA26: =(_xlfn.STDEV.S('Single data'!AG27:AJ27)/SQRT(4)) -> 810.80555 | AB26: =AVERAGE('Single data'!AK27:AN27) -> 939.28354 | AC26: ± | AD26: =(_xlfn.STDEV.S('Single data'!AK27:AN27)/SQRT(4)) -> 466.52056 | AE26: =AVERAGE('Single data'!AO27:AR27) -> 1654.5819 | AF26: ± | AG26: =(_xlfn.STDEV.S('Single data'!AO27:AR27)/SQRT(4)) -> 751.98538 | AH26: =AVERAGE('Single data'!AS27:AV27) -> 825.23318 | AI26: ± | AJ26: =_xlfn.STDEV.S('Single data'!AS27:AV27)/SQRT(4) -> 325.52476 | AK26: =AVERAGE('Single data'!AW27:AZ27) -> 1570.6931 | AL26: ± | AM26: =(_xlfn.STDEV.S('Single data'!AW27:AZ27)/SQRT(4)) -> 666.6783 | AN26: =AVERAGE('Single data'!BA27:BD27) -> 1010.828 | AO26: ± | AP26: =_xlfn.STDEV.S('Single data'!BA27:BD27)/SQRT(4) -> 519.25313 | AQ26: =AVERAGE('Single data'!BE27:BH27) -> 1889.3168 | AR26: ± | AS26: =(_xlfn.STDEV.S('Single data'!BE27:BH27)/SQRT(4)) -> 670.60313 | AT26: =AVERAGE('Single data'!BI27:BL27) -> 1637.9674 | AU26: ± | AV26: =_xlfn.STDEV.S('Single data'!BI27:BL27)/SQRT(4) -> 522.46082 | AW26: =AVERAGE('Single data'!BM27:BP27) -> 1941.988 | AX26: ± | AY26: =(_xlfn.STDEV.S('Single data'!BM27:BP27)/SQRT(4)) -> 802.85594 | AZ26: =AVERAGE('Single data'!BQ27:BT27) -> 1408.4928 | BA26: ± | BB26: =_xlfn.STDEV.S('Single data'!BQ27:BT27)/SQRT(4) -> 476.79318
C27: LTB4 | D27: =AVERAGE('Single data'!D28:H28) -> 4562.5469 | E27: ± | F27: =(_xlfn.STDEV.S('Single data'!D28:H28)/SQRT(4)) -> 2618.3559 | G27: =AVERAGE('Single data'!I28:L28) -> 3557.8398 | H27: ± | I27: =(_xlfn.STDEV.S('Single data'!I28:L28)/SQRT(4)) -> 1586.8491 | J27: =AVERAGE('Single data'!M28:P28) -> 2034.5077 | K27: ± | L27: =(_xlfn.STDEV.S('Single data'!M28:P28)/SQRT(4)) -> 943.3091 | M27: =AVERAGE('Single data'!Q28:T28) -> 2615.1799 | N27: ± | O27: =(_xlfn.STDEV.S('Single data'!Q28:T28)/SQRT(4)) -> 1161.3012 | P27: =AVERAGE('Single data'!U28:X28) -> 715.49122 | Q27: ± | R27: {=_xlfn.STDEV.S('Single data'!U28:X28/SQRT(4))} -> 331.54091 | S27: =AVERAGE('Single data'!Y28:AB28) -> 3535.1942 | T27: ± | U27: =(_xlfn.STDEV.S('Single data'!Y28:AB28)/SQRT(4)) -> 1563.8916 | V27: =AVERAGE('Single data'!AC28:AF28) -> 2144.7249 | W27: ± | X27: =(_xlfn.STDEV.S('Single data'!AC28:AF28)/SQRT(4)) -> 1021.9051 | Y27: =AVERAGE('Single data'!AG28:AJ28) -> 3119.0507 | Z27: ± | AA27: =(_xlfn.STDEV.S('Single data'!AG28:AJ28)/SQRT(4)) -> 1378.2007 | AB27: =AVERAGE('Single data'!AK28:AN28) -> 995.00575 | AC27: ± | AD27: =(_xlfn.STDEV.S('Single data'!AK28:AN28)/SQRT(4)) -> 491.03624 | AE27: =AVERAGE('Single data'!AO28:AR28) -> 3033.4616 | AF27: ± | AG27: =(_xlfn.STDEV.S('Single data'!AO28:AR28)/SQRT(4)) -> 1324.7167 | AH27: =AVERAGE('Single data'!AS28:AV28) -> 835.58545 | AI27: ± | AJ27: =_xlfn.STDEV.S('Single data'!AS28:AV28)/SQRT(4) -> 431.88129 | AK27: =AVERAGE('Single data'!AW28:AZ28) -> 2524.614 | AL27: ± | AM27: =(_xlfn.STDEV.S('Single data'!AW28:AZ28)/SQRT(4)) -> 1089.6508 | AN27: =AVERAGE('Single data'!BA28:BD28) -> 970.58391 | AO27: ± | AP27: =_xlfn.STDEV.S('Single data'!BA28:BD28)/SQRT(4) -> 532.2043 | AQ27: =AVERAGE('Single data'!BE28:BH28) -> 3252.6139 | AR27: ± | AS27: =(_xlfn.STDEV.S('Single data'!BE28:BH28)/SQRT(4)) -> 1367.2233 | AT27: =AVERAGE('Single data'!BI28:BL28) -> 1902.9519 | AU27: ± | AV27: =_xlfn.STDEV.S('Single data'!BI28:BL28)/SQRT(4) -> 846.50508 | AW27: =AVERAGE('Single data'!BM28:BP28) -> 3449.0741 | AX27: ± | AY27: =(_xlfn.STDEV.S('Single data'!BM28:BP28)/SQRT(4)) -> 1719.5768 | AZ27: =AVERAGE('Single data'!BQ28:BT28) -> 1743.419 | BA27: ± | BB27: =_xlfn.STDEV.S('Single data'!BQ28:BT28)/SQRT(4) -> 795.45862
C28: 5-HEPE | D28: =AVERAGE('Single data'!D29:H29) -> 223.37851 | E28: ± | F28: =(_xlfn.STDEV.S('Single data'!D29:H29)/SQRT(4)) -> 112.91025 | G28: =AVERAGE('Single data'!I29:L29) -> 192.80222 | H28: ± | I28: =(_xlfn.STDEV.S('Single data'!I29:L29)/SQRT(4)) -> 80.791125 | J28: =AVERAGE('Single data'!M29:P29) -> 103.41818 | K28: ± | L28: =(_xlfn.STDEV.S('Single data'!M29:P29)/SQRT(4)) -> 36.711038 | M28: =AVERAGE('Single data'!Q29:T29) -> 107.63827 | N28: ± | O28: =(_xlfn.STDEV.S('Single data'!Q29:T29)/SQRT(4)) -> 36.701138 | P28: =AVERAGE('Single data'!U29:X29) -> 46.149545 | Q28: ± | R28: {=_xlfn.STDEV.S('Single data'!U29:X29/SQRT(4))} -> 16.509123 | S28: =AVERAGE('Single data'!Y29:AB29) -> 168.6372 | T28: ± | U28: =(_xlfn.STDEV.S('Single data'!Y29:AB29)/SQRT(4)) -> 63.519117 | V28: =AVERAGE('Single data'!AC29:AF29) -> 86.766917 | W28: ± | X28: =(_xlfn.STDEV.S('Single data'!AC29:AF29)/SQRT(4)) -> 30.695474 | Y28: =AVERAGE('Single data'!AG29:AJ29) -> 208.54647 | Z28: ± | AA28: =(_xlfn.STDEV.S('Single data'!AG29:AJ29)/SQRT(4)) -> 97.190539 | AB28: =AVERAGE('Single data'!AK29:AN29) -> 67.444593 | AC28: ± | AD28: =(_xlfn.STDEV.S('Single data'!AK29:AN29)/SQRT(4)) -> 24.284098 | AE28: =AVERAGE('Single data'!AO29:AR29) -> 162.22058 | AF28: ± | AG28: =(_xlfn.STDEV.S('Single data'!AO29:AR29)/SQRT(4)) -> 59.573219 | AH28: =AVERAGE('Single data'!AS29:AV29) -> 52.745515 | AI28: ± | AJ28: =_xlfn.STDEV.S('Single data'!AS29:AV29)/SQRT(4) -> 16.623666 | AK28: =AVERAGE('Single data'!AW29:AZ29) -> 118.13002 | AL28: ± | AM28: =(_xlfn.STDEV.S('Single data'!AW29:AZ29)/SQRT(4)) -> 42.791208 | AN28: =AVERAGE('Single data'!BA29:BD29) -> 47.300533 | AO28: ± | AP28: =_xlfn.STDEV.S('Single data'!BA29:BD29)/SQRT(4) -> 17.391109 | AQ28: =AVERAGE('Single data'!BE29:BH29) -> 163.94756 | AR28: ± | AS28: =(_xlfn.STDEV.S('Single data'!BE29:BH29)/SQRT(4)) -> 56.495351 | AT28: =AVERAGE('Single data'!BI29:BL29) -> 87.84164 | AU28: ± | AV28: =_xlfn.STDEV.S('Single data'!BI29:BL29)/SQRT(4) -> 25.207636 | AW28: =AVERAGE('Single data'!BM29:BP29) -> 149.61103 | AX28: ± | AY28: =(_xlfn.STDEV.S('Single data'!BM29:BP29)/SQRT(4)) -> 48.243815 | AZ28: =AVERAGE('Single data'!BQ29:BT29) -> 78.512627 | BA28: ± | BB28: =_xlfn.STDEV.S('Single data'!BQ29:BT29)/SQRT(4) -> 22.716419
C29: 5-HETE | D29: =AVERAGE('Single data'!D30:H30) -> 1756.9039 | E29: ± | F29: =(_xlfn.STDEV.S('Single data'!D30:H30)/SQRT(4)) -> 905.52317 | G29: =AVERAGE('Single data'!I30:L30) -> 1354.7273 | H29: ± | I29: =(_xlfn.STDEV.S('Single data'!I30:L30)/SQRT(4)) -> 581.89351 | J29: =AVERAGE('Single data'!M30:P30) -> 648.82043 | K29: ± | L29: =(_xlfn.STDEV.S('Single data'!M30:P30)/SQRT(4)) -> 261.78093 | M29: =AVERAGE('Single data'!Q30:T30) -> 717.32343 | N29: ± | O29: =(_xlfn.STDEV.S('Single data'!Q30:T30)/SQRT(4)) -> 223.05421 | P29: =AVERAGE('Single data'!U30:X30) -> 216.2905 | Q29: ± | R29: {=_xlfn.STDEV.S('Single data'!U30:X30/SQRT(4))} -> 74.656645 | S29: =AVERAGE('Single data'!Y30:AB30) -> 1114.4509 | T29: ± | U29: =(_xlfn.STDEV.S('Single data'!Y30:AB30)/SQRT(4)) -> 411.69357 | V29: =AVERAGE('Single data'!AC30:AF30) -> 515.87394 | W29: ± | X29: =(_xlfn.STDEV.S('Single data'!AC30:AF30)/SQRT(4)) -> 192.59032 | Y29: =AVERAGE('Single data'!AG30:AJ30) -> 1124.2516 | Z29: ± | AA29: =(_xlfn.STDEV.S('Single data'!AG30:AJ30)/SQRT(4)) -> 418.75397 | AB29: =AVERAGE('Single data'!AK30:AN30) -> 394.83376 | AC29: ± | AD29: =(_xlfn.STDEV.S('Single data'!AK30:AN30)/SQRT(4)) -> 115.24154 | AE29: =AVERAGE('Single data'!AO30:AR30) -> 1080.4569 | AF29: ± | AG29: =(_xlfn.STDEV.S('Single data'!AO30:AR30)/SQRT(4)) -> 377.47882 | AH29: =AVERAGE('Single data'!AS30:AV30) -> 338.85782 | AI29: ± | AJ29: =_xlfn.STDEV.S('Single data'!AS30:AV30)/SQRT(4) -> 92.3661 | AK29: =AVERAGE('Single data'!AW30:AZ30) -> 802.50975 | AL29: ± | AM29: =(_xlfn.STDEV.S('Single data'!AW30:AZ30)/SQRT(4)) -> 288.64581 | AN29: =AVERAGE('Single data'!BA30:BD30) -> 248.13355 | AO29: ± | AP29: =_xlfn.STDEV.S('Single data'!BA30:BD30)/SQRT(4) -> 83.985042 | AQ29: =AVERAGE('Single data'!BE30:BH30) -> 967.36826 | AR29: ± | AS29: =(_xlfn.STDEV.S('Single data'!BE30:BH30)/SQRT(4)) -> 302.16127 | AT29: =AVERAGE('Single data'!BI30:BL30) -> 523.84388 | AU29: ± | AV29: =_xlfn.STDEV.S('Single data'!BI30:BL30)/SQRT(4) -> 130.26322 | AW29: =AVERAGE('Single data'!BM30:BP30) -> 958.95023 | AX29: ± | AY29: =(_xlfn.STDEV.S('Single data'!BM30:BP30)/SQRT(4)) -> 311.0061 | AZ29: =AVERAGE('Single data'!BQ30:BT30) -> 445.77085 | BA29: ± | BB29: =_xlfn.STDEV.S('Single data'!BQ30:BT30)/SQRT(4) -> 144.79494
B30: PUFA | C30: AA | D30: =AVERAGE('Single data'!D31:H31) -> 782192.12 | E30: ± | F30: =(_xlfn.STDEV.S('Single data'!D31:H31)/SQRT(4)) -> 109516.35 | G30: =AVERAGE('Single data'!I31:L31) -> 678545.93 | H30: ± | I30: =(_xlfn.STDEV.S('Single data'!I31:L31)/SQRT(4)) -> 125915.1 | J30: =AVERAGE('Single data'!M31:P31) -> 712133 | K30: ± | L30: =(_xlfn.STDEV.S('Single data'!M31:P31)/SQRT(4)) -> 117227.97 | M30: =AVERAGE('Single data'!Q31:T31) -> 761029.32 | N30: ± | O30: =(_xlfn.STDEV.S('Single data'!Q31:T31)/SQRT(4)) -> 164814.78 | P30: =AVERAGE('Single data'!U31:X31) -> 615169.02 | Q30: ± | R30: {=_xlfn.STDEV.S('Single data'!U31:X31/SQRT(4))} -> 80371.996 | S30: =AVERAGE('Single data'!Y31:AB31) -> 658271.32 | T30: ± | U30: =(_xlfn.STDEV.S('Single data'!Y31:AB31)/SQRT(4)) -> 97074.289 | V30: =AVERAGE('Single data'!AC31:AF31) -> 627758.06 | W30: ± | X30: =(_xlfn.STDEV.S('Single data'!AC31:AF31)/SQRT(4)) -> 87938.036 | Y30: =AVERAGE('Single data'!AG31:AJ31) -> 564318.64 | Z30: ± | AA30: =(_xlfn.STDEV.S('Single data'!AG31:AJ31)/SQRT(4)) -> 56209.958 | AB30: =AVERAGE('Single data'!AK31:AN31) -> 538546.37 | AC30: ± | AD30: =(_xlfn.STDEV.S('Single data'!AK31:AN31)/SQRT(4)) -> 79172.434 | AE30: =AVERAGE('Single data'!AO31:AR31) -> 652621.29 | AF30: ± | AG30: =(_xlfn.STDEV.S('Single data'!AO31:AR31)/SQRT(4)) -> 69919.834 | AH30: =AVERAGE('Single data'!AS31:AV31) -> 624264.68 | AI30: ± | AJ30: =_xlfn.STDEV.S('Single data'!AS31:AV31)/SQRT(4) -> 79372.396 | AK30: =AVERAGE('Single data'!AW31:AZ31) -> 618004.83 | AL30: ± | AM30: =(_xlfn.STDEV.S('Single data'!AW31:AZ31)/SQRT(4)) -> 82239.281 | AN30: =AVERAGE('Single data'!BA31:BD31) -> 596040.47 | AO30: ± | AP30: =_xlfn.STDEV.S('Single data'!BA31:BD31)/SQRT(4) -> 59301.3 | AQ30: =AVERAGE('Single data'!BE31:BH31) -> 720622.47 | AR30: ± | AS30: =(_xlfn.STDEV.S('Single data'!BE31:BH31)/SQRT(4)) -> 121385.72 | AT30: =AVERAGE('Single data'!BI31:BL31) -> 778120.13 | AU30: ± | AV30: =_xlfn.STDEV.S('Single data'!BI31:BL31)/SQRT(4) -> 127954.06 | AW30: =AVERAGE('Single data'!BM31:BP31) -> 719922.72 | AX30: ± | AY30: =(_xlfn.STDEV.S('Single data'!BM31:BP31)/SQRT(4)) -> 112166.46 | AZ30: =AVERAGE('Single data'!BQ31:BT31) -> 839761.81 | BA30: ± | BB30: =_xlfn.STDEV.S('Single data'!BQ31:BT31)/SQRT(4) -> 119095.36
C31: EPA | D31: =AVERAGE('Single data'!D32:H32) -> 118241.84 | E31: ± | F31: =(_xlfn.STDEV.S('Single data'!D32:H32)/SQRT(4)) -> 17547.407 | G31: =AVERAGE('Single data'!I32:L32) -> 109859.99 | H31: ± | I31: =(_xlfn.STDEV.S('Single data'!I32:L32)/SQRT(4)) -> 25856.149 | J31: =AVERAGE('Single data'!M32:P32) -> 113455.76 | K31: ± | L31: =(_xlfn.STDEV.S('Single data'!M32:P32)/SQRT(4)) -> 23473.924 | M31: =AVERAGE('Single data'!Q32:T32) -> 108023.7 | N31: ± | O31: =(_xlfn.STDEV.S('Single data'!Q32:T32)/SQRT(4)) -> 20853.277 | P31: =AVERAGE('Single data'!U32:X32) -> 79998.906 | Q31: ± | R31: {=_xlfn.STDEV.S('Single data'!U32:X32/SQRT(4))} -> 8807.1684 | S31: =AVERAGE('Single data'!Y32:AB32) -> 99380.261 | T31: ± | U31: =(_xlfn.STDEV.S('Single data'!Y32:AB32)/SQRT(4)) -> 16601.686 | V31: =AVERAGE('Single data'!AC32:AF32) -> 73180.777 | W31: ± | X31: =(_xlfn.STDEV.S('Single data'!AC32:AF32)/SQRT(4)) -> 11192.775 | Y31: =AVERAGE('Single data'!AG32:AJ32) -> 89368.345 | Z31: ± | AA31: =(_xlfn.STDEV.S('Single data'!AG32:AJ32)/SQRT(4)) -> 13568.11 | AB31: =AVERAGE('Single data'!AK32:AN32) -> 83697.43 | AC31: ± | AD31: =(_xlfn.STDEV.S('Single data'!AK32:AN32)/SQRT(4)) -> 14314.009 | AE31: =AVERAGE('Single data'!AO32:AR32) -> 107446.11 | AF31: ± | AG31: =(_xlfn.STDEV.S('Single data'!AO32:AR32)/SQRT(4)) -> 17167.365 | AH31: =AVERAGE('Single data'!AS32:AV32) -> 97323.134 | AI31: ± | AJ31: =_xlfn.STDEV.S('Single data'!AS32:AV32)/SQRT(4) -> 18904.327 | AK31: =AVERAGE('Single data'!AW32:AZ32) -> 91637.728 | AL31: ± | AM31: =(_xlfn.STDEV.S('Single data'!AW32:AZ32)/SQRT(4)) -> 15393.299 | AN31: =AVERAGE('Single data'!BA32:BD32) -> 74991.995 | AO31: ± | AP31: =_xlfn.STDEV.S('Single data'!BA32:BD32)/SQRT(4) -> 10436.445 | AQ31: =AVERAGE('Single data'!BE32:BH32) -> 105085.93 | AR31: ± | AS31: =(_xlfn.STDEV.S('Single data'!BE32:BH32)/SQRT(4)) -> 19952.165 | AT31: =AVERAGE('Single data'!BI32:BL32) -> 112090.05 | AU31: ± | AV31: =_xlfn.STDEV.S('Single data'!BI32:BL32)/SQRT(4) -> 18837.927 | AW31: =AVERAGE('Single data'!BM32:BP32) -> 105304.18 | AX31: ± | AY31: =(_xlfn.STDEV.S('Single data'!BM32:BP32)/SQRT(4)) -> 18290.448 | AZ31: =AVERAGE('Single data'!BQ32:BT32) -> 128318.67 | BA31: ± | BB31: =_xlfn.STDEV.S('Single data'!BQ32:BT32)/SQRT(4) -> 20263.109
C32: DHA | D32: =AVERAGE('Single data'!D33:H33) -> 636275.25 | E32: ± | F32: =(_xlfn.STDEV.S('Single data'!D33:H33)/SQRT(4)) -> 126857.9 | G32: =AVERAGE('Single data'!I33:L33) -> 495903.83 | H32: ± | I32: =(_xlfn.STDEV.S('Single data'!I33:L33)/SQRT(4)) -> 73759.77 | J32: =AVERAGE('Single data'!M33:P33) -> 533555.96 | K32: ± | L32: =(_xlfn.STDEV.S('Single data'!M33:P33)/SQRT(4)) -> 81821.205 | M32: =AVERAGE('Single data'!Q33:T33) -> 617446.35 | N32: ± | O32: =(_xlfn.STDEV.S('Single data'!Q33:T33)/SQRT(4)) -> 181538.77 | P32: =AVERAGE('Single data'!U33:X33) -> 431541.05 | Q32: ± | R32: {=_xlfn.STDEV.S('Single data'!U33:X33/SQRT(4))} -> 93394.523 | S32: =AVERAGE('Single data'!Y33:AB33) -> 480942.76 | T32: ± | U32: =(_xlfn.STDEV.S('Single data'!Y33:AB33)/SQRT(4)) -> 82399.011 | V32: =AVERAGE('Single data'!AC33:AF33) -> 454866.36 | W32: ± | X32: =(_xlfn.STDEV.S('Single data'!AC33:AF33)/SQRT(4)) -> 77850.484 | Y32: =AVERAGE('Single data'!AG33:AJ33) -> 426593.31 | Z32: ± | AA32: =(_xlfn.STDEV.S('Single data'!AG33:AJ33)/SQRT(4)) -> 81017.159 | AB32: =AVERAGE('Single data'!AK33:AN33) -> 389173.07 | AC32: ± | AD32: =(_xlfn.STDEV.S('Single data'!AK33:AN33)/SQRT(4)) -> 60297.374 | AE32: =AVERAGE('Single data'!AO33:AR33) -> 516321.23 | AF32: ± | AG32: =(_xlfn.STDEV.S('Single data'!AO33:AR33)/SQRT(4)) -> 83423.665 | AH32: =AVERAGE('Single data'!AS33:AV33) -> 489677.6 | AI32: ± | AJ32: =_xlfn.STDEV.S('Single data'!AS33:AV33)/SQRT(4) -> 76596.293 | AK32: =AVERAGE('Single data'!AW33:AZ33) -> 472673.6 | AL32: ± | AM32: =(_xlfn.STDEV.S('Single data'!AW33:AZ33)/SQRT(4)) -> 63593.757 | AN32: =AVERAGE('Single data'!BA33:BD33) -> 423008.66 | AO32: ± | AP32: =_xlfn.STDEV.S('Single data'!BA33:BD33)/SQRT(4) -> 72910.046 | AQ32: =AVERAGE('Single data'!BE33:BH33) -> 578592.15 | AR32: ± | AS32: =(_xlfn.STDEV.S('Single data'!BE33:BH33)/SQRT(4)) -> 151368.45 | AT32: =AVERAGE('Single data'!BI33:BL33) -> 610006.38 | AU32: ± | AV32: =_xlfn.STDEV.S('Single data'!BI33:BL33)/SQRT(4) -> 140669.48 | AW32: =AVERAGE('Single data'!BM33:BP33) -> 525969.7 | AX32: ± | AY32: =(_xlfn.STDEV.S('Single data'!BM33:BP33)/SQRT(4)) -> 125657.51 | AZ32: =AVERAGE('Single data'!BQ33:BT33) -> 662947.1 | BA32: ± | BB32: =_xlfn.STDEV.S('Single data'!BQ33:BT33)/SQRT(4) -> 125073.93
C33: DPA | D33: =AVERAGE('Single data'!D34:H34) -> 14612.068 | E33: ± | F33: =(_xlfn.STDEV.S('Single data'!D34:H34)/SQRT(4)) -> 3952.6264 | G33: =AVERAGE('Single data'!I34:L34) -> 10364.551 | H33: ± | I33: =(_xlfn.STDEV.S('Single data'!I34:L34)/SQRT(4)) -> 1242.5691 | J33: =AVERAGE('Single data'!M34:P34) -> 11324.004 | K33: ± | L33: =(_xlfn.STDEV.S('Single data'!M34:P34)/SQRT(4)) -> 965.89224 | M33: =AVERAGE('Single data'!Q34:T34) -> 15694.852 | N33: ± | O33: =(_xlfn.STDEV.S('Single data'!Q34:T34)/SQRT(4)) -> 6699.2197 | P33: =AVERAGE('Single data'!U34:X34) -> 11851.468 | Q33: ± | R33: {=_xlfn.STDEV.S('Single data'!U34:X34/SQRT(4))} -> 4503.2743 | S33: =AVERAGE('Single data'!Y34:AB34) -> 9328.353 | T33: ± | U33: =(_xlfn.STDEV.S('Single data'!Y34:AB34)/SQRT(4)) -> 1162.806 | V33: =AVERAGE('Single data'!AC34:AF34) -> 9725.4408 | W33: ± | X33: =(_xlfn.STDEV.S('Single data'!AC34:AF34)/SQRT(4)) -> 1243.0716 | Y33: =AVERAGE('Single data'!AG34:AJ34) -> 8274.7143 | Z33: ± | AA33: =(_xlfn.STDEV.S('Single data'!AG34:AJ34)/SQRT(4)) -> 1335.6213 | AB33: =AVERAGE('Single data'!AK34:AN34) -> 7524.0576 | AC33: ± | AD33: =(_xlfn.STDEV.S('Single data'!AK34:AN34)/SQRT(4)) -> 1004.4792 | AE33: =AVERAGE('Single data'!AO34:AR34) -> 10710.346 | AF33: ± | AG33: =(_xlfn.STDEV.S('Single data'!AO34:AR34)/SQRT(4)) -> 1823.3261 | AH33: =AVERAGE('Single data'!AS34:AV34) -> 10422.479 | AI33: ± | AJ33: =_xlfn.STDEV.S('Single data'!AS34:AV34)/SQRT(4) -> 755.12423 | AK33: =AVERAGE('Single data'!AW34:AZ34) -> 9559.3901 | AL33: ± | AM33: =(_xlfn.STDEV.S('Single data'!AW34:AZ34)/SQRT(4)) -> 525.07039 | AN33: =AVERAGE('Single data'!BA34:BD34) -> 9004.571 | AO33: ± | AP33: =_xlfn.STDEV.S('Single data'!BA34:BD34)/SQRT(4) -> 985.01782 | AQ33: =AVERAGE('Single data'!BE34:BH34) -> 14161.262 | AR33: ± | AS33: =(_xlfn.STDEV.S('Single data'!BE34:BH34)/SQRT(4)) -> 5425.7627 | AT33: =AVERAGE('Single data'!BI34:BL34) -> 16167.406 | AU33: ± | AV33: =_xlfn.STDEV.S('Single data'!BI34:BL34)/SQRT(4) -> 4947.3839 | AW33: =AVERAGE('Single data'!BM34:BP34) -> 11987.615 | AX33: ± | AY33: =(_xlfn.STDEV.S('Single data'!BM34:BP34)/SQRT(4)) -> 4152.3373 | AZ33: =AVERAGE('Single data'!BQ34:BT34) -> 16621.853 | BA33: ± | BB33: =_xlfn.STDEV.S('Single data'!BQ34:BT34)/SQRT(4) -> 4291.7477
