Workbook

Sheet VTA_Proteome Morphine vs Saline
N1: Normalized abundance
J2: Tags | N2: SALINE | T2: MORPHINE
A3: Accession | B3: Description | C3: Mass | D3: Peptide count | E3: Unique peptides | F3: Confidence score | G3: Power | H3: q Value | I3: Anova (p) | J3: Anova p-value <= 0.05 | K3: Max fold change | L3: Highest mean condition | M3: Lowest mean condition | N3: VTA_10 | O3: VTA_11 | P3: VTA_12 | Q3: VTA_15 | R3: Mean | S3: Standard error of the mean | T3: VTA_7 | U3: VTA_8 | V3: VTA_9 | W3: VTA-13 | X3: Mean | Y3: Standard error of the mean
A4: A1M_RAT | B4: Alpha-1-macroglobulin OS=Rattus norvegicus OX=10116 GN=A1m PE=1 SV=1 | C4: 167019 | D4: 6 | E4: 6 | F4: 235.27 | G4: 1 | H4: 0.038107942 | I4: 1.06e-05 | J4: x | K4: 9.4014119 | L4: SALINE | M4: MORPHINE | N4: 357623.86 | O4: 210448.02 | P4: 348376.54 | Q4: 214900.53 | R4: =AVERAGE('VTA_Proteome Morphine vs Saline'!N4:Q4) -> 282837.24 | S4: =_xlfn.STDEV.S('VTA_Proteome Morphine vs Saline'!N4:Q4) -> 81125.488 | T4: 28470.927 | U4: 29354.261 | V4: 25633.894 | W4: 36879.113 | X4: =AVERAGE(T4:W4) -> 30084.549 | Y4: =_xlfn.STDEV.S(T4:W4) -> 4799.7059
A5: PLMN_RAT | B5: Plasminogen OS=Rattus norvegicus OX=10116 GN=Plg PE=2 SV=2 | C5: 90477 | D5: 3 | E5: 3 | F5: 124.3 | G5: 1 | H5: 0.065452425 | I5: 3.64e-05 | J5: x | K5: 3.2549386 | L5: SALINE | M5: MORPHINE | N5: 266685.24 | O5: 179679.21 | P5: 171570.12 | Q5: 211557.85 | R5: =AVERAGE('VTA_Proteome Morphine vs Saline'!N5:Q5) -> 207373.1 | S5: =_xlfn.STDEV.S('VTA_Proteome Morphine vs Saline'!N5:Q5) -> 43144.126 | T5: 64879.342 | U5: 69855.844 | V5: 57441.608 | W5: 62664.395 | X5: =AVERAGE(T5:W5) -> 63710.297 | Y5: =_xlfn.STDEV.S(T5:W5) -> 5148.6173
A6: 7B2_RAT | B6: Neuroendocrine protein 7B2 OS=Rattus norvegicus OX=10116 GN=Scg5 PE=1 SV=1 | C6: 23669 | D6: 2 | E6: 2 | F6: 124.79 | G6: 0.66652836 | H6: 0.97795108 | I6: 0.028772516 | J6: x | K6: 1.4617084 | L6: SALINE | M6: MORPHINE | N6: 4058154.4 | O6: 5276892.7 | P6: 5706836.4 | Q6: 5242496.9 | R6: =AVERAGE('VTA_Proteome Morphine vs Saline'!N6:Q6) -> 5071095.1 | S6: =_xlfn.STDEV.S('VTA_Proteome Morphine vs Saline'!N6:Q6) -> 707565.55 | T6: 3475957.4 | U6: 4210759.2 | V6: 2467005 | W6: 3723451.4 | X6: =AVERAGE(T6:W6) -> 3469293.2 | Y6: =_xlfn.STDEV.S(T6:W6) -> 734618.75
A7: A1AT_RAT | B7: Alpha-1-antiproteinase OS=Rattus norvegicus OX=10116 GN=Serpina1 PE=1 SV=2 | C7: 46107 | D7: 12 | E7: 12 | F7: 710.02 | G7: 0.99995133 | H7: 0.15779582 | I7: 0.000352508 | J7: x | K7: 3.2502117 | L7: SALINE | M7: MORPHINE | N7: 3633297.8 | O7: 3118869.1 | P7: 5888224.2 | Q7: 5030093.1 | R7: =AVERAGE('VTA_Proteome Morphine vs Saline'!N7:Q7) -> 4417621.1 | S7: =_xlfn.STDEV.S('VTA_Proteome Morphine vs Saline'!N7:Q7) -> 1270133.2 | T7: 1149021.7 | U7: 1316281.5 | V7: 1410197.4 | W7: 1561217.4 | X7: =AVERAGE(T7:W7) -> 1359179.5 | Y7: =_xlfn.STDEV.S(T7:W7) -> 172654.46
A8: A1I3_RAT | B8: Alpha-1-inhibitor 3 OS=Rattus norvegicus OX=10116 GN=A1i3 PE=1 SV=1 | C8: 163670 | D8: 32 | E8: 7 | F8: 1707.97 | G8: 0.99992846 | H8: 0.15779582 | I8: 0.000386783 | J8: x | K8: 2.7745009 | L8: SALINE | M8: MORPHINE | N8: 2827082.1 | O8: 1588264.4 | P8: 2325925.2 | Q8: 1829331.7 | R8: =AVERAGE('VTA_Proteome Morphine vs Saline'!N8:Q8) -> 2142650.8 | S8: =_xlfn.STDEV.S('VTA_Proteome Morphine vs Saline'!N8:Q8) -> 550014.82 | T8: 782047.88 | U8: 791216.9 | V8: 652405.99 | W8: 863390.51 | X8: =AVERAGE(T8:W8) -> 772265.32 | Y8: =_xlfn.STDEV.S(T8:W8) -> 87796.965
A9: AAK1_RAT | B9: AP2-associated protein kinase 1 OS=Rattus norvegicus OX=10116 GN=Aak1 PE=1 SV=1 | C9: 103697 | D9: 46 | E9: 46 | F9: 3411.87 | G9: 0.59194179 | H9: 0.97795108 | I9: 0.039651576 | J9: x | K9: 1.0884615 | L9: MORPHINE | M9: SALINE | N9: 62988440 | O9: 70198614 | P9: 66213468 | Q9: 68031151 | R9: =AVERAGE('VTA_Proteome Morphine vs Saline'!N9:Q9) -> 66857919 | S9: =_xlfn.STDEV.S('VTA_Proteome Morphine vs Saline'!N9:Q9) -> 3050950.7 | T9: 68075920 | U9: 75126865 | V9: 73061497 | W9: 74824806 | X9: =AVERAGE(T9:W9) -> 72772272 | Y9: =_xlfn.STDEV.S(T9:W9) -> 3260694.2
A10: ABHD6_RAT | B10: Monoacylglycerol lipase ABHD6 OS=Rattus norvegicus OX=10116 GN=Abhd6 PE=1 SV=1 | C10: 38287 | D10: 3 | E10: 3 | F10: 127.16 | G10: 0.64817737 | H10: 0.97795108 | I10: 0.031181019 | J10: x | K10: 1.4552849 | L10: SALINE | M10: MORPHINE | N10: 99835.834 | O10: 128720.49 | P10: 160292.69 | Q10: 152446.45 | R10: =AVERAGE('VTA_Proteome Morphine vs Saline'!N10:Q10) -> 135323.87 | S10: =_xlfn.STDEV.S('VTA_Proteome Morphine vs Saline'!N10:Q10) -> 27200.675 | T10: 86117.768 | U10: 81385.742 | V10: 115113.11 | W10: 89334.919 | X10: =AVERAGE(T10:W10) -> 92987.884 | Y10: =_xlfn.STDEV.S(T10:W10) -> 15107.15
A11: ACHB2_RAT | B11: Neuronal acetylcholine receptor subunit beta-2 OS=Rattus norvegicus OX=10116 GN=Chrnb2 PE=1 SV=2 | C11: 56872 | D11: 3 | E11: 3 | F11: 147.81 | G11: 0.64504254 | H11: 0.97795108 | I11: 0.031608495 | J11: x | K11: 2.495204 | L11: SALINE | M11: MORPHINE | N11: 91520.516 | O11: 65193.076 | P11: 74568.093 | Q11: 43311.88 | R11: =AVERAGE('VTA_Proteome Morphine vs Saline'!N11:Q11) -> 68648.391 | S11: =_xlfn.STDEV.S('VTA_Proteome Morphine vs Saline'!N11:Q11) -> 20100.207 | T11: 26239.088 | U11: 9417.9212 | V11: 39189.931 | W11: 35201.605 | X11: =AVERAGE(T11:W11) -> 27512.136 | Y11: =_xlfn.STDEV.S(T11:W11) -> 13222.709
A12: ACOC_RAT | B12: Cytoplasmic aconitate hydratase OS=Rattus norvegicus OX=10116 GN=Aco1 PE=1 SV=1 | C12: 98065 | D12: 35 | E12: 33 | F12: 2335.6 | G12: 0.84888164 | H12: 0.97795108 | I12: 0.011338198 | J12: x | K12: 1.201149 | L12: SALINE | M12: MORPHINE | N12: 40229569 | O12: 44530008 | P12: 43122268 | Q12: 47954834 | R12: =AVERAGE('VTA_Proteome Morphine vs Saline'!N12:Q12) -> 43959170 | S12: =_xlfn.STDEV.S('VTA_Proteome Morphine vs Saline'!N12:Q12) -> 3209439.8 | T12: 33456577 | U12: 37462998 | V12: 35895586 | W12: 39575240 | X12: =AVERAGE(T12:W12) -> 36597600 | Y12: =_xlfn.STDEV.S(T12:W12) -> 2580316.9
A13: ADA_RAT | B13: Adenosine deaminase OS=Rattus norvegicus OX=10116 GN=Ada PE=1 SV=3 | C13: 39874 | D13: 6 | E13: 6 | F13: 289.66 | G13: 0.55152728 | H13: 0.97795108 | I13: 0.046965422 | J13: x | K13: 1.6913642 | L13: SALINE | M13: MORPHINE | N13: 993197.58 | O13: 713959.25 | P13: 442363.39 | Q13: 746422.81 | R13: =AVERAGE('VTA_Proteome Morphine vs Saline'!N13:Q13) -> 723985.76 | S13: =_xlfn.STDEV.S('VTA_Proteome Morphine vs Saline'!N13:Q13) -> 225381.25 | T13: 560905.89 | U13: 428085.56 | V13: 323029.28 | W13: 400172.94 | X13: =AVERAGE(T13:W13) -> 428048.42 | Y13: =_xlfn.STDEV.S(T13:W13) -> 99091.156
A14: ADAP2_RAT | B14: Arf-GAP with dual PH domain-containing protein 2 OS=Rattus norvegicus OX=10116 GN=Adap2 PE=1 SV=1 | C14: 43496 | D14: 1 | E14: 1 | F14: 41.74 | G14: 0.63226698 | H14: 0.97795108 | I14: 0.033401697 | J14: x | K14: 1.3121093 | L14: MORPHINE | M14: SALINE | N14: 161751.33 | O14: 187888.03 | P14: 151787.85 | Q14: 165534.28 | R14: =AVERAGE('VTA_Proteome Morphine vs Saline'!N14:Q14) -> 166740.37 | S14: =_xlfn.STDEV.S('VTA_Proteome Morphine vs Saline'!N14:Q14) -> 15244.087 | T14: 182887.77 | U14: 200478.93 | V14: 219908.76 | W14: 271850.88 | X14: =AVERAGE(T14:W14) -> 218781.59 | Y14: =_xlfn.STDEV.S(T14:W14) -> 38474.986
A15: ADDG_RAT | B15: Gamma-adducin OS=Rattus norvegicus OX=10116 GN=Add3 PE=1 SV=2 | C15: 78755 | D15: 22 | E15: 20 | F15: 1047.92 | G15: 0.93177514 | H15: 0.87797315 | I15: 0.005867733 | J15: x | K15: 1.4611211 | L15: SALINE | M15: MORPHINE | N15: 7378938.5 | O15: 6418931.3 | P15: 8636339.1 | Q15: 6528826.3 | R15: =AVERAGE('VTA_Proteome Morphine vs Saline'!N15:Q15) -> 7240758.8 | S15: =_xlfn.STDEV.S('VTA_Proteome Morphine vs Saline'!N15:Q15) -> 1024530.2 | T15: 4989767.4 | U15: 4545216.9 | V15: 5797253 | W15: 4490237.2 | X15: =AVERAGE(T15:W15) -> 4955618.6 | Y15: =_xlfn.STDEV.S(T15:W15) -> 604020.97
... A165: ZWINT_RAT | B165: ZW10 interactor OS=Rattus norvegicus OX=10116 GN=Zwint PE=1 SV=1 | C165: 30124 | D165: 12 | E165: 12 | F165: 805.2 | G165: 0.9407509 | H165: 0.8686656 | I165: 0.005311463 | J165: x | K165: 1.2469591 | L165: MORPHINE | M165: SALINE | N165: 20263133 | O165: 23028110 | P165: 20938858 | Q165: 21423803 | R165: =AVERAGE('VTA_Proteome Morphine vs Saline'!N165:Q165) -> 21413476 | S165: =_xlfn.STDEV.S('VTA_Proteome Morphine vs Saline'!N165:Q165) -> 1176959.4 | T165: 27862464 | U165: 27550007 | V165: 23369124 | W165: 28025319 | X165: =AVERAGE(T165:W165) -> 26701728 | Y165: =_xlfn.STDEV.S(T165:W165) -> 2230472.6
A166: 1433B_RAT | B166: 14-3-3 protein beta/alpha OS=Rattus norvegicus OX=10116 GN=Ywhab PE=1 SV=3 | C166: 28037 | D166: 24 | E166: 7 | F166: 1573.11 | G166: 0.1254417 | H166: 0.97795108 | I166: 0.38356367 | K166: 1.0919188 | L166: SALINE | M166: MORPHINE | N166: 1.7003e+08 | O166: 1.9459034e+08 | P166: 235826264 | Q166: 1.7764034e+08 | R166: =AVERAGE('VTA_Proteome Morphine vs Saline'!N166:Q166) -> 1.9452174e+08 | S166: =_xlfn.STDEV.S('VTA_Proteome Morphine vs Saline'!N166:Q166) -> 29387612 | T166: 2.0359799e+08 | U166: 1.81434e+08 | V166: 161696743 | W166: 1.6585807e+08 | X166: =AVERAGE(T166:W166) -> 1.781467e+08 | Y166: =_xlfn.STDEV.S(T166:W166) -> 18975300
A167: 1433E_RAT | B167: 14-3-3 protein epsilon OS=Rattus norvegicus OX=10116 GN=Ywhae PE=1 SV=1 | C167: 29155 | D167: 36 | E167: 31 | F167: 2614.26 | G167: 0.16859858 | H167: 0.97795108 | I167: 0.28511826 | K167: 1.0973561 | L167: SALINE | M167: MORPHINE | N167: 5.0600043e+08 | O167: 5.4518713e+08 | P167: 634469618 | Q167: 4.9315612e+08 | R167: =AVERAGE('VTA_Proteome Morphine vs Saline'!N167:Q167) -> 5.4470333e+08 | S167: =_xlfn.STDEV.S('VTA_Proteome Morphine vs Saline'!N167:Q167) -> 63805040 | T167: 5.3839324e+08 | U167: 5.4810228e+08 | V167: 4.5146956e+08 | W167: 4.4754652e+08 | X167: =AVERAGE(T167:W167) -> 4.963779e+08 | Y167: =_xlfn.STDEV.S(T167:W167) -> 54289236
A168: 1433F_RAT | B168: 14-3-3 protein eta OS=Rattus norvegicus OX=10116 GN=Ywhah PE=1 SV=2 | C168: 28194 | D168: 26 | E168: 14 | F168: 1819.99 | G168: 0.050862676 | H168: 0.99625992 | I168: 0.92217362 | K168: 1.0154793 | L168: MORPHINE | M168: SALINE | N168: 1.4652296e+08 | O168: 1.5194687e+08 | P168: 1.4919885e+08 | Q168: 1.3717008e+08 | R168: =AVERAGE('VTA_Proteome Morphine vs Saline'!N168:Q168) -> 1.4620969e+08 | S168: =_xlfn.STDEV.S('VTA_Proteome Morphine vs Saline'!N168:Q168) -> 6420357.9 | T168: 1.7733774e+08 | U168: 1.5425959e+08 | V168: 1.2758864e+08 | W168: 1.3470571e+08 | X168: =AVERAGE(T168:W168) -> 1.4847292e+08 | Y168: =_xlfn.STDEV.S(T168:W168) -> 22303608
A169: 1433G_RAT | B169: 14-3-3 protein gamma OS=Rattus norvegicus OX=10116 GN=Ywhag PE=1 SV=2 | C169: 28285 | D169: 25 | E169: 9 | F169: 1647.79 | G169: 0.059418433 | H169: 0.99625992 | I169: 0.7483558 | K169: 1.0353123 | L169: SALINE | M169: MORPHINE | N169: 2.7053311e+08 | O169: 3.0437182e+08 | P169: 3.5989136e+08 | Q169: 2.5896575e+08 | R169: =AVERAGE('VTA_Proteome Morphine vs Saline'!N169:Q169) -> 2.9844051e+08 | S169: =_xlfn.STDEV.S('VTA_Proteome Morphine vs Saline'!N169:Q169) -> 45271283 | T169: 3.1766149e+08 | U169: 309001912 | V169: 2.4858174e+08 | W169: 2.7780024e+08 | X169: =AVERAGE(T169:W169) -> 2.8826135e+08 | Y169: =_xlfn.STDEV.S(T169:W169) -> 31508967
A170: 1433T_RAT | B170: 14-3-3 protein theta OS=Rattus norvegicus OX=10116 GN=Ywhaq PE=1 SV=1 | C170: 27761 | D170: 27 | E170: 15 | F170: 1745.24 | G170: 0.074955449 | H170: 0.99625992 | I170: 0.6054044 | K170: 1.0491473 | L170: SALINE | M170: MORPHINE | N170: 1.5281668e+08 | O170: 1.8192031e+08 | P170: 1.818644e+08 | Q170: 1.4525917e+08 | R170: =AVERAGE('VTA_Proteome Morphine vs Saline'!N170:Q170) -> 1.6546514e+08 | S170: =_xlfn.STDEV.S('VTA_Proteome Morphine vs Saline'!N170:Q170) -> 19217813 | T170: 1.8020093e+08 | U170: 1.7401167e+08 | V170: 1.3541679e+08 | W170: 1.4122629e+08 | X170: =AVERAGE(T170:W170) -> 1.5771392e+08 | Y170: =_xlfn.STDEV.S(T170:W170) -> 22658969
A171: 1433Z_RAT | B171: 14-3-3 protein zeta/delta OS=Rattus norvegicus OX=10116 GN=Ywhaz PE=1 SV=1 | C171: 27754 | D171: 27 | E171: 14 | F171: 1936.04 | G171: 0.051560082 | H171: 0.99625992 | I171: 0.89552875 | K171: 1.0029141 | L171: SALINE | M171: MORPHINE | N171: 7.5374255e+08 | O171: 7.5581085e+08 | P171: 7.747519e+08 | Q171: 7.3809276e+08 | R171: =AVERAGE('VTA_Proteome Morphine vs Saline'!N171:Q171) -> 7.5559951e+08 | S171: =_xlfn.STDEV.S('VTA_Proteome Morphine vs Saline'!N171:Q171) -> 15019914 | T171: 8.7371298e+08 | U171: 7.8138686e+08 | V171: 701833153 | W171: 6.5668307e+08 | X171: =AVERAGE(T171:W171) -> 7.5340402e+08 | Y171: =_xlfn.STDEV.S(T171:W171) -> 95344608
A172: 22P1_RAT | B172: Cystatin-related protein 1 OS=Rattus norvegicus OX=10116 GN=Andpro PE=1 SV=1 | C172: 21047 | D172: 1 | E172: 1 | F172: 29.36 | G172: 0.25445141 | H172: 0.97795108 | I172: 0.1754051 | K172: 1.6404678 | L172: SALINE | M172: MORPHINE | N172: 65394.539 | O172: 18467.476 | P172: 61474.316 | Q172: 60871.659 | R172: =AVERAGE('VTA_Proteome Morphine vs Saline'!N172:Q172) -> 51551.997 | S172: =_xlfn.STDEV.S('VTA_Proteome Morphine vs Saline'!N172:Q172) -> 22147.31 | T172: 99392.501 | U172: 5360.2803 | V172: 8429.2946 | W172: 12518.646 | X172: =AVERAGE(T172:W172) -> 31425.181 | Y172: =_xlfn.STDEV.S(T172:W172) -> 45406.327
A173: 2A5B_RAT | B173: Serine/threonine-protein phosphatase 2A 56 kDa regulatory subunit beta isoform OS=Rattus norvegicus OX=10116 GN=Ppp2r5b PE=2 SV=1 | C173: 57290 | D173: 12 | E173: 12 | F173: 731.07 | G173: 0.052738227 | H173: 0.99625992 | I173: 0.86201067 | K173: 1.0158142 | L173: MORPHINE | M173: SALINE | N173: 4675188.4 | O173: 5971337 | P173: 7966175.2 | Q173: 6370008.3 | R173: =AVERAGE('VTA_Proteome Morphine vs Saline'!N173:Q173) -> 6245677.3 | S173: =_xlfn.STDEV.S('VTA_Proteome Morphine vs Saline'!N173:Q173) -> 1356130.4 | T173: 6121393.9 | U173: 5155735.5 | V173: 6594085.4 | W173: 7506575.7 | X173: =AVERAGE(T173:W173) -> 6344447.6 | Y173: =_xlfn.STDEV.S(T173:W173) -> 979055.73
A174: 2AAB_RAT | B174: Serine/threonine-protein phosphatase 2A 65 kDa regulatory subunit A beta isoform OS=Rattus norvegicus OX=10116 GN=Ppp2r1b PE=2 SV=1 | C174: 65964 | D174: 11 | E174: 11 | F174: 571.24 | G174: 0.052288006 | H174: 0.99625992 | I174: 0.8737184 | K174: 1.045863 | L174: SALINE | M174: MORPHINE | N174: 11757448 | O174: 13334056 | P174: 20977226 | Q174: 16677456 | R174: =AVERAGE('VTA_Proteome Morphine vs Saline'!N174:Q174) -> 15686546 | S174: =_xlfn.STDEV.S('VTA_Proteome Morphine vs Saline'!N174:Q174) -> 4080245.9 | T174: 14481336 | U174: 13782979 | V174: 15879795 | W174: 15850541 | X174: =AVERAGE(T174:W174) -> 14998663 | Y174: =_xlfn.STDEV.S(T174:W174) -> 1040449.3
A175: 2ABA_RAT | B175: Serine/threonine-protein phosphatase 2A 55 kDa regulatory subunit B alpha isoform OS=Rattus norvegicus OX=10116 GN=Ppp2r2a PE=2 SV=1 | C175: 51645 | D175: 19 | E175: 12 | F175: 1081.84 | G175: 0.051409265 | H175: 0.99625992 | I175: 0.9006683 | K175: 1.0063246 | L175: SALINE | M175: MORPHINE | N175: 11593423 | O175: 15163000 | P175: 14933699 | Q175: 15592082 | R175: =AVERAGE('VTA_Proteome Morphine vs Saline'!N175:Q175) -> 14320551 | S175: =_xlfn.STDEV.S('VTA_Proteome Morphine vs Saline'!N175:Q175) -> 1838449.2 | T175: 16833121 | U175: 13919660 | V175: 10261087 | W175: 15908324 | X175: =AVERAGE(T175:W175) -> 14230548 | Y175: =_xlfn.STDEV.S(T175:W175) -> 2912135
A176: 2ABB_RAT | B176: Serine/threonine-protein phosphatase 2A 55 kDa regulatory subunit B beta isoform OS=Rattus norvegicus OX=10116 GN=Ppp2r2b PE=1 SV=2 | C176: 51636 | D176: 6 | E176: 0 | F176: 307.25 | K176: 1 | L176: --- | M176: ---
A177: 2ABD_RAT | B177: Serine/threonine-protein phosphatase 2A 55 kDa regulatory subunit B delta isoform OS=Rattus norvegicus OX=10116 GN=Ppp2r2d PE=2 SV=1 | C177: 51950 | D177: 10 | E177: 4 | F177: 560.09 | G177: 0.0577532 | H177: 0.99625992 | I177: 0.77073314 | K177: 1.0247638 | L177: SALINE | M177: MORPHINE | N177: 1176190.6 | O177: 1455553.9 | P177: 1495262.1 | Q177: 1559285.2 | R177: =AVERAGE('VTA_Proteome Morphine vs Saline'!N177:Q177) -> 1421572.9 | S177: =_xlfn.STDEV.S('VTA_Proteome Morphine vs Saline'!N177:Q177) -> 169077.83 | T177: 1723093.7 | U177: 1386939.6 | V177: 882796.44 | W177: 1556050.5 | X177: =AVERAGE(T177:W177) -> 1387220.1 | Y177: =_xlfn.STDEV.S(T177:W177) -> 363207.06
A178: 2ABG_RAT | B178: Serine/threonine-protein phosphatase 2A 55 kDa regulatory subunit B gamma isoform OS=Rattus norvegicus OX=10116 GN=Ppp2r2c PE=2 SV=1 | C178: 51441 | D178: 6 | E178: 2 | F178: 261.83 | G178: 0.45250851 | H178: 0.97795108 | I178: 0.071025246 | K178: 2.0622785 | L178: MORPHINE | M178: SALINE | N178: 43089.093 | O178: 74889.233 | P178: 94592.669 | Q178: 65282.152 | R178: =AVERAGE('VTA_Proteome Morphine vs Saline'!N178:Q178) -> 69463.287 | S178: =_xlfn.STDEV.S('VTA_Proteome Morphine vs Saline'!N178:Q178) -> 21400.987 | T178: 98660.213 | U178: 93302.878 | V178: 270642.7 | W178: 110404.78 | X178: =AVERAGE(T178:W178) -> 143252.64 | Y178: =_xlfn.STDEV.S(T178:W178) -> 85226.509
A179: 3BP1_RAT | B179: SH3 domain-binding protein 1 OS=Rattus norvegicus OX=10116 GN=Sh3bp1 PE=1 SV=1 | C179: 74805 | D179: 8 | E179: 8 | F179: 339.63 | G179: 0.052068615 | H179: 0.99625992 | I179: 0.87985779 | K179: 1.0480963 | L179: SALINE | M179: MORPHINE | N179: 415288.61 | O179: 504330.52 | P179: 211763.28 | Q179: 236718.37 | R179: =AVERAGE('VTA_Proteome Morphine vs Saline'!N179:Q179) -> 342025.2 | S179: =_xlfn.STDEV.S('VTA_Proteome Morphine vs Saline'!N179:Q179) -> 141147.96 | T179: 423726.7 | U179: 413445.44 | V179: 308311.14 | W179: 159836.44 | X179: =AVERAGE(T179:W179) -> 326329.93 | Y179: =_xlfn.STDEV.S(T179:W179) -> 122637.68
A180: 3BP5_RAT | B180: SH3 domain-binding protein 5 OS=Rattus norvegicus OX=10116 GN=Sh3bp5 PE=1 SV=2 | C180: 50797 | D180: 2 | E180: 0 | F180: 55.55 | K180: 1 | L180: --- | M180: ---
A181: 3HIDH_RAT | B181: 3-hydroxyisobutyrate dehydrogenase, mitochondrial OS=Rattus norvegicus OX=10116 GN=Hibadh PE=1 SV=3 | C181: 35280 | D181: 19 | E181: 19 | F181: 1284.47 | G181: 0.20688028 | H181: 0.97795108 | I181: 0.22673794 | K181: 1.0754878 | L181: SALINE | M181: MORPHINE | N181: 33572391 | O181: 32724633 | P181: 38763248 | Q181: 32686095 | R181: =AVERAGE('VTA_Proteome Morphine vs Saline'!N181:Q181) -> 34436592 | S181: =_xlfn.STDEV.S('VTA_Proteome Morphine vs Saline'!N181:Q181) -> 2913293.4 | T181: 32837045 | U181: 34238556 | V181: 31914847 | W181: 29087587 | X181: =AVERAGE(T181:W181) -> 32019509 | Y181: =_xlfn.STDEV.S(T181:W181) -> 2175595.8
A182: 4F2_RAT | B182: 4F2 cell-surface antigen heavy chain OS=Rattus norvegicus OX=10116 GN=Slc3a2 PE=1 SV=1 | C182: 58036 | D182: 30 | E182: 30 | F182: 2684.72 | G182: 0.053529201 | H182: 0.99625992 | I182: 0.84365935 | K182: 1.024034 | L182: MORPHINE | M182: SALINE | N182: 1.7794817e+08 | O182: 1.8373932e+08 | P182: 1.6815342e+08 | Q182: 1.7392067e+08 | R182: =AVERAGE('VTA_Proteome Morphine vs Saline'!N182:Q182) -> 1.759404e+08 | S182: =_xlfn.STDEV.S('VTA_Proteome Morphine vs Saline'!N182:Q182) -> 6571925.5 | T182: 2.1148232e+08 | U182: 1.699149e+08 | V182: 1.9011866e+08 | W182: 149159935 | X182: =AVERAGE(T182:W182) -> 1.8016895e+08 | Y182: =_xlfn.STDEV.S(T182:W182) -> 26747140
A183: 5E5_RAT | B183: 5E5 antigen OS=Rattus norvegicus OX=10116 PE=2 SV=1 | C183: 86779 | D183: 5 | E183: 5 | F183: 192.39 | G183: 0.2106874 | H183: 0.97795108 | I183: 0.22190699 | K183: 1.3514758 | L183: MORPHINE | M183: SALINE | N183: 58205.925 | O183: 128240.56 | P183: 133590.06 | Q183: 123711.77 | R183: =AVERAGE('VTA_Proteome Morphine vs Saline'!N183:Q183) -> 110937.08 | S183: =_xlfn.STDEV.S('VTA_Proteome Morphine vs Saline'!N183:Q183) -> 35385.193 | T183: 131965.34 | U183: 197992.5 | V183: 163116.76 | W183: 106640.51 | X183: =AVERAGE(T183:W183) -> 149928.78 | Y183: =_xlfn.STDEV.S(T183:W183) -> 39499.384
A184: 5HT6R_RAT | B184: 5-hydroxytryptamine receptor 6 OS=Rattus norvegicus OX=10116 GN=Htr6 PE=1 SV=2 | C184: 46892 | D184: 1 | E184: 1 | F184: 26.85 | G184: 0.057344536 | H184: 0.99625992 | I184: 0.77662864 | K184: 1.4566229 | L184: SALINE | M184: MORPHINE | N184: 220876.92 | O184: 529174.83 | P184: 9453.654 | Q184: 302658.91 | R184: =AVERAGE('VTA_Proteome Morphine vs Saline'!N184:Q184) -> 265541.08 | S184: =_xlfn.STDEV.S('VTA_Proteome Morphine vs Saline'!N184:Q184) -> 214830.28 | T184: 226374.03 | U184: 138661.41 | V184: 221826.96 | W184: 142334.08 | X184: =AVERAGE(T184:W184) -> 182299.12 | Y184: =_xlfn.STDEV.S(T184:W184) -> 48327.016
A185: 5NT3B_RAT | B185: 7-methylguanosine phosphate-specific 5'-nucleotidase OS=Rattus norvegicus OX=10116 GN=Nt5c3b PE=2 SV=2 | C185: 34513 | D185: 8 | E185: 8 | F185: 422.36 | G185: 0.050013358 | H185: 0.99959859 | I185: 0.99029422 | K185: 1.0143968 | L185: SALINE | M185: MORPHINE | N185: 1224925.8 | O185: 1581660.7 | P185: 804917.48 | Q185: 1397438.2 | R185: =AVERAGE('VTA_Proteome Morphine vs Saline'!N185:Q185) -> 1252235.5 | S185: =_xlfn.STDEV.S('VTA_Proteome Morphine vs Saline'!N185:Q185) -> 331885.52 | T185: 1211431.2 | U185: 1580037.9 | V185: 1017425.1 | W185: 1128958.8 | X185: =AVERAGE(T185:W185) -> 1234463.2 | Y185: =_xlfn.STDEV.S(T185:W185) -> 243713.67
A186: 5NTD_RAT | B186: 5'-nucleotidase OS=Rattus norvegicus OX=10116 GN=Nt5e PE=1 SV=1 | C186: 63928 | D186: 9 | E186: 9 | F186: 491.78 | G186: 0.12145697 | H186: 0.98046421 | I186: 0.39538753 | K186: 1.0820485 | L186: MORPHINE | M186: SALINE | N186: 1660796.9 | O186: 2354338.3 | P186: 2504402.3 | Q186: 2205189.2 | R186: =AVERAGE('VTA_Proteome Morphine vs Saline'!N186:Q186) -> 2181181.7 | S186: =_xlfn.STDEV.S('VTA_Proteome Morphine vs Saline'!N186:Q186) -> 367800.41 | T186: 2387799.7 | U186: 2130070.4 | V186: 2438147 | W186: 2484560.2 | X186: =AVERAGE(T186:W186) -> 2360144.3 | Y186: =_xlfn.STDEV.S(T186:W186) -> 158390.42
A187: 6PGD_RAT | B187: 6-phosphogluconate dehydrogenase, decarboxylating OS=Rattus norvegicus OX=10116 GN=Pgd PE=1 SV=1 | C187: 53202 | D187: 27 | E187: 27 | F187: 1585.52 | G187: 0.073078553 | H187: 0.99625992 | I187: 0.61886448 | K187: 1.0249315 | L187: SALINE | M187: MORPHINE | N187: 42620905 | O187: 41894158 | P187: 37461841 | Q187: 38553671 | R187: =AVERAGE('VTA_Proteome Morphine vs Saline'!N187:Q187) -> 40132644 | S187: =_xlfn.STDEV.S('VTA_Proteome Morphine vs Saline'!N187:Q187) -> 2511355.3 | T187: 35731268 | U187: 42087439 | V187: 40666740 | W187: 38140222 | X187: =AVERAGE(T187:W187) -> 39156417 | Y187: =_xlfn.STDEV.S(T187:W187) -> 2806912.1
A188: 6PGL_RAT | B188: 6-phosphogluconolactonase OS=Rattus norvegicus OX=10116 GN=Pgls PE=1 SV=1 | C188: 27217 | D188: 10 | E188: 10 | F188: 830.68 | G188: 0.055109882 | H188: 0.99625992 | I188: 0.812632 | K188: 1.0095167 | L188: SALINE | M188: MORPHINE | N188: 16519133 | O188: 16912314 | P188: 18343101 | Q188: 16459428 | R188: =AVERAGE('VTA_Proteome Morphine vs Saline'!N188:Q188) -> 17058494 | S188: =_xlfn.STDEV.S('VTA_Proteome Morphine vs Saline'!N188:Q188) -> 879653.91 | T188: 18432922 | U188: 16159340 | V188: 16915143 | W188: 16083327 | X188: =AVERAGE(T188:W188) -> 16897683 | Y188: =_xlfn.STDEV.S(T188:W188) -> 1090197.2
A189: 8ODP_RAT | B189: 7,8-dihydro-8-oxoguanine triphosphatase OS=Rattus norvegicus OX=10116 GN=Nudt1 PE=1 SV=1 | C189: 18007 | D189: 1 | E189: 1 | F189: 58.5 | G189: 0.052224162 | H189: 0.99625992 | I189: 0.87547237 | K189: 1.1394645 | L189: SALINE | M189: MORPHINE | N189: 11812.491 | O189: 1923.7787 | P189: 62257.761 | Q189: 64383.425 | R189: =AVERAGE('VTA_Proteome Morphine vs Saline'!N189:Q189) -> 35094.364 | S189: =_xlfn.STDEV.S('VTA_Proteome Morphine vs Saline'!N189:Q189) -> 32853.374 | T189: 4035.3347 | U189: 3297.2467 | V189: 46215.107 | W189: 69648.302 | X189: =AVERAGE(T189:W189) -> 30798.997 | Y189: =_xlfn.STDEV.S(T189:W189) -> 32759.552
...
