Workbook

Sheet VTA_Proteome Morphine vs Saline
N1: Normalized abundance
J2: Tags | N2: SALINE | T2: MORPHINE
A3: Accession | B3: Description | C3: Mass | D3: Peptide count | E3: Unique peptides | F3: Confidence score | G3: Power | H3: q Value | I3: Anova (p) | J3: Anova p-value <= 0.05 | K3: Max fold change | L3: Highest mean condition | M3: Lowest mean condition | N3: VTA_10 | O3: VTA_11 | P3: VTA_12 | Q3: VTA_15 | R3: Mean | S3: Standard error of the mean | T3: VTA_7 | U3: VTA_8 | V3: VTA_9 | W3: VTA-13 | X3: Mean | Y3: Standard error of the mean
A4: A1M_RAT | B4: Alpha-1-macroglobulin OS=Rattus norvegicus OX=10116 GN=A1m PE=1 SV=1 | C4: 167019 | D4: 6 | E4: 6 | F4: 235.27 | G4: 1 | H4: 0.038107942 | I4: 1.06e-05 | J4: x | K4: 9.4014119 | L4: SALINE | M4: MORPHINE | N4: 357623.86 | O4: 210448.02 | P4: 348376.54 | Q4: 214900.53 | R4: =AVERAGE('VTA_Proteome Morphine vs Saline'!N4:Q4) -> 282837.24 | S4: =_xlfn.STDEV.S('VTA_Proteome Morphine vs Saline'!N4:Q4) -> 81125.488 | T4: 28470.927 | U4: 29354.261 | V4: 25633.894 | W4: 36879.113 | X4: =AVERAGE(T4:W4) -> 30084.549 | Y4: =_xlfn.STDEV.S(T4:W4) -> 4799.7059
A5: PLMN_RAT | B5: Plasminogen OS=Rattus norvegicus OX=10116 GN=Plg PE=2 SV=2 | C5: 90477 | D5: 3 | E5: 3 | F5: 124.3 | G5: 1 | H5: 0.065452425 | I5: 3.64e-05 | J5: x | K5: 3.2549386 | L5: SALINE | M5: MORPHINE | N5: 266685.24 | O5: 179679.21 | P5: 171570.12 | Q5: 211557.85 | R5: =AVERAGE('VTA_Proteome Morphine vs Saline'!N5:Q5) -> 207373.1 | S5: =_xlfn.STDEV.S('VTA_Proteome Morphine vs Saline'!N5:Q5) -> 43144.126 | T5: 64879.342 | U5: 69855.844 | V5: 57441.608 | W5: 62664.395 | X5: =AVERAGE(T5:W5) -> 63710.297 | Y5: =_xlfn.STDEV.S(T5:W5) -> 5148.6173
A6: 7B2_RAT | B6: Neuroendocrine protein 7B2 OS=Rattus norvegicus OX=10116 GN=Scg5 PE=1 SV=1 | C6: 23669 | D6: 2 | E6: 2 | F6: 124.79 | G6: 0.66652836 | H6: 0.97795108 | I6: 0.028772516 | J6: x | K6: 1.4617084 | L6: SALINE | M6: MORPHINE | N6: 4058154.4 | O6: 5276892.7 | P6: 5706836.4 | Q6: 5242496.9 | R6: =AVERAGE('VTA_Proteome Morphine vs Saline'!N6:Q6) -> 5071095.1 | S6: =_xlfn.STDEV.S('VTA_Proteome Morphine vs Saline'!N6:Q6) -> 707565.55 | T6: 3475957.4 | U6: 4210759.2 | V6: 2467005 | W6: 3723451.4 | X6: =AVERAGE(T6:W6) -> 3469293.2 | Y6: =_xlfn.STDEV.S(T6:W6) -> 734618.75
A7: A1AT_RAT | B7: Alpha-1-antiproteinase OS=Rattus norvegicus OX=10116 GN=Serpina1 PE=1 SV=2 | C7: 46107 | D7: 12 | E7: 12 | F7: 710.02 | G7: 0.99995133 | H7: 0.15779582 | I7: 0.000352508 | J7: x | K7: 3.2502117 | L7: SALINE | M7: MORPHINE | N7: 3633297.8 | O7: 3118869.1 | P7: 5888224.2 | Q7: 5030093.1 | R7: =AVERAGE('VTA_Proteome Morphine vs Saline'!N7:Q7) -> 4417621.1 | S7: =_xlfn.STDEV.S('VTA_Proteome Morphine vs Saline'!N7:Q7) -> 1270133.2 | T7: 1149021.7 | U7: 1316281.5 | V7: 1410197.4 | W7: 1561217.4 | X7: =AVERAGE(T7:W7) -> 1359179.5 | Y7: =_xlfn.STDEV.S(T7:W7) -> 172654.46
A8: A1I3_RAT | B8: Alpha-1-inhibitor 3 OS=Rattus norvegicus OX=10116 GN=A1i3 PE=1 SV=1 | C8: 163670 | D8: 32 | E8: 7 | F8: 1707.97 | G8: 0.99992846 | H8: 0.15779582 | I8: 0.000386783 | J8: x | K8: 2.7745009 | L8: SALINE | M8: MORPHINE | N8: 2827082.1 | O8: 1588264.4 | P8: 2325925.2 | Q8: 1829331.7 | R8: =AVERAGE('VTA_Proteome Morphine vs Saline'!N8:Q8) -> 2142650.8 | S8: =_xlfn.STDEV.S('VTA_Proteome Morphine vs Saline'!N8:Q8) -> 550014.82 | T8: 782047.88 | U8: 791216.9 | V8: 652405.99 | W8: 863390.51 | X8: =AVERAGE(T8:W8) -> 772265.32 | Y8: =_xlfn.STDEV.S(T8:W8) -> 87796.965
A9: AAK1_RAT | B9: AP2-associated protein kinase 1 OS=Rattus norvegicus OX=10116 GN=Aak1 PE=1 SV=1 | C9: 103697 | D9: 46 | E9: 46 | F9: 3411.87 | G9: 0.59194179 | H9: 0.97795108 | I9: 0.039651576 | J9: x | K9: 1.0884615 | L9: MORPHINE | M9: SALINE | N9: 62988440 | O9: 70198614 | P9: 66213468 | Q9: 68031151 | R9: =AVERAGE('VTA_Proteome Morphine vs Saline'!N9:Q9) -> 66857919 | S9: =_xlfn.STDEV.S('VTA_Proteome Morphine vs Saline'!N9:Q9) -> 3050950.7 | T9: 68075920 | U9: 75126865 | V9: 73061497 | W9: 74824806 | X9: =AVERAGE(T9:W9) -> 72772272 | Y9: =_xlfn.STDEV.S(T9:W9) -> 3260694.2
A10: ABHD6_RAT | B10: Monoacylglycerol lipase ABHD6 OS=Rattus norvegicus OX=10116 GN=Abhd6 PE=1 SV=1 | C10: 38287 | D10: 3 | E10: 3 | F10: 127.16 | G10: 0.64817737 | H10: 0.97795108 | I10: 0.031181019 | J10: x | K10: 1.4552849 | L10: SALINE | M10: MORPHINE | N10: 99835.834 | O10: 128720.49 | P10: 160292.69 | Q10: 152446.45 | R10: =AVERAGE('VTA_Proteome Morphine vs Saline'!N10:Q10) -> 135323.87 | S10: =_xlfn.STDEV.S('VTA_Proteome Morphine vs Saline'!N10:Q10) -> 27200.675 | T10: 86117.768 | U10: 81385.742 | V10: 115113.11 | W10: 89334.919 | X10: =AVERAGE(T10:W10) -> 92987.884 | Y10: =_xlfn.STDEV.S(T10:W10) -> 15107.15
A11: ACHB2_RAT | B11: Neuronal acetylcholine receptor subunit beta-2 OS=Rattus norvegicus OX=10116 GN=Chrnb2 PE=1 SV=2 | C11: 56872 | D11: 3 | E11: 3 | F11: 147.81 | G11: 0.64504254 | H11: 0.97795108 | I11: 0.031608495 | J11: x | K11: 2.495204 | L11: SALINE | M11: MORPHINE | N11: 91520.516 | O11: 65193.076 | P11: 74568.093 | Q11: 43311.88 | R11: =AVERAGE('VTA_Proteome Morphine vs Saline'!N11:Q11) -> 68648.391 | S11: =_xlfn.STDEV.S('VTA_Proteome Morphine vs Saline'!N11:Q11) -> 20100.207 | T11: 26239.088 | U11: 9417.9212 | V11: 39189.931 | W11: 35201.605 | X11: =AVERAGE(T11:W11) -> 27512.136 | Y11: =_xlfn.STDEV.S(T11:W11) -> 13222.709
A12: ACOC_RAT | B12: Cytoplasmic aconitate hydratase OS=Rattus norvegicus OX=10116 GN=Aco1 PE=1 SV=1 | C12: 98065 | D12: 35 | E12: 33 | F12: 2335.6 | G12: 0.84888164 | H12: 0.97795108 | I12: 0.011338198 | J12: x | K12: 1.201149 | L12: SALINE | M12: MORPHINE | N12: 40229569 | O12: 44530008 | P12: 43122268 | Q12: 47954834 | R12: =AVERAGE('VTA_Proteome Morphine vs Saline'!N12:Q12) -> 43959170 | S12: =_xlfn.STDEV.S('VTA_Proteome Morphine vs Saline'!N12:Q12) -> 3209439.8 | T12: 33456577 | U12: 37462998 | V12: 35895586 | W12: 39575240 | X12: =AVERAGE(T12:W12) -> 36597600 | Y12: =_xlfn.STDEV.S(T12:W12) -> 2580316.9
A13: ADA_RAT | B13: Adenosine deaminase OS=Rattus norvegicus OX=10116 GN=Ada PE=1 SV=3 | C13: 39874 | D13: 6 | E13: 6 | F13: 289.66 | G13: 0.55152728 | H13: 0.97795108 | I13: 0.046965422 | J13: x | K13: 1.6913642 | L13: SALINE | M13: MORPHINE | N13: 993197.58 | O13: 713959.25 | P13: 442363.39 | Q13: 746422.81 | R13: =AVERAGE('VTA_Proteome Morphine vs Saline'!N13:Q13) -> 723985.76 | S13: =_xlfn.STDEV.S('VTA_Proteome Morphine vs Saline'!N13:Q13) -> 225381.25 | T13: 560905.89 | U13: 428085.56 | V13: 323029.28 | W13: 400172.94 | X13: =AVERAGE(T13:W13) -> 428048.42 | Y13: =_xlfn.STDEV.S(T13:W13) -> 99091.156
A14: ADAP2_RAT | B14: Arf-GAP with dual PH domain-containing protein 2 OS=Rattus norvegicus OX=10116 GN=Adap2 PE=1 SV=1 | C14: 43496 | D14: 1 | E14: 1 | F14: 41.74 | G14: 0.63226698 | H14: 0.97795108 | I14: 0.033401697 | J14: x | K14: 1.3121093 | L14: MORPHINE | M14: SALINE | N14: 161751.33 | O14: 187888.03 | P14: 151787.85 | Q14: 165534.28 | R14: =AVERAGE('VTA_Proteome Morphine vs Saline'!N14:Q14) -> 166740.37 | S14: =_xlfn.STDEV.S('VTA_Proteome Morphine vs Saline'!N14:Q14) -> 15244.087 | T14: 182887.77 | U14: 200478.93 | V14: 219908.76 | W14: 271850.88 | X14: =AVERAGE(T14:W14) -> 218781.59 | Y14: =_xlfn.STDEV.S(T14:W14) -> 38474.986
A15: ADDG_RAT | B15: Gamma-adducin OS=Rattus norvegicus OX=10116 GN=Add3 PE=1 SV=2 | C15: 78755 | D15: 22 | E15: 20 | F15: 1047.92 | G15: 0.93177514 | H15: 0.87797315 | I15: 0.005867733 | J15: x | K15: 1.4611211 | L15: SALINE | M15: MORPHINE | N15: 7378938.5 | O15: 6418931.3 | P15: 8636339.1 | Q15: 6528826.3 | R15: =AVERAGE('VTA_Proteome Morphine vs Saline'!N15:Q15) -> 7240758.8 | S15: =_xlfn.STDEV.S('VTA_Proteome Morphine vs Saline'!N15:Q15) -> 1024530.2 | T15: 4989767.4 | U15: 4545216.9 | V15: 5797253 | W15: 4490237.2 | X15: =AVERAGE(T15:W15) -> 4955618.6 | Y15: =_xlfn.STDEV.S(T15:W15) -> 604020.97
... A165: ZWINT_RAT | B165: ZW10 interactor OS=Rattus norvegicus OX=10116 GN=Zwint PE=1 SV=1 | C165: 30124 | D165: 12 | E165: 12 | F165: 805.2 | G165: 0.9407509 | H165: 0.8686656 | I165: 0.005311463 | J165: x | K165: 1.2469591 | L165: MORPHINE | M165: SALINE | N165: 20263133 | O165: 23028110 | P165: 20938858 | Q165: 21423803 | R165: =AVERAGE('VTA_Proteome Morphine vs Saline'!N165:Q165) -> 21413476 | S165: =_xlfn.STDEV.S('VTA_Proteome Morphine vs Saline'!N165:Q165) -> 1176959.4 | T165: 27862464 | U165: 27550007 | V165: 23369124 | W165: 28025319 | X165: =AVERAGE(T165:W165) -> 26701728 | Y165: =_xlfn.STDEV.S(T165:W165) -> 2230472.6
A166: 1433B_RAT | B166: 14-3-3 protein beta/alpha OS=Rattus norvegicus OX=10116 GN=Ywhab PE=1 SV=3 | C166: 28037 | D166: 24 | E166: 7 | F166: 1573.11 | G166: 0.1254417 | H166: 0.97795108 | I166: 0.38356367 | K166: 1.0919188 | L166: SALINE | M166: MORPHINE | N166: 1.7003e+08 | O166: 1.9459034e+08 | P166: 235826264 | Q166: 1.7764034e+08 | R166: =AVERAGE('VTA_Proteome Morphine vs Saline'!N166:Q166) -> 1.9452174e+08 | S166: =_xlfn.STDEV.S('VTA_Proteome Morphine vs Saline'!N166:Q166) -> 29387612 | T166: 2.0359799e+08 | U166: 1.81434e+08 | V166: 161696743 | W166: 1.6585807e+08 | X166: =AVERAGE(T166:W166) -> 1.781467e+08 | Y166: =_xlfn.STDEV.S(T166:W166) -> 18975300
A167: 1433E_RAT | B167: 14-3-3 protein epsilon OS=Rattus norvegicus OX=10116 GN=Ywhae PE=1 SV=1 | C167: 29155 | D167: 36 | E167: 31 | F167: 2614.26 | G167: 0.16859858 | H167: 0.97795108 | I167: 0.28511826 | K167: 1.0973561 | L167: SALINE | M167: MORPHINE | N167: 5.0600043e+08 | O167: 5.4518713e+08 | P167: 634469618 | Q167: 4.9315612e+08 | R167: =AVERAGE('VTA_Proteome Morphine vs Saline'!N167:Q167) -> 5.4470333e+08 | S167: =_xlfn.STDEV.S('VTA_Proteome Morphine vs Saline'!N167:Q167) -> 63805040 | T167: 5.3839324e+08 | U167: 5.4810228e+08 | V167: 4.5146956e+08 | W167: 4.4754652e+08 | X167: =AVERAGE(T167:W167) -> 4.963779e+08 | Y167: =_xlfn.STDEV.S(T167:W167) -> 54289236
A168: 1433F_RAT | B168: 14-3-3 protein eta OS=Rattus norvegicus OX=10116 GN=Ywhah PE=1 SV=2 | C168: 28194 | D168: 26 | E168: 14 | F168: 1819.99 | G168: 0.050862676 | H168: 0.99625992 | I168: 0.92217362 | K168: 1.0154793 | L168: MORPHINE | M168: SALINE | N168: 1.4652296e+08 | O168: 1.5194687e+08 | P168: 1.4919885e+08 | Q168: 1.3717008e+08 | R168: =AVERAGE('VTA_Proteome Morphine vs Saline'!N168:Q168) -> 1.4620969e+08 | S168: =_xlfn.STDEV.S('VTA_Proteome Morphine vs Saline'!N168:Q168) -> 6420357.9 | T168: 1.7733774e+08 | U168: 1.5425959e+08 | V168: 1.2758864e+08 | W168: 1.3470571e+08 | X168: =AVERAGE(T168:W168) -> 1.4847292e+08 | Y168: =_xlfn.STDEV.S(T168:W168) -> 22303608
A169: 1433G_RAT | B169: 14-3-3 protein gamma OS=Rattus norvegicus OX=10116 GN=Ywhag PE=1 SV=2 | C169: 28285 | D169: 25 | E169: 9 | F169: 1647.79 | G169: 0.059418433 | H169: 0.99625992 | I169: 0.7483558 | K169: 1.0353123 | L169: SALINE | M169: MORPHINE | N169: 2.7053311e+08 | O169: 3.0437182e+08 | P169: 3.5989136e+08 | Q169: 2.5896575e+08 | R169: =AVERAGE('VTA_Proteome Morphine vs Saline'!N169:Q169) -> 2.9844051e+08 | S169: =_xlfn.STDEV.S('VTA_Proteome Morphine vs Saline'!N169:Q169) -> 45271283 | T169: 3.1766149e+08 | U169: 309001912 | V169: 2.4858174e+08 | W169: 2.7780024e+08 | X169: =AVERAGE(T169:W169) -> 2.8826135e+08 | Y169: =_xlfn.STDEV.S(T169:W169) -> 31508967
A170: 1433T_RAT | B170: 14-3-3 protein theta OS=Rattus norvegicus OX=10116 GN=Ywhaq PE=1 SV=1 | C170: 27761 | D170: 27 | E170: 15 | F170: 1745.24 | G170: 0.074955449 | H170: 0.99625992 | I170: 0.6054044 | K170: 1.0491473 | L170: SALINE | M170: MORPHINE | N170: 1.5281668e+08 | O170: 1.8192031e+08 | P170: 1.818644e+08 | Q170: 1.4525917e+08 | R170: =AVERAGE('VTA_Proteome Morphine vs Saline'!N170:Q170) -> 1.6546514e+08 | S170: =_xlfn.STDEV.S('VTA_Proteome Morphine vs Saline'!N170:Q170) -> 19217813 | T170: 1.8020093e+08 | U170: 1.7401167e+08 | V170: 1.3541679e+08 | W170: 1.4122629e+08 | X170: =AVERAGE(T170:W170) -> 1.5771392e+08 | Y170: =_xlfn.STDEV.S(T170:W170) -> 22658969
A171: 1433Z_RAT | B171: 14-3-3 protein zeta/delta OS=Rattus norvegicus OX=10116 GN=Ywhaz PE=1 SV=1 | C171: 27754 | D171: 27 | E171: 14 | F171: 1936.04 | G171: 0.051560082 | H171: 0.99625992 | I171: 0.89552875 | K171: 1.0029141 | L171: SALINE | M171: MORPHINE | N171: 7.5374255e+08 | O171: 7.5581085e+08 | P171: 7.747519e+08 | Q171: 7.3809276e+08 | R171: =AVERAGE('VTA_Proteome Morphine vs Saline'!N171:Q171) -> 7.5559951e+08 | S171: =_xlfn.STDEV.S('VTA_Proteome Morphine vs Saline'!N171:Q171) -> 15019914 | T171: 8.7371298e+08 | U171: 7.8138686e+08 | V171: 701833153 | W171: 6.5668307e+08 | X171: =AVERAGE(T171:W171) -> 7.5340402e+08 | Y171: =_xlfn.STDEV.S(T171:W171) -> 95344608
A172: 22P1_RAT | B172: Cystatin-related protein 1 OS=Rattus norvegicus OX=10116 GN=Andpro PE=1 SV=1 | C172: 21047 | D172: 1 | E172: 1 | F172: 29.36 | G172: 0.25445141 | H172: 0.97795108 | I172: 0.1754051 | K172: 1.6404678 | L172: SALINE | M172: MORPHINE | N172: 65394.539 | O172: 18467.476 | P172: 61474.316 | Q172: 60871.659 | R172: =AVERAGE('VTA_Proteome Morphine vs Saline'!N172:Q172) -> 51551.997 | S172: =_xlfn.STDEV.S('VTA_Proteome Morphine vs Saline'!N172:Q172) -> 22147.31 | T172: 99392.501 | U172: 5360.2803 | V172: 8429.2946 | W172: 12518.646 | X172: =AVERAGE(T172:W172) -> 31425.181 | Y172: =_xlfn.STDEV.S(T172:W172) -> 45406.327
A173: 2A5B_RAT | B173: Serine/threonine-protein phosphatase 2A 56 kDa regulatory subunit beta isoform OS=Rattus norvegicus OX=10116 GN=Ppp2r5b PE=2 SV=1 | C173: 57290 | D173: 12 | E173: 12 | F173: 731.07 | G173: 0.052738227 | H173: 0.99625992 | I173: 0.86201067 | K173: 1.0158142 | L173: MORPHINE | M173: SALINE | N173: 4675188.4 | O173: 5971337 | P173: 7966175.2 | Q173: 6370008.3 | R173: =AVERAGE('VTA_Proteome Morphine vs Saline'!N173:Q173) -> 6245677.3 | S173: =_xlfn.STDEV.S('VTA_Proteome Morphine vs Saline'!N173:Q173) -> 1356130.4 | T173: 6121393.9 | U173: 5155735.5 | V173: 6594085.4 | W173: 7506575.7 | X173: =AVERAGE(T173:W173) -> 6344447.6 | Y173: =_xlfn.STDEV.S(T173:W173) -> 979055.73
A174: 2AAB_RAT | B174: Serine/threonine-protein phosphatase 2A 65 kDa regulatory subunit A beta isoform OS=Rattus norvegicus OX=10116 GN=Ppp2r1b PE=2 SV=1 | C174: 65964 | D174: 11 | E174: 11 | F174: 571.24 | G174: 0.052288006 | H174: 0.99625992 | I174: 0.8737184 | K174: 1.045863 | L174: SALINE | M174: MORPHINE | N174: 11757448 | O174: 13334056 | P174: 20977226 | Q174: 16677456 | R174: =AVERAGE('VTA_Proteome Morphine vs Saline'!N174:Q174) -> 15686546 | S174: =_xlfn.STDEV.S('VTA_Proteome Morphine vs Saline'!N174:Q174) -> 4080245.9 | T174: 14481336 | U174: 13782979 | V174: 15879795 | W174: 15850541 | X174: =AVERAGE(T174:W174) -> 14998663 | Y174: =_xlfn.STDEV.S(T174:W174) -> 1040449.3
A175: 2ABA_RAT | B175: Serine/threonine-protein phosphatase 2A 55 kDa regulatory subunit B alpha isoform OS=Rattus norvegicus OX=10116 GN=Ppp2r2a PE=2 SV=1 | C175: 51645 | D175: 19 | E175: 12 | F175: 1081.84 | G175: 0.051409265 | H175: 0.99625992 | I175: 0.9006683 | K175: 1.0063246 | L175: SALINE | M175: MORPHINE | N175: 11593423 | O175: 15163000 | P175: 14933699 | Q175: 15592082 | R175: =AVERAGE('VTA_Proteome Morphine vs Saline'!N175:Q175) -> 14320551 | S175: =_xlfn.STDEV.S('VTA_Proteome Morphine vs Saline'!N175:Q175) -> 1838449.2 | T175: 16833121 | U175: 13919660 | V175: 10261087 | W175: 15908324 | X175: =AVERAGE(T175:W175) -> 14230548 | Y175: =_xlfn.STDEV.S(T175:W175) -> 2912135
A176: 2ABB_RAT | B176: Serine/threonine-protein phosphatase 2A 55 kDa regulatory subunit B beta isoform OS=Rattus norvegicus OX=10116 GN=Ppp2r2b PE=1 SV=2 | C176: 51636 | D176: 6 | E176: 0 | F176: 307.25 | K176: 1 | L176: --- | M176: ---
A177: 2ABD_RAT | B177: Serine/threonine-protein phosphatase 2A 55 kDa regulatory subunit B delta isoform OS=Rattus norvegicus OX=10116 GN=Ppp2r2d PE=2 SV=1 | C177: 51950 | D177: 10 | E177: 4 | F177: 560.09 | G177: 0.0577532 | H177: 0.99625992 | I177: 0.77073314 | K177: 1.0247638 | L177: SALINE | M177: MORPHINE | N177: 1176190.6 | O177: 1455553.9 | P177: 1495262.1 | Q177: 1559285.2 | R177: =AVERAGE('VTA_Proteome Morphine vs Saline'!N177:Q177) -> 1421572.9 | S177: =_xlfn.STDEV.S('VTA_Proteome Morphine vs Saline'!N177:Q177) -> 169077.83 | T177: 1723093.7 | U177: 1386939.6 | V177: 882796.44 | W177: 1556050.5 | X177: =AVERAGE(T177:W177) -> 1387220.1 | Y177: =_xlfn.STDEV.S(T177:W177) -> 363207.06
A178: 2ABG_RAT | B178: Serine/threonine-protein phosphatase 2A 55 kDa regulatory subunit B gamma isoform OS=Rattus norvegicus OX=10116 GN=Ppp2r2c PE=2 SV=1 | C178: 51441 | D178: 6 | E178: 2 | F178: 261.83 | G178: 0.45250851 | H178: 0.97795108 | I178: 0.071025246 | K178: 2.0622785 | L178: MORPHINE | M178: SALINE | N178: 43089.093 | O178: 74889.233 | P178: 94592.669 | Q178: 65282.152 | R178: =AVERAGE('VTA_Proteome Morphine vs Saline'!N178:Q178) -> 69463.287 | S178: =_xlfn.STDEV.S('VTA_Proteome Morphine vs Saline'!N178:Q178) -> 21400.987 | T178: 98660.213 | U178: 93302.878 | V178: 270642.7 | W178: 110404.78 | X178: =AVERAGE(T178:W178) -> 143252.64 | Y178: =_xlfn.STDEV.S(T178:W178) -> 85226.509
A179: 3BP1_RAT | B179: SH3 domain-binding protein 1 OS=Rattus norvegicus OX=10116 GN=Sh3bp1 PE=1 SV=1 | C179: 74805 | D179: 8 | E179: 8 | F179: 339.63 | G179: 0.052068615 | H179: 0.99625992 | I179: 0.87985779 | K179: 1.0480963 | L179: SALINE | M179: MORPHINE | N179: 415288.61 | O179: 504330.52 | P179: 211763.28 | Q179: 236718.37 | R179: =AVERAGE('VTA_Proteome Morphine vs Saline'!N179:Q179) -> 342025.2 | S179: =_xlfn.STDEV.S('VTA_Proteome Morphine vs Saline'!N179:Q179) -> 141147.96 | T179: 423726.7 | U179: 413445.44 | V179: 308311.14 | W179: 159836.44 | X179: =AVERAGE(T179:W179) -> 326329.93 | Y179: =_xlfn.STDEV.S(T179:W179) -> 122637.68
A180: 3BP5_RAT | B180: SH3 domain-binding protein 5 OS=Rattus norvegicus OX=10116 GN=Sh3bp5 PE=1 SV=2 | C180: 50797 | D180: 2 | E180: 0 | F180: 55.55 | K180: 1 | L180: --- | M180: ---
A181: 3HIDH_RAT | B181: 3-hydroxyisobutyrate dehydrogenase, mitochondrial OS=Rattus norvegicus OX=10116 GN=Hibadh PE=1 SV=3 | C181: 35280 | D181: 19 | E181: 19 | F181: 1284.47 | G181: 0.20688028 | H181: 0.97795108 | I181: 0.22673794 | K181: 1.0754878 | L181: SALINE | M181: MORPHINE | N181: 33572391 | O181: 32724633 | P181: 38763248 | Q181: 32686095 | R181: =AVERAGE('VTA_Proteome Morphine vs Saline'!N181:Q181) -> 34436592 | S181: =_xlfn.STDEV.S('VTA_Proteome Morphine vs Saline'!N181:Q181) -> 2913293.4 | T181: 32837045 | U181: 34238556 | V181: 31914847 | W181: 29087587 | X181: =AVERAGE(T181:W181) -> 32019509 | Y181: =_xlfn.STDEV.S(T181:W181) -> 2175595.8
A182: 4F2_RAT | B182: 4F2 cell-surface antigen heavy chain OS=Rattus norvegicus OX=10116 GN=Slc3a2 PE=1 SV=1 | C182: 58036 | D182: 30 | E182: 30 | F182: 2684.72 | G182: 0.053529201 | H182: 0.99625992 | I182: 0.84365935 | K182: 1.024034 | L182: MORPHINE | M182: SALINE | N182: 1.7794817e+08 | O182: 1.8373932e+08 | P182: 1.6815342e+08 | Q182: 1.7392067e+08 | R182: =AVERAGE('VTA_Proteome Morphine vs Saline'!N182:Q182) -> 1.759404e+08 | S182: =_xlfn.STDEV.S('VTA_Proteome Morphine vs Saline'!N182:Q182) -> 6571925.5 | T182: 2.1148232e+08 | U182: 1.699149e+08 | V182: 1.9011866e+08 | W182: 149159935 | X182: =AVERAGE(T182:W182) -> 1.8016895e+08 | Y182: =_xlfn.STDEV.S(T182:W182) -> 26747140
A183: 5E5_RAT | B183: 5E5 antigen OS=Rattus norvegicus OX=10116 PE=2 SV=1 | C183: 86779 | D183: 5 | E183: 5 | F183: 192.39 | G183: 0.2106874 | H183: 0.97795108 | I183: 0.22190699 | K183: 1.3514758 | L183: MORPHINE | M183: SALINE | N183: 58205.925 | O183: 128240.56 | P183: 133590.06 | Q183: 123711.77 | R183: =AVERAGE('VTA_Proteome Morphine vs Saline'!N183:Q183) -> 110937.08 | S183: =_xlfn.STDEV.S('VTA_Proteome Morphine vs Saline'!N183:Q183) -> 35385.193 | T183: 131965.34 | U183: 197992.5 | V183: 163116.76 | W183: 106640.51 | X183: =AVERAGE(T183:W183) -> 149928.78 | Y183: =_xlfn.STDEV.S(T183:W183) -> 39499.384
A184: 5HT6R_RAT | B184: 5-hydroxytryptamine receptor 6 OS=Rattus norvegicus OX=10116 GN=Htr6 PE=1 SV=2 | C184: 46892 | D184: 1 | E184: 1 | F184: 26.85 | G184: 0.057344536 | H184: 0.99625992 | I184: 0.77662864 | K184: 1.4566229 | L184: SALINE | M184: MORPHINE | N184: 220876.92 | O184: 529174.83 | P184: 9453.654 | Q184: 302658.91 | R184: =AVERAGE('VTA_Proteome Morphine vs Saline'!N184:Q184) -> 265541.08 | S184: =_xlfn.STDEV.S('VTA_Proteome Morphine vs Saline'!N184:Q184) -> 214830.28 | T184: 226374.03 | U184: 138661.41 | V184: 221826.96 | W184: 142334.08 | X184: =AVERAGE(T184:W184) -> 182299.12 | Y184: =_xlfn.STDEV.S(T184:W184) -> 48327.016
A185: 5NT3B_RAT | B185: 7-methylguanosine phosphate-specific 5'-nucleotidase OS=Rattus norvegicus OX=10116 GN=Nt5c3b PE=2 SV=2 | C185: 34513 | D185: 8 | E185: 8 | F185: 422.36 | G185: 0.050013358 | H185: 0.99959859 | I185: 0.99029422 | K185: 1.0143968 | L185: SALINE | M185: MORPHINE | N185: 1224925.8 | O185: 1581660.7 | P185: 804917.48 | Q185: 1397438.2 | R185: =AVERAGE('VTA_Proteome Morphine vs Saline'!N185:Q185) -> 1252235.5 | S185: =_xlfn.STDEV.S('VTA_Proteome Morphine vs Saline'!N185:Q185) -> 331885.52 | T185: 1211431.2 | U185: 1580037.9 | V185: 1017425.1 | W185: 1128958.8 | X185: =AVERAGE(T185:W185) -> 1234463.2 | Y185: =_xlfn.STDEV.S(T185:W185) -> 243713.67
A186: 5NTD_RAT | B186: 5'-nucleotidase OS=Rattus norvegicus OX=10116 GN=Nt5e PE=1 SV=1 | C186: 63928 | D186: 9 | E186: 9 | F186: 491.78 | G186: 0.12145697 | H186: 0.98046421 | I186: 0.39538753 | K186: 1.0820485 | L186: MORPHINE | M186: SALINE | N186: 1660796.9 | O186: 2354338.3 | P186: 2504402.3 | Q186: 2205189.2 | R186: =AVERAGE('VTA_Proteome Morphine vs Saline'!N186:Q186) -> 2181181.7 | S186: =_xlfn.STDEV.S('VTA_Proteome Morphine vs Saline'!N186:Q186) -> 367800.41 | T186: 2387799.7 | U186: 2130070.4 | V186: 2438147 | W186: 2484560.2 | X186: =AVERAGE(T186:W186) -> 2360144.3 | Y186: =_xlfn.STDEV.S(T186:W186) -> 158390.42
A187: 6PGD_RAT | B187: 6-phosphogluconate dehydrogenase, decarboxylating OS=Rattus norvegicus OX=10116 GN=Pgd PE=1 SV=1 | C187: 53202 | D187: 27 | E187: 27 | F187: 1585.52 | G187: 0.073078553 | H187: 0.99625992 | I187: 0.61886448 | K187: 1.0249315 | L187: SALINE | M187: MORPHINE | N187: 42620905 | O187: 41894158 | P187: 37461841 | Q187: 38553671 | R187: =AVERAGE('VTA_Proteome Morphine vs Saline'!N187:Q187) -> 40132644 | S187: =_xlfn.STDEV.S('VTA_Proteome Morphine vs Saline'!N187:Q187) -> 2511355.3 | T187: 35731268 | U187: 42087439 | V187: 40666740 | W187: 38140222 | X187: =AVERAGE(T187:W187) -> 39156417 | Y187: =_xlfn.STDEV.S(T187:W187) -> 2806912.1
A188: 6PGL_RAT | B188: 6-phosphogluconolactonase OS=Rattus norvegicus OX=10116 GN=Pgls PE=1 SV=1 | C188: 27217 | D188: 10 | E188: 10 | F188: 830.68 | G188: 0.055109882 | H188: 0.99625992 | I188: 0.812632 | K188: 1.0095167 | L188: SALINE | M188: MORPHINE | N188: 16519133 | O188: 16912314 | P188: 18343101 | Q188: 16459428 | R188: =AVERAGE('VTA_Proteome Morphine vs Saline'!N188:Q188) -> 17058494 | S188: =_xlfn.STDEV.S('VTA_Proteome Morphine vs Saline'!N188:Q188) -> 879653.91 | T188: 18432922 | U188: 16159340 | V188: 16915143 | W188: 16083327 | X188: =AVERAGE(T188:W188) -> 16897683 | Y188: =_xlfn.STDEV.S(T188:W188) -> 1090197.2
A189: 8ODP_RAT | B189: 7,8-dihydro-8-oxoguanine triphosphatase OS=Rattus norvegicus OX=10116 GN=Nudt1 PE=1 SV=1 | C189: 18007 | D189: 1 | E189: 1 | F189: 58.5 | G189: 0.052224162 | H189: 0.99625992 | I189: 0.87547237 | K189: 1.1394645 | L189: SALINE | M189: MORPHINE | N189: 11812.491 | O189: 1923.7787 | P189: 62257.761 | Q189: 64383.425 | R189: =AVERAGE('VTA_Proteome Morphine vs Saline'!N189:Q189) -> 35094.364 | S189: =_xlfn.STDEV.S('VTA_Proteome Morphine vs Saline'!N189:Q189) -> 32853.374 | T189: 4035.3347 | U189: 3297.2467 | V189: 46215.107 | W189: 69648.302 | X189: =AVERAGE(T189:W189) -> 30798.997 | Y189: =_xlfn.STDEV.S(T189:W189) -> 32759.552
A190: A16A1_RAT | B190: Aldehyde dehydrogenase family 16 member A1 OS=Rattus norvegicus OX=10116 GN=Aldh16a1 PE=2 SV=1 | C190: 85361 | D190: 10 | E190: 9 | F190: 654.96 | G190: 0.056295434 | H190: 0.99625992 | I190: 0.79265055 | K190: 1.0297335 | L190: MORPHINE | M190: SALINE | N190: 922438.16 | O190: 883524.45 | P190: 783783.45 | Q190: 828525.43 | R190: =AVERAGE('VTA_Proteome Morphine vs Saline'!N190:Q190) -> 854567.87 | S190: =_xlfn.STDEV.S('VTA_Proteome Morphine vs Saline'!N190:Q190) -> 60919.354 | T190: 1313883.8 | U190: 1189336.1 | V190: 604910.39 | W190: 411778.44 | X190: =AVERAGE(T190:W190) -> 879977.19 | Y190: =_xlfn.STDEV.S(T190:W190) -> 439260.64
A191: A2MG_RAT | B191: Alpha-2-macroglobulin OS=Rattus norvegicus OX=10116 GN=A2m PE=2 SV=2 | C191: 163682 | D191: 4 | E191: 2 | F191: 221.91 | G191: 0.20393886 | H191: 0.97795108 | I191: 0.23057387 | K191: 2.2083043 | L191: SALINE | M191: MORPHINE | N191: 9295.6033 | O191: 15505.217 | P191: 59293.486 | Q191: 42376.994 | R191: =AVERAGE('VTA_Proteome Morphine vs Saline'!N191:Q191) -> 31617.825 | S191: =_xlfn.STDEV.S('VTA_Proteome Morphine vs Saline'!N191:Q191) -> 23378.05 | T191: 4297.5162 | U191: 6839.6417 | V191: 31178.485 | W191: 14955.133 | X191: =AVERAGE(T191:W191) -> 14317.694 | Y191: =_xlfn.STDEV.S(T191:W191) -> 12124.601
A192: A4_RAT | B192: Amyloid-beta A4 protein OS=Rattus norvegicus OX=10116 GN=App PE=1 SV=2 | C192: 86649 | D192: 21 | E192: 19 | F192: 1165.48 | G192: 0.26287453 | H192: 0.97795108 | I192: 0.16801853 | K192: 1.1042286 | L192: MORPHINE | M192: SALINE | N192: 10811243 | O192: 12670269 | P192: 9622925 | Q192: 10597829 | R192: =AVERAGE('VTA_Proteome Morphine vs Saline'!N192:Q192) -> 10925566 | S192: =_xlfn.STDEV.S('VTA_Proteome Morphine vs Saline'!N192:Q192) -> 1272968 | T192: 11846266 | U192: 12509356 | V192: 11089292 | W192: 12812378 | X192: =AVERAGE(T192:W192) -> 12064323 | Y192: =_xlfn.STDEV.S(T192:W192) -> 765043.62
... A206: ABCA5_RAT | B206: ATP-binding cassette sub-family A member 5 OS=Rattus norvegicus OX=10116 GN=Abca5 PE=2 SV=1 | C206: 185690 | D206: 1 | E206: 1 | F206: 26.21 | G206: 0.30651724 | H206: 0.97795108 | I206: 0.13565512 | K206: 1.2941167 | L206: MORPHINE | M206: SALINE | N206: 30108.179 | O206: 19383.372 | P206: 28683.524 | Q206: 22137.631 | R206: =AVERAGE('VTA_Proteome Morphine vs Saline'!N206:Q206) -> 25078.177 | S206: =_xlfn.STDEV.S('VTA_Proteome Morphine vs Saline'!N206:Q206) -> 5143.833 | T206: 43677.638 | U206: 28670.981 | V206: 29447.082 | W206: 28020.651 | X206: =AVERAGE(T206:W206) -> 32454.088 | Y206: =_xlfn.STDEV.S(T206:W206) -> 7505.0519
A207: ABCAH_RAT | B207: ATP-binding cassette sub-family A member 17 OS=Rattus norvegicus OX=10116 GN=Abca17 PE=2 SV=1 | C207: 199729 | D207: 1 | E207: 0 | F207: 36.6 | K207: 1 | L207: --- | M207: ---
A208: ABCB8_RAT | B208: ATP-binding cassette sub-family B member 8, mitochondrial OS=Rattus norvegicus OX=10116 GN=Abcb8 PE=2 SV=1 | C208: 77721 | D208: 1 | E208: 1 | F208: 25.43 | G208: 0.061315823 | H208: 0.99625992 | I208: 0.72546245 | K208: 1.0591091 | L208: MORPHINE | M208: SALINE | N208: 45566.539 | O208: 21509.898 | P208: 42641.959 | Q208: 29094.376 | R208: =AVERAGE('VTA_Proteome Morphine vs Saline'!N208:Q208) -> 34703.193 | S208: =_xlfn.STDEV.S('VTA_Proteome Morphine vs Saline'!N208:Q208) -> 11351.331 | T208: 39949.402 | U208: 32285.378 | V208: 47674.515 | W208: 27108.578 | X208: =AVERAGE(T208:W208) -> 36754.468 | Y208: =_xlfn.STDEV.S(T208:W208) -> 8990.1983
A209: ABCD3_RAT | B209: ATP-binding cassette sub-family D member 3 OS=Rattus norvegicus OX=10116 GN=Abcd3 PE=1 SV=3 | C209: 75267 | D209: 3 | E209: 3 | F209: 137.93 | G209: 0.16282136 | H209: 0.97795108 | I209: 0.2958421 | K209: 1.2618143 | L209: SALINE | M209: MORPHINE | N209: 270495.55 | O209: 313754.96 | P209: 549365.11 | Q209: 364061.31 | R209: =AVERAGE('VTA_Proteome Morphine vs Saline'!N209:Q209) -> 374419.23 | S209: =_xlfn.STDEV.S('VTA_Proteome Morphine vs Saline'!N209:Q209) -> 122737.71 | T209: 302823.69 | U209: 216229.69 | V209: 328576.73 | W209: 339293.34 | X209: =AVERAGE(T209:W209) -> 296730.86 | Y209: =_xlfn.STDEV.S(T209:W209) -> 55807.063
A210: ABCF1_RAT | B210: ATP-binding cassette sub-family F member 1 OS=Rattus norvegicus OX=10116 GN=Abcf1 PE=1 SV=1 | C210: 95193 | D210: 17 | E210: 16 | F210: 868.63 | G210: 0.12955622 | H210: 0.97795108 | I210: 0.37196438 | K210: 1.0840742 | L210: SALINE | M210: MORPHINE | N210: 3743812.6 | O210: 4423623.6 | P210: 3712770.8 | Q210: 4160483.2 | R210: =AVERAGE('VTA_Proteome Morphine vs Saline'!N210:Q210) -> 4010172.5 | S210: =_xlfn.STDEV.S('VTA_Proteome Morphine vs Saline'!N210:Q210) -> 342992.01 | T210: 3046384.5 | U210: 4501689 | V210: 3538029.7 | W210: 3710568.3 | X210: =AVERAGE(T210:W210) -> 3699167.9 | Y210: =_xlfn.STDEV.S(T210:W210) -> 604500.28
A211: ABCF3_RAT | B211: ATP-binding cassette sub-family F member 3 OS=Rattus norvegicus OX=10116 GN=Abcf3 PE=2 SV=1 | C211: 79806 | D211: 20 | E211: 20 | F211: 1196.19 | G211: 0.14806321 | H211: 0.97795108 | I211: 0.32624199 | K211: 1.1017271 | L211: MORPHINE | M211: SALINE | N211: 4640489.3 | O211: 5302254 | P211: 4110417.4 | Q211: 4343163.7 | R211: =AVERAGE('VTA_Proteome Morphine vs Saline'!N211:Q211) -> 4599081.1 | S211: =_xlfn.STDEV.S('VTA_Proteome Morphine vs Saline'!N211:Q211) -> 516543.86 | T211: 5959408 | U211: 5248576 | V211: 4320519.3 | W211: 4739226.2 | X211: =AVERAGE(T211:W211) -> 5066932.4 | Y211: =_xlfn.STDEV.S(T211:W211) -> 705698.48
A212: ABD12_RAT | B212: Monoacylglycerol lipase ABHD12 OS=Rattus norvegicus OX=10116 GN=Abhd12 PE=2 SV=1 | C212: 45267 | D212: 21 | E212: 21 | F212: 1346.81 | G212: 0.069376539 | H212: 0.99625992 | I212: 0.64769827 | K212: 1.0330682 | L212: MORPHINE | M212: SALINE | N212: 7948199.1 | O212: 10664010 | P212: 7805614 | Q212: 8106239.4 | R212: =AVERAGE('VTA_Proteome Morphine vs Saline'!N212:Q212) -> 8631015.6 | S212: =_xlfn.STDEV.S('VTA_Proteome Morphine vs Saline'!N212:Q212) -> 1360879.8 | T212: 9626738.5 | U212: 8549333.8 | V212: 9228960.8 | W212: 8260676.3 | X212: =AVERAGE(T212:W212) -> 8916427.4 | Y212: =_xlfn.STDEV.S(T212:W212) -> 623694.95
A213: ABHD1_RAT | B213: Protein ABHD1 OS=Rattus norvegicus OX=10116 GN=Abhd1 PE=2 SV=1 | C213: 45528 | D213: 2 | E213: 2 | F213: 102.39 | G213: 0.063910166 | H213: 0.99625992 | I213: 0.69754309 | K213: 1.0658258 | L213: SALINE | M213: MORPHINE | N213: 118730.52 | O213: 174663.11 | P213: 154612.84 | Q213: 95603.592 | R213: =AVERAGE('VTA_Proteome Morphine vs Saline'!N213:Q213) -> 135902.51 | S213: =_xlfn.STDEV.S('VTA_Proteome Morphine vs Saline'!N213:Q213) -> 35455.796 | T213: 170986.7 | U213: 171518.08 | V213: 73577.296 | W213: 93954.409 | X213: =AVERAGE(T213:W213) -> 127509.12 | Y213: =_xlfn.STDEV.S(T213:W213) -> 51191.304
A214: ABHD5_RAT | B214: 1-acylglycerol-3-phosphate O-acyltransferase ABHD5 OS=Rattus norvegicus OX=10116 GN=Abhd5 PE=1 SV=1 | C214: 39079 | D214: 3 | E214: 3 | F214: 183.91 | G214: 0.06059182 | H214: 0.99625992 | I214: 0.73391523 | K214: 1.2168273 | L214: SALINE | M214: MORPHINE | N214: 117570.91 | O214: 219480.98 | P214: 56410.075 | Q214: 115470.75 | R214: =AVERAGE('VTA_Proteome Morphine vs Saline'!N214:Q214) -> 127233.18 | S214: =_xlfn.STDEV.S('VTA_Proteome Morphine vs Saline'!N214:Q214) -> 67718.247 | T214: 124749.27 | U214: 115651.77 | V214: 108758.78 | W214: 69085.836 | X214: =AVERAGE(T214:W214) -> 104561.41 | Y214: =_xlfn.STDEV.S(T214:W214) -> 24540.307
A215: ABHDA_RAT | B215: Mycophenolic acid acyl-glucuronide esterase, mitochondrial OS=Rattus norvegicus OX=10116 GN=Abhd10 PE=1 SV=2 | C215: 33131 | D215: 6 | E215: 6 | F215: 285.31 | G215: 0.055145377 | H215: 0.99625992 | I215: 0.81199925 | K215: 1.0738753 | L215: MORPHINE | M215: SALINE | N215: 2713176.7 | O215: 2552425 | P215: 3133763.1 | Q215: 2578534 | R215: =AVERAGE('VTA_Proteome Morphine vs Saline'!N215:Q215) -> 2744474.7 | S215: =_xlfn.STDEV.S('VTA_Proteome Morphine vs Saline'!N215:Q215) -> 268914.11 | T215: 4216348.4 | U215: 3017483.4 | V215: 2471392.9 | W215: 2083670 | X215: =AVERAGE(T215:W215) -> 2947223.7 | Y215: =_xlfn.STDEV.S(T215:W215) -> 928754.31
A216: ABHEA_RAT | B216: Protein ABHD14A OS=Rattus norvegicus OX=10116 GN=Abhd14a PE=2 SV=1 | C216: 26744 | D216: 1 | E216: 1 | F216: 30.47 | G216: 0.089359625 | H216: 0.99625992 | I216: 0.52034092 | K216: 1.1139844 | L216: MORPHINE | M216: SALINE | N216: 52332.235 | O216: 42777.794 | P216: 3459.3145 | Q216: 44994.346 | R216: =AVERAGE('VTA_Proteome Morphine vs Saline'!N216:Q216) -> 35890.922 | S216: =_xlfn.STDEV.S('VTA_Proteome Morphine vs Saline'!N216:Q216) -> 22003.237 | T216: 23519.167 | U216: 40638.322 | V216: 49981.61 | W216: 45788.614 | X216: =AVERAGE(T216:W216) -> 39981.928 | Y216: =_xlfn.STDEV.S(T216:W216) -> 11621.311
A217: ABHEB_RAT | B217: Protein ABHD14B OS=Rattus norvegicus OX=10116 GN=Abhd14b PE=2 SV=1 | C217: 22604 | D217: 10 | E217: 10 | F217: 504.78 | G217: 0.10523045 | H217: 0.99063051 | I217: 0.45075772 | K217: 1.1354115 | L217: MORPHINE | M217: SALINE | N217: 8470033.8 | O217: 7584008.1 | P217: 10124871 | Q217: 8816621.5 | R217: =AVERAGE('VTA_Proteome Morphine vs Saline'!N217:Q217) -> 8748883.5 | S217: =_xlfn.STDEV.S('VTA_Proteome Morphine vs Saline'!N217:Q217) -> 1053979.8 | T217: 12374430 | U217: 7365840.8 | V217: 11487394 | W217: 8506665.5 | X217: =AVERAGE(T217:W217) -> 9933582.6 | Y217: =_xlfn.STDEV.S(T217:W217) -> 2380578.1
A218: ABHGA_RAT | B218: Protein ABHD16A OS=Rattus norvegicus OX=10116 GN=Abhd16a PE=2 SV=1 | C218: 62998 | D218: 1 | E218: 1 | F218: 47.63 | G218: 0.28693619 | H218: 0.97795108 | I218: 0.14906824 | K218: 7.4002843 | L218: SALINE | M218: MORPHINE | N218: 182.46723 | O218: 401.44691 | P218: 5747.8027 | Q218: 906.35704 | R218: =AVERAGE('VTA_Proteome Morphine vs Saline'!N218:Q218) -> 1809.5185 | S218: =_xlfn.STDEV.S('VTA_Proteome Morphine vs Saline'!N218:Q218) -> 2642.962 | T218: 319.29383 | U218: 454.5347 | V218: 126.3824 | W218: 77.869592 | X218: =AVERAGE(T218:W218) -> 244.52013 | Y218: =_xlfn.STDEV.S(T218:W218) -> 174.572
A219: ABI1_RAT | B219: Abl interactor 1 OS=Rattus norvegicus OX=10116 GN=Abi1 PE=1 SV=3 | C219: 51673 | D219: 13 | E219: 11 | F219: 696.05 | G219: 0.059580432 | H219: 0.99625992 | I219: 0.74630296 | K219: 1.0217535 | L219: MORPHINE | M219: SALINE | N219: 6094985.5 | O219: 6604835 | P219: 8347652.7 | Q219: 8075310.2 | R219: =AVERAGE('VTA_Proteome Morphine vs Saline'!N219:Q219) -> 7280695.9 | S219: =_xlfn.STDEV.S('VTA_Proteome Morphine vs Saline'!N219:Q219) -> 1100379.6 | T219: 7950205.3 | U219: 6750269.2 | V219: 7436880 | W219: 7618952.8 | X219: =AVERAGE(T219:W219) -> 7439076.9 | Y219: =_xlfn.STDEV.S(T219:W219) -> 505986.98
... A236: ACES_RAT | B236: Acetylcholinesterase OS=Rattus norvegicus OX=10116 GN=Ache PE=2 SV=1 | C236: 68153 | D236: 12 | E236: 11 | F236: 515.64 | G236: 0.18360575 | H236: 0.97795108 | I236: 0.25985148 | K236: 1.4143739 | L236: SALINE | M236: MORPHINE | N236: 1251141.7 | O236: 1080532.3 | P236: 2682311.3 | Q236: 1952821.9 | R236: =AVERAGE('VTA_Proteome Morphine vs Saline'!N236:Q236) -> 1741701.8 | S236: =_xlfn.STDEV.S('VTA_Proteome Morphine vs Saline'!N236:Q236) -> 731918.06 | T236: 943255.62 | U236: 1015889.4 | V236: 1772790.5 | W236: 1193782.5 | X236: =AVERAGE(T236:W236) -> 1231429.5 | Y236: =_xlfn.STDEV.S(T236:W236) -> 375939.15
A237: ACHA3_RAT | B237: Neuronal acetylcholine receptor subunit alpha-3 OS=Rattus norvegicus OX=10116 GN=Chrna3 PE=1 SV=1 | C237: 56960 | D237: 1 | E237: 1 | F237: 42.32 | G237: 0.3020687 | H237: 0.97795108 | I237: 0.13856175 | K237: Infinity | L237: MORPHINE | M237: SALINE | N237: 0 | O237: 0 | P237: 0 | Q237: 0 | R237: =AVERAGE('VTA_Proteome Morphine vs Saline'!N237:Q237) -> 0 | S237: =_xlfn.STDEV.S('VTA_Proteome Morphine vs Saline'!N237:Q237) -> 0 | T237: 0 | U237: 455.67897 | V237: 2916.8758 | W237: 0 | X237: =AVERAGE(T237:W237) -> 843.13868 | Y237: =_xlfn.STDEV.S(T237:W237) -> 1399.0802
A238: ACHA4_RAT | B238: Neuronal acetylcholine receptor subunit alpha-4 OS=Rattus norvegicus OX=10116 GN=Chrna4 PE=1 SV=3 | C238: 70147 | D238: 2 | E238: 2 | F238: 57.63 | G238: 0.12160481 | H238: 0.98046421 | I238: 0.39493788 | K238: 1.9772505 | L238: MORPHINE | M238: SALINE | N238: 1228.0514 | O238: 4809.5239 | P238: 0 | Q238: 11323.088 | R238: =AVERAGE('VTA_Proteome Morphine vs Saline'!N238:Q238) -> 4340.1659 | S238: =_xlfn.STDEV.S('VTA_Proteome Morphine vs Saline'!N238:Q238) -> 5082.7747 | T238: 353.2788 | U238: 5805.5371 | V238: 22210.136 | W238: 5957.4283 | X238: =AVERAGE(T238:W238) -> 8581.5951 | Y238: =_xlfn.STDEV.S(T238:W238) -> 9452.2497
A239: ACHA9_RAT | B239: Neuronal acetylcholine receptor subunit alpha-9 OS=Rattus norvegicus OX=10116 GN=Chrna9 PE=1 SV=2 | C239: 54491 | D239: 1 | E239: 1 | F239: 25.49 | G239: 0.065226512 | H239: 0.99625992 | I239: 0.68456635 | K239: 1.3651841 | L239: SALINE | M239: MORPHINE | N239: 46256.043 | O239: 5324.8588 | P239: 4840.5602 | Q239: 1711.9121 | R239: =AVERAGE('VTA_Proteome Morphine vs Saline'!N239:Q239) -> 14533.344 | S239: =_xlfn.STDEV.S('VTA_Proteome Morphine vs Saline'!N239:Q239) -> 21209 | T239: 12738.775 | U239: 18465.063 | V239: 4802.5871 | W239: 6576.3841 | X239: =AVERAGE(T239:W239) -> 10645.702 | Y239: =_xlfn.STDEV.S(T239:W239) -> 6224.2725
A240: ACHB4_RAT | B240: Neuronal acetylcholine receptor subunit beta-4 OS=Rattus norvegicus OX=10116 GN=Chrnb4 PE=1 SV=1 | C240: 55825 | D240: 1 | E240: 1 | F240: 29.93 | G240: 0.058066758 | H240: 0.99625992 | I240: 0.76632634 | K240: 1.3249868 | L240: MORPHINE | M240: SALINE | N240: 5103.0938 | O240: 235.94265 | P240: 1050.7387 | Q240: 492.86554 | R240: =AVERAGE('VTA_Proteome Morphine vs Saline'!N240:Q240) -> 1720.6602 | S240: =_xlfn.STDEV.S('VTA_Proteome Morphine vs Saline'!N240:Q240) -> 2280.4618 | T240: 1486.7047 | U240: 5144.4088 | V240: 2362.9037 | W240: 125.39112 | X240: =AVERAGE(T240:W240) -> 2279.8521 | Y240: =_xlfn.STDEV.S(T240:W240) -> 2120.0132
A241: ACK1_RAT | B241: Activated CDC42 kinase 1 OS=Rattus norvegicus OX=10116 GN=Tnk2 PE=2 SV=1 | C241: 114995 | D241: 2 | E241: 2 | F241: 93.46 | G241: 0.068097703 | H241: 0.99625992 | I241: 0.65848082 | K241: 1.0567786 | L241: MORPHINE | M241: SALINE | N241: 107209.5 | O241: 130449.27 | P241: 127560.82 | Q241: 113145.99 | R241: =AVERAGE('VTA_Proteome Morphine vs Saline'!N241:Q241) -> 119591.39 | S241: =_xlfn.STDEV.S('VTA_Proteome Morphine vs Saline'!N241:Q241) -> 11199.106 | T241: 123793.82 | U241: 135328.56 | V241: 148506.03 | W241: 97898.077 | X241: =AVERAGE(T241:W241) -> 126381.62 | Y241: =_xlfn.STDEV.S(T241:W241) -> 21506.17
A242: ACL6B_RAT | B242: Actin-like protein 6B OS=Rattus norvegicus OX=10116 GN=Actl6b PE=1 SV=2 | C242: 46861 | D242: 3 | E242: 3 | F242: 100.2 | G242: 0.10142566 | H242: 0.99094768 | I242: 0.46578184 | K242: 1.320277 | L242: SALINE | M242: MORPHINE | N242: 173939.98 | O242: 66672.395 | P242: 106604.13 | Q242: 215725.73 | R242: =AVERAGE('VTA_Proteome Morphine vs Saline'!N242:Q242) -> 140735.56 | S242: =_xlfn.STDEV.S('VTA_Proteome Morphine vs Saline'!N242:Q242) -> 66774.161 | T242: 128704.86 | U242: 67208.274 | V242: 50625.653 | W242: 179843.12 | X242: =AVERAGE(T242:W242) -> 106595.48 | Y242: =_xlfn.STDEV.S(T242:W242) -> 59267.795
A243: ACLY_RAT | B243: ATP-citrate synthase OS=Rattus norvegicus OX=10116 GN=Acly PE=1 SV=1 | C243: 120559 | D243: 73 | E243: 73 | F243: 5267.74 | G243: 0.062860658 | H243: 0.99625992 | I243: 0.70843033 | K243: 1.0346536 | L243: SALINE | M243: MORPHINE | N243: 1.1915195e+08 | O243: 151433381 | P243: 1.520931e+08 | Q243: 1.4667289e+08 | R243: =AVERAGE('VTA_Proteome Morphine vs Saline'!N243:Q243) -> 1.4233783e+08 | S243: =_xlfn.STDEV.S('VTA_Proteome Morphine vs Saline'!N243:Q243) -> 15644724 | T243: 1.1126543e+08 | U243: 1.4221908e+08 | V243: 1.3504553e+08 | W243: 1.6175204e+08 | X243: =AVERAGE(T243:W243) -> 1.3757052e+08 | Y243: =_xlfn.STDEV.S(T243:W243) -> 20854165
A244: ACON_RAT | B244: Aconitate hydratase, mitochondrial OS=Rattus norvegicus OX=10116 GN=Aco2 PE=1 SV=2 | C244: 85380 | D244: 66 | E244: 65 | F244: 5666.27 | G244: 0.06466384 | H244: 0.99625992 | I244: 0.69002642 | K244: 1.0932052 | L244: MORPHINE | M244: SALINE | N244: 2018268851 | O244: 1636206109 | P244: 1314556828 | Q244: 1376419272 | R244: =AVERAGE('VTA_Proteome Morphine vs Saline'!N244:Q244) -> 1586362765 | S244: =_xlfn.STDEV.S('VTA_Proteome Morphine vs Saline'!N244:Q244) -> 3.1988642e+08 | T244: 2242270952 | U244: 2067329059 | V244: 1346916619 | W244: 1280363398 | X244: =AVERAGE(T244:W244) -> 1734220007 | Y244: =_xlfn.STDEV.S(T244:W244) -> 4.916188e+08
A245: ACOT1_RAT | B245: Acyl-coenzyme A thioesterase 1 OS=Rattus norvegicus OX=10116 GN=Acot1 PE=1 SV=1 | C245: 45984 | D245: 9 | E245: 3 | F245: 500.74 | G245: 0.30281775 | H245: 0.97795108 | I245: 0.1380668 | K245: 2.001343 | L245: MORPHINE | M245: SALINE | N245: 170872.69 | O245: 180999.61 | P245: 183370.24 | Q245: 138347.27 | R245: =AVERAGE('VTA_Proteome Morphine vs Saline'!N245:Q245) -> 168397.45 | S245: =_xlfn.STDEV.S('VTA_Proteome Morphine vs Saline'!N245:Q245) -> 20753.625 | T245: 179880.44 | U245: 649726.6 | V245: 345305.24 | W245: 173171.97 | X245: =AVERAGE(T245:W245) -> 337021.06 | Y245: =_xlfn.STDEV.S(T245:W245) -> 223153.97
A246: ACOT2_RAT | B246: Acyl-coenzyme A thioesterase 2, mitochondrial OS=Rattus norvegicus OX=10116 GN=Acot2 PE=1 SV=1 | C246: 49670 | D246: 12 | E246: 6 | F246: 718.54 | G246: 0.203483 | H246: 0.97795108 | I246: 0.23117668 | K246: 1.1825429 | L246: SALINE | M246: MORPHINE | N246: 3033098.7 | O246: 3340468.4 | P246: 2698246.1 | Q246: 2653138.9 | R246: =AVERAGE('VTA_Proteome Morphine vs Saline'!N246:Q246) -> 2931238.1 | S246: =_xlfn.STDEV.S('VTA_Proteome Morphine vs Saline'!N246:Q246) -> 321179.81 | T246: 2704231 | U246: 3320576.9 | V246: 1919536.5 | W246: 1970688.8 | X246: =AVERAGE(T246:W246) -> 2478758.3 | Y246: =_xlfn.STDEV.S(T246:W246) -> 665922.92
A247: ACOT8_RAT | B247: Acyl-coenzyme A thioesterase 8 OS=Rattus norvegicus OX=10116 GN=Acot8 PE=1 SV=1 | C247: 35980 | D247: 1 | E247: 1 | F247: 25.03 | G247: 0.050680544 | H247: 0.99625992 | I247: 0.93084314 | K247: 1.0093206 | L247: MORPHINE | M247: SALINE | N247: 7337.2415 | O247: 7154.2491 | P247: 10579.372 | Q247: 8422.9931 | R247: =AVERAGE('VTA_Proteome Morphine vs Saline'!N247:Q247) -> 8373.464 | S247: =_xlfn.STDEV.S('VTA_Proteome Morphine vs Saline'!N247:Q247) -> 1573.608 | T247: 9747.8717 | U247: 5037.0385 | V247: 10752.436 | W247: 8268.6933 | X247: =AVERAGE(T247:W247) -> 8451.5099 | Y247: =_xlfn.STDEV.S(T247:W247) -> 2494.4507
A248: ACOX1_RAT | B248: Peroxisomal acyl-coenzyme A oxidase 1 OS=Rattus norvegicus OX=10116 GN=Acox1 PE=1 SV=1 | C248: 74631 | D248: 21 | E248: 21 | F248: 1351.41 | G248: 0.053877293 | H248: 0.99625992 | I248: 0.83627576 | K248: 1.0160947 | L248: MORPHINE | M248: SALINE | N248: 6532885.3 | O248: 8603699.8 | P248: 6047338 | Q248: 5122726 | R248: =AVERAGE('VTA_Proteome Morphine vs Saline'!N248:Q248) -> 6576662.3 | S248: =_xlfn.STDEV.S('VTA_Proteome Morphine vs Saline'!N248:Q248) -> 1472516.3 | T248: 5991870.2 | U248: 6369865.2 | V248: 8040338.5 | W248: 6327973.1 | X248: =AVERAGE(T248:W248) -> 6682511.8 | Y248: =_xlfn.STDEV.S(T248:W248) -> 920891.74
A249: ACPH_RAT | B249: Acylamino-acid-releasing enzyme OS=Rattus norvegicus OX=10116 GN=Apeh PE=1 SV=1 | C249: 81331 | D249: 24 | E249: 24 | F249: 1670.3 | G249: 0.1075836 | H249: 0.98920471 | I249: 0.4419008 | K249: 1.0820484 | L249: SALINE | M249: MORPHINE | N249: 21894973 | O249: 27599283 | P249: 21758355 | Q249: 19454580 | R249: =AVERAGE('VTA_Proteome Morphine vs Saline'!N249:Q249) -> 22676798 | S249: =_xlfn.STDEV.S('VTA_Proteome Morphine vs Saline'!N249:Q249) -> 3467387.5 | T249: 24186614 | U249: 20917790 | V249: 19924131 | W249: 18800605 | X249: =AVERAGE(T249:W249) -> 20957285 | Y249: =_xlfn.STDEV.S(T249:W249) -> 2320115.1
... A277: ADDB_RAT | B277: Beta-adducin OS=Rattus norvegicus OX=10116 GN=Add2 PE=1 SV=4 | C277: 80542 | D277: 65 | E277: 61 | F277: 3945.04 | G277: 0.13160919 | H277: 0.97795108 | I277: 0.36639284 | K277: 1.0809077 | L277: MORPHINE | M277: SALINE | N277: 70010283 | O277: 1.0029543e+08 | P277: 74596092 | Q277: 78502477 | R277: =AVERAGE('VTA_Proteome Morphine vs Saline'!N277:Q277) -> 80851072 | S277: =_xlfn.STDEV.S('VTA_Proteome Morphine vs Saline'!N277:Q277) -> 13419471 | T277: 82476331 | U277: 88920588 | V277: 81896589 | W277: 96276663 | X277: =AVERAGE(T277:W277) -> 87392543 | Y277: =_xlfn.STDEV.S(T277:W277) -> 6724015.9
A278: ADH1_RAT | B278: Alcohol dehydrogenase 1 OS=Rattus norvegicus OX=10116 GN=Adh1 PE=1 SV=3 | C278: 39620 | D278: 2 | E278: 0 | F278: 53.63 | K278: 1 | L278: --- | M278: ---
A279: ADHX_RAT;ADH7_RAT | B279: Alcohol dehydrogenase class-3 OS=Rattus norvegicus OX=10116 GN=Adh5 PE=1 SV=2 | C279: 39550 | D279: 8 | E279: 7 | F279: 270.41 | G279: 0.395246 | H279: 0.97795108 | I279: 0.090754789 | K279: 1.5453023 | L279: SALINE | M279: MORPHINE | N279: 950703.71 | O279: 839092.26 | P279: 1558487.9 | Q279: 732593.58 | R279: =AVERAGE('VTA_Proteome Morphine vs Saline'!N279:Q279) -> 1020219.4 | S279: =_xlfn.STDEV.S('VTA_Proteome Morphine vs Saline'!N279:Q279) -> 369730.12 | T279: 680407.7 | U279: 663352.77 | V279: 835088.63 | W279: 461978.77 | X279: =AVERAGE(T279:W279) -> 660206.97 | Y279: =_xlfn.STDEV.S(T279:W279) -> 153075.12
A280: ADK_RAT | B280: Adenosine kinase OS=Rattus norvegicus OX=10116 GN=Adk PE=1 SV=3 | C280: 40108 | D280: 8 | E280: 8 | F280: 426.37 | G280: 0.18574118 | H280: 0.97795108 | I280: 0.25652897 | K280: 1.1798501 | L280: SALINE | M280: MORPHINE | N280: 1642372.2 | O280: 2684265.4 | P280: 2041239 | Q280: 2277043.1 | R280: =AVERAGE('VTA_Proteome Morphine vs Saline'!N280:Q280) -> 2161229.9 | S280: =_xlfn.STDEV.S('VTA_Proteome Morphine vs Saline'!N280:Q280) -> 436115.4 | T280: 2090431 | U280: 1958355.2 | V280: 1505288.8 | W280: 1773058.8 | X280: =AVERAGE(T280:W280) -> 1831783.4 | Y280: =_xlfn.STDEV.S(T280:W280) -> 253618.02
A281: ADNP_RAT | B281: Activity-dependent neuroprotector homeobox protein OS=Rattus norvegicus OX=10116 GN=Adnp PE=1 SV=2 | C281: 123548 | D281: 3 | E281: 3 | F281: 121.08 | G281: 0.16526175 | H281: 0.97795108 | I281: 0.29123841 | K281: 1.1745269 | L281: MORPHINE | M281: SALINE | N281: 70750.223 | O281: 82209.148 | P281: 93332.427 | Q281: 113846.82 | R281: =AVERAGE('VTA_Proteome Morphine vs Saline'!N281:Q281) -> 90034.655 | S281: =_xlfn.STDEV.S('VTA_Proteome Morphine vs Saline'!N281:Q281) -> 18357.763 | T281: 123441.87 | U281: 79271.779 | V281: 115933.75 | W281: 104345.11 | X281: =AVERAGE(T281:W281) -> 105748.13 | Y281: =_xlfn.STDEV.S(T281:W281) -> 19319.945
A282: ADPPT_RAT | B282: L-aminoadipate-semialdehyde dehydrogenase-phosphopantetheinyl transferase OS=Rattus norvegicus OX=10116 GN=Aasdhppt PE=2 SV=1 | C282: 35793 | D282: 3 | E282: 3 | F282: 140.95 | G282: 0.2772553 | H282: 0.97795108 | I282: 0.15633627 | K282: 1.1241176 | L282: MORPHINE | M282: SALINE | N282: 316649.74 | O282: 402042.68 | P282: 306342.44 | Q282: 357192.11 | R282: =AVERAGE('VTA_Proteome Morphine vs Saline'!N282:Q282) -> 345556.74 | S282: =_xlfn.STDEV.S('VTA_Proteome Morphine vs Saline'!N282:Q282) -> 43586.767 | T282: 399900.77 | U282: 399983.84 | V282: 410791.5 | W282: 343109.57 | X282: =AVERAGE(T282:W282) -> 388446.42 | Y282: =_xlfn.STDEV.S(T282:W282) -> 30654.237
A283: ADPRH_RAT | B283: [Protein ADP-ribosylarginine] hydrolase OS=Rattus norvegicus OX=10116 GN=Adprh PE=1 SV=2 | C283: 39935 | D283: 12 | E283: 12 | F283: 514.6 | G283: 0.07525413 | H283: 0.99625992 | I283: 0.60332591 | K283: 1.1044654 | L283: MORPHINE | M283: SALINE | N283: 2408252 | O283: 3401250.6 | P283: 2519482.4 | Q283: 2918051.7 | R283: =AVERAGE('VTA_Proteome Morphine vs Saline'!N283:Q283) -> 2811759.2 | S283: =_xlfn.STDEV.S('VTA_Proteome Morphine vs Saline'!N283:Q283) -> 449830.33 | T283: 3470243.8 | U283: 3718348.6 | V283: 2061801.7 | W283: 3171568.4 | X283: =AVERAGE(T283:W283) -> 3105490.6 | Y283: =_xlfn.STDEV.S(T283:W283) -> 730819.78
A284: ADRM1_RAT | B284: Proteasomal ubiquitin receptor ADRM1 OS=Rattus norvegicus OX=10116 GN=Adrm1 PE=1 SV=2 | C284: 42076 | D284: 3 | E284: 3 | F284: 171.49 | G284: 0.050510859 | H284: 0.99625992 | I284: 0.94005569 | K284: 1.0025581 | L284: MORPHINE | M284: SALINE | N284: 2059907.9 | O284: 2950553.7 | P284: 1885787 | Q284: 2354312.2 | R284: =AVERAGE('VTA_Proteome Morphine vs Saline'!N284:Q284) -> 2312640.2 | S284: =_xlfn.STDEV.S('VTA_Proteome Morphine vs Saline'!N284:Q284) -> 467171.46 | T284: 2739230.6 | U284: 2716191.6 | V284: 1442407.8 | W284: 2376394.8 | X284: =AVERAGE(T284:W284) -> 2318556.2 | Y284: =_xlfn.STDEV.S(T284:W284) -> 607196.33
A285: ADRO_RAT | B285: NADPH:adrenodoxin oxidoreductase, mitochondrial OS=Rattus norvegicus OX=10116 GN=Fdxr PE=1 SV=1 | C285: 54329 | D285: 19 | E285: 19 | F285: 1036.75 | G285: 0.086658705 | H285: 0.99625992 | I285: 0.53431608 | K285: 1.1136522 | L285: MORPHINE | M285: SALINE | N285: 4831898.7 | O285: 3939356.4 | P285: 3146730.5 | Q285: 2922910.1 | R285: =AVERAGE('VTA_Proteome Morphine vs Saline'!N285:Q285) -> 3710223.9 | S285: =_xlfn.STDEV.S('VTA_Proteome Morphine vs Saline'!N285:Q285) -> 865648.85 | T285: 3661048 | U285: 5445840.5 | V285: 4252562.4 | W285: 3168144.8 | X285: =AVERAGE(T285:W285) -> 4131898.9 | Y285: =_xlfn.STDEV.S(T285:W285) -> 981754.34
A286: ADT1_RAT | B286: ADP/ATP translocase 1 OS=Rattus norvegicus OX=10116 GN=Slc25a4 PE=1 SV=3 | C286: 32968 | D286: 17 | E286: 5 | F286: 901.12 | G286: 0.10181218 | H286: 0.99063051 | I286: 0.46421376 | K286: 1.1294029 | L286: SALINE | M286: MORPHINE | N286: 20750830 | O286: 12665061 | P286: 17803107 | Q286: 18806183 | R286: =AVERAGE('VTA_Proteome Morphine vs Saline'!N286:Q286) -> 17506295 | S286: =_xlfn.STDEV.S('VTA_Proteome Morphine vs Saline'!N286:Q286) -> 3451683.6 | T286: 18004105 | U286: 12519438 | V286: 19532939 | W286: 11945470 | X286: =AVERAGE(T286:W286) -> 15500488 | Y286: =_xlfn.STDEV.S(T286:W286) -> 3832038.9
A287: ADT2_RAT | B287: ADP/ATP translocase 2 OS=Rattus norvegicus OX=10116 GN=Slc25a5 PE=1 SV=3 | C287: 32880 | D287: 15 | E287: 4 | F287: 922.74 | G287: 0.1302821 | H287: 0.97795108 | I287: 0.36997854 | K287: 1.2272428 | L287: SALINE | M287: MORPHINE | N287: 11300976 | O287: 5511861.8 | P287: 9363859 | Q287: 7128571.6 | R287: =AVERAGE('VTA_Proteome Morphine vs Saline'!N287:Q287) -> 8326317 | S287: =_xlfn.STDEV.S('VTA_Proteome Morphine vs Saline'!N287:Q287) -> 2535142.3 | T287: 7346952 | U287: 5905011.6 | V287: 8686164.6 | W287: 5200158.8 | X287: =AVERAGE(T287:W287) -> 6784571.8 | Y287: =_xlfn.STDEV.S(T287:W287) -> 1550947.8
A288: AEBP1_RAT | B288: Adipocyte enhancer-binding protein 1 OS=Rattus norvegicus OX=10116 GN=Aebp1 PE=2 SV=1 | C288: 127981 | D288: 2 | E288: 2 | F288: 104.02 | G288: 0.16053148 | H288: 0.97795108 | I288: 0.30026404 | K288: 1.7445661 | L288: SALINE | M288: MORPHINE | N288: 15303.645 | O288: 21665.246 | P288: 68357.204 | Q288: 58443.193 | R288: =AVERAGE('VTA_Proteome Morphine vs Saline'!N288:Q288) -> 40942.322 | S288: =_xlfn.STDEV.S('VTA_Proteome Morphine vs Saline'!N288:Q288) -> 26374.253 | T288: 13943.509 | U288: 14998.519 | V288: 51946.428 | W288: 12985.483 | X288: =AVERAGE(T288:W288) -> 23468.485 | Y288: =_xlfn.STDEV.S(T288:W288) -> 19003.088
A289: AES_RAT | B289: Amino-terminal enhancer of split OS=Rattus norvegicus OX=10116 GN=Aes PE=1 SV=1 | C289: 21986 | D289: 1 | E289: 1 | F289: 27.49 | G289: 0.052897593 | H289: 0.99625992 | I289: 0.85810975 | K289: 1.1836977 | L289: MORPHINE | M289: SALINE | N289: 195917.19 | O289: 318843.65 | P289: 16069.399 | Q289: 70484.612 | R289: =AVERAGE('VTA_Proteome Morphine vs Saline'!N289:Q289) -> 150328.71 | S289: =_xlfn.STDEV.S('VTA_Proteome Morphine vs Saline'!N289:Q289) -> 135248.21 | T289: 349913.84 | U289: 248000.17 | V289: 96804.899 | W289: 17056.089 | X289: =AVERAGE(T289:W289) -> 177943.75 | Y289: =_xlfn.STDEV.S(T289:W289) -> 149387.6
A290: AFAD_RAT | B290: Afadin OS=Rattus norvegicus OX=10116 GN=Afdn PE=1 SV=1 | C290: 207549 | D290: 49 | E290: 49 | F290: 2467.76 | G290: 0.071776391 | H290: 0.99625992 | I290: 0.62863694 | K290: 1.0359346 | L290: MORPHINE | M290: SALINE | N290: 9676212.3 | O290: 8230331.7 | P290: 8999768.2 | Q290: 8397822.4 | R290: =AVERAGE('VTA_Proteome Morphine vs Saline'!N290:Q290) -> 8826033.6 | S290: =_xlfn.STDEV.S('VTA_Proteome Morphine vs Saline'!N290:Q290) -> 656052.13 | T290: 9913437.3 | U290: 9795966.6 | V290: 9009396.9 | W290: 7853972.3 | X290: =AVERAGE(T290:W290) -> 9143193.2 | Y290: =_xlfn.STDEV.S(T290:W290) -> 948574.54
... A324: AL1A2_RAT | B324: Retinal dehydrogenase 2 OS=Rattus norvegicus OX=10116 GN=Aldh1a2 PE=1 SV=2 | C324: 56604 | D324: 17 | E324: 12 | F324: 869.65 | G324: 0.52305181 | H324: 0.97795108 | I324: 0.052878612 | K324: 2.1084571 | L324: SALINE | M324: MORPHINE | N324: 3230429.9 | O324: 1472357.3 | P324: 2462712.6 | Q324: 2475748.4 | R324: =AVERAGE('VTA_Proteome Morphine vs Saline'!N324:Q324) -> 2410312 | S324: =_xlfn.STDEV.S('VTA_Proteome Morphine vs Saline'!N324:Q324) -> 720966.99 | T324: 927559.88 | U324: 803186.48 | V324: 2348520.4 | W324: 493388.88 | X324: =AVERAGE(T324:W324) -> 1143163.9 | Y324: =_xlfn.STDEV.S(T324:W324) -> 824047.26
A325: AL1A3_RAT | B325: Aldehyde dehydrogenase family 1 member A3 OS=Rattus norvegicus OX=10116 GN=Aldh1a3 PE=2 SV=1 | C325: 56136 | D325: 2 | E325: 0 | F325: 103 | K325: 1 | L325: --- | M325: ---
A326: AL1A7_RAT | B326: Aldehyde dehydrogenase, cytosolic 1 OS=Rattus norvegicus OX=10116 GN=Aldh1a7 PE=1 SV=2 | C326: 54525 | D326: 15 | E326: 0 | F326: 938.38 | K326: 1 | L326: --- | M326: ---
A327: AL1B1_RAT | B327: Aldehyde dehydrogenase X, mitochondrial OS=Rattus norvegicus OX=10116 GN=Aldh1b1 PE=1 SV=1 | C327: 57588 | D327: 23 | E327: 19 | F327: 1578.94 | G327: 0.05064818 | H327: 0.99625992 | I327: 0.93250195 | K327: 1.0042824 | L327: MORPHINE | M327: SALINE | N327: 15221390 | O327: 15729840 | P327: 21323124 | Q327: 16250305 | R327: =AVERAGE('VTA_Proteome Morphine vs Saline'!N327:Q327) -> 17131165 | S327: =_xlfn.STDEV.S('VTA_Proteome Morphine vs Saline'!N327:Q327) -> 2826032.8 | T327: 16536591 | U327: 15738029 | V327: 20282599 | W327: 16260891 | X327: =AVERAGE(T327:W327) -> 17204528 | Y327: =_xlfn.STDEV.S(T327:W327) -> 2078599.7
A328: AL3A2_RAT;AL3A1_RAT | B328: Fatty aldehyde dehydrogenase OS=Rattus norvegicus OX=10116 GN=Aldh3a2 PE=1 SV=1 | C328: 54047 | D328: 16 | E328: 16 | F328: 1149.3 | G328: 0.071959572 | H328: 0.99625992 | I328: 0.62723934 | K328: 1.0314568 | L328: MORPHINE | M328: SALINE | N328: 8596672 | O328: 9675972.4 | P328: 10453256 | Q328: 10185038 | R328: =AVERAGE('VTA_Proteome Morphine vs Saline'!N328:Q328) -> 9727734.5 | S328: =_xlfn.STDEV.S('VTA_Proteome Morphine vs Saline'!N328:Q328) -> 820058.8 | T328: 9256919.5 | U328: 9371419 | V328: 10987268 | W328: 10519343 | X328: =AVERAGE(T328:W328) -> 10033737 | Y328: =_xlfn.STDEV.S(T328:W328) -> 853843.45
A329: AL3B1_RAT | B329: Aldehyde dehydrogenase family 3 member B1 OS=Rattus norvegicus OX=10116 GN=Aldh3b1 PE=2 SV=1 | C329: 52114 | D329: 1 | E329: 1 | F329: 42.89 | G329: 0.497973 | H329: 0.97795108 | I329: 0.058700926 | K329: 7.6876424 | L329: SALINE | M329: MORPHINE | N329: 10897.259 | O329: 3010.2199 | P329: 26401.574 | Q329: 21975.931 | R329: =AVERAGE('VTA_Proteome Morphine vs Saline'!N329:Q329) -> 15571.246 | S329: =_xlfn.STDEV.S('VTA_Proteome Morphine vs Saline'!N329:Q329) -> 10613.537 | T329: 0 | U329: 0 | V329: 7456.1823 | W329: 645.77934 | X329: =AVERAGE(T329:W329) -> 2025.4904 | Y329: =_xlfn.STDEV.S(T329:W329) -> 3633.2373
A330: AL4A1_RAT | B330: Delta-1-pyrroline-5-carboxylate dehydrogenase, mitochondrial OS=Rattus norvegicus OX=10116 GN=Aldh4a1 PE=1 SV=1 | C330: 61830 | D330: 20 | E330: 20 | F330: 1084.38 | G330: 0.063862391 | H330: 0.99625992 | I330: 0.69802778 | K330: 1.0769344 | L330: SALINE | M330: MORPHINE | N330: 10052760 | O330: 9843638.5 | P330: 16199899 | Q330: 14454552 | R330: =AVERAGE('VTA_Proteome Morphine vs Saline'!N330:Q330) -> 12637712 | S330: =_xlfn.STDEV.S('VTA_Proteome Morphine vs Saline'!N330:Q330) -> 3187418.3 | T330: 10153384 | U330: 9339859.1 | V330: 15013635 | W330: 12432701 | X330: =AVERAGE(T330:W330) -> 11734895 | Y330: =_xlfn.STDEV.S(T330:W330) -> 2547838.5
A331: AL7A1_RAT | B331: Alpha-aminoadipic semialdehyde dehydrogenase OS=Rattus norvegicus OX=10116 GN=Aldh7a1 PE=1 SV=2 | C331: 58711 | D331: 33 | E331: 33 | F331: 2158.64 | G331: 0.074075738 | H331: 0.99625992 | I331: 0.61162549 | K331: 1.1424255 | L331: SALINE | M331: MORPHINE | N331: 22327870 | O331: 22236874 | P331: 45047233 | Q331: 29818973 | R331: =AVERAGE('VTA_Proteome Morphine vs Saline'!N331:Q331) -> 29857738 | S331: =_xlfn.STDEV.S('VTA_Proteome Morphine vs Saline'!N331:Q331) -> 10731554 | T331: 24935117 | U331: 22506073 | V331: 30584764 | W331: 26515612 | X331: =AVERAGE(T331:W331) -> 26135392 | Y331: =_xlfn.STDEV.S(T331:W331) -> 3393822.6
A332: AL9A1_RAT | B332: 4-trimethylaminobutyraldehyde dehydrogenase OS=Rattus norvegicus OX=10116 GN=Aldh9a1 PE=1 SV=1 | C332: 53618 | D332: 16 | E332: 16 | F332: 1098.01 | G332: 0.088467057 | H332: 0.99625992 | I332: 0.52487657 | K332: 1.0902462 | L332: SALINE | M332: MORPHINE | N332: 28757283 | O332: 22536886 | P332: 28006289 | Q332: 30586784 | R332: =AVERAGE('VTA_Proteome Morphine vs Saline'!N332:Q332) -> 27471811 | S332: =_xlfn.STDEV.S('VTA_Proteome Morphine vs Saline'!N332:Q332) -> 3463844.2 | T332: 23500514 | U332: 35668718 | V332: 15996969 | W332: 25625015 | X332: =AVERAGE(T332:W332) -> 25197804 | Y332: =_xlfn.STDEV.S(T332:W332) -> 8110871.6
A333: ALAT1_RAT | B333: Alanine aminotransferase 1 OS=Rattus norvegicus OX=10116 GN=Gpt PE=1 SV=2 | C333: 55074 | D333: 7 | E333: 7 | F333: 338.57 | G333: 0.22671435 | H333: 0.97795108 | I333: 0.2030886 | K333: 1.1424028 | L333: SALINE | M333: MORPHINE | N333: 1567974.1 | O333: 1409757.3 | P333: 1599998.2 | Q333: 1694876.9 | R333: =AVERAGE('VTA_Proteome Morphine vs Saline'!N333:Q333) -> 1568151.6 | S333: =_xlfn.STDEV.S('VTA_Proteome Morphine vs Saline'!N333:Q333) -> 118549.99 | T333: 1679233.7 | U333: 1261827.4 | V333: 1090005 | W333: 1459647.4 | X333: =AVERAGE(T333:W333) -> 1372678.4 | Y333: =_xlfn.STDEV.S(T333:W333) -> 254120.67
A334: ALD1_RAT | B334: Aldose reductase-related protein 1 OS=Rattus norvegicus OX=10116 GN=Akr1b7 PE=1 SV=1 | C334: 36099 | D334: 6 | E334: 2 | F334: 249.79 | G334: 0.19552905 | H334: 0.97795108 | I334: 0.2420703 | K334: 1.2821122 | L334: MORPHINE | M334: SALINE | N334: 502588.25 | O334: 577107.31 | P334: 262320.53 | Q334: 370660.06 | R334: =AVERAGE('VTA_Proteome Morphine vs Saline'!N334:Q334) -> 428169.04 | S334: =_xlfn.STDEV.S('VTA_Proteome Morphine vs Saline'!N334:Q334) -> 139682.78 | T334: 616016.95 | U334: 630085.57 | V334: 568185.89 | W334: 381554.54 | X334: =AVERAGE(T334:W334) -> 548960.74 | Y334: =_xlfn.STDEV.S(T334:W334) -> 114705.73
A335: ALDH2_RAT | B335: Aldehyde dehydrogenase, mitochondrial OS=Rattus norvegicus OX=10116 GN=Aldh2 PE=1 SV=1 | C335: 56453 | D335: 25 | E335: 21 | F335: 1746.56 | G335: 0.25359501 | H335: 0.97795108 | I335: 0.17618037 | K335: 1.1848416 | L335: SALINE | M335: MORPHINE | N335: 61408747 | O335: 60410526 | P335: 89043954 | Q335: 76754355 | R335: =AVERAGE('VTA_Proteome Morphine vs Saline'!N335:Q335) -> 71904396 | S335: =_xlfn.STDEV.S('VTA_Proteome Morphine vs Saline'!N335:Q335) -> 13657162 | T335: 56559864 | U335: 65024487 | V335: 65948461 | W335: 55214897 | X335: =AVERAGE(T335:W335) -> 60686927 | Y335: =_xlfn.STDEV.S(T335:W335) -> 5581932.6
A336: ALDOA_RAT | B336: Fructose-bisphosphate aldolase A OS=Rattus norvegicus OX=10116 GN=Aldoa PE=1 SV=2 | C336: 39327 | D336: 37 | E336: 32 | F336: 3309.29 | G336: 0.05090311 | H336: 0.99625992 | I336: 0.92037892 | K336: 1.0571735 | L336: MORPHINE | M336: SALINE | N336: 1035955860 | O336: 1275246805 | P336: 9.8314529e+08 | Q336: 1044749709 | R336: =AVERAGE('VTA_Proteome Morphine vs Saline'!N336:Q336) -> 1.0847744e+09 | S336: =_xlfn.STDEV.S('VTA_Proteome Morphine vs Saline'!N336:Q336) -> 1.2986331e+08 | T336: 1377746495 | U336: 1378276151 | V336: 6.5774544e+08 | W336: 1173411186 | X336: =AVERAGE(T336:W336) -> 1.1467948e+09 | Y336: =_xlfn.STDEV.S(T336:W336) -> 3.4000001e+08
A337: ALDOC_RAT;ALDOB_RAT | B337: Fructose-bisphosphate aldolase C OS=Rattus norvegicus OX=10116 GN=Aldoc PE=1 SV=3 | C337: 39259 | D337: 38 | E337: 34 | F337: 3864.67 | G337: 0.066986706 | H337: 0.99625992 | I337: 0.66824593 | K337: 1.0464736 | L337: MORPHINE | M337: SALINE | N337: 5.7827418e+08 | O337: 8.1382422e+08 | P337: 5.5395442e+08 | Q337: 5.9957081e+08 | R337: =AVERAGE('VTA_Proteome Morphine vs Saline'!N337:Q337) -> 6.3640591e+08 | S337: =_xlfn.STDEV.S('VTA_Proteome Morphine vs Saline'!N337:Q337) -> 1.1973809e+08 | T337: 7.2679854e+08 | U337: 7.6150246e+08 | V337: 5.7444321e+08 | W337: 6.011838e+08 | X337: =AVERAGE(T337:W337) -> 6.65982e+08 | Y337: =_xlfn.STDEV.S(T337:W337) -> 92016242
A338: ALDR_RAT | B338: Aldose reductase OS=Rattus norvegicus OX=10116 GN=Akr1b1 PE=1 SV=3 | C338: 35774 | D338: 15 | E338: 13 | F338: 779.49 | G338: 0.087410642 | H338: 0.99625992 | I338: 0.53034928 | K338: 1.054061 | L338: SALINE | M338: MORPHINE | N338: 43974623 | O338: 50120320 | P338: 56487962 | Q338: 46305751 | R338: =AVERAGE('VTA_Proteome Morphine vs Saline'!N338:Q338) -> 49222164 | S338: =_xlfn.STDEV.S('VTA_Proteome Morphine vs Saline'!N338:Q338) -> 5466280.1 | T338: 50443064 | U338: 52050643 | V338: 40724714 | W338: 43572152 | X338: =AVERAGE(T338:W338) -> 46697643 | Y338: =_xlfn.STDEV.S(T338:W338) -> 5419943.3
...
