Workbook

Sheet Mean + S.E.M.
A1: Table S9 Effect of LCM 2 on the lipid mediator profile in zymosan-induced peritonitis
D4: Exudate | P4: Plasma
D5: 4h | J5: 18h | P5: 4h | V5: 18h
C6: compound | D6: 2% DMSO in saline | G6: 2 | J6: 2% DMSO in saline | M6: 2 | P6: 2% DMSO in saline | S6: 2 | V6: 2% DMSO in saline | Y6: 2
D7: mean | E7: ± | F7: S.E.M. | G7: mean | H7: ± | I7: S.E.M. | J7: mean | K7: ± | L7: S.E.M. | M7: mean | N7: ± | O7: S.E.M. | P7: mean | Q7: ± | R7: S.E.M. | S7: mean | T7: ± | U7: S.E.M. | V7: mean | W7: ± | X7: S.E.M. | Y7: mean | Z7: ± | AA7: S.E.M.
A8: pg / 500 µl | B8: SPM/iso | C8: PDX | D8: =AVERAGE('single data'!D6:I6) -> 9.3990079 | E8: ± | F8: =(_xlfn.STDEV.S('single data'!D6:I6)/SQRT(COUNT('single data'!D6:I6))) -> 2.6527626 | G8: =AVERAGE('single data'!J6:O6) -> 13.691104 | H8: ± | I8: =(_xlfn.STDEV.S('single data'!J6:O6)/SQRT(COUNT('single data'!J6:O6))) -> 2.7583812 | J8: =AVERAGE('single data'!Q6:V6) -> 7.3910925 | K8: ± | L8: =(_xlfn.STDEV.S('single data'!Q6:V6)/SQRT(COUNT('single data'!Q6:V6))) -> 0.46980278 | M8: =AVERAGE('single data'!W6:AB6) -> 5.5634681 | N8: ± | O8: =(_xlfn.STDEV.S('single data'!W6:AB6)/SQRT(COUNT('single data'!W6:AB6))) -> 1.393824 | P8: =AVERAGE('single data'!AD6:AI6) -> 5.2883524 | Q8: ± | R8: =(_xlfn.STDEV.S('single data'!AD6:AI6)/SQRT(COUNT('single data'!AD6:AI6))) -> 0.69085027 | S8: =AVERAGE('single data'!AJ6:AO6) -> 9.6350182 | T8: ± | U8: =(_xlfn.STDEV.S('single data'!AJ6:AO6)/SQRT(COUNT('single data'!AJ6:AO6))) -> 1.6943251 | V8: =AVERAGE('single data'!AQ6:AV6) -> 3.3005095 | W8: ± | X8: =(_xlfn.STDEV.S('single data'!AQ6:AV6)/SQRT(COUNT('single data'!AQ6:AV6))) -> 0.28305479 | Y8: =AVERAGE('single data'!AW6:BB6) -> 6.4167818 | Z8: ± | AA8: =(_xlfn.STDEV.S('single data'!AW6:BB6)/SQRT(COUNT('single data'!AW6:BB6))) -> 1.1038368
C9: AT-PD1 | D9: =AVERAGE('single data'!D7:I7) -> 7.629329 | E9: ± | F9: =(_xlfn.STDEV.S('single data'!D7:I7)/SQRT(COUNT('single data'!D7:I7))) -> 1.9655379 | G9: =AVERAGE('single data'!J7:O7) -> 24.734778 | H9: ± | I9: =(_xlfn.STDEV.S('single data'!J7:O7)/SQRT(COUNT('single data'!J7:O7))) -> 5.3969861 | J9: =AVERAGE('single data'!Q7:V7) -> 8.01376 | K9: ± | L9: =(_xlfn.STDEV.S('single data'!Q7:V7)/SQRT(COUNT('single data'!Q7:V7))) -> 0.88358265 | M9: =AVERAGE('single data'!W7:AB7) -> 8.8418659 | N9: ± | O9: =(_xlfn.STDEV.S('single data'!W7:AB7)/SQRT(COUNT('single data'!W7:AB7))) -> 1.7775511
C10: RvD5 | D10: =AVERAGE('single data'!D8:I8) -> 13.010639 | E10: ± | F10: =(_xlfn.STDEV.S('single data'!D8:I8)/SQRT(COUNT('single data'!D8:I8))) -> 2.9972865 | G10: =AVERAGE('single data'!J8:O8) -> 21.628116 | H10: ± | I10: =(_xlfn.STDEV.S('single data'!J8:O8)/SQRT(COUNT('single data'!J8:O8))) -> 5.0498674 | J10: =AVERAGE('single data'!Q8:V8) -> 4.0113708 | K10: ± | L10: =(_xlfn.STDEV.S('single data'!Q8:V8)/SQRT(COUNT('single data'!Q8:V8))) -> 0.76115407 | M10: =AVERAGE('single data'!W8:AB8) -> 4.9454494 | N10: ± | O10: =(_xlfn.STDEV.S('single data'!W8:AB8)/SQRT(COUNT('single data'!W8:AB8))) -> 1.1896915
C11: MaR2 | D11: =AVERAGE('single data'!D9:I9) -> 6.3393817 | E11: ± | F11: =(_xlfn.STDEV.S('single data'!D9:I9)/SQRT(COUNT('single data'!D9:I9))) -> 1.2972043 | G11: =AVERAGE('single data'!J9:O9) -> 6.9826528 | H11: ± | I11: =(_xlfn.STDEV.S('single data'!J9:O9)/SQRT(COUNT('single data'!J9:O9))) -> 1.6625398 | J11: =AVERAGE('single data'!Q9:V9) -> 9.1062199 | K11: ± | L11: =(_xlfn.STDEV.S('single data'!Q9:V9)/SQRT(COUNT('single data'!Q9:V9))) -> 2.7705874 | M11: =AVERAGE('single data'!W9:AB9) -> 3.3825425 | N11: ± | O11: =(_xlfn.STDEV.S('single data'!W9:AB9)/SQRT(COUNT('single data'!W9:AB9))) -> 0.57146025
B12: ALOX12/15 | C12: 17-HDHA | D12: =AVERAGE('single data'!D10:I10) -> 327.13929 | E12: ± | F12: =(_xlfn.STDEV.S('single data'!D10:I10)/SQRT(COUNT('single data'!D10:I10))) -> 45.933435 | G12: =AVERAGE('single data'!J10:O10) -> 878.77971 | H12: ± | I12: =(_xlfn.STDEV.S('single data'!J10:O10)/SQRT(COUNT('single data'!J10:O10))) -> 176.44443 | J12: =AVERAGE('single data'!Q10:V10) -> 422.116 | K12: ± | L12: =(_xlfn.STDEV.S('single data'!Q10:V10)/SQRT(COUNT('single data'!Q10:V10))) -> 65.556018 | M12: =AVERAGE('single data'!W10:AB10) -> 225.47461 | N12: ± | O12: =(_xlfn.STDEV.S('single data'!W10:AB10)/SQRT(COUNT('single data'!W10:AB10))) -> 35.544014 | P12: =AVERAGE('single data'!AD10:AI10) -> 2195.9863 | Q12: ± | R12: =(_xlfn.STDEV.S('single data'!AD10:AI10)/SQRT(COUNT('single data'!AD10:AI10))) -> 693.26145 | S12: =AVERAGE('single data'!AJ10:AO10) -> 2431.8744 | T12: ± | U12: =(_xlfn.STDEV.S('single data'!AJ10:AO10)/SQRT(COUNT('single data'!AJ10:AO10))) -> 640.12183 | V12: =AVERAGE('single data'!AQ10:AV10) -> 940.45634 | W12: ± | X12: =(_xlfn.STDEV.S('single data'!AQ10:AV10)/SQRT(COUNT('single data'!AQ10:AV10))) -> 129.62682 | Y12: =AVERAGE('single data'!AW10:BB10) -> 986.11263 | Z12: ± | AA12: =(_xlfn.STDEV.S('single data'!AW10:BB10)/SQRT(COUNT('single data'!AW10:BB10))) -> 114.67805
C13: 17-HDPA | D13: =AVERAGE('single data'!D11:I11) -> 43.342039 | E13: ± | F13: =(_xlfn.STDEV.S('single data'!D11:I11)/SQRT(COUNT('single data'!D11:I11))) -> 5.6781233 | G13: =AVERAGE('single data'!J11:O11) -> 71.90547 | H13: ± | I13: =(_xlfn.STDEV.S('single data'!J11:O11)/SQRT(COUNT('single data'!J11:O11))) -> 8.2056458 | J13: =AVERAGE('single data'!Q11:V11) -> 34.71173 | K13: ± | L13: =(_xlfn.STDEV.S('single data'!Q11:V11)/SQRT(COUNT('single data'!Q11:V11))) -> 7.7152223 | M13: =AVERAGE('single data'!W11:AB11) -> 25.709256 | N13: ± | O13: =(_xlfn.STDEV.S('single data'!W11:AB11)/SQRT(COUNT('single data'!W11:AB11))) -> 5.2453113 | P13: =AVERAGE('single data'!AD11:AI11) -> 362.89518 | Q13: ± | R13: =(_xlfn.STDEV.S('single data'!AD11:AI11)/SQRT(COUNT('single data'!AD11:AI11))) -> 96.683522 | S13: =AVERAGE('single data'!AJ11:AO11) -> 290.90541 | T13: ± | U13: =(_xlfn.STDEV.S('single data'!AJ11:AO11)/SQRT(COUNT('single data'!AJ11:AO11))) -> 47.654654 | V13: =AVERAGE('single data'!AQ11:AV11) -> 258.98339 | W13: ± | X13: =(_xlfn.STDEV.S('single data'!AQ11:AV11)/SQRT(COUNT('single data'!AQ11:AV11))) -> 14.12079 | Y13: =AVERAGE('single data'!AW11:BB11) -> 248.7464 | Z13: ± | AA13: =(_xlfn.STDEV.S('single data'!AW11:BB11)/SQRT(COUNT('single data'!AW11:BB11))) -> 36.845215
C14: 15-HETE | D14: =AVERAGE('single data'!D12:I12) -> 87.67551 | E14: ± | F14: =(_xlfn.STDEV.S('single data'!D12:I12)/SQRT(COUNT('single data'!D12:I12))) -> 7.0437342 | G14: =AVERAGE('single data'!J12:O12) -> 121.82152 | H14: ± | I14: =(_xlfn.STDEV.S('single data'!J12:O12)/SQRT(COUNT('single data'!J12:O12))) -> 11.909649 | J14: =AVERAGE('single data'!Q12:V12) -> 113.49541 | K14: ± | L14: =(_xlfn.STDEV.S('single data'!Q12:V12)/SQRT(COUNT('single data'!Q12:V12))) -> 29.127371 | M14: =AVERAGE('single data'!W12:AB12) -> 83.454196 | N14: ± | O14: =(_xlfn.STDEV.S('single data'!W12:AB12)/SQRT(COUNT('single data'!W12:AB12))) -> 9.8563796 | P14: =AVERAGE('single data'!AD12:AI12) -> 339.36924 | Q14: ± | R14: =(_xlfn.STDEV.S('single data'!AD12:AI12)/SQRT(COUNT('single data'!AD12:AI12))) -> 111.73818 | S14: =AVERAGE('single data'!AJ12:AO12) -> 240.9047 | T14: ± | U14: =(_xlfn.STDEV.S('single data'!AJ12:AO12)/SQRT(COUNT('single data'!AJ12:AO12))) -> 43.562143 | V14: =AVERAGE('single data'!AQ12:AV12) -> 86.589882 | W14: ± | X14: =(_xlfn.STDEV.S('single data'!AQ12:AV12)/SQRT(COUNT('single data'!AQ12:AV12))) -> 11.485018 | Y14: =AVERAGE('single data'!AW12:BB12) -> 99.900958 | Z14: ± | AA14: =(_xlfn.STDEV.S('single data'!AW12:BB12)/SQRT(COUNT('single data'!AW12:BB12))) -> 9.8365925
C15: 15-HEPE | D15: =AVERAGE('single data'!D13:I13) -> 23.753714 | E15: ± | F15: =(_xlfn.STDEV.S('single data'!D13:I13)/SQRT(COUNT('single data'!D13:I13))) -> 5.3789421 | G15: =AVERAGE('single data'!J13:O13) -> 25.84908 | H15: ± | I15: =(_xlfn.STDEV.S('single data'!J13:O13)/SQRT(COUNT('single data'!J13:O13))) -> 4.4782674 | J15: =AVERAGE('single data'!Q13:V13) -> 29.75588 | K15: ± | L15: =(_xlfn.STDEV.S('single data'!Q13:V13)/SQRT(COUNT('single data'!Q13:V13))) -> 4.3110736 | M15: =AVERAGE('single data'!W13:AB13) -> 21.8107 | N15: ± | O15: =(_xlfn.STDEV.S('single data'!W13:AB13)/SQRT(COUNT('single data'!W13:AB13))) -> 4.3529597 | P15: =AVERAGE('single data'!AD13:AI13) -> 50.416151 | Q15: ± | R15: =(_xlfn.STDEV.S('single data'!AD13:AI13)/SQRT(COUNT('single data'!AD13:AI13))) -> 11.149285 | S15: =AVERAGE('single data'!AJ13:AO13) -> 53.564974 | T15: ± | U15: =(_xlfn.STDEV.S('single data'!AJ13:AO13)/SQRT(COUNT('single data'!AJ13:AO13))) -> 6.0886906 | V15: =AVERAGE('single data'!AQ13:AV13) -> 42.70845 | W15: ± | X15: =(_xlfn.STDEV.S('single data'!AQ13:AV13)/SQRT(COUNT('single data'!AQ13:AV13))) -> 4.0651306 | Y15: =AVERAGE('single data'!AW13:BB13) -> 52.325576 | Z15: ± | AA15: =(_xlfn.STDEV.S('single data'!AW13:BB13)/SQRT(COUNT('single data'!AW13:BB13))) -> 8.7921804
C16: 14-HDHA | D16: =AVERAGE('single data'!D14:I14) -> 880.29457 | E16: ± | F16: =(_xlfn.STDEV.S('single data'!D14:I14)/SQRT(COUNT('single data'!D14:I14))) -> 233.76599 | G16: =AVERAGE('single data'!J14:O14) -> 1800.9014 | H16: ± | I16: =(_xlfn.STDEV.S('single data'!J14:O14)/SQRT(COUNT('single data'!J14:O14))) -> 826.11534 | J16: =AVERAGE('single data'!Q14:V14) -> 1154.8121 | K16: ± | L16: =(_xlfn.STDEV.S('single data'!Q14:V14)/SQRT(COUNT('single data'!Q14:V14))) -> 178.26082 | M16: =AVERAGE('single data'!W14:AB14) -> 1022.786 | N16: ± | O16: =(_xlfn.STDEV.S('single data'!W14:AB14)/SQRT(COUNT('single data'!W14:AB14))) -> 459.45053 | P16: =AVERAGE('single data'!AD14:AI14) -> 12059.276 | Q16: ± | R16: =(_xlfn.STDEV.S('single data'!AD14:AI14)/SQRT(COUNT('single data'!AD14:AI14))) -> 3984.4548 | S16: =AVERAGE('single data'!AJ14:AO14) -> 18293.173 | T16: ± | U16: =(_xlfn.STDEV.S('single data'!AJ14:AO14)/SQRT(COUNT('single data'!AJ14:AO14))) -> 3428.2419 | V16: =AVERAGE('single data'!AQ14:AV14) -> 6329.6112 | W16: ± | X16: =(_xlfn.STDEV.S('single data'!AQ14:AV14)/SQRT(COUNT('single data'!AQ14:AV14))) -> 581.19059 | Y16: =AVERAGE('single data'!AW14:BB14) -> 6189.3024 | Z16: ± | AA16: =(_xlfn.STDEV.S('single data'!AW14:BB14)/SQRT(COUNT('single data'!AW14:BB14))) -> 1142.3055
C17: 14-HDPA | D17: =AVERAGE('single data'!D15:I15) -> 142.18731 | E17: ± | F17: =(_xlfn.STDEV.S('single data'!D15:I15)/SQRT(COUNT('single data'!D15:I15))) -> 26.452349 | G17: =AVERAGE('single data'!J15:O15) -> 347.19757 | H17: ± | I17: =(_xlfn.STDEV.S('single data'!J15:O15)/SQRT(COUNT('single data'!J15:O15))) -> 84.589208 | J17: =AVERAGE('single data'!Q15:V15) -> 339.90213 | K17: ± | L17: =(_xlfn.STDEV.S('single data'!Q15:V15)/SQRT(COUNT('single data'!Q15:V15))) -> 21.349593 | M17: =AVERAGE('single data'!W15:AB15) -> 366.65275 | N17: ± | O17: =(_xlfn.STDEV.S('single data'!W15:AB15)/SQRT(COUNT('single data'!W15:AB15))) -> 173.56408 | P17: =AVERAGE('single data'!AD15:AI15) -> 2828.8263 | Q17: ± | R17: =(_xlfn.STDEV.S('single data'!AD15:AI15)/SQRT(COUNT('single data'!AD15:AI15))) -> 974.64996 | S17: =AVERAGE('single data'!AJ15:AO15) -> 3982.6051 | T17: ± | U17: =(_xlfn.STDEV.S('single data'!AJ15:AO15)/SQRT(COUNT('single data'!AJ15:AO15))) -> 1042.8622 | V17: =AVERAGE('single data'!AQ15:AV15) -> 1276.2347 | W17: ± | X17: =(_xlfn.STDEV.S('single data'!AQ15:AV15)/SQRT(COUNT('single data'!AQ15:AV15))) -> 129.1091 | Y17: =AVERAGE('single data'!AW15:BB15) -> 1277.1688 | Z17: ± | AA17: =(_xlfn.STDEV.S('single data'!AW15:BB15)/SQRT(COUNT('single data'!AW15:BB15))) -> 249.07402
C18: 12-HETE | D18: =AVERAGE('single data'!D16:I16) -> 532.31228 | E18: ± | F18: =(_xlfn.STDEV.S('single data'!D16:I16)/SQRT(COUNT('single data'!D16:I16))) -> 169.92329 | G18: =AVERAGE('single data'!J16:O16) -> 587.39759 | H18: ± | I18: =(_xlfn.STDEV.S('single data'!J16:O16)/SQRT(COUNT('single data'!J16:O16))) -> 131.06815 | J18: =AVERAGE('single data'!Q16:V16) -> 1537.3073 | K18: ± | L18: =(_xlfn.STDEV.S('single data'!Q16:V16)/SQRT(COUNT('single data'!Q16:V16))) -> 326.02317 | M18: =AVERAGE('single data'!W16:AB16) -> 719.1699 | N18: ± | O18: =(_xlfn.STDEV.S('single data'!W16:AB16)/SQRT(COUNT('single data'!W16:AB16))) -> 169.01475 | P18: =AVERAGE('single data'!AD16:AI16) -> 9423.5278 | Q18: ± | R18: =(_xlfn.STDEV.S('single data'!AD16:AI16)/SQRT(COUNT('single data'!AD16:AI16))) -> 2988.9564 | S18: =AVERAGE('single data'!AJ16:AO16) -> 20051.348 | T18: ± | U18: =(_xlfn.STDEV.S('single data'!AJ16:AO16)/SQRT(COUNT('single data'!AJ16:AO16))) -> 4296.8406 | V18: =AVERAGE('single data'!AQ16:AV16) -> 6311.2825 | W18: ± | X18: =(_xlfn.STDEV.S('single data'!AQ16:AV16)/SQRT(COUNT('single data'!AQ16:AV16))) -> 504.73189 | Y18: =AVERAGE('single data'!AW16:BB16) -> 7708.2503 | Z18: ± | AA18: =(_xlfn.STDEV.S('single data'!AW16:BB16)/SQRT(COUNT('single data'!AW16:BB16))) -> 1907.7539
C19: 12-HEPE | D19: =AVERAGE('single data'!D17:I17) -> 70.322557 | E19: ± | F19: =(_xlfn.STDEV.S('single data'!D17:I17)/SQRT(COUNT('single data'!D17:I17))) -> 14.6623 | G19: =AVERAGE('single data'!J17:O17) -> 69.102337 | H19: ± | I19: =(_xlfn.STDEV.S('single data'!J17:O17)/SQRT(COUNT('single data'!J17:O17))) -> 18.11524 | J19: =AVERAGE('single data'!Q17:V17) -> 114.29542 | K19: ± | L19: =(_xlfn.STDEV.S('single data'!Q17:V17)/SQRT(COUNT('single data'!Q17:V17))) -> 17.108938 | M19: =AVERAGE('single data'!W17:AB17) -> 52.320487 | N19: ± | O19: =(_xlfn.STDEV.S('single data'!W17:AB17)/SQRT(COUNT('single data'!W17:AB17))) -> 13.169124 | P19: =AVERAGE('single data'!AD17:AI17) -> 2238.0073 | Q19: ± | R19: =(_xlfn.STDEV.S('single data'!AD17:AI17)/SQRT(COUNT('single data'!AD17:AI17))) -> 752.89796 | S19: =AVERAGE('single data'!AJ17:AO17) -> 4062.9697 | T19: ± | U19: =(_xlfn.STDEV.S('single data'!AJ17:AO17)/SQRT(COUNT('single data'!AJ17:AO17))) -> 731.43275 | V19: =AVERAGE('single data'!AQ17:AV17) -> 1829.0099 | W19: ± | X19: =(_xlfn.STDEV.S('single data'!AQ17:AV17)/SQRT(COUNT('single data'!AQ17:AV17))) -> 259.06373 | Y19: =AVERAGE('single data'!AW17:BB17) -> 1702.5682 | Z19: ± | AA19: =(_xlfn.STDEV.S('single data'!AW17:BB17)/SQRT(COUNT('single data'!AW17:BB17))) -> 460.79765
B20: CYP | C20: 5.6-EET | D20: =AVERAGE('single data'!D18:I18) -> 18.493245 | E20: ± | F20: =(_xlfn.STDEV.S('single data'!D18:I18)/SQRT(COUNT('single data'!D18:I18))) -> 1.2917122 | G20: =AVERAGE('single data'!J18:O18) -> 39.449438 | H20: ± | I20: =(_xlfn.STDEV.S('single data'!J18:O18)/SQRT(COUNT('single data'!J18:O18))) -> 6.360907 | J20: =AVERAGE('single data'!Q18:V18) -> 5.8329753 | K20: ± | L20: =(_xlfn.STDEV.S('single data'!Q18:V18)/SQRT(COUNT('single data'!Q18:V18))) -> 1.2045418 | M20: =AVERAGE('single data'!W18:AB18) -> 10.399647 | N20: ± | O20: =(_xlfn.STDEV.S('single data'!W18:AB18)/SQRT(COUNT('single data'!W18:AB18))) -> 1.6268756 | P20: =AVERAGE('single data'!AD18:AI18) -> 140.88018 | Q20: ± | R20: =(_xlfn.STDEV.S('single data'!AD18:AI18)/SQRT(COUNT('single data'!AD18:AI18))) -> 22.285746 | S20: =AVERAGE('single data'!AJ18:AO18) -> 251.08241 | T20: ± | U20: =(_xlfn.STDEV.S('single data'!AJ18:AO18)/SQRT(COUNT('single data'!AJ18:AO18))) -> 47.841632 | V20: =AVERAGE('single data'!AQ18:AV18) -> 62.815329 | W20: ± | X20: =(_xlfn.STDEV.S('single data'!AQ18:AV18)/SQRT(COUNT('single data'!AQ18:AV18))) -> 8.4654437 | Y20: =AVERAGE('single data'!AW18:BB18) -> 81.059906 | Z20: ± | AA20: =(_xlfn.STDEV.S('single data'!AW18:BB18)/SQRT(COUNT('single data'!AW18:BB18))) -> 16.361428
C21: 8.9-EET | D21: =AVERAGE('single data'!D19:I19) -> 33.627773 | E21: ± | F21: =(_xlfn.STDEV.S('single data'!D19:I19)/SQRT(COUNT('single data'!D19:I19))) -> 3.361896 | G21: =AVERAGE('single data'!J19:O19) -> 45.292765 | H21: ± | I21: =(_xlfn.STDEV.S('single data'!J19:O19)/SQRT(COUNT('single data'!J19:O19))) -> 2.6021689 | J21: =AVERAGE('single data'!Q19:V19) -> 18.671096 | K21: ± | L21: =(_xlfn.STDEV.S('single data'!Q19:V19)/SQRT(COUNT('single data'!Q19:V19))) -> 2.5315247 | M21: =AVERAGE('single data'!W19:AB19) -> 25.498866 | N21: ± | O21: =(_xlfn.STDEV.S('single data'!W19:AB19)/SQRT(COUNT('single data'!W19:AB19))) -> 0.29980549 | P21: =AVERAGE('single data'!AD19:AI19) -> 222.77372 | Q21: ± | R21: =(_xlfn.STDEV.S('single data'!AD19:AI19)/SQRT(COUNT('single data'!AD19:AI19))) -> 46.526978 | S21: =AVERAGE('single data'!AJ19:AO19) -> 234.65934 | T21: ± | U21: =(_xlfn.STDEV.S('single data'!AJ19:AO19)/SQRT(COUNT('single data'!AJ19:AO19))) -> 19.607084 | V21: =AVERAGE('single data'!AQ19:AV19) -> 123.2923 | W21: ± | X21: =(_xlfn.STDEV.S('single data'!AQ19:AV19)/SQRT(COUNT('single data'!AQ19:AV19))) -> 15.349193 | Y21: =AVERAGE('single data'!AW19:BB19) -> 169.07839 | Z21: ± | AA21: =(_xlfn.STDEV.S('single data'!AW19:BB19)/SQRT(COUNT('single data'!AW19:BB19))) -> 21.164142
C22: 11.12-EET | D22: =AVERAGE('single data'!D20:I20) -> 20.360401 | E22: ± | F22: =(_xlfn.STDEV.S('single data'!D20:I20)/SQRT(COUNT('single data'!D20:I20))) -> 3.2247331 | G22: =AVERAGE('single data'!J20:O20) -> 32.69023 | H22: ± | I22: =(_xlfn.STDEV.S('single data'!J20:O20)/SQRT(COUNT('single data'!J20:O20))) -> 2.0086631 | J22: =AVERAGE('single data'!Q20:V20) -> 10.09062 | K22: ± | L22: =(_xlfn.STDEV.S('single data'!Q20:V20)/SQRT(COUNT('single data'!Q20:V20))) -> 1.0734477 | M22: =AVERAGE('single data'!W20:AB20) -> 19.429011 | N22: ± | O22: =(_xlfn.STDEV.S('single data'!W20:AB20)/SQRT(COUNT('single data'!W20:AB20))) -> 2.7413363 | P22: =AVERAGE('single data'!AD20:AI20) -> 78.745415 | Q22: ± | R22: =(_xlfn.STDEV.S('single data'!AD20:AI20)/SQRT(COUNT('single data'!AD20:AI20))) -> 11.306382 | S22: =AVERAGE('single data'!AJ20:AO20) -> 128.13394 | T22: ± | U22: =(_xlfn.STDEV.S('single data'!AJ20:AO20)/SQRT(COUNT('single data'!AJ20:AO20))) -> 11.033634 | V22: =AVERAGE('single data'!AQ20:AV20) -> 74.034173 | W22: ± | X22: =(_xlfn.STDEV.S('single data'!AQ20:AV20)/SQRT(COUNT('single data'!AQ20:AV20))) -> 6.2557905 | Y22: =AVERAGE('single data'!AW20:BB20) -> 104.25279 | Z22: ± | AA22: =(_xlfn.STDEV.S('single data'!AW20:BB20)/SQRT(COUNT('single data'!AW20:BB20))) -> 10.545018
C23: 14.15-EET | D23: =AVERAGE('single data'!D21:I21) -> 3.1218918 | E23: ± | F23: =(_xlfn.STDEV.S('single data'!D21:I21)/SQRT(COUNT('single data'!D21:I21))) -> 0.48393619 | G23: =AVERAGE('single data'!J21:O21) -> 5.9847396 | H23: ± | I23: =(_xlfn.STDEV.S('single data'!J21:O21)/SQRT(COUNT('single data'!J21:O21))) -> 0.27261886 | J23: =AVERAGE('single data'!Q21:V21) -> 1.9505281 | K23: ± | L23: =(_xlfn.STDEV.S('single data'!Q21:V21)/SQRT(COUNT('single data'!Q21:V21))) -> 0.54376567 | M23: =AVERAGE('single data'!W21:AB21) -> 3.4115447 | N23: ± | O23: =(_xlfn.STDEV.S('single data'!W21:AB21)/SQRT(COUNT('single data'!W21:AB21))) -> 0.42897437 | P23: =AVERAGE('single data'!AD21:AI21) -> 15.891836 | Q23: ± | R23: =(_xlfn.STDEV.S('single data'!AD21:AI21)/SQRT(COUNT('single data'!AD21:AI21))) -> 0.48847372 | S23: =AVERAGE('single data'!AJ21:AO21) -> 25.469268 | T23: ± | U23: =(_xlfn.STDEV.S('single data'!AJ21:AO21)/SQRT(COUNT('single data'!AJ21:AO21))) -> 3.0162476 | V23: =AVERAGE('single data'!AQ21:AV21) -> 28.306851 | W23: ± | X23: =(_xlfn.STDEV.S('single data'!AQ21:AV21)/SQRT(COUNT('single data'!AQ21:AV21))) -> 2.2582646 | Y23: =AVERAGE('single data'!AW21:BB21) -> 26.172135 | Z23: ± | AA23: =(_xlfn.STDEV.S('single data'!AW21:BB21)/SQRT(COUNT('single data'!AW21:BB21))) -> 1.803462
C24: 7,8-EpDPA | D24: =AVERAGE('single data'!D22:I22) -> 13.644677 | E24: ± | F24: =(_xlfn.STDEV.S('single data'!D22:I22)/SQRT(COUNT('single data'!D22:I22))) -> 3.2981299 | G24: =AVERAGE('single data'!J22:O22) -> 20.191197 | H24: ± | I24: =(_xlfn.STDEV.S('single data'!J22:O22)/SQRT(COUNT('single data'!J22:O22))) -> 2.0945059 | J24: =AVERAGE('single data'!Q22:V22) -> 4.743255 | K24: ± | L24: =(_xlfn.STDEV.S('single data'!Q22:V22)/SQRT(COUNT('single data'!Q22:V22))) -> 1.2377698 | M24: =AVERAGE('single data'!W22:AB22) -> 4.371065 | N24: ± | O24: =(_xlfn.STDEV.S('single data'!W22:AB22)/SQRT(COUNT('single data'!W22:AB22))) -> 0.63674032 | P24: =AVERAGE('single data'!AD22:AI22) -> 74.216055 | Q24: ± | R24: =(_xlfn.STDEV.S('single data'!AD22:AI22)/SQRT(COUNT('single data'!AD22:AI22))) -> 12.346329 | S24: =AVERAGE('single data'!AJ22:AO22) -> 120.04034 | T24: ± | U24: =(_xlfn.STDEV.S('single data'!AJ22:AO22)/SQRT(COUNT('single data'!AJ22:AO22))) -> 8.2575658 | V24: =AVERAGE('single data'!AQ22:AV22) -> 62.990795 | W24: ± | X24: =(_xlfn.STDEV.S('single data'!AQ22:AV22)/SQRT(COUNT('single data'!AQ22:AV22))) -> 6.3114238 | Y24: =AVERAGE('single data'!AW22:BB22) -> 79.278775 | Z24: ± | AA24: =(_xlfn.STDEV.S('single data'!AW22:BB22)/SQRT(COUNT('single data'!AW22:BB22))) -> 6.8761953
C25: 10.11-EpDPA | D25: =AVERAGE('single data'!D23:I23) -> 9.8329176 | E25: ± | F25: =(_xlfn.STDEV.S('single data'!D23:I23)/SQRT(COUNT('single data'!D23:I23))) -> 2.0788843 | G25: =AVERAGE('single data'!J23:O23) -> 13.884618 | H25: ± | I25: =(_xlfn.STDEV.S('single data'!J23:O23)/SQRT(COUNT('single data'!J23:O23))) -> 0.92955904 | J25: =AVERAGE('single data'!Q23:V23) -> 1.8646782 | K25: ± | L25: =(_xlfn.STDEV.S('single data'!Q23:V23)/SQRT(COUNT('single data'!Q23:V23))) -> 0.28086672 | M25: =AVERAGE('single data'!W23:AB23) -> 2.6225601 | N25: ± | O25: =(_xlfn.STDEV.S('single data'!W23:AB23)/SQRT(COUNT('single data'!W23:AB23))) -> 0.5718052 | P25: =AVERAGE('single data'!AD23:AI23) -> 48.305885 | Q25: ± | R25: =(_xlfn.STDEV.S('single data'!AD23:AI23)/SQRT(COUNT('single data'!AD23:AI23))) -> 7.6139454 | S25: =AVERAGE('single data'!AJ23:AO23) -> 73.844806 | T25: ± | U25: =(_xlfn.STDEV.S('single data'!AJ23:AO23)/SQRT(COUNT('single data'!AJ23:AO23))) -> 10.5825 | V25: =AVERAGE('single data'!AQ23:AV23) -> 32.109755 | W25: ± | X25: =(_xlfn.STDEV.S('single data'!AQ23:AV23)/SQRT(COUNT('single data'!AQ23:AV23))) -> 4.1273191 | Y25: =AVERAGE('single data'!AW23:BB23) -> 47.903449 | Z25: ± | AA25: =(_xlfn.STDEV.S('single data'!AW23:BB23)/SQRT(COUNT('single data'!AW23:BB23))) -> 5.5468647
C26: 13.14-EpDPA | D26: =AVERAGE('single data'!D24:I24) -> 10.501301 | E26: ± | F26: =(_xlfn.STDEV.S('single data'!D24:I24)/SQRT(COUNT('single data'!D24:I24))) -> 2.3854302 | G26: =AVERAGE('single data'!J24:O24) -> 17.201446 | H26: ± | I26: =(_xlfn.STDEV.S('single data'!J24:O24)/SQRT(COUNT('single data'!J24:O24))) -> 1.5493286 | J26: =AVERAGE('single data'!Q24:V24) -> 1.5348837 | K26: ± | L26: =(_xlfn.STDEV.S('single data'!Q24:V24)/SQRT(COUNT('single data'!Q24:V24))) -> 0.33171985 | M26: =AVERAGE('single data'!W24:AB24) -> 2.7537497 | N26: ± | O26: =(_xlfn.STDEV.S('single data'!W24:AB24)/SQRT(COUNT('single data'!W24:AB24))) -> 0.66350634 | P26: =AVERAGE('single data'!AD24:AI24) -> 52.239737 | Q26: ± | R26: =(_xlfn.STDEV.S('single data'!AD24:AI24)/SQRT(COUNT('single data'!AD24:AI24))) -> 6.5726819 | S26: =AVERAGE('single data'!AJ24:AO24) -> 81.771149 | T26: ± | U26: =(_xlfn.STDEV.S('single data'!AJ24:AO24)/SQRT(COUNT('single data'!AJ24:AO24))) -> 9.6881592 | V26: =AVERAGE('single data'!AQ24:AV24) -> 37.512958 | W26: ± | X26: =(_xlfn.STDEV.S('single data'!AQ24:AV24)/SQRT(COUNT('single data'!AQ24:AV24))) -> 1.7631593 | Y26: =AVERAGE('single data'!AW24:BB24) -> 55.133998 | Z26: ± | AA26: =(_xlfn.STDEV.S('single data'!AW24:BB24)/SQRT(COUNT('single data'!AW24:BB24))) -> 3.9266172
C27: 16.17-EpDPA | D27: =AVERAGE('single data'!D25:I25) -> 15.427205 | E27: ± | F27: =(_xlfn.STDEV.S('single data'!D25:I25)/SQRT(COUNT('single data'!D25:I25))) -> 4.046383 | G27: =AVERAGE('single data'!J25:O25) -> 19.319892 | H27: ± | I27: =(_xlfn.STDEV.S('single data'!J25:O25)/SQRT(COUNT('single data'!J25:O25))) -> 1.4061272 | J27: =AVERAGE('single data'!Q25:V25) -> 3.9741484 | K27: ± | L27: =(_xlfn.STDEV.S('single data'!Q25:V25)/SQRT(COUNT('single data'!Q25:V25))) -> 1.6590751 | M27: =AVERAGE('single data'!W25:AB25) -> 3.7830896 | N27: ± | O27: =(_xlfn.STDEV.S('single data'!W25:AB25)/SQRT(COUNT('single data'!W25:AB25))) -> 0.87014626 | P27: =AVERAGE('single data'!AD25:AI25) -> 38.613868 | Q27: ± | R27: =(_xlfn.STDEV.S('single data'!AD25:AI25)/SQRT(COUNT('single data'!AD25:AI25))) -> 4.9788021 | S27: =AVERAGE('single data'!AJ25:AO25) -> 80.574214 | T27: ± | U27: =(_xlfn.STDEV.S('single data'!AJ25:AO25)/SQRT(COUNT('single data'!AJ25:AO25))) -> 7.1786216 | V27: =AVERAGE('single data'!AQ25:AV25) -> 60.554818 | W27: ± | X27: =(_xlfn.STDEV.S('single data'!AQ25:AV25)/SQRT(COUNT('single data'!AQ25:AV25))) -> 6.5233647 | Y27: =AVERAGE('single data'!AW25:BB25) -> 68.053338 | Z27: ± | AA27: =(_xlfn.STDEV.S('single data'!AW25:BB25)/SQRT(COUNT('single data'!AW25:BB25))) -> 8.8202321
C28: 19.20-EpDPA | D28: =AVERAGE('single data'!D26:I26) -> 198.06736 | E28: ± | F28: =(_xlfn.STDEV.S('single data'!D26:I26)/SQRT(COUNT('single data'!D26:I26))) -> 13.618774 | G28: =AVERAGE('single data'!J26:O26) -> 308.27076 | H28: ± | I28: =(_xlfn.STDEV.S('single data'!J26:O26)/SQRT(COUNT('single data'!J26:O26))) -> 46.98803 | J28: =AVERAGE('single data'!Q26:V26) -> 42.067206 | K28: ± | L28: =(_xlfn.STDEV.S('single data'!Q26:V26)/SQRT(COUNT('single data'!Q26:V26))) -> 10.906144 | M28: =AVERAGE('single data'!W26:AB26) -> 25.64719 | N28: ± | O28: =(_xlfn.STDEV.S('single data'!W26:AB26)/SQRT(COUNT('single data'!W26:AB26))) -> 1.3864817 | P28: =AVERAGE('single data'!AD26:AI26) -> 676.4758 | Q28: ± | R28: =(_xlfn.STDEV.S('single data'!AD26:AI26)/SQRT(COUNT('single data'!AD26:AI26))) -> 67.611224 | S28: =AVERAGE('single data'!AJ26:AO26) -> 889.18836 | T28: ± | U28: =(_xlfn.STDEV.S('single data'!AJ26:AO26)/SQRT(COUNT('single data'!AJ26:AO26))) -> 101.9725 | V28: =AVERAGE('single data'!AQ26:AV26) -> 619.85423 | W28: ± | X28: =(_xlfn.STDEV.S('single data'!AQ26:AV26)/SQRT(COUNT('single data'!AQ26:AV26))) -> 89.363859 | Y28: =AVERAGE('single data'!AW26:BB26) -> 549.2498 | Z28: ± | AA28: =(_xlfn.STDEV.S('single data'!AW26:BB26)/SQRT(COUNT('single data'!AW26:BB26))) -> 68.970099
C29: 8,9-EpETE | D29: =AVERAGE('single data'!D27:I27) -> 1.1821032 | E29: ± | F29: =(_xlfn.STDEV.S('single data'!D27:I27)/SQRT(COUNT('single data'!D27:I27))) -> 0.35342072 | G29: =AVERAGE('single data'!J27:O27) -> 1.2822984 | H29: ± | I29: =(_xlfn.STDEV.S('single data'!J27:O27)/SQRT(COUNT('single data'!J27:O27))) -> 0.087501077 | J29: =AVERAGE('single data'!Q27:V27) -> 0.26985623 | K29: ± | L29: =(_xlfn.STDEV.S('single data'!Q27:V27)/SQRT(COUNT('single data'!Q27:V27))) -> 0.071713353 | M29: =AVERAGE('single data'!W27:AB27) -> 0.3237035 | N29: ± | O29: =(_xlfn.STDEV.S('single data'!W27:AB27)/SQRT(COUNT('single data'!W27:AB27))) -> 0.042537147
C30: 14.15-EpETE | D30: =AVERAGE('single data'!D28:I28) -> 1.1742879 | E30: ± | F30: =(_xlfn.STDEV.S('single data'!D28:I28)/SQRT(COUNT('single data'!D28:I28))) -> 0.24433014 | G30: =AVERAGE('single data'!J28:O28) -> 1.8369711 | H30: ± | I30: =(_xlfn.STDEV.S('single data'!J28:O28)/SQRT(COUNT('single data'!J28:O28))) -> 0.34852674 | J30: =AVERAGE('single data'!Q28:V28) -> 0.14319101 | K30: ± | L30: =(_xlfn.STDEV.S('single data'!Q28:V28)/SQRT(COUNT('single data'!Q28:V28))) -> 0.041541532 | M30: =AVERAGE('single data'!W28:AB28) -> 0.11465657 | N30: ± | O30: =(_xlfn.STDEV.S('single data'!W28:AB28)/SQRT(COUNT('single data'!W28:AB28))) -> 0.024571973
B31: EPHX2 | C31: 5.6-DHET | D31: =AVERAGE('single data'!D29:I29) -> 27.828963 | E31: ± | F31: =(_xlfn.STDEV.S('single data'!D29:I29)/SQRT(COUNT('single data'!D29:I29))) -> 2.2790867 | G31: =AVERAGE('single data'!J29:O29) -> 30.473812 | H31: ± | I31: =(_xlfn.STDEV.S('single data'!J29:O29)/SQRT(COUNT('single data'!J29:O29))) -> 3.0186064 | J31: =AVERAGE('single data'!Q29:V29) -> 9.6348605 | K31: ± | L31: =(_xlfn.STDEV.S('single data'!Q29:V29)/SQRT(COUNT('single data'!Q29:V29))) -> 1.0256914 | M31: =AVERAGE('single data'!W29:AB29) -> 5.0241254 | N31: ± | O31: =(_xlfn.STDEV.S('single data'!W29:AB29)/SQRT(COUNT('single data'!W29:AB29))) -> 1.1481518 | P31: =AVERAGE('single data'!AD29:AI29) -> 216.45412 | Q31: ± | R31: =(_xlfn.STDEV.S('single data'!AD29:AI29)/SQRT(COUNT('single data'!AD29:AI29))) -> 11.85815 | S31: =AVERAGE('single data'!AJ29:AO29) -> 263.0611 | T31: ± | U31: =(_xlfn.STDEV.S('single data'!AJ29:AO29)/SQRT(COUNT('single data'!AJ29:AO29))) -> 42.01587 | V31: =AVERAGE('single data'!AQ29:AV29) -> 178.93497 | W31: ± | X31: =(_xlfn.STDEV.S('single data'!AQ29:AV29)/SQRT(COUNT('single data'!AQ29:AV29))) -> 20.929932 | Y31: =AVERAGE('single data'!AW29:BB29) -> 153.8423 | Z31: ± | AA31: =(_xlfn.STDEV.S('single data'!AW29:BB29)/SQRT(COUNT('single data'!AW29:BB29))) -> 22.770581
C32: 8.9-DHET | D32: =AVERAGE('single data'!D30:I30) -> 30.30201 | E32: ± | F32: =(_xlfn.STDEV.S('single data'!D30:I30)/SQRT(COUNT('single data'!D30:I30))) -> 3.0532235 | G32: =AVERAGE('single data'!J30:O30) -> 36.31782 | H32: ± | I32: =(_xlfn.STDEV.S('single data'!J30:O30)/SQRT(COUNT('single data'!J30:O30))) -> 5.6675702 | J32: =AVERAGE('single data'!Q30:V30) -> 14.221438 | K32: ± | L32: =(_xlfn.STDEV.S('single data'!Q30:V30)/SQRT(COUNT('single data'!Q30:V30))) -> 2.7896207 | M32: =AVERAGE('single data'!W30:AB30) -> 7.497009 | N32: ± | O32: =(_xlfn.STDEV.S('single data'!W30:AB30)/SQRT(COUNT('single data'!W30:AB30))) -> 0.94650492 | P32: =AVERAGE('single data'!AD30:AI30) -> 201.02421 | Q32: ± | R32: =(_xlfn.STDEV.S('single data'!AD30:AI30)/SQRT(COUNT('single data'!AD30:AI30))) -> 19.18056 | S32: =AVERAGE('single data'!AJ30:AO30) -> 197.45957 | T32: ± | U32: =(_xlfn.STDEV.S('single data'!AJ30:AO30)/SQRT(COUNT('single data'!AJ30:AO30))) -> 23.783214 | V32: =AVERAGE('single data'!AQ30:AV30) -> 152.92111 | W32: ± | X32: =(_xlfn.STDEV.S('single data'!AQ30:AV30)/SQRT(COUNT('single data'!AQ30:AV30))) -> 43.471058 | Y32: =AVERAGE('single data'!AW30:BB30) -> 88.654304 | Z32: ± | AA32: =(_xlfn.STDEV.S('single data'!AW30:BB30)/SQRT(COUNT('single data'!AW30:BB30))) -> 11.939958
C33: 11.12-DHET | D33: =AVERAGE('single data'!D31:I31) -> 25.227839 | E33: ± | F33: =(_xlfn.STDEV.S('single data'!D31:I31)/SQRT(COUNT('single data'!D31:I31))) -> 3.0213883 | G33: =AVERAGE('single data'!J31:O31) -> 27.182557 | H33: ± | I33: =(_xlfn.STDEV.S('single data'!J31:O31)/SQRT(COUNT('single data'!J31:O31))) -> 2.781174 | J33: =AVERAGE('single data'!Q31:V31) -> 12.452166 | K33: ± | L33: =(_xlfn.STDEV.S('single data'!Q31:V31)/SQRT(COUNT('single data'!Q31:V31))) -> 2.3639137 | M33: =AVERAGE('single data'!W31:AB31) -> 6.1757673 | N33: ± | O33: =(_xlfn.STDEV.S('single data'!W31:AB31)/SQRT(COUNT('single data'!W31:AB31))) -> 0.86048756 | P33: =AVERAGE('single data'!AD31:AI31) -> 190.2881 | Q33: ± | R33: =(_xlfn.STDEV.S('single data'!AD31:AI31)/SQRT(COUNT('single data'!AD31:AI31))) -> 27.13685 | S33: =AVERAGE('single data'!AJ31:AO31) -> 176.65255 | T33: ± | U33: =(_xlfn.STDEV.S('single data'!AJ31:AO31)/SQRT(COUNT('single data'!AJ31:AO31))) -> 29.838906 | V33: =AVERAGE('single data'!AQ31:AV31) -> 117.28118 | W33: ± | X33: =(_xlfn.STDEV.S('single data'!AQ31:AV31)/SQRT(COUNT('single data'!AQ31:AV31))) -> 27.994427 | Y33: =AVERAGE('single data'!AW31:BB31) -> 68.048424 | Z33: ± | AA33: =(_xlfn.STDEV.S('single data'!AW31:BB31)/SQRT(COUNT('single data'!AW31:BB31))) -> 10.395763
C34: 14.15-DHET | D34: =AVERAGE('single data'!D32:I32) -> 42.075379 | E34: ± | F34: =(_xlfn.STDEV.S('single data'!D32:I32)/SQRT(COUNT('single data'!D32:I32))) -> 6.813934 | G34: =AVERAGE('single data'!J32:O32) -> 48.191132 | H34: ± | I34: =(_xlfn.STDEV.S('single data'!J32:O32)/SQRT(COUNT('single data'!J32:O32))) -> 7.4939143 | J34: =AVERAGE('single data'!Q32:V32) -> 29.477034 | K34: ± | L34: =(_xlfn.STDEV.S('single data'!Q32:V32)/SQRT(COUNT('single data'!Q32:V32))) -> 5.8844082 | M34: =AVERAGE('single data'!W32:AB32) -> 15.988187 | N34: ± | O34: =(_xlfn.STDEV.S('single data'!W32:AB32)/SQRT(COUNT('single data'!W32:AB32))) -> 2.3872831 | P34: =AVERAGE('single data'!AD32:AI32) -> 307.87354 | Q34: ± | R34: =(_xlfn.STDEV.S('single data'!AD32:AI32)/SQRT(COUNT('single data'!AD32:AI32))) -> 38.254906 | S34: =AVERAGE('single data'!AJ32:AO32) -> 361.05919 | T34: ± | U34: =(_xlfn.STDEV.S('single data'!AJ32:AO32)/SQRT(COUNT('single data'!AJ32:AO32))) -> 95.119616 | V34: =AVERAGE('single data'!AQ32:AV32) -> 307.76452 | W34: ± | X34: =(_xlfn.STDEV.S('single data'!AQ32:AV32)/SQRT(COUNT('single data'!AQ32:AV32))) -> 70.615914 | Y34: =AVERAGE('single data'!AW32:BB32) -> 181.33486 | Z34: ± | AA34: =(_xlfn.STDEV.S('single data'!AW32:BB32)/SQRT(COUNT('single data'!AW32:BB32))) -> 33.388443
B35: EC | C35: AEA | D35: =AVERAGE('single data'!D33:I33) -> 2.0868976 | E35: ± | F35: =(_xlfn.STDEV.S('single data'!D33:I33)/SQRT(COUNT('single data'!D33:I33))) -> 0.46069465 | G35: =AVERAGE('single data'!J33:O33) -> 5.2640455 | H35: ± | I35: =(_xlfn.STDEV.S('single data'!J33:O33)/SQRT(COUNT('single data'!J33:O33))) -> 1.083266 | J35: =AVERAGE('single data'!Q33:V33) -> 0.28520915 | K35: ± | L35: =(_xlfn.STDEV.S('single data'!Q33:V33)/SQRT(COUNT('single data'!Q33:V33))) -> 0.10288828 | M35: =AVERAGE('single data'!W33:AB33) -> 0.32728199 | N35: ± | O35: =(_xlfn.STDEV.S('single data'!W33:AB33)/SQRT(COUNT('single data'!W33:AB33))) -> 0.070027749 | P35: =AVERAGE('single data'!AD33:AI33) -> 206.25302 | Q35: ± | R35: =(_xlfn.STDEV.S('single data'!AD33:AI33)/SQRT(COUNT('single data'!AD33:AI33))) -> 17.119625 | S35: =AVERAGE('single data'!AJ33:AO33) -> 277.49076 | T35: ± | U35: =(_xlfn.STDEV.S('single data'!AJ33:AO33)/SQRT(COUNT('single data'!AJ33:AO33))) -> 40.23221 | V35: =AVERAGE('single data'!AQ33:AV33) -> 171.50443 | W35: ± | X35: =(_xlfn.STDEV.S('single data'!AQ33:AV33)/SQRT(COUNT('single data'!AQ33:AV33))) -> 18.533082 | Y35: =AVERAGE('single data'!AW33:BB33) -> 242.94057 | Z35: ± | AA35: =(_xlfn.STDEV.S('single data'!AW33:BB33)/SQRT(COUNT('single data'!AW33:BB33))) -> 19.09006
C36: PEA | D36: =AVERAGE('single data'!D34:I34) -> 230.50653 | E36: ± | F36: =(_xlfn.STDEV.S('single data'!D34:I34)/SQRT(COUNT('single data'!D34:I34))) -> 39.615135 | G36: =AVERAGE('single data'!J34:O34) -> 291.80604 | H36: ± | I36: =(_xlfn.STDEV.S('single data'!J34:O34)/SQRT(COUNT('single data'!J34:O34))) -> 73.65049 | J36: =AVERAGE('single data'!Q34:V34) -> 204.66048 | K36: ± | L36: =(_xlfn.STDEV.S('single data'!Q34:V34)/SQRT(COUNT('single data'!Q34:V34))) -> 36.299286 | M36: =AVERAGE('single data'!W34:AB34) -> 413.49795 | N36: ± | O36: =(_xlfn.STDEV.S('single data'!W34:AB34)/SQRT(COUNT('single data'!W34:AB34))) -> 69.824741 | P36: =AVERAGE('single data'!AD34:AI34) -> 1377.3891 | Q36: ± | R36: =(_xlfn.STDEV.S('single data'!AD34:AI34)/SQRT(COUNT('single data'!AD34:AI34))) -> 169.57373 | S36: =AVERAGE('single data'!AJ34:AO34) -> 2429.8086 | T36: ± | U36: =(_xlfn.STDEV.S('single data'!AJ34:AO34)/SQRT(COUNT('single data'!AJ34:AO34))) -> 364.7985 | V36: =AVERAGE('single data'!AQ34:AV34) -> 1305.6025 | W36: ± | X36: =(_xlfn.STDEV.S('single data'!AQ34:AV34)/SQRT(COUNT('single data'!AQ34:AV34))) -> 186.35072 | Y36: =AVERAGE('single data'!AW34:BB34) -> 1742.5731 | Z36: ± | AA36: =(_xlfn.STDEV.S('single data'!AW34:BB34)/SQRT(COUNT('single data'!AW34:BB34))) -> 170.17625
C37: OEA | D37: =AVERAGE('single data'!D35:I35) -> 98.63606 | E37: ± | F37: =(_xlfn.STDEV.S('single data'!D35:I35)/SQRT(COUNT('single data'!D35:I35))) -> 7.3395184 | G37: =AVERAGE('single data'!J35:O35) -> 123.55528 | H37: ± | I37: =(_xlfn.STDEV.S('single data'!J35:O35)/SQRT(COUNT('single data'!J35:O35))) -> 13.258056 | J37: =AVERAGE('single data'!Q35:V35) -> 39.220117 | K37: ± | L37: =(_xlfn.STDEV.S('single data'!Q35:V35)/SQRT(COUNT('single data'!Q35:V35))) -> 3.8856591 | M37: =AVERAGE('single data'!W35:AB35) -> 61.411436 | N37: ± | O37: =(_xlfn.STDEV.S('single data'!W35:AB35)/SQRT(COUNT('single data'!W35:AB35))) -> 9.5810927 | P37: =AVERAGE('single data'!AD35:AI35) -> 2760.7679 | Q37: ± | R37: =(_xlfn.STDEV.S('single data'!AD35:AI35)/SQRT(COUNT('single data'!AD35:AI35))) -> 209.24407 | S37: =AVERAGE('single data'!AJ35:AO35) -> 3691.3307 | T37: ± | U37: =(_xlfn.STDEV.S('single data'!AJ35:AO35)/SQRT(COUNT('single data'!AJ35:AO35))) -> 484.2833 | V37: =AVERAGE('single data'!AQ35:AV35) -> 1530.704 | W37: ± | X37: =(_xlfn.STDEV.S('single data'!AQ35:AV35)/SQRT(COUNT('single data'!AQ35:AV35))) -> 44.732904 | Y37: =AVERAGE('single data'!AW35:BB35) -> 2060.9218 | Z37: ± | AA37: =(_xlfn.STDEV.S('single data'!AW35:BB35)/SQRT(COUNT('single data'!AW35:BB35))) -> 255.93299
C38: 2-AG | D38: =AVERAGE('single data'!D36:I36) -> 12.87794 | E38: ± | F38: =(_xlfn.STDEV.S('single data'!D36:I36)/SQRT(COUNT('single data'!D36:I36))) -> 1.1746682 | G38: =AVERAGE('single data'!J36:O36) -> 17.49857 | H38: ± | I38: =(_xlfn.STDEV.S('single data'!J36:O36)/SQRT(COUNT('single data'!J36:O36))) -> 3.9453255 | J38: =AVERAGE('single data'!Q36:V36) -> 4.7287904 | K38: ± | L38: =(_xlfn.STDEV.S('single data'!Q36:V36)/SQRT(COUNT('single data'!Q36:V36))) -> 0.73220412 | M38: =AVERAGE('single data'!W36:AB36) -> 5.7654675 | N38: ± | O38: =(_xlfn.STDEV.S('single data'!W36:AB36)/SQRT(COUNT('single data'!W36:AB36))) -> 0.67171092 | P38: =AVERAGE('single data'!AD36:AI36) -> 567.57254 | Q38: ± | R38: =(_xlfn.STDEV.S('single data'!AD36:AI36)/SQRT(COUNT('single data'!AD36:AI36))) -> 67.950741 | S38: =AVERAGE('single data'!AJ36:AO36) -> 522.45433 | T38: ± | U38: =(_xlfn.STDEV.S('single data'!AJ36:AO36)/SQRT(COUNT('single data'!AJ36:AO36))) -> 116.25816 | V38: =AVERAGE('single data'!AQ36:AV36) -> 417.97041 | W38: ± | X38: =(_xlfn.STDEV.S('single data'!AQ36:AV36)/SQRT(COUNT('single data'!AQ36:AV36))) -> 33.313174 | Y38: =AVERAGE('single data'!AW36:BB36) -> 991.24245 | Z38: ± | AA38: =(_xlfn.STDEV.S('single data'!AW36:BB36)/SQRT(COUNT('single data'!AW36:BB36))) -> 146.19631
C39: 1-AG | D39: =AVERAGE('single data'!D37:I37) -> 116.63581 | E39: ± | F39: =(_xlfn.STDEV.S('single data'!D37:I37)/SQRT(COUNT('single data'!D37:I37))) -> 5.4039324 | G39: =AVERAGE('single data'!J37:O37) -> 123.40383 | H39: ± | I39: =(_xlfn.STDEV.S('single data'!J37:O37)/SQRT(COUNT('single data'!J37:O37))) -> 21.72541 | J39: =AVERAGE('single data'!Q37:V37) -> 28.268242 | K39: ± | L39: =(_xlfn.STDEV.S('single data'!Q37:V37)/SQRT(COUNT('single data'!Q37:V37))) -> 4.214517 | M39: =AVERAGE('single data'!W37:AB37) -> 41.264848 | N39: ± | O39: =(_xlfn.STDEV.S('single data'!W37:AB37)/SQRT(COUNT('single data'!W37:AB37))) -> 4.8234345 | P39: =AVERAGE('single data'!AD37:AI37) -> 3347.8111 | Q39: ± | R39: =(_xlfn.STDEV.S('single data'!AD37:AI37)/SQRT(COUNT('single data'!AD37:AI37))) -> 393.44896 | S39: =AVERAGE('single data'!AJ37:AO37) -> 2562.4118 | T39: ± | U39: =(_xlfn.STDEV.S('single data'!AJ37:AO37)/SQRT(COUNT('single data'!AJ37:AO37))) -> 334.871 | V39: =AVERAGE('single data'!AQ37:AV37) -> 3485.039 | W39: ± | X39: =(_xlfn.STDEV.S('single data'!AQ37:AV37)/SQRT(COUNT('single data'!AQ37:AV37))) -> 368.09161 | Y39: =AVERAGE('single data'!AW37:BB37) -> 4166.5174 | Z39: ± | AA39: =(_xlfn.STDEV.S('single data'!AW37:BB37)/SQRT(COUNT('single data'!AW37:BB37))) -> 356.47949
B40: ALOX5 | C40: LTB4 isomers+LTB4 | D40: =AVERAGE('single data'!D38:I38) -> 770.96687 | E40: ± | F40: =(_xlfn.STDEV.S('single data'!D38:I38)/SQRT(COUNT('single data'!D38:I38))) -> 160.4593 | G40: =AVERAGE('single data'!J38:O38) -> 970.28747 | H40: ± | I40: =(_xlfn.STDEV.S('single data'!J38:O38)/SQRT(COUNT('single data'!J38:O38))) -> 170.09533 | J40: =AVERAGE('single data'!Q38:V38) -> 255.68951 | K40: ± | L40: =(_xlfn.STDEV.S('single data'!Q38:V38)/SQRT(COUNT('single data'!Q38:V38))) -> 74.752681 | M40: =AVERAGE('single data'!W38:AB38) -> 307.15611 | N40: ± | O40: =(_xlfn.STDEV.S('single data'!W38:AB38)/SQRT(COUNT('single data'!W38:AB38))) -> 51.721903 | P40: =AVERAGE('single data'!AD38:AI38) -> 160.04088 | Q40: ± | R40: =(_xlfn.STDEV.S('single data'!AD38:AI38)/SQRT(COUNT('single data'!AD38:AI38))) -> 27.912907 | S40: =AVERAGE('single data'!AJ38:AO38) -> 210.3322 | T40: ± | U40: =(_xlfn.STDEV.S('single data'!AJ38:AO38)/SQRT(COUNT('single data'!AJ38:AO38))) -> 53.833142 | V40: =AVERAGE('single data'!AQ38:AV38) -> 51.680247 | W40: ± | X40: =(_xlfn.STDEV.S('single data'!AQ38:AV38)/SQRT(COUNT('single data'!AQ38:AV38))) -> 6.9728909 | Y40: =AVERAGE('single data'!AW38:BB38) -> 69.670101 | Z40: ± | AA40: =(_xlfn.STDEV.S('single data'!AW38:BB38)/SQRT(COUNT('single data'!AW38:BB38))) -> 11.455799
C41: 5-HEPE | D41: =AVERAGE('single data'!D39:I39) -> 151.28448 | E41: ± | F41: =(_xlfn.STDEV.S('single data'!D39:I39)/SQRT(COUNT('single data'!D39:I39))) -> 15.400374 | G41: =AVERAGE('single data'!J39:O39) -> 242.84878 | H41: ± | I41: =(_xlfn.STDEV.S('single data'!J39:O39)/SQRT(COUNT('single data'!J39:O39))) -> 40.349433 | J41: =AVERAGE('single data'!Q39:V39) -> 77.195666 | K41: ± | L41: =(_xlfn.STDEV.S('single data'!Q39:V39)/SQRT(COUNT('single data'!Q39:V39))) -> 17.733136 | M41: =AVERAGE('single data'!W39:AB39) -> 46.988484 | N41: ± | O41: =(_xlfn.STDEV.S('single data'!W39:AB39)/SQRT(COUNT('single data'!W39:AB39))) -> 9.9282032 | P41: =AVERAGE('single data'!AD39:AI39) -> 705.45956 | Q41: ± | R41: =(_xlfn.STDEV.S('single data'!AD39:AI39)/SQRT(COUNT('single data'!AD39:AI39))) -> 129.15285 | S41: =AVERAGE('single data'!AJ39:AO39) -> 760.13523 | T41: ± | U41: =(_xlfn.STDEV.S('single data'!AJ39:AO39)/SQRT(COUNT('single data'!AJ39:AO39))) -> 31.692906 | V41: =AVERAGE('single data'!AQ39:AV39) -> 1868.0241 | W41: ± | X41: =(_xlfn.STDEV.S('single data'!AQ39:AV39)/SQRT(COUNT('single data'!AQ39:AV39))) -> 302.8619 | Y41: =AVERAGE('single data'!AW39:BB39) -> 1192.1422 | Z41: ± | AA41: =(_xlfn.STDEV.S('single data'!AW39:BB39)/SQRT(COUNT('single data'!AW39:BB39))) -> 213.6554
C42: 5-HETE | D42: =AVERAGE('single data'!D40:I40) -> 1569.394 | E42: ± | F42: =(_xlfn.STDEV.S('single data'!D40:I40)/SQRT(COUNT('single data'!D40:I40))) -> 200.00279 | G42: =AVERAGE('single data'!J40:O40) -> 2035.2836 | H42: ± | I42: =(_xlfn.STDEV.S('single data'!J40:O40)/SQRT(COUNT('single data'!J40:O40))) -> 194.09877 | J42: =AVERAGE('single data'!Q40:V40) -> 769.6778 | K42: ± | L42: =(_xlfn.STDEV.S('single data'!Q40:V40)/SQRT(COUNT('single data'!Q40:V40))) -> 240.36962 | M42: =AVERAGE('single data'!W40:AB40) -> 710.06968 | N42: ± | O42: =(_xlfn.STDEV.S('single data'!W40:AB40)/SQRT(COUNT('single data'!W40:AB40))) -> 154.72866 | P42: =AVERAGE('single data'!AD40:AI40) -> 3487.274 | Q42: ± | R42: =(_xlfn.STDEV.S('single data'!AD40:AI40)/SQRT(COUNT('single data'!AD40:AI40))) -> 637.62683 | S42: =AVERAGE('single data'!AJ40:AO40) -> 3063.9415 | T42: ± | U42: =(_xlfn.STDEV.S('single data'!AJ40:AO40)/SQRT(COUNT('single data'!AJ40:AO40))) -> 257.59589 | V42: =AVERAGE('single data'!AQ40:AV40) -> 2100.6996 | W42: ± | X42: =(_xlfn.STDEV.S('single data'!AQ40:AV40)/SQRT(COUNT('single data'!AQ40:AV40))) -> 249.9335 | Y42: =AVERAGE('single data'!AW40:BB40) -> 1600.257 | Z42: ± | AA42: =(_xlfn.STDEV.S('single data'!AW40:BB40)/SQRT(COUNT('single data'!AW40:BB40))) -> 106.71826
...

Sheet single data
A1: Table S9 Effect of LCM 2 on the lipid mediator profile in zymosan-induced peritonitis
D3: Exudate | AD3: Plasma
D4: 4h | Q4: 18h | AD4: 4h | AQ4: 18h
C5: compound | D5: 2% DMSO in saline | J5: 2 | Q5: 2% DMSO in saline | W5: 2 | AD5: 2% DMSO in saline | AJ5: 2 | AQ5: 2% DMSO in saline | AW5: 2
A6: pg / 500 µl | B6: SPM/iso | C6: PDX | D6: 20.109404 | E6: 4.4283575 | F6: 10.533562 | G6: 12.098388 | H6: 1.6716766 | I6: 7.5526588 | J6: 17.930203 | K6: 9.4139255 | L6: 14.656014 | N6: 5.659712 | O6: 20.795667 | Q6: 9.01388 | R6: 6.1476021 | S6: 7.0303302 | T6: 7.6101497 | V6: 7.1535005 | X6: 3.4656711 | Y6: 7.0918842 | Z6: 2.3081492 | AA6: 4.8105946 | AB6: 10.141041 | AD6: 5.1870004 | AE6: 3.8647483 | AF6: 8.2502838 | AG6: 5.2283188 | AH6: 5.7305175 | AI6: 3.4692454 | AJ6: 6.7850799 | AK6: 15.562969 | AL6: 10.031279 | AM6: 9.892837 | AO6: 5.9029261 | AQ6: 3.2787966 | AR6: 3.8616332 | AS6: 2.3645562 | AT6: 3.9064801 | AU6: 3.0910812 | AW6: 4.5821199 | AX6: 3.8204567 | AY6: 6.4638133 | AZ6: 4.2763109 | BA6: 9.1409947 | BB6: 10.216995
C7: AT-PD1 | D7: 13.347741 | E7: 3.8805227 | F7: 12.364717 | G7: 9.52084 | H7: 1.5711422 | I7: 5.0910114 | J7: 40.078556 | K7: 14.786709 | L7: 23.498762 | M7: 35.639755 | N7: 4.8430385 | O7: 29.561849 | Q7: 11.105013 | R7: 7.6908097 | S7: 7.9600466 | T7: 7.7210885 | V7: 5.5918427 | X7: 5.5374237 | Y7: 9.8900652 | Z7: 3.8718131 | AA7: 12.028049 | AB7: 12.881978
C8: RvD5 | D8: 18.515356 | E8: 14.784989 | F8: 7.8790622 | G8: 23.836366 | H8: 4.4770914 | I8: 8.5709679 | J8: 37.960599 | K8: 19.971912 | L8: 14.578206 | M8: 35.932595 | N8: 11.271524 | O8: 10.053857 | Q8: 2.3368214 | R8: 3.0446374 | S8: 6.7518761 | T8: 3.5536362 | V8: 4.369883 | X8: 0.92393822 | Y8: 5.9716974 | Z8: 6.3622817 | AA8: 3.7562253 | AB8: 7.7131044
C9: MaR2 | D9: 10.332927 | E9: 3.9280578 | F9: 8.7428183 | G9: 8.1807531 | H9: 2.2911886 | I9: 4.560545 | J9: 12.773806 | K9: 5.448931 | L9: 6.275526 | N9: 2.6986506 | O9: 7.7163505 | Q9: 7.9187623 | R9: 11.492505 | S9: 5.9318026 | T9: 4.4556355 | U9: 21.625888 | V9: 3.2127265 | X9: 2.866017 | Y9: 3.7140411 | Z9: 1.453571 | AA9: 4.7551529 | AB9: 4.1239303
B10: ALOX12/15 | C10: 17-HDHA | D10: 470.60226 | E10: 183.62032 | F10: 344.35877 | G10: 438.63916 | H10: 286.37909 | I10: 239.23613 | J10: 902.31 | K10: 712.35 | L10: 924.12973 | M10: 1544.1359 | N10: 207.72724 | O10: 982.02536 | Q10: 273.33611 | R10: 402.77734 | S10: 219.64125 | T10: 452.22219 | U10: 649.58789 | V10: 535.13122 | X10: 116.94412 | Y10: 276.43433 | Z10: 196.69366 | AA10: 212.36934 | AB10: 324.93158 | AD10: 1562.421 | AE10: 567.76411 | AF10: 4640.078 | AG10: 2068.1129 | AH10: 3808.0412 | AI10: 529.5008 | AJ10: 1790.824 | AK10: 4690.0062 | AL10: 1487.6702 | AM10: 2980.6224 | AO10: 1210.2491 | AQ10: 965.86279 | AR10: 1432.2142 | AS10: 787.52261 | AT10: 802.33105 | AU10: 714.35098 | AW10: 1377.3473 | AX10: 908.74556 | AY10: 511.76724 | AZ10: 1055.9962 | BA10: 1058.7092 | BB10: 1004.1104
C11: 17-HDPA | D11: 47.527558 | E11: 32.363833 | F11: 36.664347 | G11: 59.642522 | H11: 57.972093 | I11: 25.881879 | J11: 89.578795 | K11: 73.629456 | L11: 68.632862 | M11: 89.82417 | N11: 34.966518 | O11: 74.801017 | Q11: 35.005327 | R11: 27.627105 | S11: 15.224765 | T11: 22.437529 | U11: 38.79033 | V11: 69.185325 | W11: 49.475319 | X11: 11.347442 | Y11: 24.113949 | Z11: 21.684953 | AA11: 20.04802 | AB11: 27.585855 | AD11: 245.99227 | AE11: 133.88699 | AF11: 642.66185 | AG11: 390.56232 | AH11: 641.50319 | AI11: 122.76443 | AJ11: 246.83947 | AK11: 313.50211 | AL11: 255.40539 | AM11: 460.95964 | AO11: 177.82045 | AQ11: 289.50544 | AR11: 295.90195 | AS11: 225.98222 | AT11: 244.13482 | AU11: 239.39253 | AW11: 323.56773 | AX11: 224.83761 | AY11: 115.03302 | AZ11: 215.7103 | BA11: 373.28875 | BB11: 240.04096
C12: 15-HETE | D12: 114.35023 | E12: 77.111068 | F12: 65.484455 | G12: 79.382365 | H12: 95.476364 | I12: 94.248584 | J12: 99.852364 | K12: 166.45832 | L12: 119.97041 | M12: 106.32108 | N12: 91.574685 | O12: 146.75229 | Q12: 45.591584 | R12: 63.952991 | S12: 85.43619 | T12: 90.162809 | U12: 160.48546 | V12: 235.34341 | X12: 65.093 | Y12: 113.8903 | Z12: 62.45597 | AA12: 77.9475 | AB12: 97.884211 | AD12: 255.26667 | AE12: 91.798515 | AF12: 767.80734 | AG12: 254.84654 | AH12: 573.47713 | AI12: 93.019251 | AJ12: 188.85251 | AK12: 373.0472 | AL12: 181.32597 | AM12: 314.38105 | AO12: 146.91675 | AQ12: 107.14765 | AR12: 118.40127 | AS12: 79.328744 | AT12: 72.204 | AU12: 55.867753 | AW12: 103.39249 | AX12: 71.621215 | AY12: 87.232105 | AZ12: 107.20101 | BB12: 130.05798
C13: 15-HEPE | D13: 33.93 | E13: 14.107937 | F13: 32.594076 | G13: 39.998571 | H13: 10.151318 | I13: 11.740381 | J13: 30.924545 | K13: 21.573916 | L13: 21.255628 | N13: 14.924455 | O13: 40.566857 | Q13: 19.213615 | R13: 33.795841 | S13: 21.656786 | T13: 40.132416 | U13: 43.001762 | V13: 20.734859 | X13: 11.425275 | Y13: 31.539123 | Z13: 11.854075 | AA13: 23.876606 | AB13: 30.358421 | AD13: 35.1016 | AE13: 25.589629 | AF13: 62.484358 | AG13: 65.32818 | AH13: 91.808138 | AI13: 22.185 | AJ13: 49.947235 | AK13: 67.93295 | AL13: 44.124862 | AM13: 67.605868 | AO13: 38.213953 | AQ13: 48.024 | AR13: 55.696519 | AS13: 35.228442 | AT13: 34.211605 | AU13: 40.381685 | AW13: 88.74 | AX13: 62.511939 | AY13: 27.906395 | AZ13: 35.674372 | BA13: 49.086496 | BB13: 50.034255
C14: 14-HDHA | D14: 1920.9231 | E14: 424.28155 | F14: 1014.8573 | G14: 902.62094 | H14: 343.6803 | I14: 675.4042 | J14: 1095.3627 | K14: 796.26287 | L14: 1006.051 | M14: 5869.1677 | N14: 488.96224 | O14: 1549.6018 | Q14: 903.9638 | R14: 1153.7881 | S14: 790.28452 | T14: 1069.7275 | U14: 2007.6608 | V14: 1003.448 | W14: 3260.6752 | X14: 304.34625 | Y14: 634.78265 | Z14: 307.49104 | AA14: 641.85844 | AB14: 987.56228 | AD14: 11792.333 | AE14: 3399.6535 | AF14: 30141.089 | AG14: 8918.5714 | AH14: 13864.109 | AI14: 4239.8984 | AJ14: 12206.983 | AL14: 19401.588 | AM14: 13389.592 | AN14: 31105.345 | AO14: 15362.356 | AQ14: 5857.4029 | AR14: 7704.9684 | AS14: 7497.8744 | AT14: 6045.8526 | AU14: 4541.9579 | AW14: 7009.8425 | AX14: 1757.6671 | AY14: 5380.4803 | AZ14: 6423.3882 | BA14: 10445.965 | BB14: 6118.4721
C15: 14-HDPA | D15: 233.36885 | E15: 72.513304 | F15: 195.2451 | G15: 162.66142 | H15: 100.69673 | I15: 88.63848 | J15: 365.93891 | K15: 293.76458 | L15: 303.85447 | M15: 715.58039 | N15: 76.090663 | O15: 327.95641 | Q15: 381.35885 | R15: 329.17402 | S15: 262.06562 | T15: 371.01426 | V15: 355.8979 | W15: 1207.8388 | X15: 68.923259 | Y15: 195.9625 | Z15: 111.47568 | AA15: 251.583 | AB15: 364.13329 | AD15: 2683.552 | AE15: 687.33846 | AF15: 7068.5591 | AG15: 1985.4188 | AH15: 3788.7998 | AI15: 759.2896 | AJ15: 2248.7866 | AL15: 3066.6022 | AM15: 3980.6389 | AN15: 7990.8535 | AO15: 2626.1445 | AQ15: 1220.9175 | AR15: 1685.1815 | AS15: 1256.3347 | AT15: 1340.6726 | AU15: 878.06707 | AW15: 1599.6607 | AX15: 441.59282 | AY15: 787.85203 | AZ15: 1406.4628 | BA15: 2172.8748 | BB15: 1254.5695
C16: 12-HETE | D16: 1317.6814 | E16: 250.20211 | F16: 650.06161 | G16: 410.60542 | H16: 191.83636 | I16: 373.48673 | J16: 581.90364 | K16: 429.62156 | L16: 598.84054 | N16: 271.52224 | O16: 1055.1 | Q16: 761.4862 | R16: 1533.3463 | S16: 979.73571 | T16: 1010.6435 | U16: 2107.876 | V16: 2830.7561 | X16: 396.10212 | Y16: 798.21465 | Z16: 277.1606 | AA16: 939.69844 | AB16: 1184.6737 | AD16: 15005.867 | AE16: 2689.9827 | AG16: 8399.4712 | AH16: 17538.231 | AI16: 3484.0869 | AJ16: 9799.4623 | AL16: 16030.525 | AM16: 14160.553 | AN16: 32369.578 | AO16: 27896.623 | AQ16: 6284.0515 | AR16: 6855.9241 | AS16: 7131.2035 | AT16: 6913.6816 | AU16: 4371.552 | AW16: 6388.539 | AX16: 1294.2231 | AY16: 4664.6526 | AZ16: 7939.7601 | BA16: 13811.841 | BB16: 12150.487
C17: 12-HEPE | D17: 120.58887 | E17: 44.253 | F17: 84.358009 | G17: 98.824433 | H17: 38.839333 | I17: 35.071699 | J17: 70.328 | K17: 46.755665 | L17: 52.226514 | N17: 37.823077 | O17: 138.37843 | Q17: 91.665339 | R17: 170.94617 | S17: 63.218571 | T17: 88.947978 | U17: 156.82414 | V17: 114.17034 | X17: 26.96155 | Y17: 58.710448 | Z17: 20.03494 | AA17: 63.306375 | AB17: 92.589123 | AD17: 1842.236 | AE17: 533.08069 | AF17: 5525.9862 | AG17: 1919.2161 | AH17: 2955.4309 | AI17: 652.09412 | AJ17: 2491.4631 | AL17: 3911.8674 | AM17: 2691.4105 | AN17: 4732.7564 | AO17: 6487.3508 | AQ17: 1593.6865 | AR17: 1580.9089 | AS17: 2668.5226 | AT17: 1959.0363 | AU17: 859.09382 | AV17: 2312.8111 | AW17: 1998.0642 | AX17: 353.84019 | AY17: 662.50105 | AZ17: 1376.2658 | BA17: 3329.622 | BB17: 2495.116
B18: CYP | C18: 5.6-EET | D18: 22.099548 | E18: 17.155955 | F18: 16.95419 | G18: 20.95152 | I18: 15.305011 | J18: 33.744926 | K18: 34.9192 | L18: 26.594808 | M18: 68.184332 | N18: 45.398743 | O18: 27.854622 | Q18: 4.2827371 | R18: 10.616479 | S18: 4.3494294 | T18: 4.9297693 | U18: 4.9864617 | W18: 17.883619 | X18: 11.820171 | Y18: 7.6327052 | Z18: 9.22723 | AA18: 8.0097845 | AB18: 7.8243729 | AD18: 139.92099 | AE18: 99.959541 | AF18: 180.81449 | AG18: 111.83581 | AH18: 228.1585 | AI18: 84.591761 | AJ18: 235.48076 | AK18: 401.74031 | AL18: 154.56039 | AM18: 180.5054 | AN18: 391.42688 | AO18: 142.78073 | AQ18: 63.132677 | AR18: 95.429867 | AS18: 53.315656 | AT18: 52.630218 | AU18: 49.56823 | AW18: 75.334377 | AX18: 63.313352 | AY18: 47.10212 | AZ18: 76.578617 | BA18: 142.97106
C19: 8.9-EET | D19: 40.365605 | E19: 30.791126 | F19: 24.566604 | G19: 42.420029 | I19: 29.995501 | J19: 37.953935 | K19: 49.524188 | L19: 45.077744 | M19: 37.186583 | N19: 51.402137 | O19: 50.612002 | Q19: 13.764811 | R19: 28.014429 | S19: 14.606501 | T19: 18.810868 | U19: 18.158869 | X19: 25.045269 | Y19: 25.185895 | Z19: 24.846414 | AA19: 26.033069 | AB19: 26.383682 | AD19: 246.58197 | AE19: 133.07263 | AF19: 330.7266 | AG19: 141.21086 | AH19: 378.98595 | AI19: 106.0643 | AJ19: 202.32959 | AK19: 231.27315 | AL19: 305.26385 | AM19: 240.00183 | AO19: 194.42829 | AQ19: 134.10975 | AR19: 177.40514 | AS19: 97.840469 | AT19: 114.49992 | AU19: 92.606205 | AW19: 121.44192 | AX19: 137.36636 | AY19: 122.89336 | AZ19: 170.83925 | BA19: 244.50621 | BB19: 217.42326
C20: 11.12-EET | D20: 24.811129 | E20: 13.893597 | F20: 13.47118 | G20: 19.539039 | H20: 34.024259 | I20: 16.423201 | J20: 31.793286 | K20: 39.98718 | L20: 32.734247 | M20: 29.45698 | N20: 26.016241 | O20: 36.153448 | Q20: 8.2671263 | R20: 14.169415 | S20: 9.3309237 | T20: 8.509587 | U20: 10.176048 | W20: 30.11596 | X20: 25.592286 | Y20: 13.926907 | Z20: 15.804554 | AA20: 15.484813 | AB20: 15.649545 | AD20: 90.990842 | AE20: 51.439154 | AF20: 102.76346 | AG20: 57.982342 | AH20: 115.15887 | AI20: 54.137815 | AJ20: 117.41594 | AK20: 115.30284 | AL20: 142.50943 | AM20: 116.27041 | AN20: 176.09607 | AO20: 101.20893 | AQ20: 67.704872 | AR20: 98.683524 | AS20: 64.016482 | AT20: 69.5446 | AU20: 70.221389 | AW20: 83.685314 | AX20: 102.31303 | AY20: 76.665076 | AZ20: 91.630606 | BA20: 132.2933 | BB20: 138.92939
C21: 14.15-EET | D21: 4.7617537 | E21: 3.1239089 | F21: 1.9889164 | G21: 1.678484 | H21: 4.1053646 | I21: 3.0729235 | J21: 5.4086631 | K21: 7.0435138 | L21: 5.4513232 | M21: 6.5291985 | N21: 5.5456377 | O21: 5.9301011 | Q21: 0.93891722 | R21: 2.907661 | S21: 1.2778945 | T21: 1.0730482 | U21: 1.2660135 | V21: 4.2396341 | W21: 3.5762543 | X21: 4.3406019 | Y21: 4.8565563 | Z21: 3.0598589 | AA21: 2.4338984 | AB21: 2.2020986 | AD21: 15.683975 | AE21: 14.912899 | AF21: 14.875808 | AH21: 17.388263 | AI21: 16.598237 | AJ21: 17.770083 | AK21: 22.516561 | AL21: 27.016399 | AM21: 27.242797 | AN21: 38.422619 | AO21: 19.847147 | AQ21: 21.634652 | AR21: 30.23751 | AS21: 28.216449 | AT21: 22.177064 | AU21: 35.669851 | AV21: 31.905582 | AW21: 22.39724 | AX21: 28.678886 | AY21: 25.223258 | AZ21: 22.377745 | BA21: 24.504816 | BB21: 33.850866
C22: 7,8-EpDPA | D22: 9.9224193 | E22: 8.5939164 | F22: 8.6418671 | G22: 18.27342 | H22: 28.185078 | I22: 8.2513633 | J22: 17.204199 | K22: 22.518237 | L22: 16.654355 | M22: 28.641617 | N22: 21.550497 | O22: 14.57828 | Q22: 4.4484556 | R22: 5.394294 | S22: 2.3230839 | T22: 2.485206 | U22: 3.3577193 | V22: 10.450771 | W22: 6.6348376 | X22: 4.406364 | Y22: 3.1382384 | Z22: 5.836168 | AA22: 3.3943419 | AB22: 2.8164402 | AD22: 66.924829 | AE22: 51.568481 | AF22: 86.885434 | AG22: 61.367267 | AH22: 129.44806 | AI22: 49.102266 | AJ22: 110.66655 | AK22: 144.29161 | AL22: 126.43436 | AM22: 135.10942 | AN22: 116.7252 | AO22: 87.014914 | AQ22: 71.739515 | AR22: 83.543686 | AS22: 55.532779 | AT22: 50.741093 | AU22: 53.396903 | AW22: 80.282409 | AX22: 79.443901 | AY22: 56.712596 | AZ22: 80.879455 | BA22: 70.339985 | BB22: 108.01431
C23: 10.11-EpDPA | D23: 8.9223444 | E23: 6.7877405 | F23: 5.8091458 | G23: 12.920113 | H23: 18.676799 | I23: 5.8813626 | J23: 14.350558 | K23: 14.672981 | L23: 12.092101 | M23: 17.758757 | N23: 13.022112 | O23: 11.411201 | Q23: 2.3328833 | R23: 2.7310007 | S23: 1.3344511 | T23: 1.5037664 | U23: 1.4212896 | W23: 3.717096 | X23: 4.4366863 | Y23: 0.95221451 | Z23: 3.2125639 | AA23: 1.2033077 | AB23: 2.2134919 | AD23: 46.134586 | AE23: 30.113878 | AF23: 54.614866 | AG23: 42.194063 | AH23: 82.085023 | AI23: 34.692896 | AJ23: 79.917052 | AK23: 115.38946 | AL23: 82.833646 | AM23: 64.177553 | AN23: 37.707042 | AO23: 63.04408 | AQ23: 35.950674 | AR23: 46.106445 | AS23: 24.156737 | AT23: 24.173115 | AU23: 30.161802 | AW23: 48.463008 | AX23: 44.846715 | AY23: 32.952034 | AZ23: 40.210446 | BA23: 47.932364 | BB23: 73.016126
C24: 13.14-EpDPA | D24: 9.5947923 | E24: 6.6848129 | F24: 4.6754598 | G24: 13.242589 | H24: 20.862125 | I24: 7.9480265 | J24: 20.923399 | K24: 18.032489 | L24: 15.161747 | M24: 21.579045 | N24: 11.475314 | O24: 16.036681 | Q24: 2.4117756 | R24: 2.2743884 | S24: 0.90823196 | T24: 1.0049065 | U24: 1.075116 | W24: 4.7955574 | X24: 4.7755405 | Y24: 1.3349286 | Z24: 2.3812064 | AA24: 1.2880589 | AB24: 1.9472065 | AD24: 42.051472 | AE24: 33.906006 | AF24: 60.845024 | AG24: 55.174799 | AH24: 78.467869 | AI24: 42.99325 | AJ24: 85.85509 | AK24: 126.05235 | AL24: 82.616494 | AM24: 68.333643 | AN24: 60.9542 | AO24: 66.815117 | AQ24: 32.957376 | AR24: 43.293575 | AS24: 35.000158 | AT24: 38.813509 | AU24: 37.50017 | AW24: 46.050933 | AX24: 59.106107 | AY24: 45.808849 | AZ24: 48.99893 | BA24: 61.672187 | BB24: 69.16698
C25: 16.17-EpDPA | D25: 12.200967 | E25: 10.449552 | F25: 7.4873626 | G25: 18.62267 | H25: 34.126925 | I25: 9.675753 | J25: 20.393217 | K25: 24.479042 | L25: 19.550488 | M25: 20.586372 | N25: 15.546797 | O25: 15.363435 | Q25: 4.5583457 | R25: 4.0355545 | S25: 0.7292511 | T25: 1.1464548 | U25: 1.7389283 | V25: 11.636356 | W25: 4.4621891 | X25: 7.7334805 | Y25: 2.5924747 | Z25: 3.4501591 | AA25: 1.8453984 | AB25: 2.6148358 | AD25: 36.82704 | AE25: 30.217832 | AF25: 44.301131 | AG25: 34.866449 | AH25: 59.905207 | AI25: 25.565545 | AJ25: 76.729866 | AK25: 103.28705 | AL25: 96.182229 | AM25: 84.825773 | AN25: 59.848277 | AO25: 62.572098 | AQ25: 58.176968 | AR25: 62.457333 | AS25: 50.573631 | AT25: 49.764453 | AU25: 50.860982 | AV25: 91.495541 | AW25: 74.9909 | AX25: 72.494045 | AY25: 35.60588 | AZ25: 52.331145 | BA25: 98.474364 | BB25: 74.423696
C26: 19.20-EpDPA | D26: 195.36006 | E26: 205.3165 | F26: 231.14316 | H26: 148.86126 | I26: 209.65582 | J26: 422.91566 | K26: 411.01322 | L26: 184.21276 | M26: 400.15106 | N26: 243.53251 | O26: 187.79933 | Q26: 70.139741 | R26: 38.553536 | S26: 16.019885 | T26: 15.793843 | U26: 33.433739 | V26: 78.462492 | X26: 27.001599 | Y26: 21.267577 | Z26: 27.979909 | AA26: 23.569608 | AB26: 28.417258 | AD26: 548.18071 | AE26: 587.58135 | AF26: 883.00159 | AG26: 775.34726 | AH26: 800.38637 | AI26: 464.35749 | AJ26: 920.2391 | AK26: 1141.5996 | AL26: 948.32664 | AM26: 1136.9796 | AN26: 530.36401 | AO26: 657.62116 | AQ26: 881.77079 | AR26: 883.00159 | AS26: 464.54945 | AT26: 381.56019 | AU26: 476.06721 | AV26: 632.17614 | AW26: 677.54446 | AX26: 548.06019 | AY26: 290.33274 | AZ26: 413.65705 | BA26: 632.60726 | BB26: 733.29707
C27: 8,9-EpETE | D27: 1.3618833 | E27: 0.662452 | F27: 0.42100568 | G27: 2.2854594 | H27: 2.088698 | I27: 0.2731205 | J27: 1.5674611 | K27: 1.3860888 | L27: 1.2264591 | N27: 1.0808267 | O27: 1.1506561 | Q27: 0.194096 | R27: 0.55516197 | S27: 0.18370465 | T27: 0.22662539 | U27: 0.18969313 | W27: 0.32751449 | X27: 0.42834214 | Z27: 0.39950142 | AA27: 0.26697402 | AB27: 0.19618545
C28: 14.15-EpETE | D28: 0.97003859 | E28: 0.96120643 | F28: 0.47795698 | G28: 1.9928639 | H28: 1.8244805 | I28: 0.81918071 | J28: 1.7517644 | K28: 3.1215384 | L28: 1.5837129 | M28: 1.1277637 | N28: 0.88438362 | O28: 2.5526634 | Q28: 0.17796237 | R28: 0.23818497 | S28: 0.19477206 | T28: 0.0016394317 | U28: 0.10339624 | W28: 0.18074906 | X28: 0.13224457 | Y28: 0.041612628 | Z28: 0.16863118 | AA28: 0.12172053 | AB28: 0.042981435
B29: EPHX2 | C29: 5.6-DHET | D29: 36.927405 | E29: 28.218336 | F29: 21.388318 | G29: 26.695652 | H29: 30.633421 | I29: 23.110644 | J29: 28.036791 | K29: 37.171958 | L29: 19.578394 | M29: 40.395578 | N29: 28.829349 | O29: 28.830802 | Q29: 8.5270037 | R29: 12.381542 | S29: 8.0222975 | T29: 7.1523482 | U29: 8.5167261 | V29: 13.209246 | W29: 8.3319012 | X29: 2.1123674 | Y29: 8.7702587 | Z29: 3.1438669 | AA29: 3.914305 | AB29: 3.8720532 | AD29: 232.60903 | AE29: 227.51418 | AF29: 173.70273 | AH29: 208.72012 | AI29: 239.72454 | AJ29: 226.65016 | AK29: 471.71313 | AL29: 221.44833 | AM29: 202.39059 | AN29: 239.01364 | AO29: 217.15076 | AQ29: 206.35903 | AR29: 265.99141 | AS29: 136.43929 | AT29: 137.33096 | AU29: 143.58663 | AV29: 183.90253 | AW29: 123.25926 | AX29: 121.77428 | AY29: 139.33531 | AZ29: 100.2853 | BA29: 187.82083 | BB29: 250.57882
