Workbook

Sheet Mean + S.E.M.
A1: Table S9 Effect of LCM 2 on the lipid mediator profile in zymosan-induced peritonitis
D4: Exudate | P4: Plasma
D5: 4h | J5: 18h | P5: 4h | V5: 18h
C6: compound | D6: 2% DMSO in saline | G6: 2 | J6: 2% DMSO in saline | M6: 2 | P6: 2% DMSO in saline | S6: 2 | V6: 2% DMSO in saline | Y6: 2
D7: mean | E7: ± | F7: S.E.M. | G7: mean | H7: ± | I7: S.E.M. | J7: mean | K7: ± | L7: S.E.M. | M7: mean | N7: ± | O7: S.E.M. | P7: mean | Q7: ± | R7: S.E.M. | S7: mean | T7: ± | U7: S.E.M. | V7: mean | W7: ± | X7: S.E.M. | Y7: mean | Z7: ± | AA7: S.E.M.
A8: pg / 500 µl | B8: SPM/iso | C8: PDX | D8: =AVERAGE('single data'!D6:I6) -> 9.3990079 | E8: ± | F8: =(_xlfn.STDEV.S('single data'!D6:I6)/SQRT(COUNT('single data'!D6:I6))) -> 2.6527626 | G8: =AVERAGE('single data'!J6:O6) -> 13.691104 | H8: ± | I8: =(_xlfn.STDEV.S('single data'!J6:O6)/SQRT(COUNT('single data'!J6:O6))) -> 2.7583812 | J8: =AVERAGE('single data'!Q6:V6) -> 7.3910925 | K8: ± | L8: =(_xlfn.STDEV.S('single data'!Q6:V6)/SQRT(COUNT('single data'!Q6:V6))) -> 0.46980278 | M8: =AVERAGE('single data'!W6:AB6) -> 5.5634681 | N8: ± | O8: =(_xlfn.STDEV.S('single data'!W6:AB6)/SQRT(COUNT('single data'!W6:AB6))) -> 1.393824 | P8: =AVERAGE('single data'!AD6:AI6) -> 5.2883524 | Q8: ± | R8: =(_xlfn.STDEV.S('single data'!AD6:AI6)/SQRT(COUNT('single data'!AD6:AI6))) -> 0.69085027 | S8: =AVERAGE('single data'!AJ6:AO6) -> 9.6350182 | T8: ± | U8: =(_xlfn.STDEV.S('single data'!AJ6:AO6)/SQRT(COUNT('single data'!AJ6:AO6))) -> 1.6943251 | V8: =AVERAGE('single data'!AQ6:AV6) -> 3.3005095 | W8: ± | X8: =(_xlfn.STDEV.S('single data'!AQ6:AV6)/SQRT(COUNT('single data'!AQ6:AV6))) -> 0.28305479 | Y8: =AVERAGE('single data'!AW6:BB6) -> 6.4167818 | Z8: ± | AA8: =(_xlfn.STDEV.S('single data'!AW6:BB6)/SQRT(COUNT('single data'!AW6:BB6))) -> 1.1038368
C9: AT-PD1 | D9: =AVERAGE('single data'!D7:I7) -> 7.629329 | E9: ± | F9: =(_xlfn.STDEV.S('single data'!D7:I7)/SQRT(COUNT('single data'!D7:I7))) -> 1.9655379 | G9: =AVERAGE('single data'!J7:O7) -> 24.734778 | H9: ± | I9: =(_xlfn.STDEV.S('single data'!J7:O7)/SQRT(COUNT('single data'!J7:O7))) -> 5.3969861 | J9: =AVERAGE('single data'!Q7:V7) -> 8.01376 | K9: ± | L9: =(_xlfn.STDEV.S('single data'!Q7:V7)/SQRT(COUNT('single data'!Q7:V7))) -> 0.88358265 | M9: =AVERAGE('single data'!W7:AB7) -> 8.8418659 | N9: ± | O9: =(_xlfn.STDEV.S('single data'!W7:AB7)/SQRT(COUNT('single data'!W7:AB7))) -> 1.7775511
C10: RvD5 | D10: =AVERAGE('single data'!D8:I8) -> 13.010639 | E10: ± | F10: =(_xlfn.STDEV.S('single data'!D8:I8)/SQRT(COUNT('single data'!D8:I8))) -> 2.9972865 | G10: =AVERAGE('single data'!J8:O8) -> 21.628116 | H10: ± | I10: =(_xlfn.STDEV.S('single data'!J8:O8)/SQRT(COUNT('single data'!J8:O8))) -> 5.0498674 | J10: =AVERAGE('single data'!Q8:V8) -> 4.0113708 | K10: ± | L10: =(_xlfn.STDEV.S('single data'!Q8:V8)/SQRT(COUNT('single data'!Q8:V8))) -> 0.76115407 | M10: =AVERAGE('single data'!W8:AB8) -> 4.9454494 | N10: ± | O10: =(_xlfn.STDEV.S('single data'!W8:AB8)/SQRT(COUNT('single data'!W8:AB8))) -> 1.1896915
C11: MaR2 | D11: =AVERAGE('single data'!D9:I9) -> 6.3393817 | E11: ± | F11: =(_xlfn.STDEV.S('single data'!D9:I9)/SQRT(COUNT('single data'!D9:I9))) -> 1.2972043 | G11: =AVERAGE('single data'!J9:O9) -> 6.9826528 | H11: ± | I11: =(_xlfn.STDEV.S('single data'!J9:O9)/SQRT(COUNT('single data'!J9:O9))) -> 1.6625398 | J11: =AVERAGE('single data'!Q9:V9) -> 9.1062199 | K11: ± | L11: =(_xlfn.STDEV.S('single data'!Q9:V9)/SQRT(COUNT('single data'!Q9:V9))) -> 2.7705874 | M11: =AVERAGE('single data'!W9:AB9) -> 3.3825425 | N11: ± | O11: =(_xlfn.STDEV.S('single data'!W9:AB9)/SQRT(COUNT('single data'!W9:AB9))) -> 0.57146025
B12: ALOX12/15 | C12: 17-HDHA | D12: =AVERAGE('single data'!D10:I10) -> 327.13929 | E12: ± | F12: =(_xlfn.STDEV.S('single data'!D10:I10)/SQRT(COUNT('single data'!D10:I10))) -> 45.933435 | G12: =AVERAGE('single data'!J10:O10) -> 878.77971 | H12: ± | I12: =(_xlfn.STDEV.S('single data'!J10:O10)/SQRT(COUNT('single data'!J10:O10))) -> 176.44443 | J12: =AVERAGE('single data'!Q10:V10) -> 422.116 | K12: ± | L12: =(_xlfn.STDEV.S('single data'!Q10:V10)/SQRT(COUNT('single data'!Q10:V10))) -> 65.556018 | M12: =AVERAGE('single data'!W10:AB10) -> 225.47461 | N12: ± | O12: =(_xlfn.STDEV.S('single data'!W10:AB10)/SQRT(COUNT('single data'!W10:AB10))) -> 35.544014 | P12: =AVERAGE('single data'!AD10:AI10) -> 2195.9863 | Q12: ± | R12: =(_xlfn.STDEV.S('single data'!AD10:AI10)/SQRT(COUNT('single data'!AD10:AI10))) -> 693.26145 | S12: =AVERAGE('single data'!AJ10:AO10) -> 2431.8744 | T12: ± | U12: =(_xlfn.STDEV.S('single data'!AJ10:AO10)/SQRT(COUNT('single data'!AJ10:AO10))) -> 640.12183 | V12: =AVERAGE('single data'!AQ10:AV10) -> 940.45634 | W12: ± | X12: =(_xlfn.STDEV.S('single data'!AQ10:AV10)/SQRT(COUNT('single data'!AQ10:AV10))) -> 129.62682 | Y12: =AVERAGE('single data'!AW10:BB10) -> 986.11263 | Z12: ± | AA12: =(_xlfn.STDEV.S('single data'!AW10:BB10)/SQRT(COUNT('single data'!AW10:BB10))) -> 114.67805
C13: 17-HDPA | D13: =AVERAGE('single data'!D11:I11) -> 43.342039 | E13: ± | F13: =(_xlfn.STDEV.S('single data'!D11:I11)/SQRT(COUNT('single data'!D11:I11))) -> 5.6781233 | G13: =AVERAGE('single data'!J11:O11) -> 71.90547 | H13: ± | I13: =(_xlfn.STDEV.S('single data'!J11:O11)/SQRT(COUNT('single data'!J11:O11))) -> 8.2056458 | J13: =AVERAGE('single data'!Q11:V11) -> 34.71173 | K13: ± | L13: =(_xlfn.STDEV.S('single data'!Q11:V11)/SQRT(COUNT('single data'!Q11:V11))) -> 7.7152223 | M13: =AVERAGE('single data'!W11:AB11) -> 25.709256 | N13: ± | O13: =(_xlfn.STDEV.S('single data'!W11:AB11)/SQRT(COUNT('single data'!W11:AB11))) -> 5.2453113 | P13: =AVERAGE('single data'!AD11:AI11) -> 362.89518 | Q13: ± | R13: =(_xlfn.STDEV.S('single data'!AD11:AI11)/SQRT(COUNT('single data'!AD11:AI11))) -> 96.683522 | S13: =AVERAGE('single data'!AJ11:AO11) -> 290.90541 | T13: ± | U13: =(_xlfn.STDEV.S('single data'!AJ11:AO11)/SQRT(COUNT('single data'!AJ11:AO11))) -> 47.654654 | V13: =AVERAGE('single data'!AQ11:AV11) -> 258.98339 | W13: ± | X13: =(_xlfn.STDEV.S('single data'!AQ11:AV11)/SQRT(COUNT('single data'!AQ11:AV11))) -> 14.12079 | Y13: =AVERAGE('single data'!AW11:BB11) -> 248.7464 | Z13: ± | AA13: =(_xlfn.STDEV.S('single data'!AW11:BB11)/SQRT(COUNT('single data'!AW11:BB11))) -> 36.845215
C14: 15-HETE | D14: =AVERAGE('single data'!D12:I12) -> 87.67551 | E14: ± | F14: =(_xlfn.STDEV.S('single data'!D12:I12)/SQRT(COUNT('single data'!D12:I12))) -> 7.0437342 | G14: =AVERAGE('single data'!J12:O12) -> 121.82152 | H14: ± | I14: =(_xlfn.STDEV.S('single data'!J12:O12)/SQRT(COUNT('single data'!J12:O12))) -> 11.909649 | J14: =AVERAGE('single data'!Q12:V12) -> 113.49541 | K14: ± | L14: =(_xlfn.STDEV.S('single data'!Q12:V12)/SQRT(COUNT('single data'!Q12:V12))) -> 29.127371 | M14: =AVERAGE('single data'!W12:AB12) -> 83.454196 | N14: ± | O14: =(_xlfn.STDEV.S('single data'!W12:AB12)/SQRT(COUNT('single data'!W12:AB12))) -> 9.8563796 | P14: =AVERAGE('single data'!AD12:AI12) -> 339.36924 | Q14: ± | R14: =(_xlfn.STDEV.S('single data'!AD12:AI12)/SQRT(COUNT('single data'!AD12:AI12))) -> 111.73818 | S14: =AVERAGE('single data'!AJ12:AO12) -> 240.9047 | T14: ± | U14: =(_xlfn.STDEV.S('single data'!AJ12:AO12)/SQRT(COUNT('single data'!AJ12:AO12))) -> 43.562143 | V14: =AVERAGE('single data'!AQ12:AV12) -> 86.589882 | W14: ± | X14: =(_xlfn.STDEV.S('single data'!AQ12:AV12)/SQRT(COUNT('single data'!AQ12:AV12))) -> 11.485018 | Y14: =AVERAGE('single data'!AW12:BB12) -> 99.900958 | Z14: ± | AA14: =(_xlfn.STDEV.S('single data'!AW12:BB12)/SQRT(COUNT('single data'!AW12:BB12))) -> 9.8365925
C15: 15-HEPE | D15: =AVERAGE('single data'!D13:I13) -> 23.753714 | E15: ± | F15: =(_xlfn.STDEV.S('single data'!D13:I13)/SQRT(COUNT('single data'!D13:I13))) -> 5.3789421 | G15: =AVERAGE('single data'!J13:O13) -> 25.84908 | H15: ± | I15: =(_xlfn.STDEV.S('single data'!J13:O13)/SQRT(COUNT('single data'!J13:O13))) -> 4.4782674 | J15: =AVERAGE('single data'!Q13:V13) -> 29.75588 | K15: ± | L15: =(_xlfn.STDEV.S('single data'!Q13:V13)/SQRT(COUNT('single data'!Q13:V13))) -> 4.3110736 | M15: =AVERAGE('single data'!W13:AB13) -> 21.8107 | N15: ± | O15: =(_xlfn.STDEV.S('single data'!W13:AB13)/SQRT(COUNT('single data'!W13:AB13))) -> 4.3529597 | P15: =AVERAGE('single data'!AD13:AI13) -> 50.416151 | Q15: ± | R15: =(_xlfn.STDEV.S('single data'!AD13:AI13)/SQRT(COUNT('single data'!AD13:AI13))) -> 11.149285 | S15: =AVERAGE('single data'!AJ13:AO13) -> 53.564974 | T15: ± | U15: =(_xlfn.STDEV.S('single data'!AJ13:AO13)/SQRT(COUNT('single data'!AJ13:AO13))) -> 6.0886906 | V15: =AVERAGE('single data'!AQ13:AV13) -> 42.70845 | W15: ± | X15: =(_xlfn.STDEV.S('single data'!AQ13:AV13)/SQRT(COUNT('single data'!AQ13:AV13))) -> 4.0651306 | Y15: =AVERAGE('single data'!AW13:BB13) -> 52.325576 | Z15: ± | AA15: =(_xlfn.STDEV.S('single data'!AW13:BB13)/SQRT(COUNT('single data'!AW13:BB13))) -> 8.7921804
C16: 14-HDHA | D16: =AVERAGE('single data'!D14:I14) -> 880.29457 | E16: ± | F16: =(_xlfn.STDEV.S('single data'!D14:I14)/SQRT(COUNT('single data'!D14:I14))) -> 233.76599 | G16: =AVERAGE('single data'!J14:O14) -> 1800.9014 | H16: ± | I16: =(_xlfn.STDEV.S('single data'!J14:O14)/SQRT(COUNT('single data'!J14:O14))) -> 826.11534 | J16: =AVERAGE('single data'!Q14:V14) -> 1154.8121 | K16: ± | L16: =(_xlfn.STDEV.S('single data'!Q14:V14)/SQRT(COUNT('single data'!Q14:V14))) -> 178.26082 | M16: =AVERAGE('single data'!W14:AB14) -> 1022.786 | N16: ± | O16: =(_xlfn.STDEV.S('single data'!W14:AB14)/SQRT(COUNT('single data'!W14:AB14))) -> 459.45053 | P16: =AVERAGE('single data'!AD14:AI14) -> 12059.276 | Q16: ± | R16: =(_xlfn.STDEV.S('single data'!AD14:AI14)/SQRT(COUNT('single data'!AD14:AI14))) -> 3984.4548 | S16: =AVERAGE('single data'!AJ14:AO14) -> 18293.173 | T16: ± | U16: =(_xlfn.STDEV.S('single data'!AJ14:AO14)/SQRT(COUNT('single data'!AJ14:AO14))) -> 3428.2419 | V16: =AVERAGE('single data'!AQ14:AV14) -> 6329.6112 | W16: ± | X16: =(_xlfn.STDEV.S('single data'!AQ14:AV14)/SQRT(COUNT('single data'!AQ14:AV14))) -> 581.19059 | Y16: =AVERAGE('single data'!AW14:BB14) -> 6189.3024 | Z16: ± | AA16: =(_xlfn.STDEV.S('single data'!AW14:BB14)/SQRT(COUNT('single data'!AW14:BB14))) -> 1142.3055
C17: 14-HDPA | D17: =AVERAGE('single data'!D15:I15) -> 142.18731 | E17: ± | F17: =(_xlfn.STDEV.S('single data'!D15:I15)/SQRT(COUNT('single data'!D15:I15))) -> 26.452349 | G17: =AVERAGE('single data'!J15:O15) -> 347.19757 | H17: ± | I17: =(_xlfn.STDEV.S('single data'!J15:O15)/SQRT(COUNT('single data'!J15:O15))) -> 84.589208 | J17: =AVERAGE('single data'!Q15:V15) -> 339.90213 | K17: ± | L17: =(_xlfn.STDEV.S('single data'!Q15:V15)/SQRT(COUNT('single data'!Q15:V15))) -> 21.349593 | M17: =AVERAGE('single data'!W15:AB15) -> 366.65275 | N17: ± | O17: =(_xlfn.STDEV.S('single data'!W15:AB15)/SQRT(COUNT('single data'!W15:AB15))) -> 173.56408 | P17: =AVERAGE('single data'!AD15:AI15) -> 2828.8263 | Q17: ± | R17: =(_xlfn.STDEV.S('single data'!AD15:AI15)/SQRT(COUNT('single data'!AD15:AI15))) -> 974.64996 | S17: =AVERAGE('single data'!AJ15:AO15) -> 3982.6051 | T17: ± | U17: =(_xlfn.STDEV.S('single data'!AJ15:AO15)/SQRT(COUNT('single data'!AJ15:AO15))) -> 1042.8622 | V17: =AVERAGE('single data'!AQ15:AV15) -> 1276.2347 | W17: ± | X17: =(_xlfn.STDEV.S('single data'!AQ15:AV15)/SQRT(COUNT('single data'!AQ15:AV15))) -> 129.1091 | Y17: =AVERAGE('single data'!AW15:BB15) -> 1277.1688 | Z17: ± | AA17: =(_xlfn.STDEV.S('single data'!AW15:BB15)/SQRT(COUNT('single data'!AW15:BB15))) -> 249.07402
C18: 12-HETE | D18: =AVERAGE('single data'!D16:I16) -> 532.31228 | E18: ± | F18: =(_xlfn.STDEV.S('single data'!D16:I16)/SQRT(COUNT('single data'!D16:I16))) -> 169.92329 | G18: =AVERAGE('single data'!J16:O16) -> 587.39759 | H18: ± | I18: =(_xlfn.STDEV.S('single data'!J16:O16)/SQRT(COUNT('single data'!J16:O16))) -> 131.06815 | J18: =AVERAGE('single data'!Q16:V16) -> 1537.3073 | K18: ± | L18: =(_xlfn.STDEV.S('single data'!Q16:V16)/SQRT(COUNT('single data'!Q16:V16))) -> 326.02317 | M18: =AVERAGE('single data'!W16:AB16) -> 719.1699 | N18: ± | O18: =(_xlfn.STDEV.S('single data'!W16:AB16)/SQRT(COUNT('single data'!W16:AB16))) -> 169.01475 | P18: =AVERAGE('single data'!AD16:AI16) -> 9423.5278 | Q18: ± | R18: =(_xlfn.STDEV.S('single data'!AD16:AI16)/SQRT(COUNT('single data'!AD16:AI16))) -> 2988.9564 | S18: =AVERAGE('single data'!AJ16:AO16) -> 20051.348 | T18: ± | U18: =(_xlfn.STDEV.S('single data'!AJ16:AO16)/SQRT(COUNT('single data'!AJ16:AO16))) -> 4296.8406 | V18: =AVERAGE('single data'!AQ16:AV16) -> 6311.2825 | W18: ± | X18: =(_xlfn.STDEV.S('single data'!AQ16:AV16)/SQRT(COUNT('single data'!AQ16:AV16))) -> 504.73189 | Y18: =AVERAGE('single data'!AW16:BB16) -> 7708.2503 | Z18: ± | AA18: =(_xlfn.STDEV.S('single data'!AW16:BB16)/SQRT(COUNT('single data'!AW16:BB16))) -> 1907.7539
C19: 12-HEPE | D19: =AVERAGE('single data'!D17:I17) -> 70.322557 | E19: ± | F19: =(_xlfn.STDEV.S('single data'!D17:I17)/SQRT(COUNT('single data'!D17:I17))) -> 14.6623 | G19: =AVERAGE('single data'!J17:O17) -> 69.102337 | H19: ± | I19: =(_xlfn.STDEV.S('single data'!J17:O17)/SQRT(COUNT('single data'!J17:O17))) -> 18.11524 | J19: =AVERAGE('single data'!Q17:V17) -> 114.29542 | K19: ± | L19: =(_xlfn.STDEV.S('single data'!Q17:V17)/SQRT(COUNT('single data'!Q17:V17))) -> 17.108938 | M19: =AVERAGE('single data'!W17:AB17) -> 52.320487 | N19: ± | O19: =(_xlfn.STDEV.S('single data'!W17:AB17)/SQRT(COUNT('single data'!W17:AB17))) -> 13.169124 | P19: =AVERAGE('single data'!AD17:AI17) -> 2238.0073 | Q19: ± | R19: =(_xlfn.STDEV.S('single data'!AD17:AI17)/SQRT(COUNT('single data'!AD17:AI17))) -> 752.89796 | S19: =AVERAGE('single data'!AJ17:AO17) -> 4062.9697 | T19: ± | U19: =(_xlfn.STDEV.S('single data'!AJ17:AO17)/SQRT(COUNT('single data'!AJ17:AO17))) -> 731.43275 | V19: =AVERAGE('single data'!AQ17:AV17) -> 1829.0099 | W19: ± | X19: =(_xlfn.STDEV.S('single data'!AQ17:AV17)/SQRT(COUNT('single data'!AQ17:AV17))) -> 259.06373 | Y19: =AVERAGE('single data'!AW17:BB17) -> 1702.5682 | Z19: ± | AA19: =(_xlfn.STDEV.S('single data'!AW17:BB17)/SQRT(COUNT('single data'!AW17:BB17))) -> 460.79765
B20: CYP | C20: 5.6-EET | D20: =AVERAGE('single data'!D18:I18) -> 18.493245 | E20: ± | F20: =(_xlfn.STDEV.S('single data'!D18:I18)/SQRT(COUNT('single data'!D18:I18))) -> 1.2917122 | G20: =AVERAGE('single data'!J18:O18) -> 39.449438 | H20: ± | I20: =(_xlfn.STDEV.S('single data'!J18:O18)/SQRT(COUNT('single data'!J18:O18))) -> 6.360907 | J20: =AVERAGE('single data'!Q18:V18) -> 5.8329753 | K20: ± | L20: =(_xlfn.STDEV.S('single data'!Q18:V18)/SQRT(COUNT('single data'!Q18:V18))) -> 1.2045418 | M20: =AVERAGE('single data'!W18:AB18) -> 10.399647 | N20: ± | O20: =(_xlfn.STDEV.S('single data'!W18:AB18)/SQRT(COUNT('single data'!W18:AB18))) -> 1.6268756 | P20: =AVERAGE('single data'!AD18:AI18) -> 140.88018 | Q20: ± | R20: =(_xlfn.STDEV.S('single data'!AD18:AI18)/SQRT(COUNT('single data'!AD18:AI18))) -> 22.285746 | S20: =AVERAGE('single data'!AJ18:AO18) -> 251.08241 | T20: ± | U20: =(_xlfn.STDEV.S('single data'!AJ18:AO18)/SQRT(COUNT('single data'!AJ18:AO18))) -> 47.841632 | V20: =AVERAGE('single data'!AQ18:AV18) -> 62.815329 | W20: ± | X20: =(_xlfn.STDEV.S('single data'!AQ18:AV18)/SQRT(COUNT('single data'!AQ18:AV18))) -> 8.4654437 | Y20: =AVERAGE('single data'!AW18:BB18) -> 81.059906 | Z20: ± | AA20: =(_xlfn.STDEV.S('single data'!AW18:BB18)/SQRT(COUNT('single data'!AW18:BB18))) -> 16.361428
C21: 8.9-EET | D21: =AVERAGE('single data'!D19:I19) -> 33.627773 | E21: ± | F21: =(_xlfn.STDEV.S('single data'!D19:I19)/SQRT(COUNT('single data'!D19:I19))) -> 3.361896 | G21: =AVERAGE('single data'!J19:O19) -> 45.292765 | H21: ± | I21: =(_xlfn.STDEV.S('single data'!J19:O19)/SQRT(COUNT('single data'!J19:O19))) -> 2.6021689 | J21: =AVERAGE('single data'!Q19:V19) -> 18.671096 | K21: ± | L21: =(_xlfn.STDEV.S('single data'!Q19:V19)/SQRT(COUNT('single data'!Q19:V19))) -> 2.5315247 | M21: =AVERAGE('single data'!W19:AB19) -> 25.498866 | N21: ± | O21: =(_xlfn.STDEV.S('single data'!W19:AB19)/SQRT(COUNT('single data'!W19:AB19))) -> 0.29980549 | P21: =AVERAGE('single data'!AD19:AI19) -> 222.77372 | Q21: ± | R21: =(_xlfn.STDEV.S('single data'!AD19:AI19)/SQRT(COUNT('single data'!AD19:AI19))) -> 46.526978 | S21: =AVERAGE('single data'!AJ19:AO19) -> 234.65934 | T21: ± | U21: =(_xlfn.STDEV.S('single data'!AJ19:AO19)/SQRT(COUNT('single data'!AJ19:AO19))) -> 19.607084 | V21: =AVERAGE('single data'!AQ19:AV19) -> 123.2923 | W21: ± | X21: =(_xlfn.STDEV.S('single data'!AQ19:AV19)/SQRT(COUNT('single data'!AQ19:AV19))) -> 15.349193 | Y21: =AVERAGE('single data'!AW19:BB19) -> 169.07839 | Z21: ± | AA21: =(_xlfn.STDEV.S('single data'!AW19:BB19)/SQRT(COUNT('single data'!AW19:BB19))) -> 21.164142
C22: 11.12-EET | D22: =AVERAGE('single data'!D20:I20) -> 20.360401 | E22: ± | F22: =(_xlfn.STDEV.S('single data'!D20:I20)/SQRT(COUNT('single data'!D20:I20))) -> 3.2247331 | G22: =AVERAGE('single data'!J20:O20) -> 32.69023 | H22: ± | I22: =(_xlfn.STDEV.S('single data'!J20:O20)/SQRT(COUNT('single data'!J20:O20))) -> 2.0086631 | J22: =AVERAGE('single data'!Q20:V20) -> 10.09062 | K22: ± | L22: =(_xlfn.STDEV.S('single data'!Q20:V20)/SQRT(COUNT('single data'!Q20:V20))) -> 1.0734477 | M22: =AVERAGE('single data'!W20:AB20) -> 19.429011 | N22: ± | O22: =(_xlfn.STDEV.S('single data'!W20:AB20)/SQRT(COUNT('single data'!W20:AB20))) -> 2.7413363 | P22: =AVERAGE('single data'!AD20:AI20) -> 78.745415 | Q22: ± | R22: =(_xlfn.STDEV.S('single data'!AD20:AI20)/SQRT(COUNT('single data'!AD20:AI20))) -> 11.306382 | S22: =AVERAGE('single data'!AJ20:AO20) -> 128.13394 | T22: ± | U22: =(_xlfn.STDEV.S('single data'!AJ20:AO20)/SQRT(COUNT('single data'!AJ20:AO20))) -> 11.033634 | V22: =AVERAGE('single data'!AQ20:AV20) -> 74.034173 | W22: ± | X22: =(_xlfn.STDEV.S('single data'!AQ20:AV20)/SQRT(COUNT('single data'!AQ20:AV20))) -> 6.2557905 | Y22: =AVERAGE('single data'!AW20:BB20) -> 104.25279 | Z22: ± | AA22: =(_xlfn.STDEV.S('single data'!AW20:BB20)/SQRT(COUNT('single data'!AW20:BB20))) -> 10.545018
C23: 14.15-EET | D23: =AVERAGE('single data'!D21:I21) -> 3.1218918 | E23: ± | F23: =(_xlfn.STDEV.S('single data'!D21:I21)/SQRT(COUNT('single data'!D21:I21))) -> 0.48393619 | G23: =AVERAGE('single data'!J21:O21) -> 5.9847396 | H23: ± | I23: =(_xlfn.STDEV.S('single data'!J21:O21)/SQRT(COUNT('single data'!J21:O21))) -> 0.27261886 | J23: =AVERAGE('single data'!Q21:V21) -> 1.9505281 | K23: ± | L23: =(_xlfn.STDEV.S('single data'!Q21:V21)/SQRT(COUNT('single data'!Q21:V21))) -> 0.54376567 | M23: =AVERAGE('single data'!W21:AB21) -> 3.4115447 | N23: ± | O23: =(_xlfn.STDEV.S('single data'!W21:AB21)/SQRT(COUNT('single data'!W21:AB21))) -> 0.42897437 | P23: =AVERAGE('single data'!AD21:AI21) -> 15.891836 | Q23: ± | R23: =(_xlfn.STDEV.S('single data'!AD21:AI21)/SQRT(COUNT('single data'!AD21:AI21))) -> 0.48847372 | S23: =AVERAGE('single data'!AJ21:AO21) -> 25.469268 | T23: ± | U23: =(_xlfn.STDEV.S('single data'!AJ21:AO21)/SQRT(COUNT('single data'!AJ21:AO21))) -> 3.0162476 | V23: =AVERAGE('single data'!AQ21:AV21) -> 28.306851 | W23: ± | X23: =(_xlfn.STDEV.S('single data'!AQ21:AV21)/SQRT(COUNT('single data'!AQ21:AV21))) -> 2.2582646 | Y23: =AVERAGE('single data'!AW21:BB21) -> 26.172135 | Z23: ± | AA23: =(_xlfn.STDEV.S('single data'!AW21:BB21)/SQRT(COUNT('single data'!AW21:BB21))) -> 1.803462
C24: 7,8-EpDPA | D24: =AVERAGE('single data'!D22:I22) -> 13.644677 | E24: ± | F24: =(_xlfn.STDEV.S('single data'!D22:I22)/SQRT(COUNT('single data'!D22:I22))) -> 3.2981299 | G24: =AVERAGE('single data'!J22:O22) -> 20.191197 | H24: ± | I24: =(_xlfn.STDEV.S('single data'!J22:O22)/SQRT(COUNT('single data'!J22:O22))) -> 2.0945059 | J24: =AVERAGE('single data'!Q22:V22) -> 4.743255 | K24: ± | L24: =(_xlfn.STDEV.S('single data'!Q22:V22)/SQRT(COUNT('single data'!Q22:V22))) -> 1.2377698 | M24: =AVERAGE('single data'!W22:AB22) -> 4.371065 | N24: ± | O24: =(_xlfn.STDEV.S('single data'!W22:AB22)/SQRT(COUNT('single data'!W22:AB22))) -> 0.63674032 | P24: =AVERAGE('single data'!AD22:AI22) -> 74.216055 | Q24: ± | R24: =(_xlfn.STDEV.S('single data'!AD22:AI22)/SQRT(COUNT('single data'!AD22:AI22))) -> 12.346329 | S24: =AVERAGE('single data'!AJ22:AO22) -> 120.04034 | T24: ± | U24: =(_xlfn.STDEV.S('single data'!AJ22:AO22)/SQRT(COUNT('single data'!AJ22:AO22))) -> 8.2575658 | V24: =AVERAGE('single data'!AQ22:AV22) -> 62.990795 | W24: ± | X24: =(_xlfn.STDEV.S('single data'!AQ22:AV22)/SQRT(COUNT('single data'!AQ22:AV22))) -> 6.3114238 | Y24: =AVERAGE('single data'!AW22:BB22) -> 79.278775 | Z24: ± | AA24: =(_xlfn.STDEV.S('single data'!AW22:BB22)/SQRT(COUNT('single data'!AW22:BB22))) -> 6.8761953
C25: 10.11-EpDPA | D25: =AVERAGE('single data'!D23:I23) -> 9.8329176 | E25: ± | F25: =(_xlfn.STDEV.S('single data'!D23:I23)/SQRT(COUNT('single data'!D23:I23))) -> 2.0788843 | G25: =AVERAGE('single data'!J23:O23) -> 13.884618 | H25: ± | I25: =(_xlfn.STDEV.S('single data'!J23:O23)/SQRT(COUNT('single data'!J23:O23))) -> 0.92955904 | J25: =AVERAGE('single data'!Q23:V23) -> 1.8646782 | K25: ± | L25: =(_xlfn.STDEV.S('single data'!Q23:V23)/SQRT(COUNT('single data'!Q23:V23))) -> 0.28086672 | M25: =AVERAGE('single data'!W23:AB23) -> 2.6225601 | N25: ± | O25: =(_xlfn.STDEV.S('single data'!W23:AB23)/SQRT(COUNT('single data'!W23:AB23))) -> 0.5718052 | P25: =AVERAGE('single data'!AD23:AI23) -> 48.305885 | Q25: ± | R25: =(_xlfn.STDEV.S('single data'!AD23:AI23)/SQRT(COUNT('single data'!AD23:AI23))) -> 7.6139454 | S25: =AVERAGE('single data'!AJ23:AO23) -> 73.844806 | T25: ± | U25: =(_xlfn.STDEV.S('single data'!AJ23:AO23)/SQRT(COUNT('single data'!AJ23:AO23))) -> 10.5825 | V25: =AVERAGE('single data'!AQ23:AV23) -> 32.109755 | W25: ± | X25: =(_xlfn.STDEV.S('single data'!AQ23:AV23)/SQRT(COUNT('single data'!AQ23:AV23))) -> 4.1273191 | Y25: =AVERAGE('single data'!AW23:BB23) -> 47.903449 | Z25: ± | AA25: =(_xlfn.STDEV.S('single data'!AW23:BB23)/SQRT(COUNT('single data'!AW23:BB23))) -> 5.5468647
C26: 13.14-EpDPA | D26: =AVERAGE('single data'!D24:I24) -> 10.501301 | E26: ± | F26: =(_xlfn.STDEV.S('single data'!D24:I24)/SQRT(COUNT('single data'!D24:I24))) -> 2.3854302 | G26: =AVERAGE('single data'!J24:O24) -> 17.201446 | H26: ± | I26: =(_xlfn.STDEV.S('single data'!J24:O24)/SQRT(COUNT('single data'!J24:O24))) -> 1.5493286 | J26: =AVERAGE('single data'!Q24:V24) -> 1.5348837 | K26: ± | L26: =(_xlfn.STDEV.S('single data'!Q24:V24)/SQRT(COUNT('single data'!Q24:V24))) -> 0.33171985 | M26: =AVERAGE('single data'!W24:AB24) -> 2.7537497 | N26: ± | O26: =(_xlfn.STDEV.S('single data'!W24:AB24)/SQRT(COUNT('single data'!W24:AB24))) -> 0.66350634 | P26: =AVERAGE('single data'!AD24:AI24) -> 52.239737 | Q26: ± | R26: =(_xlfn.STDEV.S('single data'!AD24:AI24)/SQRT(COUNT('single data'!AD24:AI24))) -> 6.5726819 | S26: =AVERAGE('single data'!AJ24:AO24) -> 81.771149 | T26: ± | U26: =(_xlfn.STDEV.S('single data'!AJ24:AO24)/SQRT(COUNT('single data'!AJ24:AO24))) -> 9.6881592 | V26: =AVERAGE('single data'!AQ24:AV24) -> 37.512958 | W26: ± | X26: =(_xlfn.STDEV.S('single data'!AQ24:AV24)/SQRT(COUNT('single data'!AQ24:AV24))) -> 1.7631593 | Y26: =AVERAGE('single data'!AW24:BB24) -> 55.133998 | Z26: ± | AA26: =(_xlfn.STDEV.S('single data'!AW24:BB24)/SQRT(COUNT('single data'!AW24:BB24))) -> 3.9266172
C27: 16.17-EpDPA | D27: =AVERAGE('single data'!D25:I25) -> 15.427205 | E27: ± | F27: =(_xlfn.STDEV.S('single data'!D25:I25)/SQRT(COUNT('single data'!D25:I25))) -> 4.046383 | G27: =AVERAGE('single data'!J25:O25) -> 19.319892 | H27: ± | I27: =(_xlfn.STDEV.S('single data'!J25:O25)/SQRT(COUNT('single data'!J25:O25))) -> 1.4061272 | J27: =AVERAGE('single data'!Q25:V25) -> 3.9741484 | K27: ± | L27: =(_xlfn.STDEV.S('single data'!Q25:V25)/SQRT(COUNT('single data'!Q25:V25))) -> 1.6590751 | M27: =AVERAGE('single data'!W25:AB25) -> 3.7830896 | N27: ± | O27: =(_xlfn.STDEV.S('single data'!W25:AB25)/SQRT(COUNT('single data'!W25:AB25))) -> 0.87014626 | P27: =AVERAGE('single data'!AD25:AI25) -> 38.613868 | Q27: ± | R27: =(_xlfn.STDEV.S('single data'!AD25:AI25)/SQRT(COUNT('single data'!AD25:AI25))) -> 4.9788021 | S27: =AVERAGE('single data'!AJ25:AO25) -> 80.574214 | T27: ± | U27: =(_xlfn.STDEV.S('single data'!AJ25:AO25)/SQRT(COUNT('single data'!AJ25:AO25))) -> 7.1786216 | V27: =AVERAGE('single data'!AQ25:AV25) -> 60.554818 | W27: ± | X27: =(_xlfn.STDEV.S('single data'!AQ25:AV25)/SQRT(COUNT('single data'!AQ25:AV25))) -> 6.5233647 | Y27: =AVERAGE('single data'!AW25:BB25) -> 68.053338 | Z27: ± | AA27: =(_xlfn.STDEV.S('single data'!AW25:BB25)/SQRT(COUNT('single data'!AW25:BB25))) -> 8.8202321
C28: 19.20-EpDPA | D28: =AVERAGE('single data'!D26:I26) -> 198.06736 | E28: ± | F28: =(_xlfn.STDEV.S('single data'!D26:I26)/SQRT(COUNT('single data'!D26:I26))) -> 13.618774 | G28: =AVERAGE('single data'!J26:O26) -> 308.27076 | H28: ± | I28: =(_xlfn.STDEV.S('single data'!J26:O26)/SQRT(COUNT('single data'!J26:O26))) -> 46.98803 | J28: =AVERAGE('single data'!Q26:V26) -> 42.067206 | K28: ± | L28: =(_xlfn.STDEV.S('single data'!Q26:V26)/SQRT(COUNT('single data'!Q26:V26))) -> 10.906144 | M28: =AVERAGE('single data'!W26:AB26) -> 25.64719 | N28: ± | O28: =(_xlfn.STDEV.S('single data'!W26:AB26)/SQRT(COUNT('single data'!W26:AB26))) -> 1.3864817 | P28: =AVERAGE('single data'!AD26:AI26) -> 676.4758 | Q28: ± | R28: =(_xlfn.STDEV.S('single data'!AD26:AI26)/SQRT(COUNT('single data'!AD26:AI26))) -> 67.611224 | S28: =AVERAGE('single data'!AJ26:AO26) -> 889.18836 | T28: ± | U28: =(_xlfn.STDEV.S('single data'!AJ26:AO26)/SQRT(COUNT('single data'!AJ26:AO26))) -> 101.9725 | V28: =AVERAGE('single data'!AQ26:AV26) -> 619.85423 | W28: ± | X28: =(_xlfn.STDEV.S('single data'!AQ26:AV26)/SQRT(COUNT('single data'!AQ26:AV26))) -> 89.363859 | Y28: =AVERAGE('single data'!AW26:BB26) -> 549.2498 | Z28: ± | AA28: =(_xlfn.STDEV.S('single data'!AW26:BB26)/SQRT(COUNT('single data'!AW26:BB26))) -> 68.970099
C29: 8,9-EpETE | D29: =AVERAGE('single data'!D27:I27) -> 1.1821032 | E29: ± | F29: =(_xlfn.STDEV.S('single data'!D27:I27)/SQRT(COUNT('single data'!D27:I27))) -> 0.35342072 | G29: =AVERAGE('single data'!J27:O27) -> 1.2822984 | H29: ± | I29: =(_xlfn.STDEV.S('single data'!J27:O27)/SQRT(COUNT('single data'!J27:O27))) -> 0.087501077 | J29: =AVERAGE('single data'!Q27:V27) -> 0.26985623 | K29: ± | L29: =(_xlfn.STDEV.S('single data'!Q27:V27)/SQRT(COUNT('single data'!Q27:V27))) -> 0.071713353 | M29: =AVERAGE('single data'!W27:AB27) -> 0.3237035 | N29: ± | O29: =(_xlfn.STDEV.S('single data'!W27:AB27)/SQRT(COUNT('single data'!W27:AB27))) -> 0.042537147
C30: 14.15-EpETE | D30: =AVERAGE('single data'!D28:I28) -> 1.1742879 | E30: ± | F30: =(_xlfn.STDEV.S('single data'!D28:I28)/SQRT(COUNT('single data'!D28:I28))) -> 0.24433014 | G30: =AVERAGE('single data'!J28:O28) -> 1.8369711 | H30: ± | I30: =(_xlfn.STDEV.S('single data'!J28:O28)/SQRT(COUNT('single data'!J28:O28))) -> 0.34852674 | J30: =AVERAGE('single data'!Q28:V28) -> 0.14319101 | K30: ± | L30: =(_xlfn.STDEV.S('single data'!Q28:V28)/SQRT(COUNT('single data'!Q28:V28))) -> 0.041541532 | M30: =AVERAGE('single data'!W28:AB28) -> 0.11465657 | N30: ± | O30: =(_xlfn.STDEV.S('single data'!W28:AB28)/SQRT(COUNT('single data'!W28:AB28))) -> 0.024571973
B31: EPHX2 | C31: 5.6-DHET | D31: =AVERAGE('single data'!D29:I29) -> 27.828963 | E31: ± | F31: =(_xlfn.STDEV.S('single data'!D29:I29)/SQRT(COUNT('single data'!D29:I29))) -> 2.2790867 | G31: =AVERAGE('single data'!J29:O29) -> 30.473812 | H31: ± | I31: =(_xlfn.STDEV.S('single data'!J29:O29)/SQRT(COUNT('single data'!J29:O29))) -> 3.0186064 | J31: =AVERAGE('single data'!Q29:V29) -> 9.6348605 | K31: ± | L31: =(_xlfn.STDEV.S('single data'!Q29:V29)/SQRT(COUNT('single data'!Q29:V29))) -> 1.0256914 | M31: =AVERAGE('single data'!W29:AB29) -> 5.0241254 | N31: ± | O31: =(_xlfn.STDEV.S('single data'!W29:AB29)/SQRT(COUNT('single data'!W29:AB29))) -> 1.1481518 | P31: =AVERAGE('single data'!AD29:AI29) -> 216.45412 | Q31: ± | R31: =(_xlfn.STDEV.S('single data'!AD29:AI29)/SQRT(COUNT('single data'!AD29:AI29))) -> 11.85815 | S31: =AVERAGE('single data'!AJ29:AO29) -> 263.0611 | T31: ± | U31: =(_xlfn.STDEV.S('single data'!AJ29:AO29)/SQRT(COUNT('single data'!AJ29:AO29))) -> 42.01587 | V31: =AVERAGE('single data'!AQ29:AV29) -> 178.93497 | W31: ± | X31: =(_xlfn.STDEV.S('single data'!AQ29:AV29)/SQRT(COUNT('single data'!AQ29:AV29))) -> 20.929932 | Y31: =AVERAGE('single data'!AW29:BB29) -> 153.8423 | Z31: ± | AA31: =(_xlfn.STDEV.S('single data'!AW29:BB29)/SQRT(COUNT('single data'!AW29:BB29))) -> 22.770581
C32: 8.9-DHET | D32: =AVERAGE('single data'!D30:I30) -> 30.30201 | E32: ± | F32: =(_xlfn.STDEV.S('single data'!D30:I30)/SQRT(COUNT('single data'!D30:I30))) -> 3.0532235 | G32: =AVERAGE('single data'!J30:O30) -> 36.31782 | H32: ± | I32: =(_xlfn.STDEV.S('single data'!J30:O30)/SQRT(COUNT('single data'!J30:O30))) -> 5.6675702 | J32: =AVERAGE('single data'!Q30:V30) -> 14.221438 | K32: ± | L32: =(_xlfn.STDEV.S('single data'!Q30:V30)/SQRT(COUNT('single data'!Q30:V30))) -> 2.7896207 | M32: =AVERAGE('single data'!W30:AB30) -> 7.497009 | N32: ± | O32: =(_xlfn.STDEV.S('single data'!W30:AB30)/SQRT(COUNT('single data'!W30:AB30))) -> 0.94650492 | P32: =AVERAGE('single data'!AD30:AI30) -> 201.02421 | Q32: ± | R32: =(_xlfn.STDEV.S('single data'!AD30:AI30)/SQRT(COUNT('single data'!AD30:AI30))) -> 19.18056 | S32: =AVERAGE('single data'!AJ30:AO30) -> 197.45957 | T32: ± | U32: =(_xlfn.STDEV.S('single data'!AJ30:AO30)/SQRT(COUNT('single data'!AJ30:AO30))) -> 23.783214 | V32: =AVERAGE('single data'!AQ30:AV30) -> 152.92111 | W32: ± | X32: =(_xlfn.STDEV.S('single data'!AQ30:AV30)/SQRT(COUNT('single data'!AQ30:AV30))) -> 43.471058 | Y32: =AVERAGE('single data'!AW30:BB30) -> 88.654304 | Z32: ± | AA32: =(_xlfn.STDEV.S('single data'!AW30:BB30)/SQRT(COUNT('single data'!AW30:BB30))) -> 11.939958
C33: 11.12-DHET | D33: =AVERAGE('single data'!D31:I31) -> 25.227839 | E33: ± | F33: =(_xlfn.STDEV.S('single data'!D31:I31)/SQRT(COUNT('single data'!D31:I31))) -> 3.0213883 | G33: =AVERAGE('single data'!J31:O31) -> 27.182557 | H33: ± | I33: =(_xlfn.STDEV.S('single data'!J31:O31)/SQRT(COUNT('single data'!J31:O31))) -> 2.781174 | J33: =AVERAGE('single data'!Q31:V31) -> 12.452166 | K33: ± | L33: =(_xlfn.STDEV.S('single data'!Q31:V31)/SQRT(COUNT('single data'!Q31:V31))) -> 2.3639137 | M33: =AVERAGE('single data'!W31:AB31) -> 6.1757673 | N33: ± | O33: =(_xlfn.STDEV.S('single data'!W31:AB31)/SQRT(COUNT('single data'!W31:AB31))) -> 0.86048756 | P33: =AVERAGE('single data'!AD31:AI31) -> 190.2881 | Q33: ± | R33: =(_xlfn.STDEV.S('single data'!AD31:AI31)/SQRT(COUNT('single data'!AD31:AI31))) -> 27.13685 | S33: =AVERAGE('single data'!AJ31:AO31) -> 176.65255 | T33: ± | U33: =(_xlfn.STDEV.S('single data'!AJ31:AO31)/SQRT(COUNT('single data'!AJ31:AO31))) -> 29.838906 | V33: =AVERAGE('single data'!AQ31:AV31) -> 117.28118 | W33: ± | X33: =(_xlfn.STDEV.S('single data'!AQ31:AV31)/SQRT(COUNT('single data'!AQ31:AV31))) -> 27.994427 | Y33: =AVERAGE('single data'!AW31:BB31) -> 68.048424 | Z33: ± | AA33: =(_xlfn.STDEV.S('single data'!AW31:BB31)/SQRT(COUNT('single data'!AW31:BB31))) -> 10.395763
C34: 14.15-DHET | D34: =AVERAGE('single data'!D32:I32) -> 42.075379 | E34: ± | F34: =(_xlfn.STDEV.S('single data'!D32:I32)/SQRT(COUNT('single data'!D32:I32))) -> 6.813934 | G34: =AVERAGE('single data'!J32:O32) -> 48.191132 | H34: ± | I34: =(_xlfn.STDEV.S('single data'!J32:O32)/SQRT(COUNT('single data'!J32:O32))) -> 7.4939143 | J34: =AVERAGE('single data'!Q32:V32) -> 29.477034 | K34: ± | L34: =(_xlfn.STDEV.S('single data'!Q32:V32)/SQRT(COUNT('single data'!Q32:V32))) -> 5.8844082 | M34: =AVERAGE('single data'!W32:AB32) -> 15.988187 | N34: ± | O34: =(_xlfn.STDEV.S('single data'!W32:AB32)/SQRT(COUNT('single data'!W32:AB32))) -> 2.3872831 | P34: =AVERAGE('single data'!AD32:AI32) -> 307.87354 | Q34: ± | R34: =(_xlfn.STDEV.S('single data'!AD32:AI32)/SQRT(COUNT('single data'!AD32:AI32))) -> 38.254906 | S34: =AVERAGE('single data'!AJ32:AO32) -> 361.05919 | T34: ± | U34: =(_xlfn.STDEV.S('single data'!AJ32:AO32)/SQRT(COUNT('single data'!AJ32:AO32))) -> 95.119616 | V34: =AVERAGE('single data'!AQ32:AV32) -> 307.76452 | W34: ± | X34: =(_xlfn.STDEV.S('single data'!AQ32:AV32)/SQRT(COUNT('single data'!AQ32:AV32))) -> 70.615914 | Y34: =AVERAGE('single data'!AW32:BB32) -> 181.33486 | Z34: ± | AA34: =(_xlfn.STDEV.S('single data'!AW32:BB32)/SQRT(COUNT('single data'!AW32:BB32))) -> 33.388443
B35: EC | C35: AEA | D35: =AVERAGE('single data'!D33:I33) -> 2.0868976 | E35: ± | F35: =(_xlfn.STDEV.S('single data'!D33:I33)/SQRT(COUNT('single data'!D33:I33))) -> 0.46069465 | G35: =AVERAGE('single data'!J33:O33) -> 5.2640455 | H35: ± | I35: =(_xlfn.STDEV.S('single data'!J33:O33)/SQRT(COUNT('single data'!J33:O33))) -> 1.083266 | J35: =AVERAGE('single data'!Q33:V33) -> 0.28520915 | K35: ± | L35: =(_xlfn.STDEV.S('single data'!Q33:V33)/SQRT(COUNT('single data'!Q33:V33))) -> 0.10288828 | M35: =AVERAGE('single data'!W33:AB33) -> 0.32728199 | N35: ± | O35: =(_xlfn.STDEV.S('single data'!W33:AB33)/SQRT(COUNT('single data'!W33:AB33))) -> 0.070027749 | P35: =AVERAGE('single data'!AD33:AI33) -> 206.25302 | Q35: ± | R35: =(_xlfn.STDEV.S('single data'!AD33:AI33)/SQRT(COUNT('single data'!AD33:AI33))) -> 17.119625 | S35: =AVERAGE('single data'!AJ33:AO33) -> 277.49076 | T35: ± | U35: =(_xlfn.STDEV.S('single data'!AJ33:AO33)/SQRT(COUNT('single data'!AJ33:AO33))) -> 40.23221 | V35: =AVERAGE('single data'!AQ33:AV33) -> 171.50443 | W35: ± | X35: =(_xlfn.STDEV.S('single data'!AQ33:AV33)/SQRT(COUNT('single data'!AQ33:AV33))) -> 18.533082 | Y35: =AVERAGE('single data'!AW33:BB33) -> 242.94057 | Z35: ± | AA35: =(_xlfn.STDEV.S('single data'!AW33:BB33)/SQRT(COUNT('single data'!AW33:BB33))) -> 19.09006
C36: PEA | D36: =AVERAGE('single data'!D34:I34) -> 230.50653 | E36: ± | F36: =(_xlfn.STDEV.S('single data'!D34:I34)/SQRT(COUNT('single data'!D34:I34))) -> 39.615135 | G36: =AVERAGE('single data'!J34:O34) -> 291.80604 | H36: ± | I36: =(_xlfn.STDEV.S('single data'!J34:O34)/SQRT(COUNT('single data'!J34:O34))) -> 73.65049 | J36: =AVERAGE('single data'!Q34:V34) -> 204.66048 | K36: ± | L36: =(_xlfn.STDEV.S('single data'!Q34:V34)/SQRT(COUNT('single data'!Q34:V34))) -> 36.299286 | M36: =AVERAGE('single data'!W34:AB34) -> 413.49795 | N36: ± | O36: =(_xlfn.STDEV.S('single data'!W34:AB34)/SQRT(COUNT('single data'!W34:AB34))) -> 69.824741 | P36: =AVERAGE('single data'!AD34:AI34) -> 1377.3891 | Q36: ± | R36: =(_xlfn.STDEV.S('single data'!AD34:AI34)/SQRT(COUNT('single data'!AD34:AI34))) -> 169.57373 | S36: =AVERAGE('single data'!AJ34:AO34) -> 2429.8086 | T36: ± | U36: =(_xlfn.STDEV.S('single data'!AJ34:AO34)/SQRT(COUNT('single data'!AJ34:AO34))) -> 364.7985 | V36: =AVERAGE('single data'!AQ34:AV34) -> 1305.6025 | W36: ± | X36: =(_xlfn.STDEV.S('single data'!AQ34:AV34)/SQRT(COUNT('single data'!AQ34:AV34))) -> 186.35072 | Y36: =AVERAGE('single data'!AW34:BB34) -> 1742.5731 | Z36: ± | AA36: =(_xlfn.STDEV.S('single data'!AW34:BB34)/SQRT(COUNT('single data'!AW34:BB34))) -> 170.17625
C37: OEA | D37: =AVERAGE('single data'!D35:I35) -> 98.63606 | E37: ± | F37: =(_xlfn.STDEV.S('single data'!D35:I35)/SQRT(COUNT('single data'!D35:I35))) -> 7.3395184 | G37: =AVERAGE('single data'!J35:O35) -> 123.55528 | H37: ± | I37: =(_xlfn.STDEV.S('single data'!J35:O35)/SQRT(COUNT('single data'!J35:O35))) -> 13.258056 | J37: =AVERAGE('single data'!Q35:V35) -> 39.220117 | K37: ± | L37: =(_xlfn.STDEV.S('single data'!Q35:V35)/SQRT(COUNT('single data'!Q35:V35))) -> 3.8856591 | M37: =AVERAGE('single data'!W35:AB35) -> 61.411436 | N37: ± | O37: =(_xlfn.STDEV.S('single data'!W35:AB35)/SQRT(COUNT('single data'!W35:AB35))) -> 9.5810927 | P37: =AVERAGE('single data'!AD35:AI35) -> 2760.7679 | Q37: ± | R37: =(_xlfn.STDEV.S('single data'!AD35:AI35)/SQRT(COUNT('single data'!AD35:AI35))) -> 209.24407 | S37: =AVERAGE('single data'!AJ35:AO35) -> 3691.3307 | T37: ± | U37: =(_xlfn.STDEV.S('single data'!AJ35:AO35)/SQRT(COUNT('single data'!AJ35:AO35))) -> 484.2833 | V37: =AVERAGE('single data'!AQ35:AV35) -> 1530.704 | W37: ± | X37: =(_xlfn.STDEV.S('single data'!AQ35:AV35)/SQRT(COUNT('single data'!AQ35:AV35))) -> 44.732904 | Y37: =AVERAGE('single data'!AW35:BB35) -> 2060.9218 | Z37: ± | AA37: =(_xlfn.STDEV.S('single data'!AW35:BB35)/SQRT(COUNT('single data'!AW35:BB35))) -> 255.93299
C38: 2-AG | D38: =AVERAGE('single data'!D36:I36) -> 12.87794 | E38: ± | F38: =(_xlfn.STDEV.S('single data'!D36:I36)/SQRT(COUNT('single data'!D36:I36))) -> 1.1746682 | G38: =AVERAGE('single data'!J36:O36) -> 17.49857 | H38: ± | I38: =(_xlfn.STDEV.S('single data'!J36:O36)/SQRT(COUNT('single data'!J36:O36))) -> 3.9453255 | J38: =AVERAGE('single data'!Q36:V36) -> 4.7287904 | K38: ± | L38: =(_xlfn.STDEV.S('single data'!Q36:V36)/SQRT(COUNT('single data'!Q36:V36))) -> 0.73220412 | M38: =AVERAGE('single data'!W36:AB36) -> 5.7654675 | N38: ± | O38: =(_xlfn.STDEV.S('single data'!W36:AB36)/SQRT(COUNT('single data'!W36:AB36))) -> 0.67171092 | P38: =AVERAGE('single data'!AD36:AI36) -> 567.57254 | Q38: ± | R38: =(_xlfn.STDEV.S('single data'!AD36:AI36)/SQRT(COUNT('single data'!AD36:AI36))) -> 67.950741 | S38: =AVERAGE('single data'!AJ36:AO36) -> 522.45433 | T38: ± | U38: =(_xlfn.STDEV.S('single data'!AJ36:AO36)/SQRT(COUNT('single data'!AJ36:AO36))) -> 116.25816 | V38: =AVERAGE('single data'!AQ36:AV36) -> 417.97041 | W38: ± | X38: =(_xlfn.STDEV.S('single data'!AQ36:AV36)/SQRT(COUNT('single data'!AQ36:AV36))) -> 33.313174 | Y38: =AVERAGE('single data'!AW36:BB36) -> 991.24245 | Z38: ± | AA38: =(_xlfn.STDEV.S('single data'!AW36:BB36)/SQRT(COUNT('single data'!AW36:BB36))) -> 146.19631
C39: 1-AG | D39: =AVERAGE('single data'!D37:I37) -> 116.63581 | E39: ± | F39: =(_xlfn.STDEV.S('single data'!D37:I37)/SQRT(COUNT('single data'!D37:I37))) -> 5.4039324 | G39: =AVERAGE('single data'!J37:O37) -> 123.40383 | H39: ± | I39: =(_xlfn.STDEV.S('single data'!J37:O37)/SQRT(COUNT('single data'!J37:O37))) -> 21.72541 | J39: =AVERAGE('single data'!Q37:V37) -> 28.268242 | K39: ± | L39: =(_xlfn.STDEV.S('single data'!Q37:V37)/SQRT(COUNT('single data'!Q37:V37))) -> 4.214517 | M39: =AVERAGE('single data'!W37:AB37) -> 41.264848 | N39: ± | O39: =(_xlfn.STDEV.S('single data'!W37:AB37)/SQRT(COUNT('single data'!W37:AB37))) -> 4.8234345 | P39: =AVERAGE('single data'!AD37:AI37) -> 3347.8111 | Q39: ± | R39: =(_xlfn.STDEV.S('single data'!AD37:AI37)/SQRT(COUNT('single data'!AD37:AI37))) -> 393.44896 | S39: =AVERAGE('single data'!AJ37:AO37) -> 2562.4118 | T39: ± | U39: =(_xlfn.STDEV.S('single data'!AJ37:AO37)/SQRT(COUNT('single data'!AJ37:AO37))) -> 334.871 | V39: =AVERAGE('single data'!AQ37:AV37) -> 3485.039 | W39: ± | X39: =(_xlfn.STDEV.S('single data'!AQ37:AV37)/SQRT(COUNT('single data'!AQ37:AV37))) -> 368.09161 | Y39: =AVERAGE('single data'!AW37:BB37) -> 4166.5174 | Z39: ± | AA39: =(_xlfn.STDEV.S('single data'!AW37:BB37)/SQRT(COUNT('single data'!AW37:BB37))) -> 356.47949
B40: ALOX5 | C40: LTB4 isomers+LTB4 | D40: =AVERAGE('single data'!D38:I38) -> 770.96687 | E40: ± | F40: =(_xlfn.STDEV.S('single data'!D38:I38)/SQRT(COUNT('single data'!D38:I38))) -> 160.4593 | G40: =AVERAGE('single data'!J38:O38) -> 970.28747 | H40: ± | I40: =(_xlfn.STDEV.S('single data'!J38:O38)/SQRT(COUNT('single data'!J38:O38))) -> 170.09533 | J40: =AVERAGE('single data'!Q38:V38) -> 255.68951 | K40: ± | L40: =(_xlfn.STDEV.S('single data'!Q38:V38)/SQRT(COUNT('single data'!Q38:V38))) -> 74.752681 | M40: =AVERAGE('single data'!W38:AB38) -> 307.15611 | N40: ± | O40: =(_xlfn.STDEV.S('single data'!W38:AB38)/SQRT(COUNT('single data'!W38:AB38))) -> 51.721903 | P40: =AVERAGE('single data'!AD38:AI38) -> 160.04088 | Q40: ± | R40: =(_xlfn.STDEV.S('single data'!AD38:AI38)/SQRT(COUNT('single data'!AD38:AI38))) -> 27.912907 | S40: =AVERAGE('single data'!AJ38:AO38) -> 210.3322 | T40: ± | U40: =(_xlfn.STDEV.S('single data'!AJ38:AO38)/SQRT(COUNT('single data'!AJ38:AO38))) -> 53.833142 | V40: =AVERAGE('single data'!AQ38:AV38) -> 51.680247 | W40: ± | X40: =(_xlfn.STDEV.S('single data'!AQ38:AV38)/SQRT(COUNT('single data'!AQ38:AV38))) -> 6.9728909 | Y40: =AVERAGE('single data'!AW38:BB38) -> 69.670101 | Z40: ± | AA40: =(_xlfn.STDEV.S('single data'!AW38:BB38)/SQRT(COUNT('single data'!AW38:BB38))) -> 11.455799
C41: 5-HEPE | D41: =AVERAGE('single data'!D39:I39) -> 151.28448 | E41: ± | F41: =(_xlfn.STDEV.S('single data'!D39:I39)/SQRT(COUNT('single data'!D39:I39))) -> 15.400374 | G41: =AVERAGE('single data'!J39:O39) -> 242.84878 | H41: ± | I41: =(_xlfn.STDEV.S('single data'!J39:O39)/SQRT(COUNT('single data'!J39:O39))) -> 40.349433 | J41: =AVERAGE('single data'!Q39:V39) -> 77.195666 | K41: ± | L41: =(_xlfn.STDEV.S('single data'!Q39:V39)/SQRT(COUNT('single data'!Q39:V39))) -> 17.733136 | M41: =AVERAGE('single data'!W39:AB39) -> 46.988484 | N41: ± | O41: =(_xlfn.STDEV.S('single data'!W39:AB39)/SQRT(COUNT('single data'!W39:AB39))) -> 9.9282032 | P41: =AVERAGE('single data'!AD39:AI39) -> 705.45956 | Q41: ± | R41: =(_xlfn.STDEV.S('single data'!AD39:AI39)/SQRT(COUNT('single data'!AD39:AI39))) -> 129.15285 | S41: =AVERAGE('single data'!AJ39:AO39) -> 760.13523 | T41: ± | U41: =(_xlfn.STDEV.S('single data'!AJ39:AO39)/SQRT(COUNT('single data'!AJ39:AO39))) -> 31.692906 | V41: =AVERAGE('single data'!AQ39:AV39) -> 1868.0241 | W41: ± | X41: =(_xlfn.STDEV.S('single data'!AQ39:AV39)/SQRT(COUNT('single data'!AQ39:AV39))) -> 302.8619 | Y41: =AVERAGE('single data'!AW39:BB39) -> 1192.1422 | Z41: ± | AA41: =(_xlfn.STDEV.S('single data'!AW39:BB39)/SQRT(COUNT('single data'!AW39:BB39))) -> 213.6554
C42: 5-HETE | D42: =AVERAGE('single data'!D40:I40) -> 1569.394 | E42: ± | F42: =(_xlfn.STDEV.S('single data'!D40:I40)/SQRT(COUNT('single data'!D40:I40))) -> 200.00279 | G42: =AVERAGE('single data'!J40:O40) -> 2035.2836 | H42: ± | I42: =(_xlfn.STDEV.S('single data'!J40:O40)/SQRT(COUNT('single data'!J40:O40))) -> 194.09877 | J42: =AVERAGE('single data'!Q40:V40) -> 769.6778 | K42: ± | L42: =(_xlfn.STDEV.S('single data'!Q40:V40)/SQRT(COUNT('single data'!Q40:V40))) -> 240.36962 | M42: =AVERAGE('single data'!W40:AB40) -> 710.06968 | N42: ± | O42: =(_xlfn.STDEV.S('single data'!W40:AB40)/SQRT(COUNT('single data'!W40:AB40))) -> 154.72866 | P42: =AVERAGE('single data'!AD40:AI40) -> 3487.274 | Q42: ± | R42: =(_xlfn.STDEV.S('single data'!AD40:AI40)/SQRT(COUNT('single data'!AD40:AI40))) -> 637.62683 | S42: =AVERAGE('single data'!AJ40:AO40) -> 3063.9415 | T42: ± | U42: =(_xlfn.STDEV.S('single data'!AJ40:AO40)/SQRT(COUNT('single data'!AJ40:AO40))) -> 257.59589 | V42: =AVERAGE('single data'!AQ40:AV40) -> 2100.6996 | W42: ± | X42: =(_xlfn.STDEV.S('single data'!AQ40:AV40)/SQRT(COUNT('single data'!AQ40:AV40))) -> 249.9335 | Y42: =AVERAGE('single data'!AW40:BB40) -> 1600.257 | Z42: ± | AA42: =(_xlfn.STDEV.S('single data'!AW40:BB40)/SQRT(COUNT('single data'!AW40:BB40))) -> 106.71826
C43: 5S,6R-diHETE | D43: =AVERAGE('single data'!D41:I41) -> 109.20268 | E43: ± | F43: =(_xlfn.STDEV.S('single data'!D41:I41)/SQRT(COUNT('single data'!D41:I41))) -> 25.086047 | G43: =AVERAGE('single data'!J41:O41) -> 107.48025 | H43: ± | I43: =(_xlfn.STDEV.S('single data'!J41:O41)/SQRT(COUNT('single data'!J41:O41))) -> 17.094182 | J43: =AVERAGE('single data'!Q41:V41) -> 15.817983 | K43: ± | L43: =(_xlfn.STDEV.S('single data'!Q41:V41)/SQRT(COUNT('single data'!Q41:V41))) -> 5.5921053 | M43: =AVERAGE('single data'!W41:AB41) -> 12.791247 | N43: ± | O43: =(_xlfn.STDEV.S('single data'!W41:AB41)/SQRT(COUNT('single data'!W41:AB41))) -> 3.4155714 | P43: =AVERAGE('single data'!AD41:AI41) -> 25.714767 | Q43: ± | R43: =(_xlfn.STDEV.S('single data'!AD41:AI41)/SQRT(COUNT('single data'!AD41:AI41))) -> 4.2765759 | S43: =AVERAGE('single data'!AJ41:AO41) -> 22.404916 | T43: ± | U43: =(_xlfn.STDEV.S('single data'!AJ41:AO41)/SQRT(COUNT('single data'!AJ41:AO41))) -> 5.0071924
B44: PTGS | C44: PGE2 | D44: =AVERAGE('single data'!D42:I42) -> 198.47933 | E44: ± | F44: =(_xlfn.STDEV.S('single data'!D42:I42)/SQRT(COUNT('single data'!D42:I42))) -> 29.442583 | G44: =AVERAGE('single data'!J42:O42) -> 286.76827 | H44: ± | I44: =(_xlfn.STDEV.S('single data'!J42:O42)/SQRT(COUNT('single data'!J42:O42))) -> 35.112573 | J44: =AVERAGE('single data'!Q42:V42) -> 173.9426 | K44: ± | L44: =(_xlfn.STDEV.S('single data'!Q42:V42)/SQRT(COUNT('single data'!Q42:V42))) -> 40.385983 | M44: =AVERAGE('single data'!W42:AB42) -> 250.50025 | N44: ± | O44: =(_xlfn.STDEV.S('single data'!W42:AB42)/SQRT(COUNT('single data'!W42:AB42))) -> 37.028205 | P44: =AVERAGE('single data'!AD42:AI42) -> 51.985021 | Q44: ± | R44: =(_xlfn.STDEV.S('single data'!AD42:AI42)/SQRT(COUNT('single data'!AD42:AI42))) -> 12.901895 | S44: =AVERAGE('single data'!AJ42:AO42) -> 88.394014 | T44: ± | U44: =(_xlfn.STDEV.S('single data'!AJ42:AO42)/SQRT(COUNT('single data'!AJ42:AO42))) -> 18.975137 | V44: =AVERAGE('single data'!AQ42:AV42) -> 48.604285 | W44: ± | X44: =(_xlfn.STDEV.S('single data'!AQ42:AV42)/SQRT(COUNT('single data'!AQ42:AV42))) -> 12.241686 | Y44: =AVERAGE('single data'!AW42:BB42) -> 79.980069 | Z44: ± | AA44: =(_xlfn.STDEV.S('single data'!AW42:BB42)/SQRT(COUNT('single data'!AW42:BB42))) -> 24.400872
C45: PGD2 | D45: =AVERAGE('single data'!D43:I43) -> 123.85601 | E45: ± | F45: =(_xlfn.STDEV.S('single data'!D43:I43)/SQRT(COUNT('single data'!D43:I43))) -> 18.439933 | G45: =AVERAGE('single data'!J43:O43) -> 145.16642 | H45: ± | I45: =(_xlfn.STDEV.S('single data'!J43:O43)/SQRT(COUNT('single data'!J43:O43))) -> 18.893971 | J45: =AVERAGE('single data'!Q43:V43) -> 60.039233 | K45: ± | L45: =(_xlfn.STDEV.S('single data'!Q43:V43)/SQRT(COUNT('single data'!Q43:V43))) -> 19.861446 | M45: =AVERAGE('single data'!W43:AB43) -> 88.90016 | N45: ± | O45: =(_xlfn.STDEV.S('single data'!W43:AB43)/SQRT(COUNT('single data'!W43:AB43))) -> 17.534415 | P45: =AVERAGE('single data'!AD43:AI43) -> 73.568934 | Q45: ± | R45: =(_xlfn.STDEV.S('single data'!AD43:AI43)/SQRT(COUNT('single data'!AD43:AI43))) -> 8.9464485 | S45: =AVERAGE('single data'!AJ43:AO43) -> 177.01577 | T45: ± | U45: =(_xlfn.STDEV.S('single data'!AJ43:AO43)/SQRT(COUNT('single data'!AJ43:AO43))) -> 54.068143 | V45: =AVERAGE('single data'!AQ43:AV43) -> 55.063116 | W45: ± | X45: =(_xlfn.STDEV.S('single data'!AQ43:AV43)/SQRT(COUNT('single data'!AQ43:AV43))) -> 16.572957 | Y45: =AVERAGE('single data'!AW43:BB43) -> 62.241707 | Z45: ± | AA45: =(_xlfn.STDEV.S('single data'!AW43:BB43)/SQRT(COUNT('single data'!AW43:BB43))) -> 20.013063
C46: 15-ketoPGE2 | D46: =AVERAGE('single data'!D44:I44) -> 6.5976135 | E46: ± | F46: =(_xlfn.STDEV.S('single data'!D44:I44)/SQRT(COUNT('single data'!D44:I44))) -> 1.4314161 | G46: =AVERAGE('single data'!J44:O44) -> 9.1828236 | H46: ± | I46: =(_xlfn.STDEV.S('single data'!J44:O44)/SQRT(COUNT('single data'!J44:O44))) -> 1.3263702 | J46: =AVERAGE('single data'!Q44:V44) -> 5.5721126 | K46: ± | L46: =(_xlfn.STDEV.S('single data'!Q44:V44)/SQRT(COUNT('single data'!Q44:V44))) -> 1.4262257 | M46: =AVERAGE('single data'!W44:AB44) -> 6.8094216 | N46: ± | O46: =(_xlfn.STDEV.S('single data'!W44:AB44)/SQRT(COUNT('single data'!W44:AB44))) -> 0.97731527
C47: PGF2a | D47: =AVERAGE('single data'!D45:I45) -> 58.699306 | E47: ± | F47: =(_xlfn.STDEV.S('single data'!D45:I45)/SQRT(COUNT('single data'!D45:I45))) -> 8.3881426 | G47: =AVERAGE('single data'!J45:O45) -> 71.494938 | H47: ± | I47: =(_xlfn.STDEV.S('single data'!J45:O45)/SQRT(COUNT('single data'!J45:O45))) -> 10.614927 | J47: =AVERAGE('single data'!Q45:V45) -> 62.058817 | K47: ± | L47: =(_xlfn.STDEV.S('single data'!Q45:V45)/SQRT(COUNT('single data'!Q45:V45))) -> 17.106213 | M47: =AVERAGE('single data'!W45:AB45) -> 79.582645 | N47: ± | O47: =(_xlfn.STDEV.S('single data'!W45:AB45)/SQRT(COUNT('single data'!W45:AB45))) -> 15.114653
C48: TXB2 | D48: =AVERAGE('single data'!D46:I46) -> 155.21901 | E48: ± | F48: =(_xlfn.STDEV.S('single data'!D46:I46)/SQRT(COUNT('single data'!D46:I46))) -> 13.785441 | G48: =AVERAGE('single data'!J46:O46) -> 148.61308 | H48: ± | I48: =(_xlfn.STDEV.S('single data'!J46:O46)/SQRT(COUNT('single data'!J46:O46))) -> 11.585238 | J48: =AVERAGE('single data'!Q46:V46) -> 180.37877 | K48: ± | L48: =(_xlfn.STDEV.S('single data'!Q46:V46)/SQRT(COUNT('single data'!Q46:V46))) -> 53.499095 | M48: =AVERAGE('single data'!W46:AB46) -> 288.14739 | N48: ± | O48: =(_xlfn.STDEV.S('single data'!W46:AB46)/SQRT(COUNT('single data'!W46:AB46))) -> 71.873301 | P48: =AVERAGE('single data'!AD46:AI46) -> 209.82234 | Q48: ± | R48: =(_xlfn.STDEV.S('single data'!AD46:AI46)/SQRT(COUNT('single data'!AD46:AI46))) -> 46.771214 | S48: =AVERAGE('single data'!AJ46:AO46) -> 224.15819 | T48: ± | U48: =(_xlfn.STDEV.S('single data'!AJ46:AO46)/SQRT(COUNT('single data'!AJ46:AO46))) -> 20.910625 | V48: =AVERAGE('single data'!AQ46:AV46) -> 103.25134 | W48: ± | X48: =(_xlfn.STDEV.S('single data'!AQ46:AV46)/SQRT(COUNT('single data'!AQ46:AV46))) -> 24.34449 | Y48: =AVERAGE('single data'!AW46:BB46) -> 104.10517 | Z48: ± | AA48: =(_xlfn.STDEV.S('single data'!AW46:BB46)/SQRT(COUNT('single data'!AW46:BB46))) -> 24.932003
B49: other | C49: 18-HEPE | D49: =AVERAGE('single data'!D47:I47) -> 28.012201 | E49: ± | F49: =(_xlfn.STDEV.S('single data'!D47:I47)/SQRT(COUNT('single data'!D47:I47))) -> 6.5108537 | G49: =AVERAGE('single data'!J47:O47) -> 29.180391 | H49: ± | I49: =(_xlfn.STDEV.S('single data'!J47:O47)/SQRT(COUNT('single data'!J47:O47))) -> 3.5502598 | J49: =AVERAGE('single data'!Q47:V47) -> 16.84613 | K49: ± | L49: =(_xlfn.STDEV.S('single data'!Q47:V47)/SQRT(COUNT('single data'!Q47:V47))) -> 5.610227 | M49: =AVERAGE('single data'!W47:AB47) -> 8.6362996 | N49: ± | O49: =(_xlfn.STDEV.S('single data'!W47:AB47)/SQRT(COUNT('single data'!W47:AB47))) -> 1.2349795 | P49: =AVERAGE('single data'!AD47:AI47) -> 120.48262 | Q49: ± | R49: =(_xlfn.STDEV.S('single data'!AD47:AI47)/SQRT(COUNT('single data'!AD47:AI47))) -> 32.053512 | S49: =AVERAGE('single data'!AJ47:AO47) -> 109.37945 | T49: ± | U49: =(_xlfn.STDEV.S('single data'!AJ47:AO47)/SQRT(COUNT('single data'!AJ47:AO47))) -> 13.579322 | V49: =AVERAGE('single data'!AQ47:AV47) -> 171.80624 | W49: ± | X49: =(_xlfn.STDEV.S('single data'!AQ47:AV47)/SQRT(COUNT('single data'!AQ47:AV47))) -> 12.968143 | Y49: =AVERAGE('single data'!AW47:BB47) -> 178.8382 | Z49: ± | AA49: =(_xlfn.STDEV.S('single data'!AW47:BB47)/SQRT(COUNT('single data'!AW47:BB47))) -> 34.264927
C50: 7-HDHA | D50: =AVERAGE('single data'!D48:I48) -> 78.022607 | E50: ± | F50: =(_xlfn.STDEV.S('single data'!D48:I48)/SQRT(COUNT('single data'!D48:I48))) -> 16.299596 | G50: =AVERAGE('single data'!J48:O48) -> 117.33715 | H50: ± | I50: =(_xlfn.STDEV.S('single data'!J48:O48)/SQRT(COUNT('single data'!J48:O48))) -> 23.05046 | J50: =AVERAGE('single data'!Q48:V48) -> 25.191415 | K50: ± | L50: =(_xlfn.STDEV.S('single data'!Q48:V48)/SQRT(COUNT('single data'!Q48:V48))) -> 6.6869041 | M50: =AVERAGE('single data'!W48:AB48) -> 20.863201 | N50: ± | O50: =(_xlfn.STDEV.S('single data'!W48:AB48)/SQRT(COUNT('single data'!W48:AB48))) -> 5.3332921 | P50: =AVERAGE('single data'!AD48:AI48) -> 169.99956 | Q50: ± | R50: =(_xlfn.STDEV.S('single data'!AD48:AI48)/SQRT(COUNT('single data'!AD48:AI48))) -> 38.891922 | S50: =AVERAGE('single data'!AJ48:AO48) -> 144.8959 | T50: ± | U50: =(_xlfn.STDEV.S('single data'!AJ48:AO48)/SQRT(COUNT('single data'!AJ48:AO48))) -> 24.247352 | V50: =AVERAGE('single data'!AQ48:AV48) -> 148.05462 | W50: ± | X50: =(_xlfn.STDEV.S('single data'!AQ48:AV48)/SQRT(COUNT('single data'!AQ48:AV48))) -> 11.883139 | Y50: =AVERAGE('single data'!AW48:BB48) -> 153.39521 | Z50: ± | AA50: =(_xlfn.STDEV.S('single data'!AW48:BB48)/SQRT(COUNT('single data'!AW48:BB48))) -> 23.148015
C51: 7-HDPA | D51: =AVERAGE('single data'!D49:I49) -> 20.241478 | E51: ± | F51: =(_xlfn.STDEV.S('single data'!D49:I49)/SQRT(COUNT('single data'!D49:I49))) -> 3.7222733 | G51: =AVERAGE('single data'!J49:O49) -> 23.69188 | H51: ± | I51: =(_xlfn.STDEV.S('single data'!J49:O49)/SQRT(COUNT('single data'!J49:O49))) -> 4.4387213 | J51: =AVERAGE('single data'!Q49:V49) -> 7.2113717 | K51: ± | L51: =(_xlfn.STDEV.S('single data'!Q49:V49)/SQRT(COUNT('single data'!Q49:V49))) -> 1.4786036 | M51: =AVERAGE('single data'!W49:AB49) -> 4.1762412 | N51: ± | O51: =(_xlfn.STDEV.S('single data'!W49:AB49)/SQRT(COUNT('single data'!W49:AB49))) -> 0.96925855 | P51: =AVERAGE('single data'!AD49:AI49) -> 127.76518 | Q51: ± | R51: =(_xlfn.STDEV.S('single data'!AD49:AI49)/SQRT(COUNT('single data'!AD49:AI49))) -> 33.993623 | S51: =AVERAGE('single data'!AJ49:AO49) -> 109.11569 | T51: ± | U51: =(_xlfn.STDEV.S('single data'!AJ49:AO49)/SQRT(COUNT('single data'!AJ49:AO49))) -> 18.106195 | V51: =AVERAGE('single data'!AQ49:AV49) -> 74.355576 | W51: ± | X51: =(_xlfn.STDEV.S('single data'!AQ49:AV49)/SQRT(COUNT('single data'!AQ49:AV49))) -> 8.7483033 | Y51: =AVERAGE('single data'!AW49:BB49) -> 71.461542 | Z51: ± | AA51: =(_xlfn.STDEV.S('single data'!AW49:BB49)/SQRT(COUNT('single data'!AW49:BB49))) -> 8.3145894
C52: 4-HDHA | D52: =AVERAGE('single data'!D50:I50) -> 42.256994 | E52: ± | F52: =(_xlfn.STDEV.S('single data'!D50:I50)/SQRT(COUNT('single data'!D50:I50))) -> 6.6660378 | G52: =AVERAGE('single data'!J50:O50) -> 58.458283 | H52: ± | I52: =(_xlfn.STDEV.S('single data'!J50:O50)/SQRT(COUNT('single data'!J50:O50))) -> 4.4688604 | J52: =AVERAGE('single data'!Q50:V50) -> 9.8735381 | K52: ± | L52: =(_xlfn.STDEV.S('single data'!Q50:V50)/SQRT(COUNT('single data'!Q50:V50))) -> 1.6162832 | M52: =AVERAGE('single data'!W50:AB50) -> 10.182703 | N52: ± | O52: =(_xlfn.STDEV.S('single data'!W50:AB50)/SQRT(COUNT('single data'!W50:AB50))) -> 1.9267336 | P52: =AVERAGE('single data'!AD50:AI50) -> 561.25304 | Q52: ± | R52: =(_xlfn.STDEV.S('single data'!AD50:AI50)/SQRT(COUNT('single data'!AD50:AI50))) -> 146.8075 | S52: =AVERAGE('single data'!AJ50:AO50) -> 437.23194 | T52: ± | U52: =(_xlfn.STDEV.S('single data'!AJ50:AO50)/SQRT(COUNT('single data'!AJ50:AO50))) -> 48.862869 | V52: =AVERAGE('single data'!AQ50:AV50) -> 264.67138 | W52: ± | X52: =(_xlfn.STDEV.S('single data'!AQ50:AV50)/SQRT(COUNT('single data'!AQ50:AV50))) -> 39.001315 | Y52: =AVERAGE('single data'!AW50:BB50) -> 214.51735 | Z52: ± | AA52: =(_xlfn.STDEV.S('single data'!AW50:BB50)/SQRT(COUNT('single data'!AW50:BB50))) -> 14.397414
C53: 9-HODE | D53: =AVERAGE('single data'!D51:I51) -> 893.32249 | E53: ± | F53: =(_xlfn.STDEV.S('single data'!D51:I51)/SQRT(COUNT('single data'!D51:I51))) -> 103.36584 | G53: =AVERAGE('single data'!J51:O51) -> 1045.4696 | H53: ± | I53: =(_xlfn.STDEV.S('single data'!J51:O51)/SQRT(COUNT('single data'!J51:O51))) -> 78.636409 | J53: =AVERAGE('single data'!Q51:V51) -> 1070.6496 | K53: ± | L53: =(_xlfn.STDEV.S('single data'!Q51:V51)/SQRT(COUNT('single data'!Q51:V51))) -> 195.95206 | M53: =AVERAGE('single data'!W51:AB51) -> 1493.1913 | N53: ± | O53: =(_xlfn.STDEV.S('single data'!W51:AB51)/SQRT(COUNT('single data'!W51:AB51))) -> 299.69358 | P53: =AVERAGE('single data'!AD51:AI51) -> 4562.9753 | Q53: ± | R53: =(_xlfn.STDEV.S('single data'!AD51:AI51)/SQRT(COUNT('single data'!AD51:AI51))) -> 808.91456 | S53: =AVERAGE('single data'!AJ51:AO51) -> 5216.3942 | T53: ± | U53: =(_xlfn.STDEV.S('single data'!AJ51:AO51)/SQRT(COUNT('single data'!AJ51:AO51))) -> 562.87185 | V53: =AVERAGE('single data'!AQ51:AV51) -> 4266.9008 | W53: ± | X53: =(_xlfn.STDEV.S('single data'!AQ51:AV51)/SQRT(COUNT('single data'!AQ51:AV51))) -> 184.2901 | Y53: =AVERAGE('single data'!AW51:BB51) -> 6334.2106 | Z53: ± | AA53: =(_xlfn.STDEV.S('single data'!AW51:BB51)/SQRT(COUNT('single data'!AW51:BB51))) -> 1560.3692
C54: 13-HODE | D54: =AVERAGE('single data'!D52:I52) -> 2936.0684 | E54: ± | F54: =(_xlfn.STDEV.S('single data'!D52:I52)/SQRT(COUNT('single data'!D52:I52))) -> 577.68635 | G54: =AVERAGE('single data'!J52:O52) -> 3228.6236 | H54: ± | I54: =(_xlfn.STDEV.S('single data'!J52:O52)/SQRT(COUNT('single data'!J52:O52))) -> 301.89895 | J54: =AVERAGE('single data'!Q52:V52) -> 2704.8631 | K54: ± | L54: =(_xlfn.STDEV.S('single data'!Q52:V52)/SQRT(COUNT('single data'!Q52:V52))) -> 448.50891 | M54: =AVERAGE('single data'!W52:AB52) -> 2968.3025 | N54: ± | O54: =(_xlfn.STDEV.S('single data'!W52:AB52)/SQRT(COUNT('single data'!W52:AB52))) -> 499.85148 | P54: =AVERAGE('single data'!AD52:AI52) -> 8897.8276 | Q54: ± | R54: =(_xlfn.STDEV.S('single data'!AD52:AI52)/SQRT(COUNT('single data'!AD52:AI52))) -> 1585.2599 | S54: =AVERAGE('single data'!AJ52:AO52) -> 22247.732 | T54: ± | U54: =(_xlfn.STDEV.S('single data'!AJ52:AO52)/SQRT(COUNT('single data'!AJ52:AO52))) -> 8846.5039 | V54: =AVERAGE('single data'!AQ52:AV52) -> 7542.3822 | W54: ± | X54: =(_xlfn.STDEV.S('single data'!AQ52:AV52)/SQRT(COUNT('single data'!AQ52:AV52))) -> 354.38696 | Y54: =AVERAGE('single data'!AW52:BB52) -> 9779.3171 | Z54: ± | AA54: =(_xlfn.STDEV.S('single data'!AW52:BB52)/SQRT(COUNT('single data'!AW52:BB52))) -> 2079.0832
C55: 11-HETE | D55: =AVERAGE('single data'!D53:I53) -> 592.72846 | E55: ± | F55: =(_xlfn.STDEV.S('single data'!D53:I53)/SQRT(COUNT('single data'!D53:I53))) -> 72.614952 | G55: =AVERAGE('single data'!J53:O53) -> 843.4433 | H55: ± | I55: =(_xlfn.STDEV.S('single data'!J53:O53)/SQRT(COUNT('single data'!J53:O53))) -> 135.69495 | J55: =AVERAGE('single data'!Q53:V53) -> 519.25858 | K55: ± | L55: =(_xlfn.STDEV.S('single data'!Q53:V53)/SQRT(COUNT('single data'!Q53:V53))) -> 126.04914 | M55: =AVERAGE('single data'!W53:AB53) -> 433.59881 | N55: ± | O55: =(_xlfn.STDEV.S('single data'!W53:AB53)/SQRT(COUNT('single data'!W53:AB53))) -> 19.476202 | P55: =AVERAGE('single data'!AD53:AI53) -> 1188.5635 | Q55: ± | R55: =(_xlfn.STDEV.S('single data'!AD53:AI53)/SQRT(COUNT('single data'!AD53:AI53))) -> 335.73292 | S55: =AVERAGE('single data'!AJ53:AO53) -> 1017.6555 | T55: ± | U55: =(_xlfn.STDEV.S('single data'!AJ53:AO53)/SQRT(COUNT('single data'!AJ53:AO53))) -> 218.90672 | V55: =AVERAGE('single data'!AQ53:AV53) -> 360.3097 | W55: ± | X55: =(_xlfn.STDEV.S('single data'!AQ53:AV53)/SQRT(COUNT('single data'!AQ53:AV53))) -> 33.746031 | Y55: =AVERAGE('single data'!AW53:BB53) -> 373.1642 | Z55: ± | AA55: =(_xlfn.STDEV.S('single data'!AW53:BB53)/SQRT(COUNT('single data'!AW53:BB53))) -> 48.972613
C56: 11-HEPE | D56: =AVERAGE('single data'!D54:I54) -> 15.27556 | E56: ± | F56: =(_xlfn.STDEV.S('single data'!D54:I54)/SQRT(COUNT('single data'!D54:I54))) -> 2.8756874 | G56: =AVERAGE('single data'!J54:O54) -> 17.541547 | H56: ± | I56: =(_xlfn.STDEV.S('single data'!J54:O54)/SQRT(COUNT('single data'!J54:O54))) -> 2.4744995 | J56: =AVERAGE('single data'!Q54:V54) -> 12.94984 | K56: ± | L56: =(_xlfn.STDEV.S('single data'!Q54:V54)/SQRT(COUNT('single data'!Q54:V54))) -> 1.4813375 | M56: =AVERAGE('single data'!W54:AB54) -> 8.4142399 | N56: ± | O56: =(_xlfn.STDEV.S('single data'!W54:AB54)/SQRT(COUNT('single data'!W54:AB54))) -> 0.77952738 | P56: =AVERAGE('single data'!AD54:AI54) -> 47.948818 | Q56: ± | R56: =(_xlfn.STDEV.S('single data'!AD54:AI54)/SQRT(COUNT('single data'!AD54:AI54))) -> 10.077213 | S56: =AVERAGE('single data'!AJ54:AO54) -> 59.269974 | T56: ± | U56: =(_xlfn.STDEV.S('single data'!AJ54:AO54)/SQRT(COUNT('single data'!AJ54:AO54))) -> 7.7808436 | V56: =AVERAGE('single data'!AQ54:AV54) -> 81.436202 | W56: ± | X56: =(_xlfn.STDEV.S('single data'!AQ54:AV54)/SQRT(COUNT('single data'!AQ54:AV54))) -> 4.3683091 | Y56: =AVERAGE('single data'!AW54:BB54) -> 87.082055 | Z56: ± | AA56: =(_xlfn.STDEV.S('single data'!AW54:BB54)/SQRT(COUNT('single data'!AW54:BB54))) -> 19.160298
B57: fatty acids | C57: AA | D57: =AVERAGE('single data'!D55:I55) -> 1737550.6 | E57: ± | F57: =(_xlfn.STDEV.S('single data'!D55:I55)/SQRT(COUNT('single data'!D55:I55))) -> 151657.73 | G57: =AVERAGE('single data'!J55:O55) -> 1910742.6 | H57: ± | I57: =(_xlfn.STDEV.S('single data'!J55:O55)/SQRT(COUNT('single data'!J55:O55))) -> 302535.6 | J57: =AVERAGE('single data'!Q55:V55) -> 1014947.9 | K57: ± | L57: =(_xlfn.STDEV.S('single data'!Q55:V55)/SQRT(COUNT('single data'!Q55:V55))) -> 99531.581 | M57: =AVERAGE('single data'!W55:AB55) -> 893356.52 | N57: ± | O57: =(_xlfn.STDEV.S('single data'!W55:AB55)/SQRT(COUNT('single data'!W55:AB55))) -> 124497.83 | P57: =AVERAGE('single data'!AD55:AI55) -> 11737988 | Q57: ± | R57: =(_xlfn.STDEV.S('single data'!AD55:AI55)/SQRT(COUNT('single data'!AD55:AI55))) -> 485275.88 | S57: =AVERAGE('single data'!AJ55:AO55) -> 11477490 | T57: ± | U57: =(_xlfn.STDEV.S('single data'!AJ55:AO55)/SQRT(COUNT('single data'!AJ55:AO55))) -> 355901.77 | V57: =AVERAGE('single data'!AQ55:AV55) -> 10297538 | W57: ± | X57: =(_xlfn.STDEV.S('single data'!AQ55:AV55)/SQRT(COUNT('single data'!AQ55:AV55))) -> 1076478.6 | Y57: =AVERAGE('single data'!AW55:BB55) -> 8661482.8 | Z57: ± | AA57: =(_xlfn.STDEV.S('single data'!AW55:BB55)/SQRT(COUNT('single data'!AW55:BB55))) -> 291708.19
C58: EPA | D58: =AVERAGE('single data'!D56:I56) -> 1085832 | E58: ± | F58: =(_xlfn.STDEV.S('single data'!D56:I56)/SQRT(COUNT('single data'!D56:I56))) -> 92461.399 | G58: =AVERAGE('single data'!J56:O56) -> 1315918.8 | H58: ± | I58: =(_xlfn.STDEV.S('single data'!J56:O56)/SQRT(COUNT('single data'!J56:O56))) -> 162856.69 | J58: =AVERAGE('single data'!Q56:V56) -> 425354.32 | K58: ± | L58: =(_xlfn.STDEV.S('single data'!Q56:V56)/SQRT(COUNT('single data'!Q56:V56))) -> 78544.817 | M58: =AVERAGE('single data'!W56:AB56) -> 271913.74 | N58: ± | O58: =(_xlfn.STDEV.S('single data'!W56:AB56)/SQRT(COUNT('single data'!W56:AB56))) -> 37288.314 | P58: =AVERAGE('single data'!AD56:AI56) -> 7297804 | Q58: ± | R58: =(_xlfn.STDEV.S('single data'!AD56:AI56)/SQRT(COUNT('single data'!AD56:AI56))) -> 604353.66 | S58: =AVERAGE('single data'!AJ56:AO56) -> 8105709 | T58: ± | U58: =(_xlfn.STDEV.S('single data'!AJ56:AO56)/SQRT(COUNT('single data'!AJ56:AO56))) -> 1161239.9 | V58: =AVERAGE('single data'!AQ56:AV56) -> 8992071.4 | W58: ± | X58: =(_xlfn.STDEV.S('single data'!AQ56:AV56)/SQRT(COUNT('single data'!AQ56:AV56))) -> 1086212.8 | Y58: =AVERAGE('single data'!AW56:BB56) -> 7281482.8 | Z58: ± | AA58: =(_xlfn.STDEV.S('single data'!AW56:BB56)/SQRT(COUNT('single data'!AW56:BB56))) -> 625687.96
C59: DHA | D59: =AVERAGE('single data'!D57:I57) -> 1673020.7 | E59: ± | F59: =(_xlfn.STDEV.S('single data'!D57:I57)/SQRT(COUNT('single data'!D57:I57))) -> 354664.48 | G59: =AVERAGE('single data'!J57:O57) -> 1395020.7 | H59: ± | I59: =(_xlfn.STDEV.S('single data'!J57:O57)/SQRT(COUNT('single data'!J57:O57))) -> 580328.21 | J59: =AVERAGE('single data'!Q57:V57) -> 180959.28 | K59: ± | L59: =(_xlfn.STDEV.S('single data'!Q57:V57)/SQRT(COUNT('single data'!Q57:V57))) -> 31405.429 | M59: =AVERAGE('single data'!W57:AB57) -> 109337.45 | N59: ± | O59: =(_xlfn.STDEV.S('single data'!W57:AB57)/SQRT(COUNT('single data'!W57:AB57))) -> 16754.28 | P59: =AVERAGE('single data'!AD57:AI57) -> 19136232 | Q59: ± | R59: =(_xlfn.STDEV.S('single data'!AD57:AI57)/SQRT(COUNT('single data'!AD57:AI57))) -> 3007435.8 | S59: =AVERAGE('single data'!AJ57:AO57) -> 12674924 | T59: ± | U59: =(_xlfn.STDEV.S('single data'!AJ57:AO57)/SQRT(COUNT('single data'!AJ57:AO57))) -> 2072364.4 | V59: =AVERAGE('single data'!AQ57:AV57) -> 11274835 | W59: ± | X59: =(_xlfn.STDEV.S('single data'!AQ57:AV57)/SQRT(COUNT('single data'!AQ57:AV57))) -> 1674206.5 | Y59: =AVERAGE('single data'!AW57:BB57) -> 7379388.6 | Z59: ± | AA59: =(_xlfn.STDEV.S('single data'!AW57:BB57)/SQRT(COUNT('single data'!AW57:BB57))) -> 2055287.5
C60: DPA | D60: =AVERAGE('single data'!D58:I58) -> 38875.766 | E60: ± | F60: =(_xlfn.STDEV.S('single data'!D58:I58)/SQRT(COUNT('single data'!D58:I58))) -> 5521.793 | G60: =AVERAGE('single data'!J58:O58) -> 32818.968 | H60: ± | I60: =(_xlfn.STDEV.S('single data'!J58:O58)/SQRT(COUNT('single data'!J58:O58))) -> 9058.9235 | J60: =AVERAGE('single data'!Q58:V58) -> 12668.823 | K60: ± | L60: =(_xlfn.STDEV.S('single data'!Q58:V58)/SQRT(COUNT('single data'!Q58:V58))) -> 1594.4975 | M60: =AVERAGE('single data'!W58:AB58) -> 8491.5334 | N60: ± | O60: =(_xlfn.STDEV.S('single data'!W58:AB58)/SQRT(COUNT('single data'!W58:AB58))) -> 1442.9536 | P60: =AVERAGE('single data'!AD58:AI58) -> 392932.88 | Q60: ± | R60: =(_xlfn.STDEV.S('single data'!AD58:AI58)/SQRT(COUNT('single data'!AD58:AI58))) -> 29635.859 | S60: =AVERAGE('single data'!AJ58:AO58) -> 340518.03 | T60: ± | U60: =(_xlfn.STDEV.S('single data'!AJ58:AO58)/SQRT(COUNT('single data'!AJ58:AO58))) -> 31204.844 | V60: =AVERAGE('single data'!AQ58:AV58) -> 260671.81 | W60: ± | X60: =(_xlfn.STDEV.S('single data'!AQ58:AV58)/SQRT(COUNT('single data'!AQ58:AV58))) -> 23352.115 | Y60: =AVERAGE('single data'!AW58:BB58) -> 184540.48 | Z60: ± | AA60: =(_xlfn.STDEV.S('single data'!AW58:BB58)/SQRT(COUNT('single data'!AW58:BB58))) -> 24275.587
A62: % of control | B62: SPM/iso | C62: PDX | D62: =AVERAGE('single data'!D60:I60) -> 100 | E62: ± | F62: =(_xlfn.STDEV.S('single data'!D60:I60)/SQRT(COUNT('single data'!D60:I60))) -> 28.223857 | G62: =AVERAGE('single data'!J60:O60) -> 243.62617 | H62: ± | I62: =(_xlfn.STDEV.S('single data'!J60:O60)/SQRT(COUNT('single data'!J60:O60))) -> 100.84888 | J62: =AVERAGE('single data'!Q60:V60) -> 100 | K62: ± | L62: =(_xlfn.STDEV.S('single data'!Q60:V60)/SQRT(COUNT('single data'!Q60:V60))) -> 12.51051 | M62: =AVERAGE('single data'!W60:AB60) -> 120.18981 | N62: ± | O62: =(_xlfn.STDEV.S('single data'!W60:AB60)/SQRT(COUNT('single data'!W60:AB60))) -> 55.376092 | P62: =AVERAGE('single data'!AD60:AI60) -> 100 | Q62: ± | R62: =(_xlfn.STDEV.S('single data'!AD60:AI60)/SQRT(COUNT('single data'!AD60:AI60))) -> 13.06362 | S62: =AVERAGE('single data'!AJ60:AO60) -> 778.78867 | T62: ± | U62: =(_xlfn.STDEV.S('single data'!AJ60:AO60)/SQRT(COUNT('single data'!AJ60:AO60))) -> 597.16872 | V62: =AVERAGE('single data'!AQ60:AV60) -> 100 | W62: ± | X62: =(_xlfn.STDEV.S('single data'!AQ60:AV60)/SQRT(COUNT('single data'!AQ60:AV60))) -> 43.730957 | Y62: =AVERAGE('single data'!AW60:BB60) -> 109.74511 | Z62: ± | AA62: =(_xlfn.STDEV.S('single data'!AW60:BB60)/SQRT(COUNT('single data'!AW60:BB60))) -> 18.878731
C63: AT-PD1 | D63: =AVERAGE('single data'!D61:I61) -> 100 | E63: ± | F63: =(_xlfn.STDEV.S('single data'!D61:I61)/SQRT(COUNT('single data'!D61:I61))) -> 25.76292 | G63: =AVERAGE('single data'!J61:O61) -> 324.20647 | H63: ± | I63: =(_xlfn.STDEV.S('single data'!J61:O61)/SQRT(COUNT('single data'!J61:O61))) -> 70.739984 | J63: =AVERAGE('single data'!Q61:V61) -> 100 | K63: ± | L63: =(_xlfn.STDEV.S('single data'!Q61:V61)/SQRT(COUNT('single data'!Q61:V61))) -> 20.555035 | M63: =AVERAGE('single data'!W61:AB61) -> 136.38325 | N63: ± | O63: =(_xlfn.STDEV.S('single data'!W61:AB61)/SQRT(COUNT('single data'!W61:AB61))) -> 49.474459
C64: RvD5 | D64: =AVERAGE('single data'!D62:I62) -> 100 | E64: ± | F64: =(_xlfn.STDEV.S('single data'!D62:I62)/SQRT(COUNT('single data'!D62:I62))) -> 23.037197 | G64: =AVERAGE('single data'!J62:O62) -> 166.23408 | H64: ± | I64: =(_xlfn.STDEV.S('single data'!J62:O62)/SQRT(COUNT('single data'!J62:O62))) -> 38.81337 | J64: =AVERAGE('single data'!Q62:V62) -> 100 | K64: ± | L64: =(_xlfn.STDEV.S('single data'!Q62:V62)/SQRT(COUNT('single data'!Q62:V62))) -> 30.950218 | M64: =AVERAGE('single data'!W62:AB62) -> 200.37038 | N64: ± | O64: =(_xlfn.STDEV.S('single data'!W62:AB62)/SQRT(COUNT('single data'!W62:AB62))) -> 114.05126
C65: MaR2 | D65: =AVERAGE('single data'!D63:I63) -> 100 | E65: ± | F65: =(_xlfn.STDEV.S('single data'!D63:I63)/SQRT(COUNT('single data'!D63:I63))) -> 20.462632 | G65: =AVERAGE('single data'!J63:O63) -> 171.31215 | H65: ± | I65: =(_xlfn.STDEV.S('single data'!J63:O63)/SQRT(COUNT('single data'!J63:O63))) -> 64.804852 | J65: =AVERAGE('single data'!Q63:V63) -> 100 | K65: ± | L65: =(_xlfn.STDEV.S('single data'!Q63:V63)/SQRT(COUNT('single data'!Q63:V63))) -> 30.425219 | M65: =AVERAGE('single data'!W63:AB63) -> 57.78984 | N65: ± | O65: =(_xlfn.STDEV.S('single data'!W63:AB63)/SQRT(COUNT('single data'!W63:AB63))) -> 21.270805
B66: ALOX12/15 | C66: 17-HDHA | D66: =AVERAGE('single data'!D64:I64) -> 100 | E66: ± | F66: =(_xlfn.STDEV.S('single data'!D64:I64)/SQRT(COUNT('single data'!D64:I64))) -> 14.040941 | G66: =AVERAGE('single data'!J64:O64) -> 268.62555 | H66: ± | I66: =(_xlfn.STDEV.S('single data'!J64:O64)/SQRT(COUNT('single data'!J64:O64))) -> 53.935568 | J66: =AVERAGE('single data'!Q64:V64) -> 100 | K66: ± | L66: =(_xlfn.STDEV.S('single data'!Q64:V64)/SQRT(COUNT('single data'!Q64:V64))) -> 15.530333 | M66: =AVERAGE('single data'!W64:AB64) -> 91.449407 | N66: ± | O66: =(_xlfn.STDEV.S('single data'!W64:AB64)/SQRT(COUNT('single data'!W64:AB64))) -> 38.650498 | P66: =AVERAGE('single data'!AD64:AI64) -> 100 | Q66: ± | R66: =(_xlfn.STDEV.S('single data'!AD64:AI64)/SQRT(COUNT('single data'!AD64:AI64))) -> 31.569479 | S66: =AVERAGE('single data'!AJ64:AO64) -> 562.02594 | T66: ± | U66: =(_xlfn.STDEV.S('single data'!AJ64:AO64)/SQRT(COUNT('single data'!AJ64:AO64))) -> 451.91134 | V66: =AVERAGE('single data'!AQ64:AV64) -> 100 | W66: ± | X66: =(_xlfn.STDEV.S('single data'!AQ64:AV64)/SQRT(COUNT('single data'!AQ64:AV64))) -> 79.377216 | Y66: =AVERAGE('single data'!AW64:BB64) -> 21.659661 | Z66: ± | AA66: =(_xlfn.STDEV.S('single data'!AW64:BB64)/SQRT(COUNT('single data'!AW64:BB64))) -> 2.518868
C67: 17-HDPA | D67: =AVERAGE('single data'!D65:I65) -> 100 | E67: ± | F67: =(_xlfn.STDEV.S('single data'!D65:I65)/SQRT(COUNT('single data'!D65:I65))) -> 13.10073 | G67: =AVERAGE('single data'!J65:O65) -> 165.90237 | H67: ± | I67: =(_xlfn.STDEV.S('single data'!J65:O65)/SQRT(COUNT('single data'!J65:O65))) -> 18.932302 | J67: =AVERAGE('single data'!Q65:V65) -> 100 | K67: ± | L67: =(_xlfn.STDEV.S('single data'!Q65:V65)/SQRT(COUNT('single data'!Q65:V65))) -> 22.226557 | M67: =AVERAGE('single data'!W65:AB65) -> 74.065038 | N67: ± | O67: =(_xlfn.STDEV.S('single data'!W65:AB65)/SQRT(COUNT('single data'!W65:AB65))) -> 15.111063 | P67: =AVERAGE('single data'!AD65:AI65) -> 100 | Q67: ± | R67: =(_xlfn.STDEV.S('single data'!AD65:AI65)/SQRT(COUNT('single data'!AD65:AI65))) -> 26.642273 | S67: =AVERAGE('single data'!AJ65:AO65) -> 377.9871 | T67: ± | U67: =(_xlfn.STDEV.S('single data'!AJ65:AO65)/SQRT(COUNT('single data'!AJ65:AO65))) -> 298.01766 | V67: =AVERAGE('single data'!AQ65:AV65) -> 100 | W67: ± | X67: =(_xlfn.STDEV.S('single data'!AQ65:AV65)/SQRT(COUNT('single data'!AQ65:AV65))) -> 63.228548 | Y67: =AVERAGE('single data'!AW65:BB65) -> 35.338345 | Z67: ± | AA67: =(_xlfn.STDEV.S('single data'!AW65:BB65)/SQRT(COUNT('single data'!AW65:BB65))) -> 5.2344435
C68: 15-HETE | D68: =AVERAGE('single data'!D66:I66) -> 100 | E68: ± | F68: =(_xlfn.STDEV.S('single data'!D66:I66)/SQRT(COUNT('single data'!D66:I66))) -> 8.0338673 | G68: =AVERAGE('single data'!J66:O66) -> 138.9459 | H68: ± | I68: =(_xlfn.STDEV.S('single data'!J66:O66)/SQRT(COUNT('single data'!J66:O66))) -> 13.583781 | J68: =AVERAGE('single data'!Q66:V66) -> 100 | K68: ± | L68: =(_xlfn.STDEV.S('single data'!Q66:V66)/SQRT(COUNT('single data'!Q66:V66))) -> 25.66392 | M68: =AVERAGE('single data'!W66:AB66) -> 102.10402 | N68: ± | O68: =(_xlfn.STDEV.S('single data'!W66:AB66)/SQRT(COUNT('single data'!W66:AB66))) -> 29.439811 | P68: =AVERAGE('single data'!AD66:AI66) -> 100 | Q68: ± | R68: =(_xlfn.STDEV.S('single data'!AD66:AI66)/SQRT(COUNT('single data'!AD66:AI66))) -> 32.925252 | S68: =AVERAGE('single data'!AJ66:AO66) -> 489.4753 | T68: ± | U68: =(_xlfn.STDEV.S('single data'!AJ66:AO66)/SQRT(COUNT('single data'!AJ66:AO66))) -> 418.62051 | V68: =AVERAGE('single data'!AQ66:AV66) -> 100 | W68: ± | X68: =(_xlfn.STDEV.S('single data'!AQ66:AV66)/SQRT(COUNT('single data'!AQ66:AV66))) -> 88.387018 | Y68: =AVERAGE('single data'!AW66:BB66) -> 16.578917 | Z68: ± | AA68: =(_xlfn.STDEV.S('single data'!AW66:BB66)/SQRT(COUNT('single data'!AW66:BB66))) -> 3.3486371
C69: 15-HEPE | D69: =AVERAGE('single data'!D67:I67) -> 100 | E69: ± | F69: =(_xlfn.STDEV.S('single data'!D67:I67)/SQRT(COUNT('single data'!D67:I67))) -> 22.644636 | G69: =AVERAGE('single data'!J67:O67) -> 159.28654 | H69: ± | I69: =(_xlfn.STDEV.S('single data'!J67:O67)/SQRT(COUNT('single data'!J67:O67))) -> 52.760818 | J69: =AVERAGE('single data'!Q67:V67) -> 100 | K69: ± | L69: =(_xlfn.STDEV.S('single data'!Q67:V67)/SQRT(COUNT('single data'!Q67:V67))) -> 14.48814 | M69: =AVERAGE('single data'!W67:AB67) -> 111.41997 | N69: ± | O69: =(_xlfn.STDEV.S('single data'!W67:AB67)/SQRT(COUNT('single data'!W67:AB67))) -> 39.948641 | P69: =AVERAGE('single data'!AD67:AI67) -> 100 | Q69: ± | R69: =(_xlfn.STDEV.S('single data'!AD67:AI67)/SQRT(COUNT('single data'!AD67:AI67))) -> 22.11451 | S69: =AVERAGE('single data'!AJ67:AO67) -> 442.35436 | T69: ± | U69: =(_xlfn.STDEV.S('single data'!AJ67:AO67)/SQRT(COUNT('single data'!AJ67:AO67))) -> 336.25331 | V69: =AVERAGE('single data'!AQ67:AV67) -> 100 | W69: ± | X69: =(_xlfn.STDEV.S('single data'!AQ67:AV67)/SQRT(COUNT('single data'!AQ67:AV67))) -> 52.250218 | Y69: =AVERAGE('single data'!AW67:BB67) -> 58.66468 | Z69: ± | AA69: =(_xlfn.STDEV.S('single data'!AW67:BB67)/SQRT(COUNT('single data'!AW67:BB67))) -> 9.8573295
C70: 14-HDHA | D70: =AVERAGE('single data'!D68:I68) -> 100 | E70: ± | F70: =(_xlfn.STDEV.S('single data'!D68:I68)/SQRT(COUNT('single data'!D68:I68))) -> 26.555428 | G70: =AVERAGE('single data'!J68:O68) -> 204.5794 | H70: ± | I70: =(_xlfn.STDEV.S('single data'!J68:O68)/SQRT(COUNT('single data'!J68:O68))) -> 93.84533 | J70: =AVERAGE('single data'!Q68:V68) -> 100 | K70: ± | L70: =(_xlfn.STDEV.S('single data'!Q68:V68)/SQRT(COUNT('single data'!Q68:V68))) -> 15.436348 | M70: =AVERAGE('single data'!W68:AB68) -> 88.567304 | N70: ± | O70: =(_xlfn.STDEV.S('single data'!W68:AB68)/SQRT(COUNT('single data'!W68:AB68))) -> 39.785738 | P70: =AVERAGE('single data'!AD68:AI68) -> 100 | Q70: ± | R70: =(_xlfn.STDEV.S('single data'!AD68:AI68)/SQRT(COUNT('single data'!AD68:AI68))) -> 33.040581 | S70: =AVERAGE('single data'!AJ68:AO68) -> 351.49531 | T70: ± | U70: =(_xlfn.STDEV.S('single data'!AJ68:AO68)/SQRT(COUNT('single data'!AJ68:AO68))) -> 201.14528 | V70: =AVERAGE('single data'!AQ68:AV68) -> 100 | W70: ± | X70: =(_xlfn.STDEV.S('single data'!AQ68:AV68)/SQRT(COUNT('single data'!AQ68:AV68))) -> 21.188859 | Y70: =AVERAGE('single data'!AW68:BB68) -> 77.904384 | Z70: ± | AA70: =(_xlfn.STDEV.S('single data'!AW68:BB68)/SQRT(COUNT('single data'!AW68:BB68))) -> 14.378132
C71: 14-HDPA | D71: =AVERAGE('single data'!D69:I69) -> 100 | E71: ± | F71: =(_xlfn.STDEV.S('single data'!D69:I69)/SQRT(COUNT('single data'!D69:I69))) -> 18.603874 | G71: =AVERAGE('single data'!J69:O69) -> 244.18323 | H71: ± | I71: =(_xlfn.STDEV.S('single data'!J69:O69)/SQRT(COUNT('single data'!J69:O69))) -> 59.491389 | J71: =AVERAGE('single data'!Q69:V69) -> 100 | K71: ± | L71: =(_xlfn.STDEV.S('single data'!Q69:V69)/SQRT(COUNT('single data'!Q69:V69))) -> 14.20533 | M71: =AVERAGE('single data'!W69:AB69) -> 93.313242 | N71: ± | O71: =(_xlfn.STDEV.S('single data'!W69:AB69)/SQRT(COUNT('single data'!W69:AB69))) -> 44.172113 | P71: =AVERAGE('single data'!AD69:AI69) -> 100 | Q71: ± | R71: =(_xlfn.STDEV.S('single data'!AD69:AI69)/SQRT(COUNT('single data'!AD69:AI69))) -> 34.454217 | S71: =AVERAGE('single data'!AJ69:AO69) -> 250.81734 | T71: ± | U71: =(_xlfn.STDEV.S('single data'!AJ69:AO69)/SQRT(COUNT('single data'!AJ69:AO69))) -> 114.07382 | V71: =AVERAGE('single data'!AQ69:AV69) -> 100 | W71: ± | X71: =(_xlfn.STDEV.S('single data'!AQ69:AV69)/SQRT(COUNT('single data'!AQ69:AV69))) -> 31.372954 | Y71: =AVERAGE('single data'!AW69:BB69) -> 69.20201 | Z71: ± | AA71: =(_xlfn.STDEV.S('single data'!AW69:BB69)/SQRT(COUNT('single data'!AW69:BB69))) -> 13.495807
C72: 12-HETE | D72: =AVERAGE('single data'!D70:I70) -> 100 | E72: ± | F72: =(_xlfn.STDEV.S('single data'!D70:I70)/SQRT(COUNT('single data'!D70:I70))) -> 31.92173 | G72: =AVERAGE('single data'!J70:O70) -> 176.12724 | H72: ± | I72: =(_xlfn.STDEV.S('single data'!J70:O70)/SQRT(COUNT('single data'!J70:O70))) -> 68.782585 | J72: =AVERAGE('single data'!Q70:V70) -> 100 | K72: ± | L72: =(_xlfn.STDEV.S('single data'!Q70:V70)/SQRT(COUNT('single data'!Q70:V70))) -> 21.207417 | M72: =AVERAGE('single data'!W70:AB70) -> 78.328038 | N72: ± | O72: =(_xlfn.STDEV.S('single data'!W70:AB70)/SQRT(COUNT('single data'!W70:AB70))) -> 32.799214 | P72: =AVERAGE('single data'!AD70:AI70) -> 100 | Q72: ± | R72: =(_xlfn.STDEV.S('single data'!AD70:AI70)/SQRT(COUNT('single data'!AD70:AI70))) -> 42.299257 | S72: =AVERAGE('single data'!AJ70:AO70) -> 278.57135 | T72: ± | U72: =(_xlfn.STDEV.S('single data'!AJ70:AO70)/SQRT(COUNT('single data'!AJ70:AO70))) -> 151.04428 | V72: =AVERAGE('single data'!AQ70:AV70) -> 100 | W72: ± | X72: =(_xlfn.STDEV.S('single data'!AQ70:AV70)/SQRT(COUNT('single data'!AQ70:AV70))) -> 27.878131 | Y72: =AVERAGE('single data'!AW70:BB70) -> 88.580539 | Z72: ± | AA72: =(_xlfn.STDEV.S('single data'!AW70:BB70)/SQRT(COUNT('single data'!AW70:BB70))) -> 21.923246
C73: 12-HEPE | D73: =AVERAGE('single data'!D71:I71) -> 100 | E73: ± | F73: =(_xlfn.STDEV.S('single data'!D71:I71)/SQRT(COUNT('single data'!D71:I71))) -> 20.850066 | G73: =AVERAGE('single data'!J71:O71) -> 168.55548 | H73: ± | I73: =(_xlfn.STDEV.S('single data'!J71:O71)/SQRT(COUNT('single data'!J71:O71))) -> 73.370084 | J73: =AVERAGE('single data'!Q71:V71) -> 100 | K73: ± | L73: =(_xlfn.STDEV.S('single data'!Q71:V71)/SQRT(COUNT('single data'!Q71:V71))) -> 14.969049 | M73: =AVERAGE('single data'!W71:AB71) -> 69.293298 | N73: ± | O73: =(_xlfn.STDEV.S('single data'!W71:AB71)/SQRT(COUNT('single data'!W71:AB71))) -> 25.328688 | P73: =AVERAGE('single data'!AD71:AI71) -> 100 | Q73: ± | R73: =(_xlfn.STDEV.S('single data'!AD71:AI71)/SQRT(COUNT('single data'!AD71:AI71))) -> 33.641443 | S73: =AVERAGE('single data'!AJ71:AO71) -> 738.0748 | T73: ± | U73: =(_xlfn.STDEV.S('single data'!AJ71:AO71)/SQRT(COUNT('single data'!AJ71:AO71))) -> 557.17012 | V73: =AVERAGE('single data'!AQ71:AV71) -> 100 | W73: ± | X73: =(_xlfn.STDEV.S('single data'!AQ71:AV71)/SQRT(COUNT('single data'!AQ71:AV71))) -> 14.164152 | Y73: =AVERAGE('single data'!AW71:BB71) -> 93.086879 | Z73: ± | AA73: =(_xlfn.STDEV.S('single data'!AW71:BB71)/SQRT(COUNT('single data'!AW71:BB71))) -> 25.193831
B74: CYP | C74: 5.6-EET | D74: =AVERAGE('single data'!D72:I72) -> 100 | E74: ± | F74: =(_xlfn.STDEV.S('single data'!D72:I72)/SQRT(COUNT('single data'!D72:I72))) -> 28.975336 | G74: =AVERAGE('single data'!J72:O72) -> 152.12033 | H74: ± | I74: =(_xlfn.STDEV.S('single data'!J72:O72)/SQRT(COUNT('single data'!J72:O72))) -> 24.528189 | J74: =AVERAGE('single data'!Q72:V72) -> 100 | K74: ± | L74: =(_xlfn.STDEV.S('single data'!Q72:V72)/SQRT(COUNT('single data'!Q72:V72))) -> 38.204609 | M74: =AVERAGE('single data'!W72:AB72) -> 112.88893 | N74: ± | O74: =(_xlfn.STDEV.S('single data'!W72:AB72)/SQRT(COUNT('single data'!W72:AB72))) -> 17.659854 | P74: =AVERAGE('single data'!AD72:AI72) -> 100 | Q74: ± | R74: =(_xlfn.STDEV.S('single data'!AD72:AI72)/SQRT(COUNT('single data'!AD72:AI72))) -> 15.818936 | S74: =AVERAGE('single data'!AJ72:AO72) -> 178.22408 | T74: ± | U74: =(_xlfn.STDEV.S('single data'!AJ72:AO72)/SQRT(COUNT('single data'!AJ72:AO72))) -> 33.959093 | V74: =AVERAGE('single data'!AQ72:AV72) -> 100 | W74: ± | X74: =(_xlfn.STDEV.S('single data'!AQ72:AV72)/SQRT(COUNT('single data'!AQ72:AV72))) -> 41.859395 | Y74: =AVERAGE('single data'!AW72:BB72) -> 126.53549 | Z74: ± | AA74: =(_xlfn.STDEV.S('single data'!AW72:BB72)/SQRT(COUNT('single data'!AW72:BB72))) -> 52.369059
C75: 8.9-EET | D75: =AVERAGE('single data'!D73:I73) -> 100 | E75: ± | F75: =(_xlfn.STDEV.S('single data'!D73:I73)/SQRT(COUNT('single data'!D73:I73))) -> 35.547932 | G75: =AVERAGE('single data'!J73:O73) -> 87.343385 | H75: ± | I75: =(_xlfn.STDEV.S('single data'!J73:O73)/SQRT(COUNT('single data'!J73:O73))) -> 5.0180694 | J75: =AVERAGE('single data'!Q73:V73) -> 100 | K75: ± | L75: =(_xlfn.STDEV.S('single data'!Q73:V73)/SQRT(COUNT('single data'!Q73:V73))) -> 41.360044 | M75: =AVERAGE('single data'!W73:AB73) -> 89.561303 | N75: ± | O75: =(_xlfn.STDEV.S('single data'!W73:AB73)/SQRT(COUNT('single data'!W73:AB73))) -> 8.7990543 | P75: =AVERAGE('single data'!AD73:AI73) -> 100 | Q75: ± | R75: =(_xlfn.STDEV.S('single data'!AD73:AI73)/SQRT(COUNT('single data'!AD73:AI73))) -> 20.885308 | S75: =AVERAGE('single data'!AJ73:AO73) -> 126.35106 | T75: ± | U75: =(_xlfn.STDEV.S('single data'!AJ73:AO73)/SQRT(COUNT('single data'!AJ73:AO73))) -> 22.210469 | V75: =AVERAGE('single data'!AQ73:AV73) -> 100 | W75: ± | X75: =(_xlfn.STDEV.S('single data'!AQ73:AV73)/SQRT(COUNT('single data'!AQ73:AV73))) -> 53.009555 | Y75: =AVERAGE('single data'!AW73:BB73) -> 64.73939 | Z75: ± | AA75: =(_xlfn.STDEV.S('single data'!AW73:BB73)/SQRT(COUNT('single data'!AW73:BB73))) -> 8.1036588
C76: 11.12-EET | D76: =AVERAGE('single data'!D74:I74) -> 100 | E76: ± | F76: =(_xlfn.STDEV.S('single data'!D74:I74)/SQRT(COUNT('single data'!D74:I74))) -> 15.838259 | G76: =AVERAGE('single data'!J74:O74) -> 160.55789 | H76: ± | I76: =(_xlfn.STDEV.S('single data'!J74:O74)/SQRT(COUNT('single data'!J74:O74))) -> 9.8655381 | J76: =AVERAGE('single data'!Q74:V74) -> 100 | K76: ± | L76: =(_xlfn.STDEV.S('single data'!Q74:V74)/SQRT(COUNT('single data'!Q74:V74))) -> 22.814772 | M76: =AVERAGE('single data'!W74:AB74) -> 150.60959 | N76: ± | O76: =(_xlfn.STDEV.S('single data'!W74:AB74)/SQRT(COUNT('single data'!W74:AB74))) -> 21.250261 | P76: =AVERAGE('single data'!AD74:AI74) -> 100 | Q76: ± | R76: =(_xlfn.STDEV.S('single data'!AD74:AI74)/SQRT(COUNT('single data'!AD74:AI74))) -> 14.358146 | S76: =AVERAGE('single data'!AJ74:AO74) -> 162.71923 | T76: ± | U76: =(_xlfn.STDEV.S('single data'!AJ74:AO74)/SQRT(COUNT('single data'!AJ74:AO74))) -> 14.01178 | V76: =AVERAGE('single data'!AQ74:AV74) -> 100 | W76: ± | X76: =(_xlfn.STDEV.S('single data'!AQ74:AV74)/SQRT(COUNT('single data'!AQ74:AV74))) -> 21.70086 | Y76: =AVERAGE('single data'!AW74:BB74) -> 111.23801 | Z76: ± | AA76: =(_xlfn.STDEV.S('single data'!AW74:BB74)/SQRT(COUNT('single data'!AW74:BB74))) -> 11.251563
C77: 14.15-EET | D77: =AVERAGE('single data'!D75:I75) -> 100 | E77: ± | F77: =(_xlfn.STDEV.S('single data'!D75:I75)/SQRT(COUNT('single data'!D75:I75))) -> 15.501376 | G77: =AVERAGE('single data'!J75:O75) -> 191.70234 | H77: ± | I77: =(_xlfn.STDEV.S('single data'!J75:O75)/SQRT(COUNT('single data'!J75:O75))) -> 8.7324891 | J77: =AVERAGE('single data'!Q75:V75) -> 100 | K77: ± | L77: =(_xlfn.STDEV.S('single data'!Q75:V75)/SQRT(COUNT('single data'!Q75:V75))) -> 27.87787 | M77: =AVERAGE('single data'!W75:AB75) -> 174.90365 | N77: ± | O77: =(_xlfn.STDEV.S('single data'!W75:AB75)/SQRT(COUNT('single data'!W75:AB75))) -> 21.99273 | P77: =AVERAGE('single data'!AD75:AI75) -> 100 | Q77: ± | R77: =(_xlfn.STDEV.S('single data'!AD75:AI75)/SQRT(COUNT('single data'!AD75:AI75))) -> 10.597795 | S77: =AVERAGE('single data'!AJ75:AO75) -> 176.66217 | T77: ± | U77: =(_xlfn.STDEV.S('single data'!AJ75:AO75)/SQRT(COUNT('single data'!AJ75:AO75))) -> 20.921561 | V77: =AVERAGE('single data'!AQ75:AV75) -> 100 | W77: ± | X77: =(_xlfn.STDEV.S('single data'!AQ75:AV75)/SQRT(COUNT('single data'!AQ75:AV75))) -> 7.977802 | Y77: =AVERAGE('single data'!AW75:BB75) -> 92.458659 | Z77: ± | AA77: =(_xlfn.STDEV.S('single data'!AW75:BB75)/SQRT(COUNT('single data'!AW75:BB75))) -> 6.3711148
C78: 7,8-EpDPA | D78: =AVERAGE('single data'!D76:I76) -> 100 | E78: ± | F78: =(_xlfn.STDEV.S('single data'!D76:I76)/SQRT(COUNT('single data'!D76:I76))) -> 24.17155 | G78: =AVERAGE('single data'!J76:O76) -> 147.97856 | H78: ± | I78: =(_xlfn.STDEV.S('single data'!J76:O76)/SQRT(COUNT('single data'!J76:O76))) -> 15.350352 | J78: =AVERAGE('single data'!Q76:V76) -> 100 | K78: ± | L78: =(_xlfn.STDEV.S('single data'!Q76:V76)/SQRT(COUNT('single data'!Q76:V76))) -> 26.095368 | M78: =AVERAGE('single data'!W76:AB76) -> 92.153279 | N78: ± | O78: =(_xlfn.STDEV.S('single data'!W76:AB76)/SQRT(COUNT('single data'!W76:AB76))) -> 13.424122 | P78: =AVERAGE('single data'!AD76:AI76) -> 100 | Q78: ± | R78: =(_xlfn.STDEV.S('single data'!AD76:AI76)/SQRT(COUNT('single data'!AD76:AI76))) -> 16.635658 | S78: =AVERAGE('single data'!AJ76:AO76) -> 161.74444 | T78: ± | U78: =(_xlfn.STDEV.S('single data'!AJ76:AO76)/SQRT(COUNT('single data'!AJ76:AO76))) -> 11.126387 | V78: =AVERAGE('single data'!AQ76:AV76) -> 100 | W78: ± | X78: =(_xlfn.STDEV.S('single data'!AQ76:AV76)/SQRT(COUNT('single data'!AQ76:AV76))) -> 31.319236 | Y78: =AVERAGE('single data'!AW76:BB76) -> 87.089286 | Z78: ± | AA78: =(_xlfn.STDEV.S('single data'!AW76:BB76)/SQRT(COUNT('single data'!AW76:BB76))) -> 7.5536351
C79: 10.11-EpDPA | D79: =AVERAGE('single data'!D77:I77) -> 100 | E79: ± | F79: =(_xlfn.STDEV.S('single data'!D77:I77)/SQRT(COUNT('single data'!D77:I77))) -> 21.14209 | G79: =AVERAGE('single data'!J77:O77) -> 141.20548 | H79: ± | I79: =(_xlfn.STDEV.S('single data'!J77:O77)/SQRT(COUNT('single data'!J77:O77))) -> 9.4535425 | J79: =AVERAGE('single data'!Q77:V77) -> 100 | K79: ± | L79: =(_xlfn.STDEV.S('single data'!Q77:V77)/SQRT(COUNT('single data'!Q77:V77))) -> 30.697473 | M79: =AVERAGE('single data'!W77:AB77) -> 99.230623 | N79: ± | O79: =(_xlfn.STDEV.S('single data'!W77:AB77)/SQRT(COUNT('single data'!W77:AB77))) -> 21.635572 | P79: =AVERAGE('single data'!AD77:AI77) -> 100 | Q79: ± | R79: =(_xlfn.STDEV.S('single data'!AD77:AI77)/SQRT(COUNT('single data'!AD77:AI77))) -> 15.761941 | S79: =AVERAGE('single data'!AJ77:AO77) -> 152.86917 | T79: ± | U79: =(_xlfn.STDEV.S('single data'!AJ77:AO77)/SQRT(COUNT('single data'!AJ77:AO77))) -> 21.907269 | V79: =AVERAGE('single data'!AQ77:AV77) -> 100 | W79: ± | X79: =(_xlfn.STDEV.S('single data'!AQ77:AV77)/SQRT(COUNT('single data'!AQ77:AV77))) -> 31.433433 | Y79: =AVERAGE('single data'!AW77:BB77) -> 103.56926 | Z79: ± | AA79: =(_xlfn.STDEV.S('single data'!AW77:BB77)/SQRT(COUNT('single data'!AW77:BB77))) -> 11.992553
C80: 13.14-EpDPA | D80: =AVERAGE('single data'!D78:I78) -> 100 | E80: ± | F80: =(_xlfn.STDEV.S('single data'!D78:I78)/SQRT(COUNT('single data'!D78:I78))) -> 22.715568 | G80: =AVERAGE('single data'!J78:O78) -> 163.803 | H80: ± | I80: =(_xlfn.STDEV.S('single data'!J78:O78)/SQRT(COUNT('single data'!J78:O78))) -> 14.753683 | J80: =AVERAGE('single data'!Q78:V78) -> 100 | K80: ± | L80: =(_xlfn.STDEV.S('single data'!Q78:V78)/SQRT(COUNT('single data'!Q78:V78))) -> 33.32581 | M80: =AVERAGE('single data'!W78:AB78) -> 123.75136 | N80: ± | O80: =(_xlfn.STDEV.S('single data'!W78:AB78)/SQRT(COUNT('single data'!W78:AB78))) -> 29.817456 | P80: =AVERAGE('single data'!AD78:AI78) -> 100 | Q80: ± | R80: =(_xlfn.STDEV.S('single data'!AD78:AI78)/SQRT(COUNT('single data'!AD78:AI78))) -> 12.581767 | S80: =AVERAGE('single data'!AJ78:AO78) -> 156.53055 | T80: ± | U80: =(_xlfn.STDEV.S('single data'!AJ78:AO78)/SQRT(COUNT('single data'!AJ78:AO78))) -> 18.545574 | V80: =AVERAGE('single data'!AQ78:AV78) -> 100 | W80: ± | X80: =(_xlfn.STDEV.S('single data'!AQ78:AV78)/SQRT(COUNT('single data'!AQ78:AV78))) -> 26.40925 | Y80: =AVERAGE('single data'!AW78:BB78) -> 108.38218 | Z80: ± | AA80: =(_xlfn.STDEV.S('single data'!AW78:BB78)/SQRT(COUNT('single data'!AW78:BB78))) -> 7.7189278
C81: 16.17-EpDPA | D81: =AVERAGE('single data'!D79:I79) -> 100 | E81: ± | F81: =(_xlfn.STDEV.S('single data'!D79:I79)/SQRT(COUNT('single data'!D79:I79))) -> 26.22888 | G81: =AVERAGE('single data'!J79:O79) -> 125.23261 | H81: ± | I81: =(_xlfn.STDEV.S('single data'!J79:O79)/SQRT(COUNT('single data'!J79:O79))) -> 9.1145944 | J81: =AVERAGE('single data'!Q79:V79) -> 100 | K81: ± | L81: =(_xlfn.STDEV.S('single data'!Q79:V79)/SQRT(COUNT('single data'!Q79:V79))) -> 41.746681 | M81: =AVERAGE('single data'!W79:AB79) -> 95.19246 | N81: ± | O81: =(_xlfn.STDEV.S('single data'!W79:AB79)/SQRT(COUNT('single data'!W79:AB79))) -> 21.895163 | P81: =AVERAGE('single data'!AD79:AI79) -> 100 | Q81: ± | R81: =(_xlfn.STDEV.S('single data'!AD79:AI79)/SQRT(COUNT('single data'!AD79:AI79))) -> 12.893819 | S81: =AVERAGE('single data'!AJ79:AO79) -> 208.66652 | T81: ± | U81: =(_xlfn.STDEV.S('single data'!AJ79:AO79)/SQRT(COUNT('single data'!AJ79:AO79))) -> 18.590786 | V81: =AVERAGE('single data'!AQ79:AV79) -> 100 | W81: ± | X81: =(_xlfn.STDEV.S('single data'!AQ79:AV79)/SQRT(COUNT('single data'!AQ79:AV79))) -> 10.77266 | Y81: =AVERAGE('single data'!AW79:BB79) -> 112.38303 | Z81: ± | AA81: =(_xlfn.STDEV.S('single data'!AW79:BB79)/SQRT(COUNT('single data'!AW79:BB79))) -> 14.565698
C82: 19.20-EpDPA | D82: =AVERAGE('single data'!D80:I80) -> 100 | E82: ± | F82: =(_xlfn.STDEV.S('single data'!D80:I80)/SQRT(COUNT('single data'!D80:I80))) -> 20.117341 | G82: =AVERAGE('single data'!J80:O80) -> 125.12706 | H82: ± | I82: =(_xlfn.STDEV.S('single data'!J80:O80)/SQRT(COUNT('single data'!J80:O80))) -> 19.072435 | J82: =AVERAGE('single data'!Q80:V80) -> 100 | K82: ± | L82: =(_xlfn.STDEV.S('single data'!Q80:V80)/SQRT(COUNT('single data'!Q80:V80))) -> 25.925525 | M82: =AVERAGE('single data'!W80:AB80) -> 71.753682 | N82: ± | O82: =(_xlfn.STDEV.S('single data'!W80:AB80)/SQRT(COUNT('single data'!W80:AB80))) -> 11.117124 | P82: =AVERAGE('single data'!AD80:AI80) -> 100 | Q82: ± | R82: =(_xlfn.STDEV.S('single data'!AD80:AI80)/SQRT(COUNT('single data'!AD80:AI80))) -> 9.9946257 | S82: =AVERAGE('single data'!AJ80:AO80) -> 131.44422 | T82: ± | U82: =(_xlfn.STDEV.S('single data'!AJ80:AO80)/SQRT(COUNT('single data'!AJ80:AO80))) -> 15.07408 | V82: =AVERAGE('single data'!AQ80:AV80) -> 100 | W82: ± | X82: =(_xlfn.STDEV.S('single data'!AQ80:AV80)/SQRT(COUNT('single data'!AQ80:AV80))) -> 14.416915 | Y82: =AVERAGE('single data'!AW80:BB80) -> 88.60951 | Z82: ± | AA82: =(_xlfn.STDEV.S('single data'!AW80:BB80)/SQRT(COUNT('single data'!AW80:BB80))) -> 11.126826
C83: 8,9-EpETE | D83: =AVERAGE('single data'!D81:I81) -> 100 | E83: ± | F83: =(_xlfn.STDEV.S('single data'!D81:I81)/SQRT(COUNT('single data'!D81:I81))) -> 29.897621 | G83: =AVERAGE('single data'!J81:O81) -> 134.91539 | H83: ± | I83: =(_xlfn.STDEV.S('single data'!J81:O81)/SQRT(COUNT('single data'!J81:O81))) -> 27.121367 | J83: =AVERAGE('single data'!Q81:V81) -> 100 | K83: ± | L83: =(_xlfn.STDEV.S('single data'!Q81:V81)/SQRT(COUNT('single data'!Q81:V81))) -> 46.344366 | M83: =AVERAGE('single data'!W81:AB81) -> 85.804524 | N83: ± | O83: =(_xlfn.STDEV.S('single data'!W81:AB81)/SQRT(COUNT('single data'!W81:AB81))) -> 20.803704
C84: 14.15-EpETE | D84: =AVERAGE('single data'!D82:I82) -> 100 | E84: ± | F84: =(_xlfn.STDEV.S('single data'!D82:I82)/SQRT(COUNT('single data'!D82:I82))) -> 20.806665 | G84: =AVERAGE('single data'!J82:O82) -> 156.43277 | H84: ± | I84: =(_xlfn.STDEV.S('single data'!J82:O82)/SQRT(COUNT('single data'!J82:O82))) -> 29.679839 | J84: =AVERAGE('single data'!Q82:V82) -> 100 | K84: ± | L84: =(_xlfn.STDEV.S('single data'!Q82:V82)/SQRT(COUNT('single data'!Q82:V82))) -> 49.536354 | M84: =AVERAGE('single data'!W82:AB82) -> 41.654306 | N84: ± | O84: =(_xlfn.STDEV.S('single data'!W82:AB82)/SQRT(COUNT('single data'!W82:AB82))) -> 8.9269067
B85: EPHX2 | C85: 5.6-DHET | D85: =AVERAGE('single data'!D83:I83) -> 100 | E85: ± | F85: =(_xlfn.STDEV.S('single data'!D83:I83)/SQRT(COUNT('single data'!D83:I83))) -> 8.1896215 | G85: =AVERAGE('single data'!J83:O83) -> 109.50395 | H85: ± | I85: =(_xlfn.STDEV.S('single data'!J83:O83)/SQRT(COUNT('single data'!J83:O83))) -> 10.846996 | J85: =AVERAGE('single data'!Q83:V83) -> 100 | K85: ± | L85: =(_xlfn.STDEV.S('single data'!Q83:V83)/SQRT(COUNT('single data'!Q83:V83))) -> 10.645628 | M85: =AVERAGE('single data'!W83:AB83) -> 52.145284 | N85: ± | O85: =(_xlfn.STDEV.S('single data'!W83:AB83)/SQRT(COUNT('single data'!W83:AB83))) -> 11.916641 | P85: =AVERAGE('single data'!AD83:AI83) -> 100 | Q85: ± | R85: =(_xlfn.STDEV.S('single data'!AD83:AI83)/SQRT(COUNT('single data'!AD83:AI83))) -> 5.1973675 | S85: =AVERAGE('single data'!AJ83:AO83) -> 124.51172 | T85: ± | U85: =(_xlfn.STDEV.S('single data'!AJ83:AO83)/SQRT(COUNT('single data'!AJ83:AO83))) -> 19.886894 | V85: =AVERAGE('single data'!AQ83:AV83) -> 100 | W85: ± | X85: =(_xlfn.STDEV.S('single data'!AQ83:AV83)/SQRT(COUNT('single data'!AQ83:AV83))) -> 11.696949 | Y85: =AVERAGE('single data'!AW83:BB83) -> 85.976653 | Z85: ± | AA85: =(_xlfn.STDEV.S('single data'!AW83:BB83)/SQRT(COUNT('single data'!AW83:BB83))) -> 12.725618
C86: 8.9-DHET | D86: =AVERAGE('single data'!D84:I84) -> 100 | E86: ± | F86: =(_xlfn.STDEV.S('single data'!D84:I84)/SQRT(COUNT('single data'!D84:I84))) -> 10.075977 | G86: =AVERAGE('single data'!J84:O84) -> 119.85284 | H86: ± | I86: =(_xlfn.STDEV.S('single data'!J84:O84)/SQRT(COUNT('single data'!J84:O84))) -> 18.703611 | J86: =AVERAGE('single data'!Q84:V84) -> 100 | K86: ± | L86: =(_xlfn.STDEV.S('single data'!Q84:V84)/SQRT(COUNT('single data'!Q84:V84))) -> 19.615603 | M86: =AVERAGE('single data'!W84:AB84) -> 52.716253 | N86: ± | O86: =(_xlfn.STDEV.S('single data'!W84:AB84)/SQRT(COUNT('single data'!W84:AB84))) -> 6.6554799 | P86: =AVERAGE('single data'!AD84:AI84) -> 100 | Q86: ± | R86: =(_xlfn.STDEV.S('single data'!AD84:AI84)/SQRT(COUNT('single data'!AD84:AI84))) -> 10.168178 | S86: =AVERAGE('single data'!AJ84:AO84) -> 104.06079 | T86: ± | U86: =(_xlfn.STDEV.S('single data'!AJ84:AO84)/SQRT(COUNT('single data'!AJ84:AO84))) -> 12.533705 | V86: =AVERAGE('single data'!AQ84:AV84) -> 100 | W86: ± | X86: =(_xlfn.STDEV.S('single data'!AQ84:AV84)/SQRT(COUNT('single data'!AQ84:AV84))) -> 28.427114 | Y86: =AVERAGE('single data'!AW84:BB84) -> 57.973883 | Z86: ± | AA86: =(_xlfn.STDEV.S('single data'!AW84:BB84)/SQRT(COUNT('single data'!AW84:BB84))) -> 7.8079202
C87: 11.12-DHET | D87: =AVERAGE('single data'!D85:I85) -> 100 | E87: ± | F87: =(_xlfn.STDEV.S('single data'!D85:I85)/SQRT(COUNT('single data'!D85:I85))) -> 11.976405 | G87: =AVERAGE('single data'!J85:O85) -> 107.74826 | H87: ± | I87: =(_xlfn.STDEV.S('single data'!J85:O85)/SQRT(COUNT('single data'!J85:O85))) -> 11.024226 | J87: =AVERAGE('single data'!Q85:V85) -> 100 | K87: ± | L87: =(_xlfn.STDEV.S('single data'!Q85:V85)/SQRT(COUNT('single data'!Q85:V85))) -> 18.983955 | M87: =AVERAGE('single data'!W85:AB85) -> 49.595927 | N87: ± | O87: =(_xlfn.STDEV.S('single data'!W85:AB85)/SQRT(COUNT('single data'!W85:AB85))) -> 6.9103443 | P87: =AVERAGE('single data'!AD85:AI85) -> 100 | Q87: ± | R87: =(_xlfn.STDEV.S('single data'!AD85:AI85)/SQRT(COUNT('single data'!AD85:AI85))) -> 14.921166 | S87: =AVERAGE('single data'!AJ85:AO85) -> 100.28537 | T87: ± | U87: =(_xlfn.STDEV.S('single data'!AJ85:AO85)/SQRT(COUNT('single data'!AJ85:AO85))) -> 16.939498 | V87: =AVERAGE('single data'!AQ85:AV85) -> 100 | W87: ± | X87: =(_xlfn.STDEV.S('single data'!AQ85:AV85)/SQRT(COUNT('single data'!AQ85:AV85))) -> 23.869496 | Y87: =AVERAGE('single data'!AW85:BB85) -> 58.021605 | Z87: ± | AA87: =(_xlfn.STDEV.S('single data'!AW85:BB85)/SQRT(COUNT('single data'!AW85:BB85))) -> 8.8639652
C88: 14.15-DHET | D88: =AVERAGE('single data'!D86:I86) -> 100 | E88: ± | F88: =(_xlfn.STDEV.S('single data'!D86:I86)/SQRT(COUNT('single data'!D86:I86))) -> 16.194587 | G88: =AVERAGE('single data'!J86:O86) -> 114.53523 | H88: ± | I88: =(_xlfn.STDEV.S('single data'!J86:O86)/SQRT(COUNT('single data'!J86:O86))) -> 17.810688 | J88: =AVERAGE('single data'!Q86:V86) -> 100 | K88: ± | L88: =(_xlfn.STDEV.S('single data'!Q86:V86)/SQRT(COUNT('single data'!Q86:V86))) -> 19.962687 | M88: =AVERAGE('single data'!W86:AB86) -> 54.239471 | N88: ± | O88: =(_xlfn.STDEV.S('single data'!W86:AB86)/SQRT(COUNT('single data'!W86:AB86))) -> 8.0987901 | P88: =AVERAGE('single data'!AD86:AI86) -> 100 | Q88: ± | R88: =(_xlfn.STDEV.S('single data'!AD86:AI86)/SQRT(COUNT('single data'!AD86:AI86))) -> 12.046035 | S88: =AVERAGE('single data'!AJ86:AO86) -> 123.75145 | T88: ± | U88: =(_xlfn.STDEV.S('single data'!AJ86:AO86)/SQRT(COUNT('single data'!AJ86:AO86))) -> 32.60183 | V88: =AVERAGE('single data'!AQ86:AV86) -> 100 | W88: ± | X88: =(_xlfn.STDEV.S('single data'!AQ86:AV86)/SQRT(COUNT('single data'!AQ86:AV86))) -> 22.944787 | Y88: =AVERAGE('single data'!AW86:BB86) -> 58.920003 | Z88: ± | AA88: =(_xlfn.STDEV.S('single data'!AW86:BB86)/SQRT(COUNT('single data'!AW86:BB86))) -> 10.848698
B89: EC | C89: AEA | D89: =AVERAGE('single data'!D87:I87) -> 100 | E89: ± | F89: =(_xlfn.STDEV.S('single data'!D87:I87)/SQRT(COUNT('single data'!D87:I87))) -> 22.075575 | G89: =AVERAGE('single data'!J87:O87) -> 424.67482 | H89: ± | I89: =(_xlfn.STDEV.S('single data'!J87:O87)/SQRT(COUNT('single data'!J87:O87))) -> 177.56449 | J89: =AVERAGE('single data'!Q87:V87) -> 100 | K89: ± | L89: =(_xlfn.STDEV.S('single data'!Q87:V87)/SQRT(COUNT('single data'!Q87:V87))) -> 45.984766 | M89: =AVERAGE('single data'!W87:AB87) -> 65.65462 | N89: ± | O89: =(_xlfn.STDEV.S('single data'!W87:AB87)/SQRT(COUNT('single data'!W87:AB87))) -> 14.047963 | P89: =AVERAGE('single data'!AD87:AI87) -> 100 | Q89: ± | R89: =(_xlfn.STDEV.S('single data'!AD87:AI87)/SQRT(COUNT('single data'!AD87:AI87))) -> 8.3003028 | S89: =AVERAGE('single data'!AJ87:AO87) -> 134.539 | T89: ± | U89: =(_xlfn.STDEV.S('single data'!AJ87:AO87)/SQRT(COUNT('single data'!AJ87:AO87))) -> 19.506241 | V89: =AVERAGE('single data'!AQ87:AV87) -> 100 | W89: ± | X89: =(_xlfn.STDEV.S('single data'!AQ87:AV87)/SQRT(COUNT('single data'!AQ87:AV87))) -> 10.806182 | Y89: =AVERAGE('single data'!AW87:BB87) -> 141.65265 | Z89: ± | AA89: =(_xlfn.STDEV.S('single data'!AW87:BB87)/SQRT(COUNT('single data'!AW87:BB87))) -> 11.130943
C90: PEA | D90: =AVERAGE('single data'!D88:I88) -> 100 | E90: ± | F90: =(_xlfn.STDEV.S('single data'!D88:I88)/SQRT(COUNT('single data'!D88:I88))) -> 17.186123 | G90: =AVERAGE('single data'!J88:O88) -> 126.5934 | H90: ± | I90: =(_xlfn.STDEV.S('single data'!J88:O88)/SQRT(COUNT('single data'!J88:O88))) -> 31.951586 | J90: =AVERAGE('single data'!Q88:V88) -> 100 | K90: ± | L90: =(_xlfn.STDEV.S('single data'!Q88:V88)/SQRT(COUNT('single data'!Q88:V88))) -> 17.736344 | M90: =AVERAGE('single data'!W88:AB88) -> 202.04094 | N90: ± | O90: =(_xlfn.STDEV.S('single data'!W88:AB88)/SQRT(COUNT('single data'!W88:AB88))) -> 34.117354 | P90: =AVERAGE('single data'!AD88:AI88) -> 100 | Q90: ± | R90: =(_xlfn.STDEV.S('single data'!AD88:AI88)/SQRT(COUNT('single data'!AD88:AI88))) -> 12.311243 | S90: =AVERAGE('single data'!AJ88:AO88) -> 233.83248 | T90: ± | U90: =(_xlfn.STDEV.S('single data'!AJ88:AO88)/SQRT(COUNT('single data'!AJ88:AO88))) -> 61.362314 | V90: =AVERAGE('single data'!AQ88:AV88) -> 100 | W90: ± | X90: =(_xlfn.STDEV.S('single data'!AQ88:AV88)/SQRT(COUNT('single data'!AQ88:AV88))) -> 14.273159 | Y90: =AVERAGE('single data'!AW88:BB88) -> 133.46889 | Z90: ± | AA90: =(_xlfn.STDEV.S('single data'!AW88:BB88)/SQRT(COUNT('single data'!AW88:BB88))) -> 13.034309
C91: OEA | D91: =AVERAGE('single data'!D89:I89) -> 100 | E91: ± | F91: =(_xlfn.STDEV.S('single data'!D89:I89)/SQRT(COUNT('single data'!D89:I89))) -> 7.4410093 | G91: =AVERAGE('single data'!J89:O89) -> 220.61329 | H91: ± | I91: =(_xlfn.STDEV.S('single data'!J89:O89)/SQRT(COUNT('single data'!J89:O89))) -> 95.979019 | J91: =AVERAGE('single data'!Q89:V89) -> 100 | K91: ± | L91: =(_xlfn.STDEV.S('single data'!Q89:V89)/SQRT(COUNT('single data'!Q89:V89))) -> 51.208864 | M91: =AVERAGE('single data'!W89:AB89) -> 76.637896 | N91: ± | O91: =(_xlfn.STDEV.S('single data'!W89:AB89)/SQRT(COUNT('single data'!W89:AB89))) -> 11.956646 | P91: =AVERAGE('single data'!AD89:AI89) -> 100 | Q91: ± | R91: =(_xlfn.STDEV.S('single data'!AD89:AI89)/SQRT(COUNT('single data'!AD89:AI89))) -> 7.5791979 | S91: =AVERAGE('single data'!AJ89:AO89) -> 173.14052 | T91: ± | U91: =(_xlfn.STDEV.S('single data'!AJ89:AO89)/SQRT(COUNT('single data'!AJ89:AO89))) -> 41.954357 | V91: =AVERAGE('single data'!AQ89:AV89) -> 100 | W91: ± | X91: =(_xlfn.STDEV.S('single data'!AQ89:AV89)/SQRT(COUNT('single data'!AQ89:AV89))) -> 9.0493718 | Y91: =AVERAGE('single data'!AW89:BB89) -> 122.81251 | Z91: ± | AA91: =(_xlfn.STDEV.S('single data'!AW89:BB89)/SQRT(COUNT('single data'!AW89:BB89))) -> 15.251318
C92: 2-AG | D92: =AVERAGE('single data'!D90:I90) -> 100 | E92: ± | F92: =(_xlfn.STDEV.S('single data'!D90:I90)/SQRT(COUNT('single data'!D90:I90))) -> 9.1215531 | G92: =AVERAGE('single data'!J90:O90) -> 232.54449 | H92: ± | I92: =(_xlfn.STDEV.S('single data'!J90:O90)/SQRT(COUNT('single data'!J90:O90))) -> 99.848422 | J92: =AVERAGE('single data'!Q90:V90) -> 100 | K92: ± | L92: =(_xlfn.STDEV.S('single data'!Q90:V90)/SQRT(COUNT('single data'!Q90:V90))) -> 58.851017 | M92: =AVERAGE('single data'!W90:AB90) -> 69.73187 | N92: ± | O92: =(_xlfn.STDEV.S('single data'!W90:AB90)/SQRT(COUNT('single data'!W90:AB90))) -> 19.866318 | P92: =AVERAGE('single data'!AD90:AI90) -> 100 | Q92: ± | R92: =(_xlfn.STDEV.S('single data'!AD90:AI90)/SQRT(COUNT('single data'!AD90:AI90))) -> 11.972169 | S92: =AVERAGE('single data'!AJ90:AO90) -> 146.69768 | T92: ± | U92: =(_xlfn.STDEV.S('single data'!AJ90:AO90)/SQRT(COUNT('single data'!AJ90:AO90))) -> 57.149006 | V92: =AVERAGE('single data'!AQ90:AV90) -> 100 | W92: ± | X92: =(_xlfn.STDEV.S('single data'!AQ90:AV90)/SQRT(COUNT('single data'!AQ90:AV90))) -> 7.970223 | Y92: =AVERAGE('single data'!AW90:BB90) -> 237.15613 | Z92: ± | AA92: =(_xlfn.STDEV.S('single data'!AW90:BB90)/SQRT(COUNT('single data'!AW90:BB90))) -> 34.97767
C93: 1-AG | D93: =AVERAGE('single data'!D91:I91) -> 100 | E93: ± | F93: =(_xlfn.STDEV.S('single data'!D91:I91)/SQRT(COUNT('single data'!D91:I91))) -> 9.1946272 | G93: =AVERAGE('single data'!J91:O91) -> 141.84999 | H93: ± | I93: =(_xlfn.STDEV.S('single data'!J91:O91)/SQRT(COUNT('single data'!J91:O91))) -> 47.159149 | J93: =AVERAGE('single data'!Q91:V91) -> 100 | K93: ± | L93: =(_xlfn.STDEV.S('single data'!Q91:V91)/SQRT(COUNT('single data'!Q91:V91))) -> 59.00703 | M93: =AVERAGE('single data'!W91:AB91) -> 90.480526 | N93: ± | O93: =(_xlfn.STDEV.S('single data'!W91:AB91)/SQRT(COUNT('single data'!W91:AB91))) -> 30.86739 | P93: =AVERAGE('single data'!AD91:AI91) -> 100 | Q93: ± | R93: =(_xlfn.STDEV.S('single data'!AD91:AI91)/SQRT(COUNT('single data'!AD91:AI91))) -> 11.752424 | S93: =AVERAGE('single data'!AJ91:AO91) -> 76.539917 | T93: ± | U93: =(_xlfn.STDEV.S('single data'!AJ91:AO91)/SQRT(COUNT('single data'!AJ91:AO91))) -> 10.002685 | V93: =AVERAGE('single data'!AQ91:AV91) -> 100 | W93: ± | X93: =(_xlfn.STDEV.S('single data'!AQ91:AV91)/SQRT(COUNT('single data'!AQ91:AV91))) -> 10.562052 | Y93: =AVERAGE('single data'!AW91:BB91) -> 119.5544 | Z93: ± | AA93: =(_xlfn.STDEV.S('single data'!AW91:BB91)/SQRT(COUNT('single data'!AW91:BB91))) -> 10.228852
B94: ALOX5 | C94: LTB4 isomers+LTB4 | D94: =AVERAGE('single data'!D92:I92) -> 100 | E94: ± | F94: =(_xlfn.STDEV.S('single data'!D92:I92)/SQRT(COUNT('single data'!D92:I92))) -> 20.812736 | G94: =AVERAGE('single data'!J92:O92) -> 176.2478 | H94: ± | I94: =(_xlfn.STDEV.S('single data'!J92:O92)/SQRT(COUNT('single data'!J92:O92))) -> 53.517366 | J94: =AVERAGE('single data'!Q92:V92) -> 100 | K94: ± | L94: =(_xlfn.STDEV.S('single data'!Q92:V92)/SQRT(COUNT('single data'!Q92:V92))) -> 29.235724 | M94: =AVERAGE('single data'!W92:AB92) -> 229.97023 | N94: ± | O94: =(_xlfn.STDEV.S('single data'!W92:AB92)/SQRT(COUNT('single data'!W92:AB92))) -> 111.07648 | P94: =AVERAGE('single data'!AD92:AI92) -> 100 | Q94: ± | R94: =(_xlfn.STDEV.S('single data'!AD92:AI92)/SQRT(COUNT('single data'!AD92:AI92))) -> 17.44111 | S94: =AVERAGE('single data'!AJ92:AO92) -> 276.03124 | T94: ± | U94: =(_xlfn.STDEV.S('single data'!AJ92:AO92)/SQRT(COUNT('single data'!AJ92:AO92))) -> 147.1922 | V94: =AVERAGE('single data'!AQ92:AV92) -> 100 | W94: ± | X94: =(_xlfn.STDEV.S('single data'!AQ92:AV92)/SQRT(COUNT('single data'!AQ92:AV92))) -> 54.914148 | Y94: =AVERAGE('single data'!AW92:BB92) -> 61.08671 | Z94: ± | AA94: =(_xlfn.STDEV.S('single data'!AW92:BB92)/SQRT(COUNT('single data'!AW92:BB92))) -> 10.044438
C95: 5-HEPE | D95: =AVERAGE('single data'!D93:I93) -> 100 | E95: ± | F95: =(_xlfn.STDEV.S('single data'!D93:I93)/SQRT(COUNT('single data'!D93:I93))) -> 22.677357 | G95: =AVERAGE('single data'!J93:O93) -> 125.65218 | H95: ± | I95: =(_xlfn.STDEV.S('single data'!J93:O93)/SQRT(COUNT('single data'!J93:O93))) -> 20.877166 | J95: =AVERAGE('single data'!Q93:V93) -> 100 | K95: ± | L95: =(_xlfn.STDEV.S('single data'!Q93:V93)/SQRT(COUNT('single data'!Q93:V93))) -> 22.971673 | M95: =AVERAGE('single data'!W93:AB93) -> 91.233092 | N95: ± | O95: =(_xlfn.STDEV.S('single data'!W93:AB93)/SQRT(COUNT('single data'!W93:AB93))) -> 32.128335 | P95: =AVERAGE('single data'!AD93:AI93) -> 100 | Q95: ± | R95: =(_xlfn.STDEV.S('single data'!AD93:AI93)/SQRT(COUNT('single data'!AD93:AI93))) -> 18.307619 | S95: =AVERAGE('single data'!AJ93:AO93) -> 172.49397 | T95: ± | U95: =(_xlfn.STDEV.S('single data'!AJ93:AO93)/SQRT(COUNT('single data'!AJ93:AO93))) -> 64.847433 | V95: =AVERAGE('single data'!AQ93:AV93) -> 100 | W95: ± | X95: =(_xlfn.STDEV.S('single data'!AQ93:AV93)/SQRT(COUNT('single data'!AQ93:AV93))) -> 16.212954 | Y95: =AVERAGE('single data'!AW93:BB93) -> 63.81835 | Z95: ± | AA95: =(_xlfn.STDEV.S('single data'!AW93:BB93)/SQRT(COUNT('single data'!AW93:BB93))) -> 11.437507
C96: 5-HETE | D96: =AVERAGE('single data'!D94:I94) -> 100 | E96: ± | F96: =(_xlfn.STDEV.S('single data'!D94:I94)/SQRT(COUNT('single data'!D94:I94))) -> 12.74395 | G96: =AVERAGE('single data'!J94:O94) -> 163.36225 | H96: ± | I96: =(_xlfn.STDEV.S('single data'!J94:O94)/SQRT(COUNT('single data'!J94:O94))) -> 35.157737 | J96: =AVERAGE('single data'!Q94:V94) -> 100 | K96: ± | L96: =(_xlfn.STDEV.S('single data'!Q94:V94)/SQRT(COUNT('single data'!Q94:V94))) -> 31.229901 | M96: =AVERAGE('single data'!W94:AB94) -> 173.57171 | N96: ± | O96: =(_xlfn.STDEV.S('single data'!W94:AB94)/SQRT(COUNT('single data'!W94:AB94))) -> 82.956349 | P96: =AVERAGE('single data'!AD94:AI94) -> 100 | Q96: ± | R96: =(_xlfn.STDEV.S('single data'!AD94:AI94)/SQRT(COUNT('single data'!AD94:AI94))) -> 18.284392 | S96: =AVERAGE('single data'!AJ94:AO94) -> 285.16525 | T96: ± | U96: =(_xlfn.STDEV.S('single data'!AJ94:AO94)/SQRT(COUNT('single data'!AJ94:AO94))) -> 197.39676 | V96: =AVERAGE('single data'!AQ94:AV94) -> 100 | W96: ± | X96: =(_xlfn.STDEV.S('single data'!AQ94:AV94)/SQRT(COUNT('single data'!AQ94:AV94))) -> 58.5324 | Y96: =AVERAGE('single data'!AW94:BB94) -> 41.095044 | Z96: ± | AA96: =(_xlfn.STDEV.S('single data'!AW94:BB94)/SQRT(COUNT('single data'!AW94:BB94))) -> 9.5568183
C97: 5S,6R-diHETE | D97: =AVERAGE('single data'!D95:I95) -> 100 | E97: ± | F97: =(_xlfn.STDEV.S('single data'!D95:I95)/SQRT(COUNT('single data'!D95:I95))) -> 22.972007 | G97: =AVERAGE('single data'!J95:O95) -> 137.2883 | H97: ± | I97: =(_xlfn.STDEV.S('single data'!J95:O95)/SQRT(COUNT('single data'!J95:O95))) -> 40.913208 | J97: =AVERAGE('single data'!Q95:V95) -> 100 | K97: ± | L97: =(_xlfn.STDEV.S('single data'!Q95:V95)/SQRT(COUNT('single data'!Q95:V95))) -> 35.352835 | M97: =AVERAGE('single data'!W95:AB95) -> 154.85913 | N97: ± | O97: =(_xlfn.STDEV.S('single data'!W95:AB95)/SQRT(COUNT('single data'!W95:AB95))) -> 76.065339 | P97: =AVERAGE('single data'!AD95:AI95) -> 100 | Q97: ± | R97: =(_xlfn.STDEV.S('single data'!AD95:AI95)/SQRT(COUNT('single data'!AD95:AI95))) -> 16.630817 | S97: =AVERAGE('single data'!AJ95:AO95) -> 187.99284 | T97: ± | U97: =(_xlfn.STDEV.S('single data'!AJ95:AO95)/SQRT(COUNT('single data'!AJ95:AO95))) -> 102.10959
B98: PTGS | C98: PGE2 | D98: =AVERAGE('single data'!D96:I96) -> 100 | E98: ± | F98: =(_xlfn.STDEV.S('single data'!D96:I96)/SQRT(COUNT('single data'!D96:I96))) -> 14.83408 | G98: =AVERAGE('single data'!J96:O96) -> 144.48269 | H98: ± | I98: =(_xlfn.STDEV.S('single data'!J96:O96)/SQRT(COUNT('single data'!J96:O96))) -> 17.690796 | J98: =AVERAGE('single data'!Q96:V96) -> 100 | K98: ± | L98: =(_xlfn.STDEV.S('single data'!Q96:V96)/SQRT(COUNT('single data'!Q96:V96))) -> 23.217994 | M98: =AVERAGE('single data'!W96:AB96) -> 144.01317 | N98: ± | O98: =(_xlfn.STDEV.S('single data'!W96:AB96)/SQRT(COUNT('single data'!W96:AB96))) -> 21.2876 | P98: =AVERAGE('single data'!AD96:AI96) -> 100 | Q98: ± | R98: =(_xlfn.STDEV.S('single data'!AD96:AI96)/SQRT(COUNT('single data'!AD96:AI96))) -> 24.818485 | S98: =AVERAGE('single data'!AJ96:AO96) -> 257.53026 | T98: ± | U98: =(_xlfn.STDEV.S('single data'!AJ96:AO96)/SQRT(COUNT('single data'!AJ96:AO96))) -> 92.429495 | V98: =AVERAGE('single data'!AQ96:AV96) -> 100 | W98: ± | X98: =(_xlfn.STDEV.S('single data'!AQ96:AV96)/SQRT(COUNT('single data'!AQ96:AV96))) -> 25.186434 | Y98: =AVERAGE('single data'!AW96:BB96) -> 164.55354 | Z98: ± | AA98: =(_xlfn.STDEV.S('single data'!AW96:BB96)/SQRT(COUNT('single data'!AW96:BB96))) -> 50.20313
C99: PGD2 | D99: =AVERAGE('single data'!D97:I97) -> 100 | E99: ± | F99: =(_xlfn.STDEV.S('single data'!D97:I97)/SQRT(COUNT('single data'!D97:I97))) -> 14.888202 | G99: =AVERAGE('single data'!J97:O97) -> 117.20579 | H99: ± | I99: =(_xlfn.STDEV.S('single data'!J97:O97)/SQRT(COUNT('single data'!J97:O97))) -> 15.254788 | J99: =AVERAGE('single data'!Q97:V97) -> 100 | K99: ± | L99: =(_xlfn.STDEV.S('single data'!Q97:V97)/SQRT(COUNT('single data'!Q97:V97))) -> 33.080779 | M99: =AVERAGE('single data'!W97:AB97) -> 148.07011 | N99: ± | O99: =(_xlfn.STDEV.S('single data'!W97:AB97)/SQRT(COUNT('single data'!W97:AB97))) -> 29.204928 | P99: =AVERAGE('single data'!AD97:AI97) -> 100 | Q99: ± | R99: =(_xlfn.STDEV.S('single data'!AD97:AI97)/SQRT(COUNT('single data'!AD97:AI97))) -> 12.160634 | S99: =AVERAGE('single data'!AJ97:AO97) -> 240.61212 | T99: ± | U99: =(_xlfn.STDEV.S('single data'!AJ97:AO97)/SQRT(COUNT('single data'!AJ97:AO97))) -> 73.493172 | V99: =AVERAGE('single data'!AQ97:AV97) -> 100 | W99: ± | X99: =(_xlfn.STDEV.S('single data'!AQ97:AV97)/SQRT(COUNT('single data'!AQ97:AV97))) -> 30.09811 | Y99: =AVERAGE('single data'!AW97:BB97) -> 250.86425 | Z99: ± | AA99: =(_xlfn.STDEV.S('single data'!AW97:BB97)/SQRT(COUNT('single data'!AW97:BB97))) -> 140.98588
C100: 15-ketoPGE2 | D100: =AVERAGE('single data'!D98:I98) -> 100 | E100: ± | F100: =(_xlfn.STDEV.S('single data'!D98:I98)/SQRT(COUNT('single data'!D98:I98))) -> 21.695967 | G100: =AVERAGE('single data'!J98:O98) -> 139.18402 | H100: ± | I100: =(_xlfn.STDEV.S('single data'!J98:O98)/SQRT(COUNT('single data'!J98:O98))) -> 20.103788 | J100: =AVERAGE('single data'!Q98:V98) -> 100 | K100: ± | L100: =(_xlfn.STDEV.S('single data'!Q98:V98)/SQRT(COUNT('single data'!Q98:V98))) -> 25.595781 | M100: =AVERAGE('single data'!W98:AB98) -> 122.20539 | N100: ± | O100: =(_xlfn.STDEV.S('single data'!W98:AB98)/SQRT(COUNT('single data'!W98:AB98))) -> 17.539403
C101: PGF2a | D101: =AVERAGE('single data'!D99:I99) -> 100 | E101: ± | F101: =(_xlfn.STDEV.S('single data'!D99:I99)/SQRT(COUNT('single data'!D99:I99))) -> 14.29002 | G101: =AVERAGE('single data'!J99:O99) -> 121.79861 | H101: ± | I101: =(_xlfn.STDEV.S('single data'!J99:O99)/SQRT(COUNT('single data'!J99:O99))) -> 18.083564 | J101: =AVERAGE('single data'!Q99:V99) -> 100 | K101: ± | L101: =(_xlfn.STDEV.S('single data'!Q99:V99)/SQRT(COUNT('single data'!Q99:V99))) -> 27.564517 | M101: =AVERAGE('single data'!W99:AB99) -> 128.23745 | N101: ± | O101: =(_xlfn.STDEV.S('single data'!W99:AB99)/SQRT(COUNT('single data'!W99:AB99))) -> 24.355367
C102: TXB2 | D102: =AVERAGE('single data'!D100:I100) -> 100 | E102: ± | F102: =(_xlfn.STDEV.S('single data'!D100:I100)/SQRT(COUNT('single data'!D100:I100))) -> 8.8812838 | G102: =AVERAGE('single data'!J100:O100) -> 114.45671 | H102: ± | I102: =(_xlfn.STDEV.S('single data'!J100:O100)/SQRT(COUNT('single data'!J100:O100))) -> 19.679937 | J102: =AVERAGE('single data'!Q100:V100) -> 100 | K102: ± | L102: =(_xlfn.STDEV.S('single data'!Q100:V100)/SQRT(COUNT('single data'!Q100:V100))) -> 29.659308 | M102: =AVERAGE('single data'!W100:AB100) -> 159.74573 | N102: ± | O102: =(_xlfn.STDEV.S('single data'!W100:AB100)/SQRT(COUNT('single data'!W100:AB100))) -> 39.845765 | P102: =AVERAGE('single data'!AD100:AI100) -> 100 | Q102: ± | R102: =(_xlfn.STDEV.S('single data'!AD100:AI100)/SQRT(COUNT('single data'!AD100:AI100))) -> 22.290864 | S102: =AVERAGE('single data'!AJ100:AO100) -> 188.70768 | T102: ± | U102: =(_xlfn.STDEV.S('single data'!AJ100:AO100)/SQRT(COUNT('single data'!AJ100:AO100))) -> 82.278666 | V102: =AVERAGE('single data'!AQ100:AV100) -> 100 | W102: ± | X102: =(_xlfn.STDEV.S('single data'!AQ100:AV100)/SQRT(COUNT('single data'!AQ100:AV100))) -> 53.616798 | Y102: =AVERAGE('single data'!AW100:BB100) -> 47.547334 | Z102: ± | AA102: =(_xlfn.STDEV.S('single data'!AW100:BB100)/SQRT(COUNT('single data'!AW100:BB100))) -> 11.387045
B103: other | C103: 18-HEPE | D103: =AVERAGE('single data'!D101:I101) -> 100 | E103: ± | F103: =(_xlfn.STDEV.S('single data'!D101:I101)/SQRT(COUNT('single data'!D101:I101))) -> 23.242921 | G103: =AVERAGE('single data'!J101:O101) -> 104.17029 | H103: ± | I103: =(_xlfn.STDEV.S('single data'!J101:O101)/SQRT(COUNT('single data'!J101:O101))) -> 12.673977 | J103: =AVERAGE('single data'!Q101:V101) -> 100 | K103: ± | L103: =(_xlfn.STDEV.S('single data'!Q101:V101)/SQRT(COUNT('single data'!Q101:V101))) -> 33.302765 | M103: =AVERAGE('single data'!W101:AB101) -> 51.265778 | N103: ± | O103: =(_xlfn.STDEV.S('single data'!W101:AB101)/SQRT(COUNT('single data'!W101:AB101))) -> 7.330939 | P103: =AVERAGE('single data'!AD101:AI101) -> 100 | Q103: ± | R103: =(_xlfn.STDEV.S('single data'!AD101:AI101)/SQRT(COUNT('single data'!AD101:AI101))) -> 26.604263 | S103: =AVERAGE('single data'!AJ101:AO101) -> 386.25074 | T103: ± | U103: =(_xlfn.STDEV.S('single data'!AJ101:AO101)/SQRT(COUNT('single data'!AJ101:AO101))) -> 295.60959 | V103: =AVERAGE('single data'!AQ101:AV101) -> 100 | W103: ± | X103: =(_xlfn.STDEV.S('single data'!AQ101:AV101)/SQRT(COUNT('single data'!AQ101:AV101))) -> 59.378415 | Y103: =AVERAGE('single data'!AW101:BB101) -> 42.339314 | Z103: ± | AA103: =(_xlfn.STDEV.S('single data'!AW101:BB101)/SQRT(COUNT('single data'!AW101:BB101))) -> 8.1121008
...

Sheet single data
A1: Table S9 Effect of LCM 2 on the lipid mediator profile in zymosan-induced peritonitis
D3: Exudate | AD3: Plasma
D4: 4h | Q4: 18h | AD4: 4h | AQ4: 18h
C5: compound | D5: 2% DMSO in saline | J5: 2 | Q5: 2% DMSO in saline | W5: 2 | AD5: 2% DMSO in saline | AJ5: 2 | AQ5: 2% DMSO in saline | AW5: 2
A6: pg / 500 µl | B6: SPM/iso | C6: PDX | D6: 20.109404 | E6: 4.4283575 | F6: 10.533562 | G6: 12.098388 | H6: 1.6716766 | I6: 7.5526588 | J6: 17.930203 | K6: 9.4139255 | L6: 14.656014 | N6: 5.659712 | O6: 20.795667 | Q6: 9.01388 | R6: 6.1476021 | S6: 7.0303302 | T6: 7.6101497 | V6: 7.1535005 | X6: 3.4656711 | Y6: 7.0918842 | Z6: 2.3081492 | AA6: 4.8105946 | AB6: 10.141041 | AD6: 5.1870004 | AE6: 3.8647483 | AF6: 8.2502838 | AG6: 5.2283188 | AH6: 5.7305175 | AI6: 3.4692454 | AJ6: 6.7850799 | AK6: 15.562969 | AL6: 10.031279 | AM6: 9.892837 | AO6: 5.9029261 | AQ6: 3.2787966 | AR6: 3.8616332 | AS6: 2.3645562 | AT6: 3.9064801 | AU6: 3.0910812 | AW6: 4.5821199 | AX6: 3.8204567 | AY6: 6.4638133 | AZ6: 4.2763109 | BA6: 9.1409947 | BB6: 10.216995
C7: AT-PD1 | D7: 13.347741 | E7: 3.8805227 | F7: 12.364717 | G7: 9.52084 | H7: 1.5711422 | I7: 5.0910114 | J7: 40.078556 | K7: 14.786709 | L7: 23.498762 | M7: 35.639755 | N7: 4.8430385 | O7: 29.561849 | Q7: 11.105013 | R7: 7.6908097 | S7: 7.9600466 | T7: 7.7210885 | V7: 5.5918427 | X7: 5.5374237 | Y7: 9.8900652 | Z7: 3.8718131 | AA7: 12.028049 | AB7: 12.881978
C8: RvD5 | D8: 18.515356 | E8: 14.784989 | F8: 7.8790622 | G8: 23.836366 | H8: 4.4770914 | I8: 8.5709679 | J8: 37.960599 | K8: 19.971912 | L8: 14.578206 | M8: 35.932595 | N8: 11.271524 | O8: 10.053857 | Q8: 2.3368214 | R8: 3.0446374 | S8: 6.7518761 | T8: 3.5536362 | V8: 4.369883 | X8: 0.92393822 | Y8: 5.9716974 | Z8: 6.3622817 | AA8: 3.7562253 | AB8: 7.7131044
C9: MaR2 | D9: 10.332927 | E9: 3.9280578 | F9: 8.7428183 | G9: 8.1807531 | H9: 2.2911886 | I9: 4.560545 | J9: 12.773806 | K9: 5.448931 | L9: 6.275526 | N9: 2.6986506 | O9: 7.7163505 | Q9: 7.9187623 | R9: 11.492505 | S9: 5.9318026 | T9: 4.4556355 | U9: 21.625888 | V9: 3.2127265 | X9: 2.866017 | Y9: 3.7140411 | Z9: 1.453571 | AA9: 4.7551529 | AB9: 4.1239303
B10: ALOX12/15 | C10: 17-HDHA | D10: 470.60226 | E10: 183.62032 | F10: 344.35877 | G10: 438.63916 | H10: 286.37909 | I10: 239.23613 | J10: 902.31 | K10: 712.35 | L10: 924.12973 | M10: 1544.1359 | N10: 207.72724 | O10: 982.02536 | Q10: 273.33611 | R10: 402.77734 | S10: 219.64125 | T10: 452.22219 | U10: 649.58789 | V10: 535.13122 | X10: 116.94412 | Y10: 276.43433 | Z10: 196.69366 | AA10: 212.36934 | AB10: 324.93158 | AD10: 1562.421 | AE10: 567.76411 | AF10: 4640.078 | AG10: 2068.1129 | AH10: 3808.0412 | AI10: 529.5008 | AJ10: 1790.824 | AK10: 4690.0062 | AL10: 1487.6702 | AM10: 2980.6224 | AO10: 1210.2491 | AQ10: 965.86279 | AR10: 1432.2142 | AS10: 787.52261 | AT10: 802.33105 | AU10: 714.35098 | AW10: 1377.3473 | AX10: 908.74556 | AY10: 511.76724 | AZ10: 1055.9962 | BA10: 1058.7092 | BB10: 1004.1104
C11: 17-HDPA | D11: 47.527558 | E11: 32.363833 | F11: 36.664347 | G11: 59.642522 | H11: 57.972093 | I11: 25.881879 | J11: 89.578795 | K11: 73.629456 | L11: 68.632862 | M11: 89.82417 | N11: 34.966518 | O11: 74.801017 | Q11: 35.005327 | R11: 27.627105 | S11: 15.224765 | T11: 22.437529 | U11: 38.79033 | V11: 69.185325 | W11: 49.475319 | X11: 11.347442 | Y11: 24.113949 | Z11: 21.684953 | AA11: 20.04802 | AB11: 27.585855 | AD11: 245.99227 | AE11: 133.88699 | AF11: 642.66185 | AG11: 390.56232 | AH11: 641.50319 | AI11: 122.76443 | AJ11: 246.83947 | AK11: 313.50211 | AL11: 255.40539 | AM11: 460.95964 | AO11: 177.82045 | AQ11: 289.50544 | AR11: 295.90195 | AS11: 225.98222 | AT11: 244.13482 | AU11: 239.39253 | AW11: 323.56773 | AX11: 224.83761 | AY11: 115.03302 | AZ11: 215.7103 | BA11: 373.28875 | BB11: 240.04096
C12: 15-HETE | D12: 114.35023 | E12: 77.111068 | F12: 65.484455 | G12: 79.382365 | H12: 95.476364 | I12: 94.248584 | J12: 99.852364 | K12: 166.45832 | L12: 119.97041 | M12: 106.32108 | N12: 91.574685 | O12: 146.75229 | Q12: 45.591584 | R12: 63.952991 | S12: 85.43619 | T12: 90.162809 | U12: 160.48546 | V12: 235.34341 | X12: 65.093 | Y12: 113.8903 | Z12: 62.45597 | AA12: 77.9475 | AB12: 97.884211 | AD12: 255.26667 | AE12: 91.798515 | AF12: 767.80734 | AG12: 254.84654 | AH12: 573.47713 | AI12: 93.019251 | AJ12: 188.85251 | AK12: 373.0472 | AL12: 181.32597 | AM12: 314.38105 | AO12: 146.91675 | AQ12: 107.14765 | AR12: 118.40127 | AS12: 79.328744 | AT12: 72.204 | AU12: 55.867753 | AW12: 103.39249 | AX12: 71.621215 | AY12: 87.232105 | AZ12: 107.20101 | BB12: 130.05798
C13: 15-HEPE | D13: 33.93 | E13: 14.107937 | F13: 32.594076 | G13: 39.998571 | H13: 10.151318 | I13: 11.740381 | J13: 30.924545 | K13: 21.573916 | L13: 21.255628 | N13: 14.924455 | O13: 40.566857 | Q13: 19.213615 | R13: 33.795841 | S13: 21.656786 | T13: 40.132416 | U13: 43.001762 | V13: 20.734859 | X13: 11.425275 | Y13: 31.539123 | Z13: 11.854075 | AA13: 23.876606 | AB13: 30.358421 | AD13: 35.1016 | AE13: 25.589629 | AF13: 62.484358 | AG13: 65.32818 | AH13: 91.808138 | AI13: 22.185 | AJ13: 49.947235 | AK13: 67.93295 | AL13: 44.124862 | AM13: 67.605868 | AO13: 38.213953 | AQ13: 48.024 | AR13: 55.696519 | AS13: 35.228442 | AT13: 34.211605 | AU13: 40.381685 | AW13: 88.74 | AX13: 62.511939 | AY13: 27.906395 | AZ13: 35.674372 | BA13: 49.086496 | BB13: 50.034255
C14: 14-HDHA | D14: 1920.9231 | E14: 424.28155 | F14: 1014.8573 | G14: 902.62094 | H14: 343.6803 | I14: 675.4042 | J14: 1095.3627 | K14: 796.26287 | L14: 1006.051 | M14: 5869.1677 | N14: 488.96224 | O14: 1549.6018 | Q14: 903.9638 | R14: 1153.7881 | S14: 790.28452 | T14: 1069.7275 | U14: 2007.6608 | V14: 1003.448 | W14: 3260.6752 | X14: 304.34625 | Y14: 634.78265 | Z14: 307.49104 | AA14: 641.85844 | AB14: 987.56228 | AD14: 11792.333 | AE14: 3399.6535 | AF14: 30141.089 | AG14: 8918.5714 | AH14: 13864.109 | AI14: 4239.8984 | AJ14: 12206.983 | AL14: 19401.588 | AM14: 13389.592 | AN14: 31105.345 | AO14: 15362.356 | AQ14: 5857.4029 | AR14: 7704.9684 | AS14: 7497.8744 | AT14: 6045.8526 | AU14: 4541.9579 | AW14: 7009.8425 | AX14: 1757.6671 | AY14: 5380.4803 | AZ14: 6423.3882 | BA14: 10445.965 | BB14: 6118.4721
C15: 14-HDPA | D15: 233.36885 | E15: 72.513304 | F15: 195.2451 | G15: 162.66142 | H15: 100.69673 | I15: 88.63848 | J15: 365.93891 | K15: 293.76458 | L15: 303.85447 | M15: 715.58039 | N15: 76.090663 | O15: 327.95641 | Q15: 381.35885 | R15: 329.17402 | S15: 262.06562 | T15: 371.01426 | V15: 355.8979 | W15: 1207.8388 | X15: 68.923259 | Y15: 195.9625 | Z15: 111.47568 | AA15: 251.583 | AB15: 364.13329 | AD15: 2683.552 | AE15: 687.33846 | AF15: 7068.5591 | AG15: 1985.4188 | AH15: 3788.7998 | AI15: 759.2896 | AJ15: 2248.7866 | AL15: 3066.6022 | AM15: 3980.6389 | AN15: 7990.8535 | AO15: 2626.1445 | AQ15: 1220.9175 | AR15: 1685.1815 | AS15: 1256.3347 | AT15: 1340.6726 | AU15: 878.06707 | AW15: 1599.6607 | AX15: 441.59282 | AY15: 787.85203 | AZ15: 1406.4628 | BA15: 2172.8748 | BB15: 1254.5695
C16: 12-HETE | D16: 1317.6814 | E16: 250.20211 | F16: 650.06161 | G16: 410.60542 | H16: 191.83636 | I16: 373.48673 | J16: 581.90364 | K16: 429.62156 | L16: 598.84054 | N16: 271.52224 | O16: 1055.1 | Q16: 761.4862 | R16: 1533.3463 | S16: 979.73571 | T16: 1010.6435 | U16: 2107.876 | V16: 2830.7561 | X16: 396.10212 | Y16: 798.21465 | Z16: 277.1606 | AA16: 939.69844 | AB16: 1184.6737 | AD16: 15005.867 | AE16: 2689.9827 | AG16: 8399.4712 | AH16: 17538.231 | AI16: 3484.0869 | AJ16: 9799.4623 | AL16: 16030.525 | AM16: 14160.553 | AN16: 32369.578 | AO16: 27896.623 | AQ16: 6284.0515 | AR16: 6855.9241 | AS16: 7131.2035 | AT16: 6913.6816 | AU16: 4371.552 | AW16: 6388.539 | AX16: 1294.2231 | AY16: 4664.6526 | AZ16: 7939.7601 | BA16: 13811.841 | BB16: 12150.487
C17: 12-HEPE | D17: 120.58887 | E17: 44.253 | F17: 84.358009 | G17: 98.824433 | H17: 38.839333 | I17: 35.071699 | J17: 70.328 | K17: 46.755665 | L17: 52.226514 | N17: 37.823077 | O17: 138.37843 | Q17: 91.665339 | R17: 170.94617 | S17: 63.218571 | T17: 88.947978 | U17: 156.82414 | V17: 114.17034 | X17: 26.96155 | Y17: 58.710448 | Z17: 20.03494 | AA17: 63.306375 | AB17: 92.589123 | AD17: 1842.236 | AE17: 533.08069 | AF17: 5525.9862 | AG17: 1919.2161 | AH17: 2955.4309 | AI17: 652.09412 | AJ17: 2491.4631 | AL17: 3911.8674 | AM17: 2691.4105 | AN17: 4732.7564 | AO17: 6487.3508 | AQ17: 1593.6865 | AR17: 1580.9089 | AS17: 2668.5226 | AT17: 1959.0363 | AU17: 859.09382 | AV17: 2312.8111 | AW17: 1998.0642 | AX17: 353.84019 | AY17: 662.50105 | AZ17: 1376.2658 | BA17: 3329.622 | BB17: 2495.116
B18: CYP | C18: 5.6-EET | D18: 22.099548 | E18: 17.155955 | F18: 16.95419 | G18: 20.95152 | I18: 15.305011 | J18: 33.744926 | K18: 34.9192 | L18: 26.594808 | M18: 68.184332 | N18: 45.398743 | O18: 27.854622 | Q18: 4.2827371 | R18: 10.616479 | S18: 4.3494294 | T18: 4.9297693 | U18: 4.9864617 | W18: 17.883619 | X18: 11.820171 | Y18: 7.6327052 | Z18: 9.22723 | AA18: 8.0097845 | AB18: 7.8243729 | AD18: 139.92099 | AE18: 99.959541 | AF18: 180.81449 | AG18: 111.83581 | AH18: 228.1585 | AI18: 84.591761 | AJ18: 235.48076 | AK18: 401.74031 | AL18: 154.56039 | AM18: 180.5054 | AN18: 391.42688 | AO18: 142.78073 | AQ18: 63.132677 | AR18: 95.429867 | AS18: 53.315656 | AT18: 52.630218 | AU18: 49.56823 | AW18: 75.334377 | AX18: 63.313352 | AY18: 47.10212 | AZ18: 76.578617 | BA18: 142.97106
C19: 8.9-EET | D19: 40.365605 | E19: 30.791126 | F19: 24.566604 | G19: 42.420029 | I19: 29.995501 | J19: 37.953935 | K19: 49.524188 | L19: 45.077744 | M19: 37.186583 | N19: 51.402137 | O19: 50.612002 | Q19: 13.764811 | R19: 28.014429 | S19: 14.606501 | T19: 18.810868 | U19: 18.158869 | X19: 25.045269 | Y19: 25.185895 | Z19: 24.846414 | AA19: 26.033069 | AB19: 26.383682 | AD19: 246.58197 | AE19: 133.07263 | AF19: 330.7266 | AG19: 141.21086 | AH19: 378.98595 | AI19: 106.0643 | AJ19: 202.32959 | AK19: 231.27315 | AL19: 305.26385 | AM19: 240.00183 | AO19: 194.42829 | AQ19: 134.10975 | AR19: 177.40514 | AS19: 97.840469 | AT19: 114.49992 | AU19: 92.606205 | AW19: 121.44192 | AX19: 137.36636 | AY19: 122.89336 | AZ19: 170.83925 | BA19: 244.50621 | BB19: 217.42326
C20: 11.12-EET | D20: 24.811129 | E20: 13.893597 | F20: 13.47118 | G20: 19.539039 | H20: 34.024259 | I20: 16.423201 | J20: 31.793286 | K20: 39.98718 | L20: 32.734247 | M20: 29.45698 | N20: 26.016241 | O20: 36.153448 | Q20: 8.2671263 | R20: 14.169415 | S20: 9.3309237 | T20: 8.509587 | U20: 10.176048 | W20: 30.11596 | X20: 25.592286 | Y20: 13.926907 | Z20: 15.804554 | AA20: 15.484813 | AB20: 15.649545 | AD20: 90.990842 | AE20: 51.439154 | AF20: 102.76346 | AG20: 57.982342 | AH20: 115.15887 | AI20: 54.137815 | AJ20: 117.41594 | AK20: 115.30284 | AL20: 142.50943 | AM20: 116.27041 | AN20: 176.09607 | AO20: 101.20893 | AQ20: 67.704872 | AR20: 98.683524 | AS20: 64.016482 | AT20: 69.5446 | AU20: 70.221389 | AW20: 83.685314 | AX20: 102.31303 | AY20: 76.665076 | AZ20: 91.630606 | BA20: 132.2933 | BB20: 138.92939
C21: 14.15-EET | D21: 4.7617537 | E21: 3.1239089 | F21: 1.9889164 | G21: 1.678484 | H21: 4.1053646 | I21: 3.0729235 | J21: 5.4086631 | K21: 7.0435138 | L21: 5.4513232 | M21: 6.5291985 | N21: 5.5456377 | O21: 5.9301011 | Q21: 0.93891722 | R21: 2.907661 | S21: 1.2778945 | T21: 1.0730482 | U21: 1.2660135 | V21: 4.2396341 | W21: 3.5762543 | X21: 4.3406019 | Y21: 4.8565563 | Z21: 3.0598589 | AA21: 2.4338984 | AB21: 2.2020986 | AD21: 15.683975 | AE21: 14.912899 | AF21: 14.875808 | AH21: 17.388263 | AI21: 16.598237 | AJ21: 17.770083 | AK21: 22.516561 | AL21: 27.016399 | AM21: 27.242797 | AN21: 38.422619 | AO21: 19.847147 | AQ21: 21.634652 | AR21: 30.23751 | AS21: 28.216449 | AT21: 22.177064 | AU21: 35.669851 | AV21: 31.905582 | AW21: 22.39724 | AX21: 28.678886 | AY21: 25.223258 | AZ21: 22.377745 | BA21: 24.504816 | BB21: 33.850866
C22: 7,8-EpDPA | D22: 9.9224193 | E22: 8.5939164 | F22: 8.6418671 | G22: 18.27342 | H22: 28.185078 | I22: 8.2513633 | J22: 17.204199 | K22: 22.518237 | L22: 16.654355 | M22: 28.641617 | N22: 21.550497 | O22: 14.57828 | Q22: 4.4484556 | R22: 5.394294 | S22: 2.3230839 | T22: 2.485206 | U22: 3.3577193 | V22: 10.450771 | W22: 6.6348376 | X22: 4.406364 | Y22: 3.1382384 | Z22: 5.836168 | AA22: 3.3943419 | AB22: 2.8164402 | AD22: 66.924829 | AE22: 51.568481 | AF22: 86.885434 | AG22: 61.367267 | AH22: 129.44806 | AI22: 49.102266 | AJ22: 110.66655 | AK22: 144.29161 | AL22: 126.43436 | AM22: 135.10942 | AN22: 116.7252 | AO22: 87.014914 | AQ22: 71.739515 | AR22: 83.543686 | AS22: 55.532779 | AT22: 50.741093 | AU22: 53.396903 | AW22: 80.282409 | AX22: 79.443901 | AY22: 56.712596 | AZ22: 80.879455 | BA22: 70.339985 | BB22: 108.01431
C23: 10.11-EpDPA | D23: 8.9223444 | E23: 6.7877405 | F23: 5.8091458 | G23: 12.920113 | H23: 18.676799 | I23: 5.8813626 | J23: 14.350558 | K23: 14.672981 | L23: 12.092101 | M23: 17.758757 | N23: 13.022112 | O23: 11.411201 | Q23: 2.3328833 | R23: 2.7310007 | S23: 1.3344511 | T23: 1.5037664 | U23: 1.4212896 | W23: 3.717096 | X23: 4.4366863 | Y23: 0.95221451 | Z23: 3.2125639 | AA23: 1.2033077 | AB23: 2.2134919 | AD23: 46.134586 | AE23: 30.113878 | AF23: 54.614866 | AG23: 42.194063 | AH23: 82.085023 | AI23: 34.692896 | AJ23: 79.917052 | AK23: 115.38946 | AL23: 82.833646 | AM23: 64.177553 | AN23: 37.707042 | AO23: 63.04408 | AQ23: 35.950674 | AR23: 46.106445 | AS23: 24.156737 | AT23: 24.173115 | AU23: 30.161802 | AW23: 48.463008 | AX23: 44.846715 | AY23: 32.952034 | AZ23: 40.210446 | BA23: 47.932364 | BB23: 73.016126
C24: 13.14-EpDPA | D24: 9.5947923 | E24: 6.6848129 | F24: 4.6754598 | G24: 13.242589 | H24: 20.862125 | I24: 7.9480265 | J24: 20.923399 | K24: 18.032489 | L24: 15.161747 | M24: 21.579045 | N24: 11.475314 | O24: 16.036681 | Q24: 2.4117756 | R24: 2.2743884 | S24: 0.90823196 | T24: 1.0049065 | U24: 1.075116 | W24: 4.7955574 | X24: 4.7755405 | Y24: 1.3349286 | Z24: 2.3812064 | AA24: 1.2880589 | AB24: 1.9472065 | AD24: 42.051472 | AE24: 33.906006 | AF24: 60.845024 | AG24: 55.174799 | AH24: 78.467869 | AI24: 42.99325 | AJ24: 85.85509 | AK24: 126.05235 | AL24: 82.616494 | AM24: 68.333643 | AN24: 60.9542 | AO24: 66.815117 | AQ24: 32.957376 | AR24: 43.293575 | AS24: 35.000158 | AT24: 38.813509 | AU24: 37.50017 | AW24: 46.050933 | AX24: 59.106107 | AY24: 45.808849 | AZ24: 48.99893 | BA24: 61.672187 | BB24: 69.16698
C25: 16.17-EpDPA | D25: 12.200967 | E25: 10.449552 | F25: 7.4873626 | G25: 18.62267 | H25: 34.126925 | I25: 9.675753 | J25: 20.393217 | K25: 24.479042 | L25: 19.550488 | M25: 20.586372 | N25: 15.546797 | O25: 15.363435 | Q25: 4.5583457 | R25: 4.0355545 | S25: 0.7292511 | T25: 1.1464548 | U25: 1.7389283 | V25: 11.636356 | W25: 4.4621891 | X25: 7.7334805 | Y25: 2.5924747 | Z25: 3.4501591 | AA25: 1.8453984 | AB25: 2.6148358 | AD25: 36.82704 | AE25: 30.217832 | AF25: 44.301131 | AG25: 34.866449 | AH25: 59.905207 | AI25: 25.565545 | AJ25: 76.729866 | AK25: 103.28705 | AL25: 96.182229 | AM25: 84.825773 | AN25: 59.848277 | AO25: 62.572098 | AQ25: 58.176968 | AR25: 62.457333 | AS25: 50.573631 | AT25: 49.764453 | AU25: 50.860982 | AV25: 91.495541 | AW25: 74.9909 | AX25: 72.494045 | AY25: 35.60588 | AZ25: 52.331145 | BA25: 98.474364 | BB25: 74.423696
C26: 19.20-EpDPA | D26: 195.36006 | E26: 205.3165 | F26: 231.14316 | H26: 148.86126 | I26: 209.65582 | J26: 422.91566 | K26: 411.01322 | L26: 184.21276 | M26: 400.15106 | N26: 243.53251 | O26: 187.79933 | Q26: 70.139741 | R26: 38.553536 | S26: 16.019885 | T26: 15.793843 | U26: 33.433739 | V26: 78.462492 | X26: 27.001599 | Y26: 21.267577 | Z26: 27.979909 | AA26: 23.569608 | AB26: 28.417258 | AD26: 548.18071 | AE26: 587.58135 | AF26: 883.00159 | AG26: 775.34726 | AH26: 800.38637 | AI26: 464.35749 | AJ26: 920.2391 | AK26: 1141.5996 | AL26: 948.32664 | AM26: 1136.9796 | AN26: 530.36401 | AO26: 657.62116 | AQ26: 881.77079 | AR26: 883.00159 | AS26: 464.54945 | AT26: 381.56019 | AU26: 476.06721 | AV26: 632.17614 | AW26: 677.54446 | AX26: 548.06019 | AY26: 290.33274 | AZ26: 413.65705 | BA26: 632.60726 | BB26: 733.29707
C27: 8,9-EpETE | D27: 1.3618833 | E27: 0.662452 | F27: 0.42100568 | G27: 2.2854594 | H27: 2.088698 | I27: 0.2731205 | J27: 1.5674611 | K27: 1.3860888 | L27: 1.2264591 | N27: 1.0808267 | O27: 1.1506561 | Q27: 0.194096 | R27: 0.55516197 | S27: 0.18370465 | T27: 0.22662539 | U27: 0.18969313 | W27: 0.32751449 | X27: 0.42834214 | Z27: 0.39950142 | AA27: 0.26697402 | AB27: 0.19618545
C28: 14.15-EpETE | D28: 0.97003859 | E28: 0.96120643 | F28: 0.47795698 | G28: 1.9928639 | H28: 1.8244805 | I28: 0.81918071 | J28: 1.7517644 | K28: 3.1215384 | L28: 1.5837129 | M28: 1.1277637 | N28: 0.88438362 | O28: 2.5526634 | Q28: 0.17796237 | R28: 0.23818497 | S28: 0.19477206 | T28: 0.0016394317 | U28: 0.10339624 | W28: 0.18074906 | X28: 0.13224457 | Y28: 0.041612628 | Z28: 0.16863118 | AA28: 0.12172053 | AB28: 0.042981435
B29: EPHX2 | C29: 5.6-DHET | D29: 36.927405 | E29: 28.218336 | F29: 21.388318 | G29: 26.695652 | H29: 30.633421 | I29: 23.110644 | J29: 28.036791 | K29: 37.171958 | L29: 19.578394 | M29: 40.395578 | N29: 28.829349 | O29: 28.830802 | Q29: 8.5270037 | R29: 12.381542 | S29: 8.0222975 | T29: 7.1523482 | U29: 8.5167261 | V29: 13.209246 | W29: 8.3319012 | X29: 2.1123674 | Y29: 8.7702587 | Z29: 3.1438669 | AA29: 3.914305 | AB29: 3.8720532 | AD29: 232.60903 | AE29: 227.51418 | AF29: 173.70273 | AH29: 208.72012 | AI29: 239.72454 | AJ29: 226.65016 | AK29: 471.71313 | AL29: 221.44833 | AM29: 202.39059 | AN29: 239.01364 | AO29: 217.15076 | AQ29: 206.35903 | AR29: 265.99141 | AS29: 136.43929 | AT29: 137.33096 | AU29: 143.58663 | AV29: 183.90253 | AW29: 123.25926 | AX29: 121.77428 | AY29: 139.33531 | AZ29: 100.2853 | BA29: 187.82083 | BB29: 250.57882
C30: 8.9-DHET | D30: 35.447162 | E30: 25.397812 | F30: 33.6025 | G30: 28.718765 | H30: 39.662745 | I30: 18.983079 | J30: 32.792756 | K30: 49.395189 | L30: 24.821723 | M30: 57.478867 | N30: 29.501624 | O30: 23.916764 | Q30: 18.084343 | R30: 22.979839 | S30: 8.1775467 | T30: 6.280009 | U30: 10.359067 | V30: 19.447821 | W30: 9.5104823 | X30: 3.547927 | Y30: 8.8943705 | Z30: 9.2261346 | AA30: 7.7890474 | AB30: 6.0140921 | AD30: 229.4886 | AE30: 129.15053 | AF30: 195.67435 | AH30: 234.47243 | AI30: 216.33517 | AJ30: 172.57671 | AK30: 197.63705 | AL30: 252.55103 | AM30: 269.83016 | AN30: 183.48451 | AO30: 108.67794 | AQ30: 108.78924 | AR30: 232.97366 | AS30: 87.683992 | AT30: 56.780351 | AU30: 99.530629 | AV30: 331.76876 | AW30: 72.053331 | AX30: 47.50559 | AY30: 90.654526 | AZ30: 94.845879 | BA30: 136.21197 | BB30: 90.654526
C31: 11.12-DHET | D31: 29.130883 | E31: 19.349571 | F31: 26.880335 | G31: 24.680244 | H31: 36.166964 | I31: 15.159038 | J31: 27.115025 | K31: 37.762452 | L31: 23.163445 | M31: 32.747751 | N31: 21.528451 | O31: 20.778217 | Q31: 16.824657 | R31: 19.379789 | S31: 7.1589834 | T31: 5.6721978 | U31: 9.2160167 | V31: 16.461353 | W31: 7.0746033 | X31: 3.1770323 | Y31: 9.1122278 | Z31: 6.6751728 | AA31: 6.6584875 | AB31: 4.3570802 | AD31: 221.11846 | AE31: 110.58677 | AF31: 155.76945 | AH31: 194.8554 | AI31: 269.11044 | AJ31: 177.83468 | AK31: 125.80239 | AL31: 298.62172 | AM31: 218.50043 | AN31: 141.72474 | AO31: 97.431357 | AQ31: 94.500778 | AR31: 170.46051 | AS31: 78.076007 | AT31: 47.409016 | AU31: 83.650063 | AV31: 229.59072 | AW31: 66.524853 | AX31: 35.500236 | AY31: 73.556628 | AZ31: 67.218245 | BA31: 112.04909 | BB31: 53.44149
C32: 14.15-DHET | D32: 43.195746 | E32: 24.174786 | F32: 58.200317 | G32: 46.29228 | H32: 60.13224 | I32: 20.456907 | J32: 41.019279 | K32: 69.955167 | L32: 44.49237 | M32: 71.54633 | N32: 33.714815 | O32: 28.418829 | Q32: 39.633836 | R32: 50.1102 | S32: 17.326239 | T32: 12.964957 | U32: 21.804899 | V32: 35.022074 | W32: 19.930395 | X32: 6.755021 | Y32: 21.368421 | Z32: 20.142819 | AA32: 16.601924 | AB32: 11.130543 | AD32: 317.81617 | AE32: 168.4386 | AF32: 299.20212 | AH32: 384.30379 | AI32: 369.60702 | AJ32: 254.62188 | AK32: 195.23923 | AL32: 619.74408 | AM32: 695.85263 | AN32: 232.15891 | AO32: 168.73843 | AQ32: 255.84214 | AR32: 452.73884 | AS32: 206.05703 | AT32: 118.63291 | AU32: 233.15064 | AV32: 580.16555 | AW32: 181.69919 | AX32: 88.528498 | AY32: 201.37174 | AZ32: 202.1306 | BA32: 313.59328 | BB32: 100.68587
B33: EC | C33: AEA | D33: 1.9047619 | E33: 1.5276772 | F33: 0.94382683 | G33: 3.8669087 | H33: 3.0168254 | I33: 1.2613856 | J33: 4.2199895 | K33: 8.7171764 | L33: 5.190354 | N33: 2.1313222 | O33: 6.0613854 | Q33: 0.34035906 | R33: 0.61499404 | S33: 0.32245372 | T33: 0.0055063909 | U33: 0.14273252 | W33: 0.410811 | X33: 0.51497085 | Y33: 0.12749987 | Z33: 0.44601309 | AA33: 0.36030141 | AB33: 0.10409571 | AD33: 226.00148 | AE33: 197.68013 | AF33: 143.81616 | AG33: 269.33699 | AH33: 214.14592 | AI33: 186.53743 | AJ33: 283.7683 | AK33: 461.25803 | AL33: 211.9378 | AM33: 194.05953 | AN33: 293.34832 | AO33: 220.57256 | AQ33: 166.91165 | AR33: 191.48819 | AS33: 239.04091 | AT33: 148.90822 | AU33: 180.01772 | AV33: 102.65991 | AW33: 324.70427 | AX33: 214.19587 | AY33: 202.50853 | AZ33: 205.6203 | BA33: 248.67655 | BB33: 261.93789
C34: PEA | D34: 191.25584 | E34: 162.97373 | F34: 220.97109 | G34: 368.4691 | H34: 323.65742 | I34: 115.71198 | J34: 312.07735 | K34: 158.61775 | L34: 311.21203 | M34: 627.49242 | N34: 203.84987 | O34: 137.58682 | Q34: 206.84184 | R34: 228.34231 | S34: 161.4216 | T34: 214.45637 | U34: 72.492167 | V34: 344.40859 | W34: 690.32487 | X34: 507.02937 | Y34: 440.7471 | Z34: 226.01814 | AA34: 270.25335 | AB34: 346.61486 | AD34: 1093.4776 | AE34: 1578.9265 | AF34: 1240.349 | AG34: 1046.6332 | AH34: 2133.0527 | AI34: 1171.8958 | AJ34: 3231.0668 | AK34: 2665.4966 | AL34: 3009.2982 | AM34: 1220.4953 | AO34: 2022.6862 | AQ34: 1053.0245 | AR34: 913.62387 | AS34: 1901.249 | AT34: 968.86366 | AU34: 1123.0574 | AV34: 1873.7964 | AW34: 1396.9177 | AX34: 1676.3012 | AY34: 1425.6871 | AZ34: 2134.5424 | BA34: 2376.9031 | BB34: 1445.0872
C35: OEA | D35: 114.47761 | E35: 82.188814 | F35: 99.963411 | G35: 125.37472 | H35: 84.258777 | I35: 85.553034 | J35: 140.66274 | K35: 148.96186 | L35: 78.20753 | N35: 141.04895 | O35: 108.8953 | Q35: 31.957215 | R35: 43.78753 | S35: 51.591059 | T35: 30.60691 | U35: 38.157869 | W35: 60.273734 | X35: 28.209146 | Y35: 72.277065 | Z35: 64.03412 | AA35: 46.264857 | AB35: 97.409692 | AD35: 2235.7543 | AE35: 2940.6883 | AF35: 2360.7404 | AG35: 3511.9145 | AH35: 3132.7353 | AI35: 2382.7748 | AJ35: 3433.0695 | AK35: 5561.4588 | AL35: 2772.6375 | AM35: 3490.1513 | AO35: 3199.3366 | AQ35: 1614.1378 | AR35: 1565.0453 | AT35: 1564.4227 | AU35: 1553.1101 | AV35: 1356.8042 | AW35: 2696.39 | AX35: 1276.7812 | AY35: 2303.5521 | AZ35: 1885.3263 | BA35: 1448.5488 | BB35: 2754.9323
C36: 2-AG | D36: 11.963158 | E36: 15.823376 | F36: 10.633675 | G36: 12.350312 | H36: 16.874378 | I36: 9.6227429 | J36: 13.888305 | K36: 32.178593 | L36: 9.7174559 | N36: 18.754373 | O36: 12.954125 | Q36: 2.8130221 | R36: 3.9026616 | S36: 7.2199634 | T36: 4.5968333 | U36: 5.1114718 | X36: 6.9221703 | Y36: 6.4758839 | Z36: 7.146215 | AA36: 4.1569486 | AB36: 4.1261196 | AD36: 727.13419 | AE36: 504.29638 | AF36: 355.69569 | AG36: 508.1835 | AH36: 805.60738 | AI36: 504.5181 | AJ36: 338.73937 | AL36: 326.99904 | AM36: 429.69178 | AN36: 956.41073 | AO36: 560.43072 | AQ36: 474.55184 | AR36: 399.25993 | AS36: 410.03712 | AT36: 457.83339 | AU36: 496.32517 | AV36: 269.81501 | AW36: 1259.4734 | AX36: 555.80095 | AY36: 647.2734 | AZ36: 1458.6381 | BA36: 868.37292 | BB36: 1157.896
C37: 1-AG | D37: 119.06993 | F37: 109.59196 | G37: 117.91475 | H37: 134.44626 | I37: 102.15613 | J37: 99.710906 | K37: 204.08571 | L37: 95.479654 | N37: 133.02521 | O37: 84.717683 | Q37: 16.149918 | R37: 31.060358 | S37: 33.211831 | T37: 21.334021 | U37: 39.585083 | X37: 52.071251 | Y37: 40.669802 | Z37: 50.27425 | AA37: 38.068898 | AB37: 25.240037 | AD37: 4945.8226 | AE37: 2944.0005 | AF37: 2294.9681 | AG37: 2604.1244 | AH37: 3854.4146 | AI37: 3443.5362 | AJ37: 1695.9166 | AK37: 3643.1476 | AL37: 2142.7042 | AM37: 2488.054 | AN37: 3484.7944 | AO37: 1919.8539 | AQ37: 3779.365 | AR37: 3463.7782 | AS37: 3812.6259 | AT37: 3427.4959 | AU37: 4577.221 | AV37: 1849.7478 | AW37: 5397.7431 | AX37: 3852.7112 | AY37: 3803.21 | AZ37: 5122.8308 | BA37: 3338.1002 | BB37: 3484.5094
B38: ALOX5 | C38: LTB4 isomers+LTB4 | D38: 894.44314 | E38: 1375.3152 | F38: 222.47802 | G38: 550.187 | H38: 935.71986 | I38: 647.65803 | J38: 840.77284 | L38: 1594.4332 | M38: 1016.0821 | N38: 590.09868 | O38: 810.05056 | Q38: 184.03898 | R38: 110.55038 | S38: 329.40135 | T38: 151.78391 | U38: 596.79271 | V38: 161.56973 | X38: 169.37221 | Y38: 403.33893 | Z38: 249.82347 | AA38: 264.19301 | AB38: 449.05292 | AD38: 187.101 | AE38: 98.205766 | AF38: 204.08501 | AG38: 118.52224 | AH38: 261.70621 | AI38: 90.625052 | AJ38: 107.16293 | AK38: 406.42315 | AL38: 221.07282 | AM38: 199.58805 | AO38: 117.41403 | AQ38: 46.653642 | AR38: 70.847046 | AS38: 65.140904 | AT38: 40.854589 | AU38: 34.905055 | AW38: 71.274866 | AX38: 26.444955 | AY38: 60.335328 | AZ38: 78.567642 | BA38: 113.2305 | BB38: 68.167317
C39: 5-HEPE | D39: 184.1905 | E39: 146.60825 | F39: 141.68204 | H39: 183.03818 | I39: 100.90341 | J39: 323.63273 | K39: 340.72455 | L39: 180.40338 | M39: 330.24072 | N39: 156.40888 | O39: 125.68243 | Q39: 62.783213 | R39: 58.905421 | S39: 47.764881 | T39: 43.278202 | U39: 91.589207 | V39: 158.85307 | X39: 22.213275 | Y39: 68.268134 | Z39: 70.227985 | AA39: 27.903375 | AB39: 46.329649 | AD39: 449.372 | AE39: 550.37525 | AF39: 707.74885 | AG39: 1119.4631 | AH39: 1048.8503 | AI39: 356.94786 | AJ39: 756.80531 | AK39: 863.16615 | AL39: 713.37845 | AM39: 787.86 | AO39: 679.46623 | AQ39: 2021.1441 | AR39: 1893.0063 | AS39: 932.58693 | AT39: 1578.0237 | AU39: 1610.6376 | AV39: 3172.746 | AW39: 1758.3902 | AX39: 1247.6495 | AY39: 567.85816 | AZ39: 806.11583 | BA39: 921.92717 | BB39: 1850.9122
C40: 5-HETE | D40: 1860.7805 | E40: 2015.2864 | F40: 658.9372 | G40: 1780.7534 | H40: 1695.172 | I40: 1405.4343 | J40: 2333.2845 | L40: 2212.2932 | M40: 2485.9222 | N40: 1541.9507 | O40: 1602.9675 | Q40: 147.79914 | R40: 267.20047 | S40: 916.95833 | T40: 398.25084 | U40: 1556.248 | V40: 1331.61 | X40: 265.66925 | Y40: 993.73881 | Z40: 982.04776 | AA40: 408.78469 | AB40: 900.10789 | AD40: 2967.8367 | AE40: 2258.7735 | AF40: 5901.6984 | AG40: 3275.7823 | AH40: 4749.7979 | AI40: 1769.7553 | AJ40: 2778.7458 | AK40: 3794.8696 | AL40: 2791.3177 | AM40: 3535.1566 | AO40: 2419.6178 | AQ40: 2626.3588 | AR40: 2759.7278 | AS40: 1495.7487 | AT40: 1762.425 | AU40: 1859.2374 | AW40: 1663.9465 | AX40: 1354.3037 | AY40: 1370.775 | AZ40: 1692.5578 | BA40: 1919.7018
C41: 5S,6R-diHETE | D41: 136.13825 | E41: 206.20039 | F41: 20.221372 | G41: 86.754768 | H41: 114.02884 | I41: 91.87244 | J41: 83.301378 | L41: 161.3924 | M41: 134.59512 | N41: 78.053755 | O41: 80.058574 | Q41: 1.0018525 | R41: 2.4825211 | S41: 24.868946 | T41: 8.0396605 | U41: 33.566504 | V41: 24.948413 | X41: 3.7322927 | Y41: 21.571907 | Z41: 14.715209 | AA41: 6.0903955 | AB41: 17.84643 | AD41: 29.119213 | AE41: 14.464689 | AF41: 37.936615 | AG41: 20.603719 | AH41: 36.916208 | AI41: 15.248158 | AJ41: 14.461037 | AK41: 22.812135 | AL41: 18.784313 | AM41: 41.452352 | AO41: 14.51474
B42: PTGS | C42: PGE2 | D42: 266.99051 | E42: 253.70377 | F42: 181.5492 | G42: 173.74291 | H42: 73.789952 | I42: 241.09962 | J42: 241.94852 | K42: 356.30662 | L42: 304.91716 | M42: 287.02513 | N42: 145.03313 | O42: 385.37908 | Q42: 113.23968 | R42: 126.18152 | S42: 293.09093 | T42: 112.35345 | U42: 308.20602 | V42: 90.584034 | W42: 410.90199 | X42: 133.48029 | Y42: 229.13846 | Z42: 216.21462 | AA42: 255.36892 | AB42: 257.89722 | AD42: 63.106018 | AE42: 12.066714 | AF42: 91.273992 | AG42: 54.030944 | AH42: 74.440907 | AI42: 16.991552 | AJ42: 42.496673 | AL42: 136.42596 | AM42: 128.52116 | AN42: 79.185135 | AO42: 55.341148 | AQ42: 27.650088 | AR42: 54.869031 | AS42: 57.553323 | AT42: 22.038746 | AU42: 27.948357 | AV42: 101.56616 | AW42: 189.48443 | AX42: 42.818974 | AY42: 30.281642 | AZ42: 105.92768 | BA42: 64.797048 | BB42: 46.570645
C43: PGD2 | D43: 165.91606 | E43: 174.90677 | F43: 75.348142 | G43: 129.47843 | H43: 65.729788 | I43: 131.75687 | J43: 132.18272 | K43: 188.28846 | L43: 140.27263 | M43: 149.3837 | N43: 66.382231 | O43: 194.48878 | Q43: 32.350561 | R43: 20.6424 | S43: 115.67578 | T43: 41.35683 | U43: 128.10082 | V43: 22.109014 | W43: 168.46862 | X43: 44.763553 | Y43: 87.780166 | Z43: 94.373145 | AA43: 76.813724 | AB43: 61.201752 | AD43: 79.636959 | AE43: 66.138705 | AF43: 90.84723 | AG43: 102.55801 | AH43: 60.116244 | AI43: 42.116457 | AJ43: 59.506928 | AK43: 423.00742 | AL43: 224.44203 | AM43: 138.82076 | AN43: 117.90603 | AO43: 98.411476 | AQ43: 75.075142 | AR43: 71.643135 | AS43: 27.821964 | AT43: 22.437552 | AU43: 14.321325 | AV43: 119.07958 | AX43: 36.109912 | AY43: 43.659082 | AZ43: 96.656064 | BA43: 120.98687 | BB43: 13.796609
C44: 15-ketoPGE2 | D44: 12.316312 | E44: 8.0784515 | F44: 6.5648093 | G44: 5.3739834 | H44: 1.7007583 | I44: 5.5513668 | J44: 8.0587171 | K44: 6.595445 | L44: 9.1668609 | M44: 13.721253 | N44: 5.3209507 | O44: 12.233715 | Q44: 3.877614 | R44: 4.3537054 | S44: 7.6256824 | T44: 4.6138713 | U44: 11.474927 | V44: 1.4868755 | W44: 10.157948 | X44: 3.7640975 | Y44: 7.5669246 | Z44: 6.487323 | AA44: 8.3397757 | AB44: 4.5404608
C45: PGF2a | D45: 88.777187 | E45: 75.588559 | F45: 55.933512 | G45: 44.727539 | H45: 32.158041 | I45: 55.010998 | J45: 57.333156 | K45: 119.63557 | L45: 59.888407 | M45: 69.880678 | N45: 45.155681 | O45: 77.076136 | Q45: 23.978904 | R45: 36.90621 | S45: 109.38109 | T45: 56.892849 | U45: 118.46497 | V45: 26.728883 | W45: 121.34465 | X45: 36.638393 | Y45: 67.19458 | Z45: 71.164952 | AA45: 127.98821 | AB45: 53.165086
C46: TXB2 | D46: 136.77813 | E46: 216.71577 | F46: 154.92009 | G46: 143.78303 | H46: 117.67404 | I46: 161.44304 | J46: 145.31381 | L46: 139.35395 | M46: 156.48567 | N46: 115.49629 | O46: 186.41571 | Q46: 33.973703 | R46: 88.13074 | S46: 370.72105 | T46: 91.014867 | U46: 282.58675 | V46: 215.84552 | W46: 556.08157 | X46: 96.137087 | Y46: 197.77922 | Z46: 175.85234 | AA46: 445.08106 | AB46: 257.95306 | AD46: 223.19945 | AE46: 58.167907 | AF46: 307.51055 | AG46: 259.46202 | AH46: 328.58604 | AI46: 82.008102 | AJ46: 182.52819 | AL46: 282.33034 | AM46: 190.79632 | AN46: 198.11835 | AO46: 267.01775 | AQ46: 65.998726 | AR46: 145.21331 | AS46: 177.62251 | AT46: 68.537139 | AU46: 58.884999 | AW46: 72.937054 | AX46: 33.817758 | AY46: 81.718081 | AZ46: 110.51703 | BA46: 214.29426 | BB46: 111.34685
B47: other | C47: 18-HEPE | D47: 17.466923 | E47: 19.657354 | F47: 28.51827 | G47: 54.561429 | H47: 37.207879 | I47: 10.66135 | J47: 42.967455 | K47: 30.366647 | L47: 22.502432 | M47: 35.276677 | N47: 21.172028 | O47: 22.797107 | Q47: 27.627421 | R47: 12.20236 | S47: 4.9759167 | T47: 7.5831742 | U47: 9.058348 | V47: 39.629561 | W47: 13.659554 | X47: 8.851525 | Y47: 10.308526 | Z47: 7.1830187 | AA47: 6.4888406 | AB47: 5.3263333 | AD47: 56.066667 | AE47: 61.513738 | AF47: 177.94094 | AG47: 154.05415 | AH47: 232.16968 | AI47: 41.150535 | AJ47: 121.92151 | AK47: 76.786957 | AL47: 87.817127 | AM47: 154.03579 | AO47: 106.33586 | AQ47: 206.66338 | AR47: 196.41076 | AS47: 136.92663 | AT47: 156.02763 | AU47: 163.00281 | AW47: 304.80173 | AX47: 262.02652 | AY47: 94.280526 | AZ47: 131.22136 | BA47: 135.08976 | BB47: 145.60931
C48: 7-HDHA | D48: 83.072647 | E48: 96.600364 | F48: 33.83036 | G48: 145.46084 | H48: 54.92025 | I48: 54.251184 | J48: 185.18564 | K48: 156.82958 | L48: 81.802064 | M48: 159.90467 | N48: 69.130385 | O48: 51.170593 | Q48: 13.767984 | R48: 10.498773 | S48: 22.416429 | T48: 13.271258 | U48: 43.096639 | V48: 48.097405 | X48: 9.8214525 | Y48: 32.575299 | Z48: 33.437586 | AA48: 8.5857469 | AB48: 19.895921 | AD48: 120.9672 | AE48: 85.166287 | AF48: 312.12867 | AG48: 189.61932 | AH48: 242.08767 | AI48: 70.028182 | AJ48: 192.93612 | AK48: 163.47158 | AL48: 84.407818 | AM48: 193.92892 | AO48: 89.735065 | AQ48: 173.31975 | AR48: 175.78453 | AS48: 112.90138 | AT48: 135.81782 | AU48: 142.44965 | AW48: 164.00627 | AX48: 158.08153 | AY48: 84.801671 | AZ48: 90.643681 | BA48: 228.21192 | BB48: 194.6262
C49: 7-HDPA | D49: 21.202413 | E49: 16.487235 | F49: 9.1958952 | G49: 29.12414 | H49: 32.400841 | I49: 13.038345 | J49: 27.064232 | K49: 31.824496 | L49: 13.726572 | M49: 39.733543 | N49: 15.987836 | O49: 13.814602 | Q49: 5.6919231 | R49: 5.5842021 | S49: 5.9900714 | T49: 5.6712179 | U49: 13.119444 | X49: 1.2893629 | Y49: 6.8645548 | Z49: 4.6937127 | AA49: 2.8106538 | AB49: 5.2229219 | AD49: 85.258683 | AE49: 48.417273 | AF49: 207.72908 | AG49: 128.25516 | AH49: 246.732 | AI49: 50.198881 | AJ49: 105.41187 | AK49: 109.38391 | AL49: 78.35907 | AM49: 176.27362 | AO49: 76.149959 | AQ49: 83.429362 | AR49: 102.83588 | AS49: 63.132794 | AT49: 70.261173 | AU49: 52.118669 | AW49: 92.707608 | AX49: 74.211107 | AY49: 49.075237 | AZ49: 60.999396 | BA49: 53.919486 | BB49: 97.85642
C50: 4-HDHA | D50: 44.863493 | E50: 40.22751 | F50: 28.97036 | G50: 66.225813 | I50: 30.997792 | J50: 62.508764 | K50: 72.326048 | L50: 39.670115 | M50: 63.521138 | N50: 57.582881 | O50: 55.14075 | Q50: 11.976271 | R50: 12.760654 | S50: 5.9600357 | T50: 5.9005618 | U50: 12.770167 | W50: 16.925217 | X50: 4.8576375 | Y50: 8.7198414 | Z50: 14.970694 | AA50: 7.0238812 | AB50: 8.5989474 | AD50: 431.79 | AE50: 220.45901 | AF50: 1016.5748 | AG50: 515.46982 | AH50: 980.46622 | AI50: 202.75845 | AJ50: 487.01061 | AK50: 375.10714 | AL50: 336.56022 | AM50: 605.30447 | AO50: 382.17723 | AQ50: 373.78324 | AR50: 343.45253 | AS50: 189.47623 | AT50: 195.96387 | AU50: 220.68101 | AW50: 224.32708 | AX50: 223.80224 | AY50: 157.545 | AZ50: 233.28271 | BA50: 233.62972
C51: 9-HODE | D51: 1184.6946 | E51: 624.58544 | F51: 1134.4834 | G51: 1039.1631 | H51: 695.15758 | I51: 681.85088 | J51: 1242.2164 | K51: 1321.4057 | L51: 833.97466 | M51: 998.89311 | N51: 957.29476 | O51: 919.03286 | Q51: 460.33846 | R51: 667.6521 | S51: 1763.2607 | T51: 916.15112 | U51: 1324.7405 | V51: 1291.7546 | W51: 2820.6726 | X51: 552.31025 | Y51: 1479.3526 | Z51: 1373.2858 | AA51: 1351.1653 | AB51: 1382.3614 | AD51: 3707.0033 | AE51: 2573.7364 | AF51: 5919.203 | AG51: 5257.0334 | AH51: 7440.7101 | AI51: 2480.1658 | AJ51: 4513.3743 | AK51: 7410.8059 | AL51: 5145.4268 | AM51: 4586.7276 | AO51: 4425.6361 | AQ51: 4180.2794 | AR51: 4781.8386 | AS51: 4003.3832 | AT51: 4586.7276 | AU51: 3782.2753 | AW51: 13296.264 | AX51: 8354.3902 | AY51: 3799.3066 | AZ51: 4529.6495 | BA51: 3887.5039 | BB51: 4138.1489
C52: 13-HODE | D52: 4338.8756 | E52: 1617.4944 | F52: 4689.7678 | G52: 3451.0345 | H52: 1446.2318 | I52: 2073.0066 | J52: 4166.2091 | K52: 3644.3802 | L52: 2514.6791 | N52: 2740.3899 | O52: 3077.46 | Q52: 1678.0948 | R52: 1759.5841 | S52: 3249.125 | T52: 2730.4129 | U52: 4590.674 | V52: 2221.2878 | X52: 1671.1275 | Y52: 3774.0056 | Z52: 1878.834 | AA52: 3420.7031 | AB52: 4096.8421 | AD52: 6723.43 | AE52: 5007.0965 | AF52: 12050.917 | AG52: 10189.597 | AH52: 14323.285 | AI52: 5092.6404 | AJ52: 10408.11 | AK52: 31954.891 | AL52: 10958.345 | AM52: 8353.7171 | AN52: 62550 | AO52: 9261.3298 | AQ52: 7520.7176 | AR52: 8572.2532 | AS52: 7007.8003 | AT52: 8031.0908 | AU52: 6580.0492 | AW52: 19235.029 | AX52: 11764.661 | AY52: 5323.3342 | AZ52: 7172.8191 | BA52: 7377.9449 | BB52: 7802.1144
C53: 11-HETE | D53: 774.52941 | E53: 633.08738 | F53: 328.35782 | G53: 532.93596 | H53: 494 | I53: 793.46018 | J53: 588.30909 | K53: 1335.5749 | L53: 766.03378 | M53: 532.45509 | N53: 663.27273 | O53: 1175.0143 | Q53: 201.17647 | R53: 214.33598 | S53: 611.61905 | T53: 349.68539 | U53: 874.837 | V53: 863.89756 | X53: 392.1125 | Y53: 493.53918 | Z53: 389.85448 | AA53: 441.82125 | AB53: 450.66667 | AD53: 960.00667 | AE53: 420.02228 | AF53: 2498.3257 | AG53: 952.71429 | AH53: 1844.617 | AI53: 455.69519 | AJ53: 801.02514 | AK53: 1785.764 | AL53: 677.5442 | AM53: 1214.85 | AO53: 609.09424 | AQ53: 405.37059 | AR53: 470.55063 | AS53: 327.67839 | AT53: 300.3 | AU53: 297.64888 | AW53: 325.52601 | AX53: 244.11449 | AY53: 288.6 | AZ53: 385.39447 | BA53: 583.46457 | BB53: 411.88564
C54: 11-HEPE | D54: 12.676154 | E54: 11.519301 | F54: 16.609166 | G54: 28.249714 | H54: 14.869939 | I54: 7.7290885 | J54: 21.572509 | K54: 16.380323 | L54: 11.579838 | M54: 26.116419 | N54: 10.217748 | O54: 19.382443 | Q54: 13.570941 | R54: 10.11328 | S54: 8.9370238 | T54: 10.924281 | U54: 15.825648 | V54: 18.327863 | X54: 6.197935 | Y54: 10.145653 | Z54: 6.9277388 | AA54: 9.61275 | AB54: 9.1871228 | AD54: 28.319467 | AE54: 27.029911 | AF54: 62.489174 | AG54: 67.586682 | AH54: 79.473191 | AI54: 22.794481 | AJ54: 59.226201 | AK54: 82.56559 | AL54: 34.293315 | AM54: 64.759579 | AO54: 55.505183 | AQ54: 92.411647 | AR54: 88.536962 | AS54: 67.903417 | AT54: 82.105895 | AU54: 76.22309 | AW54: 159.07474 | AX54: 131.42131 | AY54: 43.654895 | AZ54: 56.310151 | BA54: 57.525118 | BB54: 74.506117
B55: fatty acids | C55: AA | D55: 2365004.6 | E55: 1732756.7 | F55: 1360809.3 | G55: 1953887.3 | H55: 1487651.4 | I55: 1525194.1 | J55: 1288390.7 | K55: 2281663.5 | L55: 1425667.4 | M55: 3251807.2 | N55: 1561388.6 | O55: 1655538.3 | Q55: 818640.01 | R55: 1308847.2 | S55: 891336.83 | T55: 858253.66 | U55: 1197661.8 | W55: 1378431.4 | X55: 433473.51 | Y55: 817980.89 | Z55: 857629.56 | AA55: 997765.11 | AB55: 874858.59 | AD55: 12447657 | AE55: 10898228 | AF55: 13591826 | AG55: 11107296 | AH55: 12035283 | AI55: 10347636 | AJ55: 12147856 | AK55: 12496744 | AL55: 11315272 | AM55: 11588949 | AN55: 9976134.7 | AO55: 11339984 | AQ55: 9589725.4 | AR55: 11776938 | AS55: 8055738.2 | AT55: 8100689.4 | AU55: 9347267.4 | AV55: 14914868 | AW55: 8777838.5 | AX55: 8016948.5 | AY55: 7976412.8 | AZ55: 9451959.4 | BA55: 9084254.7
C56: EPA | D56: 1262799.9 | E56: 1215932.7 | F56: 992119.98 | H56: 1192690.3 | I56: 765616.87 | J56: 1281070.2 | K56: 1931477.3 | L56: 1095245.9 | N56: 1000236.2 | O56: 1271564.5 | Q56: 544592.17 | R56: 661766.5 | S56: 225624.65 | T56: 372191.98 | U56: 322596.32 | W56: 401401.99 | X56: 127812.67 | Y56: 227586.17 | Z56: 313203.8 | AA56: 294055.38 | AB56: 267422.45 | AD56: 6349640 | AE56: 7245719.9 | AF56: 6402761 | AG56: 8564657.2 | AH56: 9542319 | AI56: 5681726.7 | AJ56: 9405086.3 | AK56: 11819847 | AL56: 7180176.9 | AM56: 7375657.6 | AN56: 3431438 | AO56: 9422048.9 | AQ56: 7752033.3 | AR56: 10542351 | AS56: 7020700.9 | AT56: 7250035.9 | AU56: 7632368.9 | AV56: 13754939 | AW56: 9115170.1 | AX56: 6311352 | AY56: 6008782.6 | AZ56: 8440696 | BA56: 6531413.1
C57: DHA | D57: 2039282.1 | E57: 1832080.6 | F57: 912074.87 | G57: 3169531.2 | H57: 1024404.4 | I57: 1060751.3 | J57: 805503.67 | K57: 1342070.9 | L57: 615514.09 | M57: 4245280.7 | N57: 653700.72 | O57: 708053.94 | Q57: 259581.97 | R57: 204277.44 | S57: 114513.67 | T57: 100141.15 | U57: 226282.16 | W57: 172169.83 | X57: 51321.686 | Y57: 93641.102 | Z57: 136354.51 | AA57: 100584.29 | AB57: 101953.27 | AD57: 12019047 | AE57: 19257255 | AF57: 21991291 | AG57: 31987038 | AH57: 12608010 | AI57: 16954750 | AJ57: 14984345 | AK57: 18587296 | AL57: 12926516 | AM57: 13343101 | AN57: 3294911.2 | AO57: 12913375 | AQ57: 9945393.5 | AR57: 13315054 | AS57: 9283159.3 | AT57: 7118772.3 | AU57: 9403149.9 | AV57: 18583479 | AW57: 6874236.5 | AX57: 6012340.7 | AY57: 4369319.3 | AZ57: 6727299.7 | BA57: 3082507 | BB57: 17210628
C58: DPA | D58: 44830.523 | E58: 35474.763 | F58: 25879.482 | G58: 62893.487 | H58: 35947.104 | I58: 28229.236 | J58: 24046.722 | K58: 41505.956 | L58: 16751.796 | M58: 74385.583 | N58: 20672.59 | O58: 19551.159 | Q58: 13472.871 | R58: 14002.058 | S58: 10190.136 | T58: 8244.8387 | U58: 17434.21 | W58: 13572.623 | X58: 2844.2728 | Y58: 6960.4688 | Z58: 8552.7169 | AA58: 9101.0417 | AB58: 9918.0778 | AD58: 286391.17 | AE58: 398820.51 | AF58: 407061.21 | AG58: 512173.39 | AH58: 378776.17 | AI58: 374374.81 | AJ58: 373196.04 | AK58: 403970.56 | AL58: 287931.41 | AM58: 431990.81 | AN58: 229016.4 | AO58: 317002.98 | AQ58: 255845.15 | AR58: 352513.83 | AS58: 207588.71 | AT58: 214854.62 | AU58: 228445.39 | AV58: 304783.17 | AW58: 218069.86 | AX58: 133687.91 | AY58: 111739.73 | AZ58: 209897.4 | BA58: 162478.55 | BB58: 271369.44
A60: % of control | B60: SPM/iso | C60: PDX | D60: 213.95242 | E60: 47.115159 | F60: 112.07099 | G60: 128.71985 | H60: 17.785671 | I60: 80.355915 | J60: 190.76697 | K60: 100.15871 | L60: 155.9315 | M60: 733.42993 | N60: 60.216057 | O60: 221.25386 | Q60: 107.76066 | R60: 73.494395 | S60: 84.047382 | T60: 90.979107 | U60: 158.19858 | V60: 85.51988 | W60: 388.58342 | X60: 41.431991 | Y60: 84.783259 | Z60: 27.593853 | AA60: 57.510512 | AB60: 121.23584 | AD60: 98.083486 | AE60: 73.080386 | AF60: 156.00859 | AG60: 98.864797 | AH60: 108.36111 | AI60: 65.601631 | AJ60: 128.30234 | AK60: 294.28766 | AL60: 189.68629 | AM60: 187.06842 | AN60: 3761.766 | AO60: 111.62127 | AQ60: 56.076694 | AR60: 66.044846 | AS60: 40.440597 | AT60: 66.811855 | AU60: 52.866229 | AV60: 317.75978 | AW60: 78.367206 | AX60: 65.340612 | AY60: 110.54948 | AZ60: 73.137007 | BA60: 156.33686 | BB60: 174.73951
C61: AT-PD1 | D61: 174.95302 | E61: 50.863224 | F61: 162.06821 | G61: 124.79263 | H61: 20.593452 | I61: 66.729477 | J61: 525.32216 | K61: 193.81402 | L61: 308.00561 | M61: 467.14141 | N61: 63.47922 | O61: 387.47639 | Q61: 111.93229 | R61: 77.519042 | S61: 80.232799 | T61: 77.824235 | U61: 196.129 | V61: 56.362634 | W61: 372.69429 | X61: 55.814121 | Y61: 99.686303 | Z61: 39.025702 | AA61: 121.23598 | AB61: 129.8431
C62: RvD5 | D62: 142.30935 | E62: 113.63769 | F62: 60.558611 | G62: 183.20673 | H62: 34.411004 | I62: 65.876611 | J62: 291.76584 | K62: 153.50447 | L62: 112.04835 | M62: 276.17856 | N62: 86.633129 | O62: 77.274126 | Q62: 41.404643 | R62: 53.945983 | S62: 119.63217 | T62: 62.964607 | U62: 244.62543 | V62: 77.427161 | W62: 764.096 | X62: 16.37067 | Y62: 105.80869 | Z62: 112.7292 | AA62: 66.554154 | AB62: 136.66356
C63: MaR2 | D63: 162.99582 | E63: 61.962791 | F63: 137.91279 | G63: 129.04655 | H63: 36.142147 | I63: 71.939903 | J63: 201.49924 | K63: 85.953668 | L63: 98.992715 | M63: 477.13677 | N63: 42.569619 | O63: 121.72087 | Q63: 86.959928 | R63: 126.205 | S63: 65.14012 | T63: 48.929583 | U63: 237.4848 | V63: 35.280572 | W63: 161.012 | X63: 31.47318 | Y63: 40.785761 | Z63: 15.962397 | AA63: 52.218735 | AB63: 45.286961
B64: ALOX12/15 | C64: 17-HDHA | D64: 143.85379 | E64: 56.129093 | F64: 105.26365 | G64: 134.0833 | H64: 87.540415 | I64: 73.129745 | J64: 275.81829 | K64: 217.75128 | L64: 282.48815 | M64: 472.01177 | N64: 63.498102 | O64: 300.1857 | Q64: 64.75379 | R64: 95.418638 | S64: 52.033387 | T64: 107.13221 | U64: 153.88848 | V64: 126.7735 | W64: 281.61984 | X64: 27.704263 | Y64: 65.487764 | Z64: 46.597063 | AA64: 50.31066 | AB64: 76.976845 | AD64: 71.14894 | AE64: 25.854628 | AF64: 211.29813 | AG64: 94.176948 | AH64: 173.40915 | AI64: 24.112208 | AJ64: 81.549871 | AK64: 213.57174 | AL64: 67.744965 | AM64: 135.73046 | AN64: 2818.4467 | AO64: 55.111868 | AQ64: 21.214879 | AR64: 31.458145 | AS64: 17.297692 | AT64: 17.622955 | AU64: 15.6905 | AV64: 496.71583 | AW64: 30.253009 | AX64: 19.960317 | AY64: 11.24081 | AZ64: 23.194632 | BA64: 23.254221 | BB64: 22.054975
C65: 17-HDPA | D65: 109.65695 | E65: 74.670767 | F65: 84.593038 | G65: 137.60894 | H65: 133.75488 | I65: 59.715418 | J65: 206.67878 | K65: 169.88 | L65: 158.35172 | M65: 207.24491 | N65: 80.675759 | O65: 172.58306 | Q65: 100.84581 | R65: 79.590113 | S65: 43.860576 | T65: 64.639615 | U65: 111.74992 | V65: 199.31396 | W65: 142.53199 | X65: 32.69051 | Y65: 69.469164 | Z65: 62.471541 | AA65: 57.755751 | AB65: 79.471277 | AD65: 67.786039 | AE65: 36.894123 | AF65: 177.09297 | AG65: 107.624 | AH65: 176.77369 | AI65: 33.829172 | AJ65: 68.019495 | AK65: 86.389164 | AL65: 70.379936 | AM65: 127.02281 | AN65: 1867.1107 | AO65: 49.000498 | AQ65: 41.128809 | AR65: 42.037534 | AS65: 32.104335 | AT65: 34.683198 | AU65: 34.009482 | AV65: 416.03664 | AW65: 45.967895 | AX65: 31.941726 | AY65: 16.342253 | AZ65: 30.645047 | BA65: 53.03155 | BB65: 34.101601
C66: 15-HETE | D66: 130.42436 | E66: 87.950521 | F66: 74.689562 | G66: 90.541092 | H66: 108.89741 | I66: 107.49705 | J66: 113.88855 | K66: 189.85726 | L66: 136.83457 | M66: 121.26656 | N66: 104.44728 | O66: 167.38116 | Q66: 40.170421 | R66: 56.348527 | S66: 75.277222 | T66: 79.441812 | U66: 141.4026 | V66: 207.35941 | W66: 244.96965 | X66: 57.352981 | Y66: 100.34793 | Z66: 55.029513 | AA66: 68.67899 | AB66: 86.245084 | AD66: 75.217974 | AE66: 27.049745 | AF66: 226.24541 | AG66: 75.094179 | AH66: 168.98324 | AI66: 27.409453 | AJ66: 55.648094 | AK66: 109.92369 | AL66: 53.430289 | AM66: 92.636873 | AN66: 2581.9218 | AO66: 43.291123 | AQ66: 14.381172 | AR66: 15.891613 | AS66: 10.647367 | AT66: 9.6910958 | AU66: 7.498473 | AV66: 541.89028 | AW66: 13.87716 | AX66: 9.6128754 | AY66: 11.708142 | AZ66: 14.388333 | BA66: 32.430833 | BB66: 17.456157
C67: 15-HEPE | D67: 142.84082 | E67: 59.392552 | F67: 137.21676 | G67: 168.38871 | H67: 42.73571 | I67: 49.425452 | J67: 130.18825 | K67: 90.82334 | L67: 89.48339 | M67: 411.61316 | N67: 62.829984 | O67: 170.78111 | Q67: 64.570819 | R67: 113.57702 | S67: 72.781534 | T67: 134.87222 | U67: 144.51518 | V67: 69.683231 | W67: 302.02584 | X67: 38.396697 | Y67: 105.99291 | Z67: 39.837755 | AA67: 80.241641 | AB67: 102.02495 | AD67: 69.623721 | AE67: 50.756808 | AF67: 123.93718 | AG67: 129.57788 | AH67: 182.10065 | AI67: 44.003756 | AJ67: 99.069909 | AK67: 134.74442 | AL67: 87.521283 | AM67: 134.09566 | AN67: 2122.8978 | AO67: 75.797046 | AQ67: 53.841979 | AR67: 62.444003 | AS67: 39.496274 | AT67: 38.35625 | AU67: 45.273819 | AV67: 360.58767 | AW67: 99.490614 | AX67: 70.085094 | AY67: 31.28718 | AZ67: 39.996227 | BA67: 55.033194 | BB67: 56.095772
C68: 14-HDHA | D68: 218.21367 | E68: 48.197679 | F68: 115.28611 | G68: 102.53624 | H68: 39.041511 | I68: 76.724795 | J68: 124.43139 | K68: 90.454139 | L68: 114.28572 | M68: 666.72769 | N68: 55.545298 | O68: 176.03219 | Q68: 78.277997 | R68: 99.911324 | S68: 68.434034 | T68: 92.632169 | U68: 173.85172 | V68: 86.892753 | W68: 282.35547 | X68: 26.354611 | Y68: 54.968478 | Z68: 26.626932 | AA68: 55.5812 | AB68: 85.517138 | AD68: 97.786413 | AE68: 28.191191 | AF68: 249.94112 | AG68: 73.956111 | AH68: 114.96635 | AI68: 35.158814 | AJ68: 101.22484 | AK68: 1350.5029 | AL68: 160.88519 | AM68: 111.03148 | AN68: 257.93709 | AO68: 127.39037 | AQ68: 73.726785 | AR68: 96.981981 | AS68: 94.375302 | AT68: 76.09879 | AU68: 57.169355 | AV68: 201.64779 | AW68: 88.232473 | AX68: 22.123651 | AY68: 67.723787 | AZ68: 80.850807 | BA68: 131.48274 | BB68: 77.012846
C69: 14-HDPA | D69: 164.12775 | E69: 50.998434 | F69: 137.31542 | G69: 114.39939 | H69: 70.819772 | I69: 62.339232 | J69: 257.36397 | K69: 206.60393 | L69: 213.70013 | M69: 503.26599 | N69: 53.514382 | O69: 230.65096 | Q69: 97.055948 | R69: 83.774893 | S69: 66.695785 | T69: 94.423246 | U69: 167.474 | V69: 90.57613 | W69: 307.39535 | X69: 17.540991 | Y69: 49.87252 | Z69: 28.370595 | AA69: 64.027954 | AB69: 92.672038 | AD69: 94.864503 | AE69: 24.297655 | AF69: 249.87604 | AG69: 70.185251 | AH69: 133.9354 | AI69: 26.841153 | AJ69: 79.495393 | AK69: 800.97164 | AL69: 108.40546 | AM69: 140.71698 | AN69: 282.47947 | AO69: 92.835129 | AQ69: 66.154096 | AR69: 91.309739 | AS69: 68.073139 | AT69: 72.642895 | AU69: 47.577116 | AV69: 254.24301 | AW69: 86.675887 | AX69: 23.92723 | AY69: 42.688911 | AZ69: 76.207665 | BA69: 117.73488 | BB69: 67.977492
C70: 12-HETE | D70: 247.53918 | E70: 47.002882 | F70: 122.12035 | G70: 77.136191 | H70: 36.038313 | I70: 70.163087 | J70: 109.31622 | K70: 80.708556 | L70: 112.49798 | M70: 505.02192 | N70: 51.008073 | O70: 198.21072 | Q70: 49.533766 | R70: 99.742339 | S70: 63.730636 | T70: 65.741153 | U70: 137.11481 | V70: 184.1373 | W70: 236.06252 | X70: 25.765969 | Y70: 51.922907 | Z70: 18.028965 | AA70: 61.126259 | AB70: 77.061605 | AD70: 96.711414 | AE70: 17.336688 | AF70: 296.3312 | AG70: 54.13381 | AH70: 113.03227 | AI70: 22.454616 | AJ70: 63.156622 | AK70: 1025.2827 | AL70: 103.31524 | AM70: 91.263444 | AN70: 208.61892 | AO70: 179.79114 | AQ70: 72.214139 | AR70: 78.785901 | AS70: 81.949317 | AT70: 79.44963 | AU70: 50.236359 | AV70: 237.36465 | AW70: 73.414874 | AX70: 14.872763 | AY70: 53.60457 | AZ70: 91.240968 | BA70: 158.72088 | BB70: 139.62918
C71: 12-HEPE | D71: 171.47964 | E71: 62.928599 | F71: 119.95868 | G71: 140.5302 | H71: 55.230263 | I71: 49.872616 | J71: 100.00774 | K71: 66.487435 | L71: 74.267085 | M71: 520.00878 | N71: 53.785127 | O71: 196.77673 | Q71: 80.200359 | R71: 149.56519 | S71: 55.311551 | T71: 77.822869 | U71: 137.20947 | V71: 99.890563 | W71: 186.8771 | X71: 23.589352 | Y71: 51.367278 | Z71: 17.529084 | AA71: 55.388373 | AB71: 81.008601 | AD71: 82.315905 | AE71: 23.819435 | AF71: 246.91547 | AG71: 85.755578 | AH71: 132.05635 | AI71: 29.137264 | AJ71: 111.32507 | AK71: 3520.7285 | AL71: 174.79243 | AM71: 120.25924 | AN71: 211.47189 | AO71: 289.87174 | AQ71: 87.133837 | AR71: 86.435229 | AS71: 145.89985 | AT71: 107.10912 | AU71: 46.970431 | AV71: 126.45154 | AW71: 109.24294 | AX71: 19.345997 | AY71: 36.221841 | AZ71: 75.246496 | BA71: 182.04506 | BB71: 136.41894
B72: CYP | C72: 5.6-EET | D72: 85.217705 | E72: 66.154795 | F72: 65.376775 | G72: 80.790812 | H72: 243.44251 | I72: 59.017401 | J72: 130.12325 | K72: 134.65135 | L72: 102.5518 | M72: 262.92448 | N72: 175.06135 | O72: 107.40975 | Q72: 46.489426 | R72: 115.24266 | S72: 47.213376 | T72: 53.513008 | U72: 54.128408 | V72: 283.41312 | W72: 194.12799 | X72: 128.30883 | Y72: 82.853576 | Z72: 100.16226 | AA72: 86.946799 | AB72: 84.934142 | AD72: 99.319143 | AE72: 70.953586 | AF72: 128.34629 | AG72: 79.383639 | AH72: 161.95216 | AI72: 60.045182 | AJ72: 167.14967 | AK72: 285.16453 | AL72: 109.71053 | AM72: 128.12689 | AN72: 277.84382 | AO72: 101.34905 | AQ72: 58.937196 | AR72: 89.088077 | AS72: 49.772565 | AT72: 49.132677 | AU72: 46.274174 | AV72: 306.79531 | AW72: 70.328033 | AX72: 59.105864 | AY72: 43.97195 | AZ72: 71.489586 | BA72: 133.46992 | BB72: 380.84758
C73: 8.9-EET | D73: 77.841761 | E73: 59.378162 | F73: 47.374682 | G73: 81.803548 | H73: 275.75798 | I73: 57.843865 | J73: 73.191053 | K73: 95.503337 | L73: 86.928734 | M73: 71.711278 | N73: 99.124807 | O73: 97.601099 | Q73: 43.61561 | R73: 88.767393 | S73: 46.282615 | T73: 59.604703 | U73: 57.538759 | V73: 304.19092 | W73: 133.3853 | X73: 79.359221 | Y73: 79.804813 | Z73: 78.729124 | AA73: 82.489194 | AB73: 83.600159 | AD73: 110.68719 | AE73: 59.734438 | AF73: 148.45854 | AG73: 63.387576 | AH73: 170.12148 | AI73: 47.610779 | AJ73: 90.822917 | AK73: 103.81528 | AL73: 137.02866 | AM73: 107.73346 | AN73: 231.42989 | AO73: 87.276136 | AQ73: 51.350045 | AR73: 67.927664 | AS73: 37.462694 | AT73: 43.841528 | AU73: 35.458517 | AV73: 363.95955 | AW73: 46.499589 | AX73: 52.596988 | AY73: 47.055337 | AZ73: 65.413615 | BA73: 93.620376 | BB73: 83.250432
C74: 11.12-EET | D74: 121.85973 | E74: 68.238325 | F74: 66.163629 | G74: 95.965885 | H74: 167.10997 | I74: 80.662465 | J74: 156.15255 | K74: 196.39682 | L74: 160.77408 | M74: 144.6778 | N74: 127.77863 | O74: 177.56747 | Q74: 64.085018 | R74: 109.83831 | S74: 72.331351 | T74: 65.964522 | U74: 78.882574 | V74: 208.89822 | W74: 233.45257 | X74: 198.38599 | Y74: 107.95844 | Z74: 122.51356 | AA74: 120.035 | AB74: 121.31197 | AD74: 115.55065 | AE74: 65.323365 | AF74: 130.50089 | AG74: 73.632659 | AH74: 146.242 | AI74: 68.750435 | AJ74: 149.10828 | AK74: 146.42483 | AL74: 180.97489 | AM74: 147.65357 | AN74: 223.62708 | AO74: 128.52676 | AQ74: 72.241284 | AR74: 105.29559 | AS74: 68.305761 | AT74: 74.204278 | AU74: 74.926414 | AV74: 205.02667 | AW74: 89.292459 | AX74: 109.16828 | AY74: 81.801845 | AZ74: 97.770108 | BA74: 141.15732 | BB74: 148.23803
C75: 14.15-EET | D75: 152.52782 | E75: 100.06461 | F75: 63.70869 | G75: 53.764964 | H75: 131.50246 | I75: 98.431452 | J75: 173.24954 | K75: 225.61684 | L75: 174.61602 | M75: 209.14237 | N75: 177.63708 | O75: 189.95216 | Q75: 48.136565 | R75: 149.07045 | S75: 65.515307 | T75: 55.013217 | U75: 64.906192 | V75: 217.35827 | W75: 183.348 | X75: 222.5347 | Y75: 248.98674 | Z75: 156.87336 | AA75: 124.78151 | AB75: 112.89756 | AD75: 108.78856 | AE75: 103.44016 | AF75: 103.18288 | AG75: 48.84826 | AH75: 120.60999 | AI75: 115.13015 | AJ75: 123.25841 | AK75: 156.18134 | AL75: 187.39351 | AM75: 188.96388 | AN75: 266.51033 | AO75: 137.66552 | AQ75: 76.429032 | AR75: 106.82046 | AS75: 99.680634 | AT75: 78.345217 | AU75: 126.01137 | AV75: 112.71329 | AW75: 79.123037 | AX75: 101.31429 | AY75: 89.106546 | AZ75: 79.054164 | BA75: 86.568497 | BB75: 119.58542
C76: 7,8-EpDPA | D76: 72.720074 | E76: 62.983655 | F76: 63.335079 | G76: 133.92343 | H76: 206.56463 | I76: 60.473129 | J76: 126.08725 | K76: 165.03312 | L76: 122.05752 | M76: 209.91055 | N76: 157.94069 | O76: 106.84225 | Q76: 93.784871 | R76: 113.72557 | S76: 48.976576 | T76: 52.394525 | U76: 70.789348 | V76: 220.32911 | W76: 139.87942 | X76: 92.897471 | Y76: 66.162126 | Z76: 123.04141 | AA76: 71.561446 | AB76: 59.377795 | AD76: 90.175676 | AE76: 69.484265 | AF76: 117.07094 | AG76: 82.687319 | AH76: 174.42055 | AI76: 66.161245 | AJ76: 149.11403 | AK76: 194.42102 | AL76: 170.35985 | AM76: 182.04878 | AN76: 157.27756 | AO76: 117.2454 | AQ76: 78.807261 | AR76: 91.774374 | AS76: 61.003844 | AT76: 55.740084 | AU76: 58.657543 | AV76: 254.01689 | AW76: 88.191797 | AX76: 87.27068 | AY76: 62.299897 | AZ76: 88.847664 | BA76: 77.26985 | BB76: 118.65583
C77: 10.11-EpDPA | D77: 90.739542 | E77: 69.030788 | F77: 59.078556 | G77: 131.39653 | H77: 189.94158 | I77: 59.812996 | J77: 145.94405 | K77: 149.22307 | L77: 122.97572 | M77: 180.60517 | N77: 132.43386 | O77: 116.05101 | Q77: 88.270033 | R77: 103.33373 | S77: 50.492043 | T77: 56.898476 | U77: 53.777778 | V77: 247.22794 | W77: 140.64492 | X77: 167.87228 | Y77: 36.029237 | Z77: 121.55478 | AA77: 45.529928 | AB77: 83.752584 | AD77: 95.505105 | AE77: 62.339977 | AF77: 113.06048 | AG77: 87.347664 | AH77: 169.92758 | AI77: 71.819191 | AJ77: 165.43958 | AK77: 238.87247 | AL77: 171.47734 | AM77: 132.85659 | AN77: 78.058899 | AO77: 130.51014 | AQ77: 77.726859 | AR77: 99.684058 | AS77: 52.227874 | AT77: 52.263283 | AU77: 65.211074 | AV77: 252.88685 | AW77: 104.77905 | AX77: 96.96047 | AY77: 71.243672 | AZ77: 86.936662 | BA77: 103.63177 | BB77: 157.86391
C78: 13.14-EpDPA | D78: 91.367654 | E78: 63.656998 | F78: 44.522672 | G78: 126.10427 | H78: 198.66229 | I78: 75.686113 | J78: 199.24578 | K78: 171.71672 | L78: 144.37971 | M78: 205.48926 | N78: 109.27516 | O78: 152.71138 | Q78: 108.38331 | R78: 102.20924 | S78: 40.815234 | T78: 45.159712 | U78: 48.314871 | V78: 255.11764 | W78: 215.5086 | X78: 214.60905 | Y78: 59.990648 | Z78: 107.00955 | AA78: 57.884361 | AB78: 87.505935 | AD78: 80.497098 | AE78: 64.904626 | AF78: 116.47269 | AG78: 105.61845 | AH78: 150.20724 | AI78: 82.299898 | AJ78: 164.34824 | AK78: 241.29591 | AL78: 158.14876 | AM78: 130.80778 | AN78: 116.68167 | AO78: 127.90095 | AQ78: 64.787474 | AR78: 85.106331 | AS78: 68.803167 | AT78: 76.299436 | AU78: 73.717679 | AV78: 231.28591 | AW78: 90.526734 | AX78: 116.19054 | AY78: 90.050847 | AZ78: 96.321894 | BA78: 121.23493 | BB78: 135.96816
C79: 16.17-EpDPA | D79: 79.087349 | E79: 67.734575 | F79: 48.533501 | G79: 120.71318 | H79: 221.21263 | I79: 62.718769 | J79: 132.18996 | K79: 158.67451 | L79: 126.72735 | M79: 133.44201 | N79: 100.7752 | O79: 99.586638 | Q79: 114.69994 | R79: 101.54514 | S79: 18.349871 | T79: 28.84781 | U79: 43.755999 | V79: 292.80124 | W79: 112.28038 | X79: 194.59466 | Y79: 65.233465 | Z79: 86.815055 | AA79: 46.435066 | AB79: 65.796128 | AD79: 95.372576 | AE79: 78.256426 | AF79: 114.72855 | AG79: 90.295149 | AH79: 155.1391 | AI79: 66.208197 | AJ79: 198.71065 | AK79: 267.48692 | AL79: 249.08727 | AM79: 219.67697 | AN79: 154.99167 | AO79: 162.04566 | AQ79: 96.073227 | AR79: 103.14181 | AS79: 83.517106 | AT79: 82.180832 | AU79: 83.991635 | AV79: 151.09539 | AW79: 123.83969 | AX79: 119.7164 | AY79: 58.799417 | AZ79: 86.419458 | BA79: 162.6202 | BB79: 122.90301
C80: 19.20-EpDPA | D80: 79.296619 | E80: 83.337939 | F80: 93.820974 | G80: 198.02244 | H80: 60.422765 | I80: 85.099265 | J80: 171.6614 | K80: 166.83021 | L80: 74.771934 | M80: 162.42126 | N80: 98.849811 | O80: 76.227719 | Q80: 166.73259 | R80: 91.647485 | S80: 38.081648 | T80: 37.544311 | U80: 79.476967 | V80: 186.517 | W80: 125.68618 | X80: 64.186812 | Y80: 50.556191 | Z80: 66.512401 | AA80: 56.02846 | AB80: 67.552044 | AD80: 81.034785 | AE80: 86.859184 | AF80: 130.52967 | AG80: 114.61567 | AH80: 118.31707 | AI80: 68.643623 | AJ80: 136.0343 | AK80: 168.75691 | AL80: 140.18634 | AM80: 168.07395 | AN80: 78.401033 | AO80: 97.212814 | AQ80: 142.25454 | AR80: 142.4531 | AS80: 74.944952 | AT80: 61.556439 | AU80: 76.803091 | AV80: 101.98787 | AW80: 109.30706 | AX80: 88.417592 | AY80: 46.838875 | AZ80: 66.734569 | BA80: 102.05742 | BB80: 118.30154
C81: 8,9-EpETE | D81: 115.2085 | E81: 56.040118 | F81: 35.61497 | G81: 193.33841 | H81: 176.69338 | I81: 23.104625 | J81: 132.59935 | K81: 117.25616 | L81: 103.75229 | M81: 267.11227 | N81: 91.432518 | O81: 97.339741 | Q81: 39.725982 | R81: 113.62601 | S81: 37.599165 | T81: 46.383831 | U81: 38.824839 | V81: 323.84017 | W81: 67.032988 | X81: 87.669565 | Y81: 183.56222 | Z81: 81.766683 | AA81: 54.642059 | AB81: 40.153634
C82: 14.15-EpETE | D82: 82.606542 | E82: 81.854413 | F82: 40.701858 | G82: 169.7083 | H82: 155.3691 | I82: 69.759787 | J82: 149.17674 | K82: 265.82396 | L82: 134.86582 | M82: 96.038093 | N82: 75.312336 | O82: 217.3797 | Q82: 64.65307 | R82: 86.531717 | S82: 70.759968 | T82: 0.59559947 | U82: 37.56347 | V82: 339.89618 | W82: 65.665464 | X82: 48.043962 | Y82: 15.117714 | Z82: 61.263082 | AA82: 44.22062 | AB82: 15.614996
B83: EPHX2 | C83: 5.6-DHET | D83: 132.69415 | E83: 101.39916 | F83: 76.856324 | G83: 95.927586 | H83: 110.07748 | I83: 83.045294 | J83: 100.74681 | K83: 133.57292 | L83: 70.352584 | M83: 145.15661 | N83: 103.59477 | O83: 103.59999 | Q83: 88.50158 | R83: 128.50774 | S83: 83.263245 | T83: 74.234061 | U83: 88.394909 | V83: 137.09846 | W83: 86.476615 | X83: 21.924213 | Y83: 91.026318 | Z83: 32.630124 | AA83: 40.626483 | AB83: 40.187953 | AD83: 110.09818 | AE83: 107.6867 | AF83: 82.216736 | AG83: 87.741175 | AH83: 98.791118 | AI83: 113.46609 | AJ83: 107.27774 | AK83: 223.27061 | AL83: 104.81562 | AM83: 95.795234 | AN83: 113.12961 | AO83: 102.7815 | AQ83: 115.32627 | AR83: 148.65255 | AS83: 76.250767 | AT83: 76.749086 | AU83: 80.245144 | AV83: 102.77618 | AW83: 68.884946 | AX83: 68.055046 | AY83: 77.869243 | AZ83: 56.045668 | BA83: 104.96597 | BB83: 140.03904
C84: 8.9-DHET | D84: 116.97957 | E84: 83.815599 | F84: 110.89198 | G84: 94.775115 | H84: 130.89146 | I84: 62.646268 | J84: 108.21974 | K84: 163.00961 | L84: 81.914441 | M84: 189.68665 | N84: 97.358635 | O84: 78.927977 | Q84: 127.16255 | R84: 161.58591 | S84: 57.501548 | T84: 44.158749 | U84: 72.841211 | V84: 136.75003 | W84: 66.874268 | X84: 24.947738 | Y84: 62.541993 | Z84: 64.874838 | AA84: 54.769761 | AB84: 42.288918 | AD84: 120.94002 | AE84: 68.062061 | AF84: 103.11998 | AG84: 70.303263 | AH84: 123.56649 | AI84: 114.00819 | AJ84: 90.947572 | AK84: 104.15432 | AL84: 133.09387 | AM84: 142.19994 | AN84: 96.695958 | AO84: 57.273053 | AQ84: 71.140764 | AR84: 152.34892 | AS84: 57.339366 | AT84: 37.130487 | AU84: 65.08626 | AV84: 216.9542 | AW84: 47.117977 | AX84: 31.065424 | AY84: 59.281893 | AZ84: 62.022753 | BA84: 89.073361 | BB84: 59.281893
C85: 11.12-DHET | D85: 115.47118 | E85: 76.69928 | F85: 106.55029 | G85: 97.829402 | H85: 143.36132 | I85: 60.088529 | J85: 107.48057 | K85: 149.68564 | L85: 91.816999 | M85: 129.80799 | N85: 85.336088 | O85: 82.362254 | Q85: 135.1143 | R85: 155.63388 | S85: 57.491871 | T85: 45.551896 | U85: 74.011353 | V85: 132.1967 | W85: 56.814237 | X85: 25.513893 | Y85: 73.177852 | Z85: 53.606519 | AA85: 53.472524 | AB85: 34.99054 | AD85: 125.52859 | AE85: 62.779929 | AF85: 88.430062 | AG85: 59.868763 | AH85: 110.6191 | AI85: 152.77356 | AJ85: 100.95646 | AK85: 71.417815 | AL85: 169.52706 | AM85: 124.04234 | AN85: 80.456905 | AO85: 55.311623 | AQ85: 80.576249 | AR85: 145.34344 | AS85: 66.57164 | AT85: 40.423378 | AU85: 71.324369 | AV85: 195.76092 | AW85: 56.722529 | AX85: 30.269337 | AY85: 62.718184 | AZ85: 57.313751 | BA85: 95.538851 | BB85: 45.566977
C86: 14.15-DHET | D86: 102.66276 | E86: 57.455895 | F86: 138.32393 | G86: 110.02225 | H86: 142.9155 | I86: 48.619662 | J86: 97.48998 | K86: 166.26152 | L86: 105.74443 | M86: 170.04322 | N86: 80.129556 | O86: 67.542656 | Q86: 134.45666 | R86: 169.99743 | S86: 58.778772 | T86: 43.983249 | U86: 73.972499 | V86: 118.81139 | W86: 67.613299 | X86: 22.916217 | Y86: 72.491761 | Z86: 68.333942 | AA86: 56.321554 | AB86: 37.760052 | AD86: 108.9301 | AE86: 57.731591 | AF86: 102.55021 | AG86: 72.388486 | AH86: 131.71843 | AI86: 126.68118 | AJ86: 87.270529 | AK86: 66.917387 | AL86: 212.41456 | AM86: 238.50043 | AN86: 79.571444 | AO86: 57.834354 | AQ86: 83.129186 | AR86: 147.1056 | AS86: 66.952823 | AT86: 38.546649 | AU86: 75.756179 | AV86: 188.50956 | AW86: 59.038381 | AX86: 28.765011 | AY86: 65.43046 | AZ86: 65.677031 | BA86: 101.8939 | BB86: 32.71523
B87: EC | C87: AEA | D87: 91.272418 | E87: 73.203267 | F87: 45.226313 | G87: 185.29461 | H87: 144.5603 | I87: 60.443098 | J87: 202.21354 | K87: 417.70983 | L87: 248.71149 | M87: 1286.8357 | N87: 102.12874 | O87: 290.44958 | Q87: 68.277955 | R87: 123.37129 | S87: 64.686042 | T87: 1.1046132 | U87: 28.632951 | V87: 313.92715 | W87: 82.411012 | X87: 103.30607 | Y87: 25.577197 | Z87: 89.47275 | AA87: 72.278502 | AB87: 20.882189 | AD87: 109.57487 | AE87: 95.84351 | AF87: 69.728027 | AG87: 130.58572 | AH87: 103.82681 | AI87: 90.441066 | AJ87: 137.58262 | AK87: 223.63699 | AL87: 102.75622 | AM87: 94.088093 | AN87: 142.22741 | AO87: 106.9427 | AQ87: 97.322065 | AR87: 111.65203 | AS87: 139.37885 | AT87: 86.824704 | AU87: 104.96389 | AV87: 59.858458 | AW87: 189.32704 | AX87: 124.89232 | AY87: 118.07772 | AZ87: 119.89212 | BA87: 144.99715 | BB87: 152.72951
C88: PEA | D88: 82.971985 | E88: 70.702435 | F88: 95.863269 | G88: 159.85192 | H88: 140.41139 | I88: 50.199004 | J88: 135.38764 | K88: 68.812692 | L88: 135.01224 | M88: 272.22328 | N88: 88.435619 | O88: 59.688905 | Q88: 101.06584 | R88: 111.57128 | S88: 78.872871 | T88: 104.78641 | U88: 35.420697 | V88: 168.2829 | W88: 337.30248 | X88: 247.74171 | Y88: 215.35526 | Z88: 110.43565 | AA88: 132.0496 | AB88: 169.36092 | AD88: 79.387705 | AE88: 114.63184 | AF88: 90.050733 | AG88: 75.986745 | AH88: 154.86202 | AI88: 85.080955 | AJ88: 234.57909 | AK88: 193.51805 | AL88: 218.47843 | AM88: 88.609335 | AN88: 520.9607 | AO88: 146.84929 | AQ88: 80.654299 | AR88: 69.977186 | AS88: 145.62235 | AT88: 74.208167 | AU88: 86.018324 | AV88: 143.51968 | AW88: 106.9941 | AX88: 128.39292 | AY88: 109.19764 | AZ88: 163.49099 | BA88: 182.05412 | BB88: 110.68356
C89: OEA | D89: 116.0606 | E89: 83.325322 | F89: 101.34571 | G89: 127.1084 | H89: 85.423908 | I89: 86.736062 | J89: 142.60783 | K89: 151.0217 | L89: 79.288984 | M89: 697.36073 | N89: 142.99937 | O89: 110.40111 | Q89: 39.880743 | R89: 54.644288 | S89: 64.382638 | T89: 38.195642 | U89: 47.618798 | V89: 355.27789 | W89: 75.218111 | X89: 35.203372 | Y89: 90.197569 | Z89: 79.910853 | AA89: 57.735848 | AB89: 121.56162 | AD89: 80.983057 | AE89: 106.51704 | AF89: 85.510281 | AG89: 127.20788 | AH89: 113.47333 | AI89: 86.308406 | AJ89: 124.35198 | AK89: 201.44608 | AL89: 100.42994 | AM89: 126.41958 | AN89: 370.30982 | AO89: 115.88575 | AQ89: 96.188177 | AR89: 93.262704 | AS89: 143.91864 | AT89: 93.225604 | AU89: 92.551475 | AV89: 80.853396 | AW89: 160.68073 | AX89: 76.084741 | AY89: 137.27111 | AZ89: 112.34859 | BA89: 86.320555 | BB89: 164.16933
C90: 2-AG | D90: 92.896515 | E90: 122.87195 | F90: 82.572795 | G90: 95.902853 | H90: 131.0332 | I90: 74.722686 | J90: 107.8457 | K90: 249.87376 | L90: 75.458153 | M90: 715.86594 | N90: 145.63178 | O90: 100.59159 | Q90: 24.616963 | R90: 34.152478 | S90: 63.182429 | T90: 40.227225 | U90: 44.730865 | V90: 393.09004 | W90: 166.12107 | X90: 60.57642 | Y90: 56.670935 | Z90: 62.537052 | AA90: 36.377762 | AB90: 36.107975 | AD90: 128.113 | AE90: 88.85144 | AF90: 62.669645 | AG90: 89.536308 | AH90: 141.9391 | AI90: 88.890506 | AJ90: 59.682128 | AK90: 419.93273 | AL90: 57.613612 | AM90: 75.706936 | AN90: 168.50899 | AO90: 98.741691 | AQ90: 113.53719 | AR90: 95.523491 | AS90: 98.10195 | AT90: 109.53727 | AU90: 118.74649 | AV90: 64.553615 | AW90: 301.33075 | AX90: 132.97615 | AY90: 154.86106 | AZ90: 348.98119 | BA90: 207.75942 | BB90: 277.02821
C91: 1-AG | D91: 93.390679 | E91: 142.59244 | F91: 85.956779 | G91: 92.48463 | H91: 105.45087 | I91: 80.124603 | J91: 78.206726 | K91: 160.07151 | L91: 74.888008 | M91: 367.15041 | N91: 104.33629 | O91: 66.447021 | Q91: 23.541706 | R91: 45.276628 | S91: 48.412826 | T91: 31.098564 | U91: 57.703103 | V91: 393.96717 | W91: 242.12469 | X91: 75.904168 | Y91: 59.284297 | Z91: 73.284682 | AA91: 55.492963 | AB91: 36.792356 | AD91: 147.73303 | AE91: 87.93807 | AF91: 68.551303 | AG91: 77.785882 | AH91: 115.13238 | AI91: 102.85934 | AJ91: 50.657478 | AK91: 108.82178 | AL91: 64.003141 | AM91: 74.31883 | AN91: 104.09173 | AO91: 57.346542 | AQ91: 108.44542 | AR91: 99.389942 | AS91: 109.39981 | AT91: 98.348853 | AU91: 131.33916 | AV91: 53.076819 | AW91: 154.88329 | AX91: 110.55002 | AY91: 109.12962 | AZ91: 146.99494 | BA91: 95.783727 | BB91: 99.984803
B92: ALOX5 | C92: LTB4 isomers+LTB4 | D92: 116.01577 | E92: 178.38836 | F92: 28.857015 | G92: 71.363249 | H92: 121.36966 | I92: 84.005948 | J92: 109.05434 | K92: 428.22017 | L92: 206.80956 | M92: 131.79323 | N92: 76.540084 | O92: 105.06944 | Q92: 71.977524 | R92: 43.236182 | S92: 128.82865 | T92: 59.362589 | U92: 233.40524 | V92: 63.189817 | W92: 779.17859 | X92: 66.241359 | Y92: 157.74559 | Z92: 97.705794 | AA92: 103.32571 | AB92: 175.6243 | AD92: 116.90825 | AE92: 61.362926 | AF92: 127.52055 | AG92: 74.057478 | AH92: 163.5246 | AI92: 56.62619 | AJ92: 66.959725 | AK92: 253.94959 | AL92: 138.13522 | AM92: 124.71067 | AN92: 999.0672 | AO92: 73.365024 | AQ92: 40.90589 | AR92: 62.118654 | AS92: 57.115512 | AT92: 35.821283 | AU92: 30.604735 | AV92: 373.43392 | AW92: 62.493767 | AX92: 23.186923 | AY92: 52.901985 | AZ92: 68.888069 | BA92: 99.280447 | BB92: 59.76907
C93: 5-HEPE | D93: 95.30185 | E93: 75.856452 | F93: 73.307584 | G93: 208.62014 | H93: 94.705631 | I93: 52.208347 | J93: 167.45054 | K93: 176.294 | L93: 93.34236 | M93: 170.86957 | N93: 80.927387 | O93: 65.029239 | Q93: 81.329971 | R93: 76.306642 | S93: 61.875081 | T93: 56.062995 | U93: 118.64553 | V93: 205.77978 | W93: 243.05191 | X93: 28.775288 | Y93: 88.43519 | Z93: 90.974 | AA93: 36.146297 | AB93: 60.015868 | AD93: 63.699186 | AE93: 78.016555 | AF93: 100.32451 | AG93: 158.68566 | AH93: 148.67617 | AI93: 50.59792 | AJ93: 107.27834 | AK93: 122.35516 | AL93: 101.12252 | AM93: 111.68039 | AN93: 496.21199 | AO93: 96.315405 | AQ93: 108.1969 | AR93: 101.33736 | AS93: 49.923709 | AT93: 84.475552 | AU93: 86.221458 | AV93: 169.84502 | AW93: 94.131021 | AX93: 66.789798 | AY93: 30.398866 | AZ93: 43.153395 | BA93: 49.353065 | BB93: 99.083958
C94: 5-HETE | D94: 118.56682 | E94: 128.41176 | F94: 41.986729 | G94: 113.46759 | H94: 108.01443 | I94: 89.552675 | J94: 148.67424 | K94: 331.74368 | L94: 140.96481 | M94: 158.40013 | N94: 98.251346 | O94: 102.13927 | Q94: 19.202729 | R94: 34.715886 | S94: 119.13535 | T94: 51.74254 | U94: 202.19474 | V94: 173.00876 | W94: 580.15301 | X94: 34.516943 | Y94: 129.11101 | Z94: 127.59206 | AA94: 53.111144 | AB94: 116.94606 | AD94: 85.104774 | AE94: 64.771897 | AF94: 169.23529 | AG94: 93.935327 | AH94: 136.20375 | AI94: 50.748962 | AJ94: 79.682463 | AK94: 108.82052 | AL94: 80.04297 | AM94: 101.37307 | AN94: 1271.6883 | AO94: 69.384218 | AQ94: 52.018745 | AR94: 54.660307 | AS94: 29.625416 | AT94: 34.907316 | AU94: 36.824821 | AV94: 391.96339 | AW94: 32.956811 | AX94: 26.823898 | AY94: 27.150135 | AZ94: 33.523497 | BA94: 38.022404 | BB94: 88.093522
C95: 5S,6R-diHETE | D95: 124.66567 | E95: 188.82357 | F95: 18.517286 | G95: 79.44381 | H95: 104.41946 | I95: 84.130208 | J95: 76.281442 | K95: 331.61619 | L95: 147.79161 | M95: 123.25258 | N95: 71.476045 | O95: 73.311915 | Q95: 6.3336298 | R95: 15.694296 | S95: 157.21945 | T95: 50.82608 | U95: 212.20471 | V95: 157.72183 | W95: 524.82867 | X95: 23.59525 | Y95: 136.37584 | Z95: 93.028353 | AA95: 38.502984 | AB95: 112.82368 | AD95: 113.23926 | AE95: 56.250516 | AF95: 147.52852 | AG95: 80.124075 | AH95: 143.56034 | AI95: 59.297283 | AJ95: 56.236315 | AK95: 88.712198 | AL95: 73.048739 | AM95: 161.20058 | AN95: 692.31405 | AO95: 56.445155
B96: PTGS | C96: PGE2 | D96: 134.51805 | E96: 127.82378 | F96: 91.470078 | G96: 87.537033 | H96: 37.177651 | I96: 121.47342 | J96: 121.90112 | K96: 179.51825 | L96: 153.62666 | M96: 144.61211 | N96: 73.072158 | O96: 194.16585 | Q96: 65.101749 | R96: 72.542042 | S96: 168.49864 | T96: 64.592256 | U96: 177.18834 | V96: 52.076968 | W96: 236.22849 | X96: 76.738123 | Y96: 131.73222 | Z96: 124.30228 | AA96: 146.81218 | AB96: 148.2657 | AD96: 121.39269 | AE96: 23.211905 | AF96: 175.57748 | AG96: 103.9356 | AH96: 143.19684 | AI96: 32.685477 | AJ96: 81.747918 | AK96: 694.99421 | AL96: 262.43321 | AM96: 247.22729 | AN96: 152.32298 | AO96: 106.45595 | AQ96: 56.888169 | AR96: 112.88929 | AS96: 118.41204 | AT96: 45.343217 | AU96: 57.501839 | AV96: 208.96545 | AW96: 389.85128 | AX96: 88.097118 | AY96: 62.302413 | AZ96: 217.93897 | BA96: 133.3155 | BB96: 95.815925
C97: PGD2 | D97: 133.95883 | E97: 141.21783 | F97: 60.835273 | G97: 104.53948 | H97: 53.069518 | I97: 106.37907 | J97: 106.72289 | K97: 152.02206 | L97: 113.2546 | M97: 120.61078 | N97: 53.596293 | O97: 157.02813 | Q97: 53.882369 | R97: 34.381518 | S97: 192.66698 | T97: 68.883008 | U97: 213.36185 | V97: 36.824277 | W97: 280.59755 | X97: 74.55717 | Y97: 146.20467 | Z97: 157.18579 | AA97: 127.93922 | AB97: 101.93626 | AD97: 108.24808 | AE97: 89.900317 | AF97: 123.48586 | AG97: 139.40396 | AH97: 81.714171 | AI97: 57.247611 | AJ97: 80.885946 | AK97: 574.98103 | AL97: 305.07719 | AM97: 188.69481 | AN97: 160.26606 | AO97: 133.76771 | AQ97: 136.34379 | AR97: 130.11093 | AS97: 50.527406 | AT97: 40.748786 | AU97: 26.008925 | AV97: 216.26016 | AW97: 940.00042 | AX97: 65.579129 | AY97: 79.28916 | AZ97: 175.53686 | BA97: 219.72397 | BB97: 25.055991
C98: 15-ketoPGE2 | D98: 186.67828 | E98: 122.44506 | F98: 99.502787 | G98: 81.453444 | H98: 25.778386 | I98: 84.142044 | J98: 122.14594 | K98: 99.967133 | L98: 138.94207 | M98: 207.97297 | N98: 80.649627 | O98: 185.42637 | Q98: 69.589656 | R98: 78.133837 | S98: 136.85442 | T98: 82.802909 | U98: 205.93494 | V98: 26.684233 | W98: 182.29977 | X98: 67.552431 | Y98: 135.79992 | Z98: 116.42484 | AA98: 149.66991 | AB98: 81.485446
C99: PGF2a | D99: 151.24061 | E99: 128.77249 | F99: 95.2882 | G99: 76.197731 | H99: 54.784363 | I99: 93.716607 | J99: 97.67263 | K99: 203.81087 | L99: 102.02575 | M99: 119.04856 | N99: 76.927111 | O99: 131.30672 | Q99: 38.638996 | R99: 59.469729 | S99: 176.25391 | T99: 91.675691 | U99: 190.89143 | V99: 43.070243 | W99: 195.53168 | X99: 59.038174 | Y99: 108.27564 | Z99: 114.67339 | AA99: 206.23695 | AB99: 85.668868
C100: TXB2 | D100: 88.119442 | E100: 139.61934 | F100: 99.807415 | G100: 92.632357 | H100: 75.811611 | I100: 104.00983 | J100: 93.618561 | K100: 208.01967 | L100: 89.778919 | M100: 100.81604 | N100: 74.408594 | O100: 120.0985 | Q100: 18.834646 | R100: 48.85871 | S100: 205.52366 | T100: 50.457638 | U100: 156.66297 | V100: 119.66237 | W100: 308.28549 | X100: 53.29734 | Y100: 109.64662 | Z100: 97.490598 | AA100: 246.74803 | AB100: 143.00633 | AD100: 106.37544 | AE100: 27.722456 | AF100: 146.55758 | AG100: 123.65796 | AH100: 156.60202 | AI100: 39.084542 | AJ100: 86.991779 | AK100: 598.08424 | AL100: 134.55685 | AM100: 90.932316 | AN100: 94.421953 | AO100: 127.25897 | AQ100: 30.143204 | AR100: 66.32241 | AS100: 81.12447 | AT100: 31.302558 | AU100: 26.894194 | AV100: 364.21316 | AW100: 33.312105 | AX100: 15.445383 | AY100: 37.322611 | AZ100: 50.475784 | BA100: 97.873339 | BB100: 50.85478
B101: other | C101: 18-HEPE | D101: 62.354698 | E101: 70.174259 | F101: 101.8066 | G101: 194.77737 | H101: 132.8274 | I101: 38.059664 | J101: 153.38836 | K101: 108.40507 | L101: 80.330827 | M101: 125.93326 | N101: 75.581452 | O101: 81.382778 | Q101: 163.99862 | R101: 72.434202 | S101: 29.537447 | T101: 45.014339 | U101: 53.771092 | V101: 235.2443 | W101: 81.084226 | X101: 52.543373 | Y101: 61.192251 | Z101: 42.638984 | AA101: 38.518286 | AB101: 31.617548 | AD101: 46.535067 | AE101: 51.05611 | AF101: 147.69013 | AG101: 127.86421 | AH101: 192.69973 | AI101: 34.154748 | AJ101: 101.19427 | AK101: 63.732809 | AL101: 72.887798 | AM101: 127.84897 | AN101: 1863.5823 | AO101: 88.258261 | AQ101: 48.926828 | AR101: 46.499555 | AS101: 32.416898 | AT101: 36.938992 | AU101: 38.590341 | AV101: 396.62739 | AW101: 72.160737 | AX101: 62.033855 | AY101: 22.320582 | AZ101: 31.066194 | BA101: 31.982026 | BB101: 34.472491
C102: 7-HDHA | D102: 106.47253 | E102: 123.81074 | F102: 43.35969 | G102: 186.43422 | H102: 70.390175 | I102: 69.532647 | J102: 237.34869 | K102: 201.00531 | L102: 104.84405 | M102: 204.94659 | N102: 88.603018 | O102: 65.584316 | Q102: 54.653478 | R102: 41.675998 | S102: 88.984397 | T102: 52.681672 | U102: 171.07669 | V102: 190.92776 | W102: 363.56335 | X102: 38.9873 | Y102: 129.31111 | Z102: 132.73405 | AA102: 34.082035 | AB102: 78.978975 | AD102: 71.157363 | AE102: 50.097947 | AF102: 183.60558 | AG102: 111.54107 | AH102: 142.40489 | AI102: 41.193156 | AJ102: 113.49213 | AK102: 96.160007 | AL102: 49.651787 | AM102: 114.07613 | AN102: 2025.089 | AO102: 52.785471 | AQ102: 60.158402 | AR102: 61.013913 | AS102: 39.187495 | AT102: 47.141672 | AU102: 49.443548 | AV102: 343.05497 | AW102: 56.925742 | AX102: 54.869294 | AY102: 29.434228 | AZ102: 31.46196 | BA102: 79.211195 | BB102: 67.553762
...
