Workbook

Sheet S1 - Assay
A1: id | B1: target.taxon | C1: target.clade | D1: is.tested | E1: definition | F1: forward_primer | G1: probe | H1: reverse_primer | I1: ref | J1: sstart | K1: send | L1: pident | M1: refseq | N1: rsstart | O1: rsend | P1: rpident | Q1: note | R1: doi
A2: B6R | B2: 10244 | C2: I;II | D2: =COUNTIF('S6 - Table 1'!$B$3:$B$20,Table4[[#This Row],[id]]) -> 0 | E2: ATATAATCAT[ATTGGTCATTATTTTTGTCACAGGAACA]AACTAATACTATAAT(AGAGATTAGAAATA)TGA[CACCCATAATTGTCAACGCCATT]ATAAGTTCCA | F2: ATTGGTCATTATTTTTGTCACAGGAACA | G2: AGAGATTAGAAATA | H2: AATGGCGTTGACAATTATGGGTG | I2: AF380138.1 | J2: 165689 | K2: 165772 | L2: 100 | M2: NC_063383.1 | N2: 165966 | O2: 166049 | P2: 98.8 | Q2: B6R Monkeypox-Specific Assay Design | R2: 10.1016/j.jcv.2006.03.012
A3: C3L | B3: 10244 | C3: I | D3: =COUNTIF('S6 - Table 1'!$B$3:$B$20,Table4[[#This Row],[id]]) -> 1 | E3: CGAGGCGATG[TGTCTACCTGGATACAGAAAGCAA]AAAATGGGA(CCCATATATGCTAAATGTACCGGTACCGGA)TGGACACTCTTTA[ATCAATGTATTAAACGGAGATGCC]TAGATATTCT | F3: TGTCTACCTGGATACAGAAAGCAA | G3: CCCATATATGCTAAATGTACCGGTACCGGA | H3: GGCATCTCCGTTTAATACATTGAT | I3: AF380138.1 | J3: 19457 | K3: 19557 | L3: 100 | M3: NC_063383.1 | N3: 18668 | O3: 18773 | P3: 69.79 | Q3: Monkeypox virus Congo Basin (C3L) assay design | R3: 10.1016/j.jviromet.2010.07.012
A4: E9L | B4: 10242 | C4: I;II | D4: =COUNTIF('S6 - Table 1'!$B$3:$B$20,Table4[[#This Row],[id]]) -> 0 | E4: CGAAGCGTAT[TCAACTGAAAAGGCCATCTATGA]TT(CCATGCAATATACGTACAAGATAGTAGCCAAC)TCAGTATATGGTCTGA[TGGGATTTAGAAATAGTGCTCTATACTC]ACTGGTAGCC | F4: TCAACTGAAAAGGCCATCTATGA | G4: CCATGCAATATACGTACAAGATAGTAGCCAAC | H4: GAGTATAGAGCACTATTTCTAAATCCCA | I4: AF380138.1 | J4: 54672 | K4: 54773 | L4: 100 | M4: NC_063383.1 | N4: 52399 | O4: 52500 | P4: 100 | Q4: E9L Non-variola (NVAR) Orthopox Generic Assay Design | R4: 10.1016/j.jcv.2006.03.012
A5: G2R_G | B5: 10244 | C5: I;II | D5: =COUNTIF('S6 - Table 1'!$B$3:$B$20,Table4[[#This Row],[id]]) -> 1 | E5: TATTAGTCTT[GGAAAATGTAAAGACAACGAATACAG](AAGCCGTAATCTATGTTGTCTATCGTGTCC)TCCGGGAACT[TACGCTTCCAGATTATGTGATAGC]ATTGGATGGT | F5: GGAAAATGTAAAGACAACGAATACAG | G5: AAGCCGTAATCTATGTTGTCTATCGTGTCC | H5: GCTATCACATAATCTGGAAGCGTA | I5: AF380138.1 | J5: 2609 | K5: 2699 | L5: 100 | M5: NC_063383.1 | N5: 2574 | O5: 2664 | P5: 98.89 | Q5: Monkeypox virus generic (G2R_G) assay design | R5: 10.1016/j.jviromet.2010.07.012
A6: G2R_WA | B6: 10244 | C6: II | D6: =COUNTIF('S6 - Table 1'!$B$3:$B$20,Table4[[#This Row],[id]]) -> 1 | E6: TCGTTGACTG[CACACCGTCTCTTCCACAGA]TAAATGCG(AACCCGTCGTAACCAGCAATACATTT)AACTATAT[CGATGTGGAAATTAACCTGTATC]AGAATATGTT | F6: CACACCGTCTCTTCCACAGA | G6: AACCCGTCGTAACCAGCAATACATTT | H6: GATACAGGTTAATTTCCACATCG | I6: AF380138.1 | J6: 2227 | K6: 2309 | L6: 100 | M6: NC_063383.1 | N6: 2189 | O6: 2274 | P6: 100 | Q6: Monkeypox virus West Africa Specific (G2R_WA) assay design | R6: 10.1016/j.jviromet.2010.07.012
A7: Noblis_MPXV-01 | B7: 10244 | C7: I;II | D7: =COUNTIF('S6 - Table 1'!$B$3:$B$20,Table4[[#This Row],[id]]) -> 0 | E7: GATATAGGTG[TAGTTTCGCAGTGACCGTCC]TGGATAATATTATCTATA(TGATGGGTGGATATGATCAGTCCCTGT)ATAGAAGTTCAAAGGTTATAGCGTACAATACATGTACTAATTCTTGGATATATGATATACCAGAGCTAAAAATATCATCGTTCTAATTGC[GGAGGAGTTGCCAATGACGA]ATACATTTAT | F7: TAGTTTCGCAGTGACCGTCC | G7: TGATGGGTGGATATGATCAGTCCCTGT | H7: TCGTCATTGGCAACTCCTCC | I7: MT903341.1 | J7: 149574 | K7: 149749 | L7: 100 | M7: NC_063383.1 | N7: 158033 | O7: 158208 | P7: 100
A8: Noblis_MPXV-02 | B8: 10244 | C8: I;II | D8: =COUNTIF('S6 - Table 1'!$B$3:$B$20,Table4[[#This Row],[id]]) -> 0 | E8: CAGTTTGTAT[CGGTCCATGTCTCCATTGCT]ACACCACCATTAGATTT(ACAGGCTGCTAGTTGTCGTTCGA)GATCAGAAATACGTGTTTTCTTGGAATGGATTTCGTCGATGTACTTGTCATGATTGGCATCGAAACACTTATTAAGTTCTTTTTTTCAATTCTACGATTTTATTTCT[TTCGCGAGTCAATTCCCTCC]TGTAGTAACT | F8: CGGTCCATGTCTCCATTGCT | G8: ACAGGCTGCTAGTTGTCGTTCGA | H8: GGAGGGAATTGACTCGCGAA | I8: MT903341.1 | J8: 125027 | K8: 125214 | L8: 100 | M8: NC_063383.1 | N8: 133493 | O8: 133680 | P8: 100
A9: Noblis_MPXV-03 | B9: 10244 | C9: I;II | D9: =COUNTIF('S6 - Table 1'!$B$3:$B$20,Table4[[#This Row],[id]]) -> 0 | E9: CCAGTTTGTA[TCGGTCCATGTCTCCATTGC]TACACCACCATTAGATTT(ACAGGCTGCTAGTTGTCGTTCGA)GATCAGAAATACGTGTTTTCTTGGAATGGATTTCGTCGATGTACTTGTCATGATTGGCATCGAAACACTTATTAAGTTCTTTTTTTCAATTCTACGATTTTATTTCT[TTCGCGAGTCAATTCCCTCC]TGTAGTAACT | F9: TCGGTCCATGTCTCCATTGC | G9: ACAGGCTGCTAGTTGTCGTTCGA | H9: GGAGGGAATTGACTCGCGAA | I9: MT903341.1 | J9: 125026 | K9: 125214 | L9: 100 | M9: NC_063383.1 | N9: 133492 | O9: 133680 | P9: 100
A10: Noblis_MPXV-04 | B10: 10244 | C10: I;II | D10: =COUNTIF('S6 - Table 1'!$B$3:$B$20,Table4[[#This Row],[id]]) -> 0 | E10: CAGTTTGTAT[CGGTCCATGTCTCCATTGCT]ACACCACCATTAGATTT(ACAGGCTGCTAGTTGTCGTTCGA)GATCAGAAATACGTGTTTTCTTGGAATGGATTTCGTCGATGTACTTGTCATGATTGGCATCGAAACACTTATTAAGTTCTTTTTTTCAATTCTACGATTTTATTTCTTTC[GCGAGTCAATTCCCTCCTGT]AGTAACTATC | F10: CGGTCCATGTCTCCATTGCT | G10: ACAGGCTGCTAGTTGTCGTTCGA | H10: ACAGGAGGGAATTGACTCGC | I10: MT903341.1 | J10: 125027 | K10: 125217 | L10: 100 | M10: NC_063383.1 | N10: 133493 | O10: 133683 | P10: 100
A11: Noblis_MPXV-05 | B11: 10244 | C11: I;II | D11: =COUNTIF('S6 - Table 1'!$B$3:$B$20,Table4[[#This Row],[id]]) -> 0 | E11: CCAGTTTGTA[TCGGTCCATGTCTCCATTGC]TACACCACCATTAGATTT(ACAGGCTGCTAGTTGTCGTTCGA)GATCAGAAATACGTGTTTTCTTGGAATGGATTTCGTCGATGTACTTGTCATGATTGGCATCGAAACACTTATTAAGTTCTTTTTTTCAATTCTACGATTTTATTTCTTTC[GCGAGTCAATTCCCTCCTGT]AGTAACTATC | F11: TCGGTCCATGTCTCCATTGC | G11: ACAGGCTGCTAGTTGTCGTTCGA | H11: ACAGGAGGGAATTGACTCGC | I11: MT903341.1 | J11: 125026 | K11: 125217 | L11: 100 | M11: NC_063383.1 | N11: 133492 | O11: 133683 | P11: 100
A12: Noblis_MPXV-06 | B12: 10244 | C12: I;II | D12: =COUNTIF('S6 - Table 1'!$B$3:$B$20,Table4[[#This Row],[id]]) -> 0 | E12: GATATAGGTG[TAGTTTCGCAGTGACCGTCC]TGGATAATATTATCTATA(TGATGGGTGGATATGATCAGTCCCTGT)ATAGAAGTTCAAAGGTTATAGCGTACAATACATGTACTAATTCTTGGATATATGATATACCAGAGCTAAAAATATCATCGTTCTA[ATTGCGGAGGAGTTGCCAAT]GACGAATACA | F12: TAGTTTCGCAGTGACCGTCC | G12: TGATGGGTGGATATGATCAGTCCCTGT | H12: ATTGGCAACTCCTCCGCAAT | I12: MT903341.1 | J12: 149574 | K12: 149744 | L12: 100 | M12: NC_063383.1 | N12: 158033 | O12: 158203 | P12: 100
A13: Noblis_MPXV-07 | B13: 10244 | C13: I;II | D13: =COUNTIF('S6 - Table 1'!$B$3:$B$20,Table4[[#This Row],[id]]) -> 0 | E13: GATATAGGTG[TAGTTTCGCAGTGACCGTCC]TGGATAATATTATCTATA(TGATGGGTGGATATGATCAGTCCCTGT)ATAGAAGTTCAAAGGTTATAGCGTACAATACATGTACTAATTCTTGGATATATGATATACCAGAGCTAAAAATATCATCGTTC[TAATTGCGGAGGAGTTGCCA]ATGACGAATA | F13: TAGTTTCGCAGTGACCGTCC | G13: TGATGGGTGGATATGATCAGTCCCTGT | H13: TGGCAACTCCTCCGCAATTA | I13: MT903341.1 | J13: 149574 | K13: 149742 | L13: 100 | M13: NC_063383.1 | N13: 158033 | O13: 158201 | P13: 100
A14: Noblis_MPXV-08 | B14: 10244 | C14: I;II | D14: =COUNTIF('S6 - Table 1'!$B$3:$B$20,Table4[[#This Row],[id]]) -> 0 | E14: TAGATATAGG[TGTAGTTTCGCAGTGACCGT]CCTGGATAATATTATCTATA(TGATGGGTGGATATGATCAGTCCCTGT)ATAGAAGTTCAAAGGTTATAGCGTACAATACATGTACTAATTCTTGGATATATGATATACCAGAGCTAAAAATATCATCGTTCTAATTGC[GGAGGAGTTGCCAATGACGA]ATACATTTAT | F14: TGTAGTTTCGCAGTGACCGT | G14: TGATGGGTGGATATGATCAGTCCCTGT | H14: TCGTCATTGGCAACTCCTCC | I14: MT903341.1 | J14: 149572 | K14: 149749 | L14: 100 | M14: NC_063383.1 | N14: 158031 | O14: 158208 | P14: 100
A15: Noblis_MPXV-09 | B15: 10244 | C15: I;II | D15: =COUNTIF('S6 - Table 1'!$B$3:$B$20,Table4[[#This Row],[id]]) -> 0 | E15: TAGATTTACA[GGCTGCTAGTTGTCGTTCGA]GATCAGAAATACGTGTTTTCTTGGAATGGATTT(CGTCGATGTACTTGTCATGATTGGCA)TCGAAACACTTATTAAGTTCTTTTTTTCAATTCTACGATTTTATTTCT[TTCGCGAGTCAATTCCCTCC]TGTAGTAACT | F15: GGCTGCTAGTTGTCGTTCGA | G15: CGTCGATGTACTTGTCATGATTGGCA | H15: GGAGGGAATTGACTCGCGAA | I15: MT903341.1 | J15: 125067 | K15: 125214 | L15: 100 | M15: NC_063383.1 | N15: 133533 | O15: 133680 | P15: 100
A16: Noblis_MPXV-10 | B16: 10244 | C16: I;II | D16: =COUNTIF('S6 - Table 1'!$B$3:$B$20,Table4[[#This Row],[id]]) -> 0 | E16: GTGTAGTTTC[GCAGTGACCGTCCTGGATAA]TATTATCTATA(TGATGGGTGGATATGATCAGTCCCTGT)ATAGAAGTTCAAAGGTTATAGCGTACAATACATGTACTAATTCTTGGATATATGATATACCAGAGCTAAAAATATCATCGTTCTAATTGC[GGAGGAGTTGCCAATGACGA]ATACATTTAT | F16: GCAGTGACCGTCCTGGATAA | G16: TGATGGGTGGATATGATCAGTCCCTGT | H16: TCGTCATTGGCAACTCCTCC | I16: MT903341.1 | J16: 149581 | K16: 149749 | L16: 100 | M16: NC_063383.1 | N16: 158040 | O16: 158208 | P16: 100
A17: Noblis_MPXV-11 | B17: 10244 | C17: I;II | D17: =COUNTIF('S6 - Table 1'!$B$3:$B$20,Table4[[#This Row],[id]]) -> 0 | E17: CTAATTTGTT[CCCTGGCATTACCGAGTTCA]GTTTTATATGCCGAATAGAGTTCTGATTCATCCTTTGAGAAGATC(TCTAGCGATCGTTCAAGATCCCTGA)TTCTAGTCTTTAGCCTATTTA[CCTCCTCAGAAGATGCTCCG]TTACCGTTTT | F17: CCCTGGCATTACCGAGTTCA | G17: TCTAGCGATCGTTCAAGATCCCTGA | H17: CGGAGCATCTTCTGAGGAGG | I17: MT903341.1 | J17: 125283 | K17: 125414 | L17: 100 | M17: NC_063383.1 | N17: 133749 | O17: 133880 | P17: 100
A18: Noblis_MPXV-12 | B18: 10244 | C18: I;II | D18: =COUNTIF('S6 - Table 1'!$B$3:$B$20,Table4[[#This Row],[id]]) -> 0 | E18: GTTACTAATT[TGTTCCCTGGCATTACCGAG]TTCAGTTTTATATGCCGAATAGAGTTCTGATTCATCCTTTGAGAAGATC(TCTAGCGATCGTTCAAGATCCCTGA)TTCTAGTCTTTAGCCTATTTA[CCTCCTCAGAAGATGCTCCG]TTACCGTTTT | F18: TGTTCCCTGGCATTACCGAG | G18: TCTAGCGATCGTTCAAGATCCCTGA | H18: CGGAGCATCTTCTGAGGAGG | I18: MT903341.1 | J18: 125279 | K18: 125414 | L18: 100 | M18: NC_063383.1 | N18: 133745 | O18: 133880 | P18: 100
... A2346: Noblis_MPXV-II-1595 | B2346: 10244 | C2346: II | D2346: =COUNTIF('S6 - Table 1'!$B$3:$B$20,Table4[[#This Row],[id]]) -> 0 | E2346: TATGTGTTGA[ACATCACTACTATAGTTGATGAGTCT]TATA(GCATGAATTCGCTTATCGTTATCGGGT)TTATCTTCTGTCACCTTAACAATTCCTTTTTTATT[AAACTCTGCATAATCATAACCATTTCT]ATTGTTTGTT | F2346: ACATCACTACTATAGTTGATGAGTCT | G2346: GCATGAATTCGCTTATCGTTATCGGGT | H2346: AGAAATGGTTATGATTATGCAGAGTTT | I2346: AY603973.1 | J2346: 138607 | K2346: 138726 | L2346: 100 | M2346: NC_063383.1 | N2346: 136693 | O2346: 136812 | P2346: 100

Sheet S2 - PSET
A1: id | B1: target.taxon | C1: target.clade | D1: is.tested | E1: primer3.penalty_points | F1: species.TP | G1: species.FN | H1: species.FP | I1: species.TN | J1: hits.I | K1: hits.II | L1: hits.? | M1: clade.P | N1: clade.N | O1: clade.TP | P1: clade.FN | Q1: clade.FP | R1: clade.TN | S1: TPR | T1: FNR | U1: FPR | V1: TNR
A2: B6R | B2: =LOOKUP(Table11[[#This Row],[id]],'S1 - Assay'!A:A,'S1 - Assay'!B:B) -> 10244 | C2: =LOOKUP(Table11[[#This Row],[id]],'S1 - Assay'!A:A,'S1 - Assay'!C:C) -> I;II | D2: =COUNTIF('S6 - Table 1'!$B$3:$B$20,Table11[[#This Row],[id]]) -> 0 | F2: 3376 | G2: 7 | H2: 10 | I2: 362 | J2: 43 | K2: 4399 | L2: 50 | M2: {=_xlfn.IFS(Table11[[#This Row],[target.clade]]="I",110,Table11[[#This Row],[target.clade]]="II",4454,TRUE,4652)} -> 4652 | N2: {=_xlfn.IFS(Table11[[#This Row],[target.clade]]="I",4454,Table11[[#This Row],[target.clade]]="II",110,TRUE,NA())} -> #N/A | O2: {=_xlfn.IFS(Table11[[#This Row],[target.clade]]="I",Table11[[#This Row],[hits.I]],Table11[[#This Row],[target.clade]]="II",Table11[[#This Row],[hits.II]],TRUE,SUM(Table11[[#This Row],[hits.I]:[hits.?]]))} -> 4492 | P2: =Table11[[#This Row],[clade.P]]-Table11[[#This Row],[clade.TP]] -> 160 | Q2: {=_xlfn.IFS(Table11[[#This Row],[target.clade]]="I",Table11[[#This Row],[hits.II]],Table11[[#This Row],[target.clade]]="II",Table11[[#This Row],[hits.I]],TRUE,NA())} -> #N/A | R2: =IFERROR(Table11[[#This Row],[clade.N]]-Table11[[#This Row],[clade.FP]], NA()) -> #N/A | S2: =Table11[[#This Row],[clade.TP]]/Table11[[#This Row],[clade.P]] -> 0.96560619 | T2: =Table11[[#This Row],[clade.FN]]/Table11[[#This Row],[clade.P]] -> 0.034393809 | U2: =IFERROR(Table11[[#This Row],[clade.FP]]/Table11[[#This Row],[clade.N]],NA()) -> #N/A | V2: =IFERROR(Table11[[#This Row],[clade.TN]]/Table11[[#This Row],[clade.N]],NA()) -> #N/A
A3: C3L | B3: =LOOKUP(Table11[[#This Row],[id]],'S1 - Assay'!A:A,'S1 - Assay'!B:B) -> 10244 | C3: =LOOKUP(Table11[[#This Row],[id]],'S1 - Assay'!A:A,'S1 - Assay'!C:C) -> I | D3: =COUNTIF('S6 - Table 1'!$B$3:$B$20,Table11[[#This Row],[id]]) -> 1 | F3: 56 | G3: 0 | H3: 253 | I3: 55 | J3: 50 | K3: 0 | L3: 0 | M3: {=_xlfn.IFS(Table11[[#This Row],[target.clade]]="I",110,Table11[[#This Row],[target.clade]]="II",4454,TRUE,4652)} -> 110 | N3: {=_xlfn.IFS(Table11[[#This Row],[target.clade]]="I",4454,Table11[[#This Row],[target.clade]]="II",110,TRUE,NA())} -> 4454 | O3: {=_xlfn.IFS(Table11[[#This Row],[target.clade]]="I",Table11[[#This Row],[hits.I]],Table11[[#This Row],[target.clade]]="II",Table11[[#This Row],[hits.II]],TRUE,SUM(Table11[[#This Row],[hits.I]:[hits.?]]))} -> 50 | P3: =Table11[[#This Row],[clade.P]]-Table11[[#This Row],[clade.TP]] -> 60 | Q3: {=_xlfn.IFS(Table11[[#This Row],[target.clade]]="I",Table11[[#This Row],[hits.II]],Table11[[#This Row],[target.clade]]="II",Table11[[#This Row],[hits.I]],TRUE,NA())} -> 0 | R3: =IFERROR(Table11[[#This Row],[clade.N]]-Table11[[#This Row],[clade.FP]], NA()) -> 4454 | S3: =Table11[[#This Row],[clade.TP]]/Table11[[#This Row],[clade.P]] -> 0.45454545 | T3: =Table11[[#This Row],[clade.FN]]/Table11[[#This Row],[clade.P]] -> 0.54545455 | U3: =IFERROR(Table11[[#This Row],[clade.FP]]/Table11[[#This Row],[clade.N]],NA()) -> 0 | V3: =IFERROR(Table11[[#This Row],[clade.TN]]/Table11[[#This Row],[clade.N]],NA()) -> 1
A4: E9L | B4: =LOOKUP(Table11[[#This Row],[id]],'S1 - Assay'!A:A,'S1 - Assay'!B:B) -> 10242 | C4: =LOOKUP(Table11[[#This Row],[id]],'S1 - Assay'!A:A,'S1 - Assay'!C:C) -> I;II | D4: =COUNTIF('S6 - Table 1'!$B$3:$B$20,Table11[[#This Row],[id]]) -> 0 | F4: 3697 | G4: 13 | H4: 0 | I4: 192 | J4: 44 | K4: 4400 | L4: 63 | M4: {=_xlfn.IFS(Table11[[#This Row],[target.clade]]="I",110,Table11[[#This Row],[target.clade]]="II",4454,TRUE,4652)} -> 4652 | N4: {=_xlfn.IFS(Table11[[#This Row],[target.clade]]="I",4454,Table11[[#This Row],[target.clade]]="II",110,TRUE,NA())} -> #N/A | O4: {=_xlfn.IFS(Table11[[#This Row],[target.clade]]="I",Table11[[#This Row],[hits.I]],Table11[[#This Row],[target.clade]]="II",Table11[[#This Row],[hits.II]],TRUE,SUM(Table11[[#This Row],[hits.I]:[hits.?]]))} -> 4507 | P4: =Table11[[#This Row],[clade.P]]-Table11[[#This Row],[clade.TP]] -> 145 | Q4: {=_xlfn.IFS(Table11[[#This Row],[target.clade]]="I",Table11[[#This Row],[hits.II]],Table11[[#This Row],[target.clade]]="II",Table11[[#This Row],[hits.I]],TRUE,NA())} -> #N/A | R4: =IFERROR(Table11[[#This Row],[clade.N]]-Table11[[#This Row],[clade.FP]], NA()) -> #N/A | S4: =Table11[[#This Row],[clade.TP]]/Table11[[#This Row],[clade.P]] -> 0.96883061 | T4: =Table11[[#This Row],[clade.FN]]/Table11[[#This Row],[clade.P]] -> 0.03116939 | U4: =IFERROR(Table11[[#This Row],[clade.FP]]/Table11[[#This Row],[clade.N]],NA()) -> #N/A | V4: =IFERROR(Table11[[#This Row],[clade.TN]]/Table11[[#This Row],[clade.N]],NA()) -> #N/A
A5: G2R_G | B5: =LOOKUP(Table11[[#This Row],[id]],'S1 - Assay'!A:A,'S1 - Assay'!B:B) -> 10244 | C5: =LOOKUP(Table11[[#This Row],[id]],'S1 - Assay'!A:A,'S1 - Assay'!C:C) -> I;II | D5: =COUNTIF('S6 - Table 1'!$B$3:$B$20,Table11[[#This Row],[id]]) -> 1 | F5: 3280 | G5: 3 | H5: 10 | I5: 214 | J5: 50 | K5: 4186 | L5: 24 | M5: {=_xlfn.IFS(Table11[[#This Row],[target.clade]]="I",110,Table11[[#This Row],[target.clade]]="II",4454,TRUE,4652)} -> 4652 | N5: {=_xlfn.IFS(Table11[[#This Row],[target.clade]]="I",4454,Table11[[#This Row],[target.clade]]="II",110,TRUE,NA())} -> #N/A | O5: {=_xlfn.IFS(Table11[[#This Row],[target.clade]]="I",Table11[[#This Row],[hits.I]],Table11[[#This Row],[target.clade]]="II",Table11[[#This Row],[hits.II]],TRUE,SUM(Table11[[#This Row],[hits.I]:[hits.?]]))} -> 4260 | P5: =Table11[[#This Row],[clade.P]]-Table11[[#This Row],[clade.TP]] -> 392 | Q5: {=_xlfn.IFS(Table11[[#This Row],[target.clade]]="I",Table11[[#This Row],[hits.II]],Table11[[#This Row],[target.clade]]="II",Table11[[#This Row],[hits.I]],TRUE,NA())} -> #N/A | R5: =IFERROR(Table11[[#This Row],[clade.N]]-Table11[[#This Row],[clade.FP]], NA()) -> #N/A | S5: =Table11[[#This Row],[clade.TP]]/Table11[[#This Row],[clade.P]] -> 0.91573517 | T5: =Table11[[#This Row],[clade.FN]]/Table11[[#This Row],[clade.P]] -> 0.084264832 | U5: =IFERROR(Table11[[#This Row],[clade.FP]]/Table11[[#This Row],[clade.N]],NA()) -> #N/A | V5: =IFERROR(Table11[[#This Row],[clade.TN]]/Table11[[#This Row],[clade.N]],NA()) -> #N/A
A6: G2R_WA | B6: =LOOKUP(Table11[[#This Row],[id]],'S1 - Assay'!A:A,'S1 - Assay'!B:B) -> 10244 | C6: =LOOKUP(Table11[[#This Row],[id]],'S1 - Assay'!A:A,'S1 - Assay'!C:C) -> II | D6: =COUNTIF('S6 - Table 1'!$B$3:$B$20,Table11[[#This Row],[id]]) -> 1 | F6: 3271 | G6: 55 | H6: 0 | I6: 302 | J6: 50 | K6: 4267 | L6: 46 | M6: {=_xlfn.IFS(Table11[[#This Row],[target.clade]]="I",110,Table11[[#This Row],[target.clade]]="II",4454,TRUE,4652)} -> 4454 | N6: {=_xlfn.IFS(Table11[[#This Row],[target.clade]]="I",4454,Table11[[#This Row],[target.clade]]="II",110,TRUE,NA())} -> 110 | O6: {=_xlfn.IFS(Table11[[#This Row],[target.clade]]="I",Table11[[#This Row],[hits.I]],Table11[[#This Row],[target.clade]]="II",Table11[[#This Row],[hits.II]],TRUE,SUM(Table11[[#This Row],[hits.I]:[hits.?]]))} -> 4267 | P6: =Table11[[#This Row],[clade.P]]-Table11[[#This Row],[clade.TP]] -> 187 | Q6: {=_xlfn.IFS(Table11[[#This Row],[target.clade]]="I",Table11[[#This Row],[hits.II]],Table11[[#This Row],[target.clade]]="II",Table11[[#This Row],[hits.I]],TRUE,NA())} -> 50 | R6: =IFERROR(Table11[[#This Row],[clade.N]]-Table11[[#This Row],[clade.FP]], NA()) -> 60 | S6: =Table11[[#This Row],[clade.TP]]/Table11[[#This Row],[clade.P]] -> 0.95801527 | T6: =Table11[[#This Row],[clade.FN]]/Table11[[#This Row],[clade.P]] -> 0.041984733 | U6: =IFERROR(Table11[[#This Row],[clade.FP]]/Table11[[#This Row],[clade.N]],NA()) -> 0.45454545 | V6: =IFERROR(Table11[[#This Row],[clade.TN]]/Table11[[#This Row],[clade.N]],NA()) -> 0.54545455
A7: Noblis_MPXV-01 | B7: =LOOKUP(Table11[[#This Row],[id]],'S1 - Assay'!A:A,'S1 - Assay'!B:B) -> 10244 | C7: =LOOKUP(Table11[[#This Row],[id]],'S1 - Assay'!A:A,'S1 - Assay'!C:C) -> I;II | D7: =COUNTIF('S6 - Table 1'!$B$3:$B$20,Table11[[#This Row],[id]]) -> 0 | E7: 0.075280284 | F7: 3269 | G7: 1 | H7: 22 | I7: 255 | J7: 0 | K7: 4401 | L7: 23 | M7: {=_xlfn.IFS(Table11[[#This Row],[target.clade]]="I",110,Table11[[#This Row],[target.clade]]="II",4454,TRUE,4652)} -> 4652 | N7: {=_xlfn.IFS(Table11[[#This Row],[target.clade]]="I",4454,Table11[[#This Row],[target.clade]]="II",110,TRUE,NA())} -> #N/A | O7: {=_xlfn.IFS(Table11[[#This Row],[target.clade]]="I",Table11[[#This Row],[hits.I]],Table11[[#This Row],[target.clade]]="II",Table11[[#This Row],[hits.II]],TRUE,SUM(Table11[[#This Row],[hits.I]:[hits.?]]))} -> 4424 | P7: =Table11[[#This Row],[clade.P]]-Table11[[#This Row],[clade.TP]] -> 228 | Q7: {=_xlfn.IFS(Table11[[#This Row],[target.clade]]="I",Table11[[#This Row],[hits.II]],Table11[[#This Row],[target.clade]]="II",Table11[[#This Row],[hits.I]],TRUE,NA())} -> #N/A | R7: =IFERROR(Table11[[#This Row],[clade.N]]-Table11[[#This Row],[clade.FP]], NA()) -> #N/A | S7: =Table11[[#This Row],[clade.TP]]/Table11[[#This Row],[clade.P]] -> 0.95098882 | T7: =Table11[[#This Row],[clade.FN]]/Table11[[#This Row],[clade.P]] -> 0.049011178 | U7: =IFERROR(Table11[[#This Row],[clade.FP]]/Table11[[#This Row],[clade.N]],NA()) -> #N/A | V7: =IFERROR(Table11[[#This Row],[clade.TN]]/Table11[[#This Row],[clade.N]],NA()) -> #N/A
A8: Noblis_MPXV-02 | B8: =LOOKUP(Table11[[#This Row],[id]],'S1 - Assay'!A:A,'S1 - Assay'!B:B) -> 10244 | C8: =LOOKUP(Table11[[#This Row],[id]],'S1 - Assay'!A:A,'S1 - Assay'!C:C) -> I;II | D8: =COUNTIF('S6 - Table 1'!$B$3:$B$20,Table11[[#This Row],[id]]) -> 0 | E8: 0.2158373 | F8: 3379 | G8: 3 | H8: 203 | I8: 72 | J8: 0 | K8: 4429 | L8: 67 | M8: {=_xlfn.IFS(Table11[[#This Row],[target.clade]]="I",110,Table11[[#This Row],[target.clade]]="II",4454,TRUE,4652)} -> 4652 | N8: {=_xlfn.IFS(Table11[[#This Row],[target.clade]]="I",4454,Table11[[#This Row],[target.clade]]="II",110,TRUE,NA())} -> #N/A | O8: {=_xlfn.IFS(Table11[[#This Row],[target.clade]]="I",Table11[[#This Row],[hits.I]],Table11[[#This Row],[target.clade]]="II",Table11[[#This Row],[hits.II]],TRUE,SUM(Table11[[#This Row],[hits.I]:[hits.?]]))} -> 4496 | P8: =Table11[[#This Row],[clade.P]]-Table11[[#This Row],[clade.TP]] -> 156 | Q8: {=_xlfn.IFS(Table11[[#This Row],[target.clade]]="I",Table11[[#This Row],[hits.II]],Table11[[#This Row],[target.clade]]="II",Table11[[#This Row],[hits.I]],TRUE,NA())} -> #N/A | R8: =IFERROR(Table11[[#This Row],[clade.N]]-Table11[[#This Row],[clade.FP]], NA()) -> #N/A | S8: =Table11[[#This Row],[clade.TP]]/Table11[[#This Row],[clade.P]] -> 0.96646604 | T8: =Table11[[#This Row],[clade.FN]]/Table11[[#This Row],[clade.P]] -> 0.033533964 | U8: =IFERROR(Table11[[#This Row],[clade.FP]]/Table11[[#This Row],[clade.N]],NA()) -> #N/A | V8: =IFERROR(Table11[[#This Row],[clade.TN]]/Table11[[#This Row],[clade.N]],NA()) -> #N/A
A9: Noblis_MPXV-03 | B9: =LOOKUP(Table11[[#This Row],[id]],'S1 - Assay'!A:A,'S1 - Assay'!B:B) -> 10244 | C9: =LOOKUP(Table11[[#This Row],[id]],'S1 - Assay'!A:A,'S1 - Assay'!C:C) -> I;II | D9: =COUNTIF('S6 - Table 1'!$B$3:$B$20,Table11[[#This Row],[id]]) -> 0 | E9: 0.21603205 | F9: 3379 | G9: 3 | H9: 203 | I9: 72 | J9: 0 | K9: 4429 | L9: 67 | M9: {=_xlfn.IFS(Table11[[#This Row],[target.clade]]="I",110,Table11[[#This Row],[target.clade]]="II",4454,TRUE,4652)} -> 4652 | N9: {=_xlfn.IFS(Table11[[#This Row],[target.clade]]="I",4454,Table11[[#This Row],[target.clade]]="II",110,TRUE,NA())} -> #N/A | O9: {=_xlfn.IFS(Table11[[#This Row],[target.clade]]="I",Table11[[#This Row],[hits.I]],Table11[[#This Row],[target.clade]]="II",Table11[[#This Row],[hits.II]],TRUE,SUM(Table11[[#This Row],[hits.I]:[hits.?]]))} -> 4496 | P9: =Table11[[#This Row],[clade.P]]-Table11[[#This Row],[clade.TP]] -> 156 | Q9: {=_xlfn.IFS(Table11[[#This Row],[target.clade]]="I",Table11[[#This Row],[hits.II]],Table11[[#This Row],[target.clade]]="II",Table11[[#This Row],[hits.I]],TRUE,NA())} -> #N/A | R9: =IFERROR(Table11[[#This Row],[clade.N]]-Table11[[#This Row],[clade.FP]], NA()) -> #N/A | S9: =Table11[[#This Row],[clade.TP]]/Table11[[#This Row],[clade.P]] -> 0.96646604 | T9: =Table11[[#This Row],[clade.FN]]/Table11[[#This Row],[clade.P]] -> 0.033533964 | U9: =IFERROR(Table11[[#This Row],[clade.FP]]/Table11[[#This Row],[clade.N]],NA()) -> #N/A | V9: =IFERROR(Table11[[#This Row],[clade.TN]]/Table11[[#This Row],[clade.N]],NA()) -> #N/A
A10: Noblis_MPXV-04 | B10: =LOOKUP(Table11[[#This Row],[id]],'S1 - Assay'!A:A,'S1 - Assay'!B:B) -> 10244 | C10: =LOOKUP(Table11[[#This Row],[id]],'S1 - Assay'!A:A,'S1 - Assay'!C:C) -> I;II | D10: =COUNTIF('S6 - Table 1'!$B$3:$B$20,Table11[[#This Row],[id]]) -> 0 | E10: 0.35802158 | F10: 3379 | G10: 3 | H10: 203 | I10: 72 | J10: 0 | K10: 4429 | L10: 67 | M10: {=_xlfn.IFS(Table11[[#This Row],[target.clade]]="I",110,Table11[[#This Row],[target.clade]]="II",4454,TRUE,4652)} -> 4652 | N10: {=_xlfn.IFS(Table11[[#This Row],[target.clade]]="I",4454,Table11[[#This Row],[target.clade]]="II",110,TRUE,NA())} -> #N/A | O10: {=_xlfn.IFS(Table11[[#This Row],[target.clade]]="I",Table11[[#This Row],[hits.I]],Table11[[#This Row],[target.clade]]="II",Table11[[#This Row],[hits.II]],TRUE,SUM(Table11[[#This Row],[hits.I]:[hits.?]]))} -> 4496 | P10: =Table11[[#This Row],[clade.P]]-Table11[[#This Row],[clade.TP]] -> 156 | Q10: {=_xlfn.IFS(Table11[[#This Row],[target.clade]]="I",Table11[[#This Row],[hits.II]],Table11[[#This Row],[target.clade]]="II",Table11[[#This Row],[hits.I]],TRUE,NA())} -> #N/A | R10: =IFERROR(Table11[[#This Row],[clade.N]]-Table11[[#This Row],[clade.FP]], NA()) -> #N/A | S10: =Table11[[#This Row],[clade.TP]]/Table11[[#This Row],[clade.P]] -> 0.96646604 | T10: =Table11[[#This Row],[clade.FN]]/Table11[[#This Row],[clade.P]] -> 0.033533964 | U10: =IFERROR(Table11[[#This Row],[clade.FP]]/Table11[[#This Row],[clade.N]],NA()) -> #N/A | V10: =IFERROR(Table11[[#This Row],[clade.TN]]/Table11[[#This Row],[clade.N]],NA()) -> #N/A
A11: Noblis_MPXV-05 | B11: =LOOKUP(Table11[[#This Row],[id]],'S1 - Assay'!A:A,'S1 - Assay'!B:B) -> 10244 | C11: =LOOKUP(Table11[[#This Row],[id]],'S1 - Assay'!A:A,'S1 - Assay'!C:C) -> I;II | D11: =COUNTIF('S6 - Table 1'!$B$3:$B$20,Table11[[#This Row],[id]]) -> 0 | E11: 0.35821633 | F11: 3379 | G11: 3 | H11: 203 | I11: 72 | J11: 0 | K11: 4429 | L11: 67 | M11: {=_xlfn.IFS(Table11[[#This Row],[target.clade]]="I",110,Table11[[#This Row],[target.clade]]="II",4454,TRUE,4652)} -> 4652 | N11: {=_xlfn.IFS(Table11[[#This Row],[target.clade]]="I",4454,Table11[[#This Row],[target.clade]]="II",110,TRUE,NA())} -> #N/A | O11: {=_xlfn.IFS(Table11[[#This Row],[target.clade]]="I",Table11[[#This Row],[hits.I]],Table11[[#This Row],[target.clade]]="II",Table11[[#This Row],[hits.II]],TRUE,SUM(Table11[[#This Row],[hits.I]:[hits.?]]))} -> 4496 | P11: =Table11[[#This Row],[clade.P]]-Table11[[#This Row],[clade.TP]] -> 156 | Q11: {=_xlfn.IFS(Table11[[#This Row],[target.clade]]="I",Table11[[#This Row],[hits.II]],Table11[[#This Row],[target.clade]]="II",Table11[[#This Row],[hits.I]],TRUE,NA())} -> #N/A | R11: =IFERROR(Table11[[#This Row],[clade.N]]-Table11[[#This Row],[clade.FP]], NA()) -> #N/A | S11: =Table11[[#This Row],[clade.TP]]/Table11[[#This Row],[clade.P]] -> 0.96646604 | T11: =Table11[[#This Row],[clade.FN]]/Table11[[#This Row],[clade.P]] -> 0.033533964 | U11: =IFERROR(Table11[[#This Row],[clade.FP]]/Table11[[#This Row],[clade.N]],NA()) -> #N/A | V11: =IFERROR(Table11[[#This Row],[clade.TN]]/Table11[[#This Row],[clade.N]],NA()) -> #N/A
A12: Noblis_MPXV-06 | B12: =LOOKUP(Table11[[#This Row],[id]],'S1 - Assay'!A:A,'S1 - Assay'!B:B) -> 10244 | C12: =LOOKUP(Table11[[#This Row],[id]],'S1 - Assay'!A:A,'S1 - Assay'!C:C) -> I;II | D12: =COUNTIF('S6 - Table 1'!$B$3:$B$20,Table11[[#This Row],[id]]) -> 0 | E12: 0.36261653 | F12: 3269 | G12: 1 | H12: 22 | I12: 255 | J12: 0 | K12: 4401 | L12: 23 | M12: {=_xlfn.IFS(Table11[[#This Row],[target.clade]]="I",110,Table11[[#This Row],[target.clade]]="II",4454,TRUE,4652)} -> 4652 | N12: {=_xlfn.IFS(Table11[[#This Row],[target.clade]]="I",4454,Table11[[#This Row],[target.clade]]="II",110,TRUE,NA())} -> #N/A | O12: {=_xlfn.IFS(Table11[[#This Row],[target.clade]]="I",Table11[[#This Row],[hits.I]],Table11[[#This Row],[target.clade]]="II",Table11[[#This Row],[hits.II]],TRUE,SUM(Table11[[#This Row],[hits.I]:[hits.?]]))} -> 4424 | P12: =Table11[[#This Row],[clade.P]]-Table11[[#This Row],[clade.TP]] -> 228 | Q12: {=_xlfn.IFS(Table11[[#This Row],[target.clade]]="I",Table11[[#This Row],[hits.II]],Table11[[#This Row],[target.clade]]="II",Table11[[#This Row],[hits.I]],TRUE,NA())} -> #N/A | R12: =IFERROR(Table11[[#This Row],[clade.N]]-Table11[[#This Row],[clade.FP]], NA()) -> #N/A | S12: =Table11[[#This Row],[clade.TP]]/Table11[[#This Row],[clade.P]] -> 0.95098882 | T12: =Table11[[#This Row],[clade.FN]]/Table11[[#This Row],[clade.P]] -> 0.049011178 | U12: =IFERROR(Table11[[#This Row],[clade.FP]]/Table11[[#This Row],[clade.N]],NA()) -> #N/A | V12: =IFERROR(Table11[[#This Row],[clade.TN]]/Table11[[#This Row],[clade.N]],NA()) -> #N/A
A13: Noblis_MPXV-07 | B13: =LOOKUP(Table11[[#This Row],[id]],'S1 - Assay'!A:A,'S1 - Assay'!B:B) -> 10244 | C13: =LOOKUP(Table11[[#This Row],[id]],'S1 - Assay'!A:A,'S1 - Assay'!C:C) -> I;II | D13: =COUNTIF('S6 - Table 1'!$B$3:$B$20,Table11[[#This Row],[id]]) -> 0 | E13: 0.36548691 | F13: 3269 | G13: 1 | H13: 22 | I13: 255 | J13: 0 | K13: 4401 | L13: 23 | M13: {=_xlfn.IFS(Table11[[#This Row],[target.clade]]="I",110,Table11[[#This Row],[target.clade]]="II",4454,TRUE,4652)} -> 4652 | N13: {=_xlfn.IFS(Table11[[#This Row],[target.clade]]="I",4454,Table11[[#This Row],[target.clade]]="II",110,TRUE,NA())} -> #N/A | O13: {=_xlfn.IFS(Table11[[#This Row],[target.clade]]="I",Table11[[#This Row],[hits.I]],Table11[[#This Row],[target.clade]]="II",Table11[[#This Row],[hits.II]],TRUE,SUM(Table11[[#This Row],[hits.I]:[hits.?]]))} -> 4424 | P13: =Table11[[#This Row],[clade.P]]-Table11[[#This Row],[clade.TP]] -> 228 | Q13: {=_xlfn.IFS(Table11[[#This Row],[target.clade]]="I",Table11[[#This Row],[hits.II]],Table11[[#This Row],[target.clade]]="II",Table11[[#This Row],[hits.I]],TRUE,NA())} -> #N/A | R13: =IFERROR(Table11[[#This Row],[clade.N]]-Table11[[#This Row],[clade.FP]], NA()) -> #N/A | S13: =Table11[[#This Row],[clade.TP]]/Table11[[#This Row],[clade.P]] -> 0.95098882 | T13: =Table11[[#This Row],[clade.FN]]/Table11[[#This Row],[clade.P]] -> 0.049011178 | U13: =IFERROR(Table11[[#This Row],[clade.FP]]/Table11[[#This Row],[clade.N]],NA()) -> #N/A | V13: =IFERROR(Table11[[#This Row],[clade.TN]]/Table11[[#This Row],[clade.N]],NA()) -> #N/A
A14: Noblis_MPXV-08 | B14: =LOOKUP(Table11[[#This Row],[id]],'S1 - Assay'!A:A,'S1 - Assay'!B:B) -> 10244 | C14: =LOOKUP(Table11[[#This Row],[id]],'S1 - Assay'!A:A,'S1 - Assay'!C:C) -> I;II | D14: =COUNTIF('S6 - Table 1'!$B$3:$B$20,Table11[[#This Row],[id]]) -> 0 | E14: 0.42286382 | F14: 3269 | G14: 1 | H14: 34 | I14: 243 | J14: 0 | K14: 4401 | L14: 23 | M14: {=_xlfn.IFS(Table11[[#This Row],[target.clade]]="I",110,Table11[[#This Row],[target.clade]]="II",4454,TRUE,4652)} -> 4652 | N14: {=_xlfn.IFS(Table11[[#This Row],[target.clade]]="I",4454,Table11[[#This Row],[target.clade]]="II",110,TRUE,NA())} -> #N/A | O14: {=_xlfn.IFS(Table11[[#This Row],[target.clade]]="I",Table11[[#This Row],[hits.I]],Table11[[#This Row],[target.clade]]="II",Table11[[#This Row],[hits.II]],TRUE,SUM(Table11[[#This Row],[hits.I]:[hits.?]]))} -> 4424 | P14: =Table11[[#This Row],[clade.P]]-Table11[[#This Row],[clade.TP]] -> 228 | Q14: {=_xlfn.IFS(Table11[[#This Row],[target.clade]]="I",Table11[[#This Row],[hits.II]],Table11[[#This Row],[target.clade]]="II",Table11[[#This Row],[hits.I]],TRUE,NA())} -> #N/A | R14: =IFERROR(Table11[[#This Row],[clade.N]]-Table11[[#This Row],[clade.FP]], NA()) -> #N/A | S14: =Table11[[#This Row],[clade.TP]]/Table11[[#This Row],[clade.P]] -> 0.95098882 | T14: =Table11[[#This Row],[clade.FN]]/Table11[[#This Row],[clade.P]] -> 0.049011178 | U14: =IFERROR(Table11[[#This Row],[clade.FP]]/Table11[[#This Row],[clade.N]],NA()) -> #N/A | V14: =IFERROR(Table11[[#This Row],[clade.TN]]/Table11[[#This Row],[clade.N]],NA()) -> #N/A
A15: Noblis_MPXV-09 | B15: =LOOKUP(Table11[[#This Row],[id]],'S1 - Assay'!A:A,'S1 - Assay'!B:B) -> 10244 | C15: =LOOKUP(Table11[[#This Row],[id]],'S1 - Assay'!A:A,'S1 - Assay'!C:C) -> I;II | D15: =COUNTIF('S6 - Table 1'!$B$3:$B$20,Table11[[#This Row],[id]]) -> 0 | E15: 0.49646313 | F15: 3380 | G15: 2 | H15: 127 | I15: 147 | J15: 0 | K15: 4428 | L15: 67 | M15: {=_xlfn.IFS(Table11[[#This Row],[target.clade]]="I",110,Table11[[#This Row],[target.clade]]="II",4454,TRUE,4652)} -> 4652 | N15: {=_xlfn.IFS(Table11[[#This Row],[target.clade]]="I",4454,Table11[[#This Row],[target.clade]]="II",110,TRUE,NA())} -> #N/A | O15: {=_xlfn.IFS(Table11[[#This Row],[target.clade]]="I",Table11[[#This Row],[hits.I]],Table11[[#This Row],[target.clade]]="II",Table11[[#This Row],[hits.II]],TRUE,SUM(Table11[[#This Row],[hits.I]:[hits.?]]))} -> 4495 | P15: =Table11[[#This Row],[clade.P]]-Table11[[#This Row],[clade.TP]] -> 157 | Q15: {=_xlfn.IFS(Table11[[#This Row],[target.clade]]="I",Table11[[#This Row],[hits.II]],Table11[[#This Row],[target.clade]]="II",Table11[[#This Row],[hits.I]],TRUE,NA())} -> #N/A | R15: =IFERROR(Table11[[#This Row],[clade.N]]-Table11[[#This Row],[clade.FP]], NA()) -> #N/A | S15: =Table11[[#This Row],[clade.TP]]/Table11[[#This Row],[clade.P]] -> 0.96625107 | T15: =Table11[[#This Row],[clade.FN]]/Table11[[#This Row],[clade.P]] -> 0.033748925 | U15: =IFERROR(Table11[[#This Row],[clade.FP]]/Table11[[#This Row],[clade.N]],NA()) -> #N/A | V15: =IFERROR(Table11[[#This Row],[clade.TN]]/Table11[[#This Row],[clade.N]],NA()) -> #N/A
A16: Noblis_MPXV-10 | B16: =LOOKUP(Table11[[#This Row],[id]],'S1 - Assay'!A:A,'S1 - Assay'!B:B) -> 10244 | C16: =LOOKUP(Table11[[#This Row],[id]],'S1 - Assay'!A:A,'S1 - Assay'!C:C) -> I;II | D16: =COUNTIF('S6 - Table 1'!$B$3:$B$20,Table11[[#This Row],[id]]) -> 0 | E16: 0.57172331 | F16: 3269 | G16: 1 | H16: 22 | I16: 255 | J16: 0 | K16: 4402 | L16: 23 | M16: {=_xlfn.IFS(Table11[[#This Row],[target.clade]]="I",110,Table11[[#This Row],[target.clade]]="II",4454,TRUE,4652)} -> 4652 | N16: {=_xlfn.IFS(Table11[[#This Row],[target.clade]]="I",4454,Table11[[#This Row],[target.clade]]="II",110,TRUE,NA())} -> #N/A | O16: {=_xlfn.IFS(Table11[[#This Row],[target.clade]]="I",Table11[[#This Row],[hits.I]],Table11[[#This Row],[target.clade]]="II",Table11[[#This Row],[hits.II]],TRUE,SUM(Table11[[#This Row],[hits.I]:[hits.?]]))} -> 4425 | P16: =Table11[[#This Row],[clade.P]]-Table11[[#This Row],[clade.TP]] -> 227 | Q16: {=_xlfn.IFS(Table11[[#This Row],[target.clade]]="I",Table11[[#This Row],[hits.II]],Table11[[#This Row],[target.clade]]="II",Table11[[#This Row],[hits.I]],TRUE,NA())} -> #N/A | R16: =IFERROR(Table11[[#This Row],[clade.N]]-Table11[[#This Row],[clade.FP]], NA()) -> #N/A | S16: =Table11[[#This Row],[clade.TP]]/Table11[[#This Row],[clade.P]] -> 0.95120378 | T16: =Table11[[#This Row],[clade.FN]]/Table11[[#This Row],[clade.P]] -> 0.048796217 | U16: =IFERROR(Table11[[#This Row],[clade.FP]]/Table11[[#This Row],[clade.N]],NA()) -> #N/A | V16: =IFERROR(Table11[[#This Row],[clade.TN]]/Table11[[#This Row],[clade.N]],NA()) -> #N/A
A17: Noblis_MPXV-11 | B17: =LOOKUP(Table11[[#This Row],[id]],'S1 - Assay'!A:A,'S1 - Assay'!B:B) -> 10244 | C17: =LOOKUP(Table11[[#This Row],[id]],'S1 - Assay'!A:A,'S1 - Assay'!C:C) -> I;II | D17: =COUNTIF('S6 - Table 1'!$B$3:$B$20,Table11[[#This Row],[id]]) -> 0 | E17: 0.64057468 | F17: 3382 | G17: 2 | H17: 0 | I17: 276 | J17: 0 | K17: 4432 | L17: 67 | M17: {=_xlfn.IFS(Table11[[#This Row],[target.clade]]="I",110,Table11[[#This Row],[target.clade]]="II",4454,TRUE,4652)} -> 4652 | N17: {=_xlfn.IFS(Table11[[#This Row],[target.clade]]="I",4454,Table11[[#This Row],[target.clade]]="II",110,TRUE,NA())} -> #N/A | O17: {=_xlfn.IFS(Table11[[#This Row],[target.clade]]="I",Table11[[#This Row],[hits.I]],Table11[[#This Row],[target.clade]]="II",Table11[[#This Row],[hits.II]],TRUE,SUM(Table11[[#This Row],[hits.I]:[hits.?]]))} -> 4499 | P17: =Table11[[#This Row],[clade.P]]-Table11[[#This Row],[clade.TP]] -> 153 | Q17: {=_xlfn.IFS(Table11[[#This Row],[target.clade]]="I",Table11[[#This Row],[hits.II]],Table11[[#This Row],[target.clade]]="II",Table11[[#This Row],[hits.I]],TRUE,NA())} -> #N/A | R17: =IFERROR(Table11[[#This Row],[clade.N]]-Table11[[#This Row],[clade.FP]], NA()) -> #N/A | S17: =Table11[[#This Row],[clade.TP]]/Table11[[#This Row],[clade.P]] -> 0.96711092 | T17: =Table11[[#This Row],[clade.FN]]/Table11[[#This Row],[clade.P]] -> 0.03288908 | U17: =IFERROR(Table11[[#This Row],[clade.FP]]/Table11[[#This Row],[clade.N]],NA()) -> #N/A | V17: =IFERROR(Table11[[#This Row],[clade.TN]]/Table11[[#This Row],[clade.N]],NA()) -> #N/A
A18: Noblis_MPXV-12 | B18: =LOOKUP(Table11[[#This Row],[id]],'S1 - Assay'!A:A,'S1 - Assay'!B:B) -> 10244 | C18: =LOOKUP(Table11[[#This Row],[id]],'S1 - Assay'!A:A,'S1 - Assay'!C:C) -> I;II | D18: =COUNTIF('S6 - Table 1'!$B$3:$B$20,Table11[[#This Row],[id]]) -> 0 | E18: 0.64057468 | F18: 3380 | G18: 3 | H18: 0 | I18: 275 | J18: 0 | K18: 4432 | L18: 67 | M18: {=_xlfn.IFS(Table11[[#This Row],[target.clade]]="I",110,Table11[[#This Row],[target.clade]]="II",4454,TRUE,4652)} -> 4652 | N18: {=_xlfn.IFS(Table11[[#This Row],[target.clade]]="I",4454,Table11[[#This Row],[target.clade]]="II",110,TRUE,NA())} -> #N/A | O18: {=_xlfn.IFS(Table11[[#This Row],[target.clade]]="I",Table11[[#This Row],[hits.I]],Table11[[#This Row],[target.clade]]="II",Table11[[#This Row],[hits.II]],TRUE,SUM(Table11[[#This Row],[hits.I]:[hits.?]]))} -> 4499 | P18: =Table11[[#This Row],[clade.P]]-Table11[[#This Row],[clade.TP]] -> 153 | Q18: {=_xlfn.IFS(Table11[[#This Row],[target.clade]]="I",Table11[[#This Row],[hits.II]],Table11[[#This Row],[target.clade]]="II",Table11[[#This Row],[hits.I]],TRUE,NA())} -> #N/A | R18: =IFERROR(Table11[[#This Row],[clade.N]]-Table11[[#This Row],[clade.FP]], NA()) -> #N/A | S18: =Table11[[#This Row],[clade.TP]]/Table11[[#This Row],[clade.P]] -> 0.96711092 | T18: =Table11[[#This Row],[clade.FN]]/Table11[[#This Row],[clade.P]] -> 0.03288908 | U18: =IFERROR(Table11[[#This Row],[clade.FP]]/Table11[[#This Row],[clade.N]],NA()) -> #N/A | V18: =IFERROR(Table11[[#This Row],[clade.TN]]/Table11[[#This Row],[clade.N]],NA()) -> #N/A
... A2346: Noblis_MPXV-II-1595 | B2346: =LOOKUP(Table11[[#This Row],[id]],'S1 - Assay'!A:A,'S1 - Assay'!B:B) -> 10244 | C2346: =LOOKUP(Table11[[#This Row],[id]],'S1 - Assay'!A:A,'S1 - Assay'!C:C) -> II | D2346: =COUNTIF('S6 - Table 1'!$B$3:$B$20,Table11[[#This Row],[id]]) -> 0 | E2346: 18.182352 | F2346: 3329 | G2346: 2 | H2346: 226 | I2346: 74 | J2346: 43 | K2346: 4423 | L2346: 28 | M2346: {=_xlfn.IFS(Table11[[#This Row],[target.clade]]="I",110,Table11[[#This Row],[target.clade]]="II",4454,TRUE,4652)} -> 4454 | N2346: {=_xlfn.IFS(Table11[[#This Row],[target.clade]]="I",4454,Table11[[#This Row],[target.clade]]="II",110,TRUE,NA())} -> 110 | O2346: {=_xlfn.IFS(Table11[[#This Row],[target.clade]]="I",Table11[[#This Row],[hits.I]],Table11[[#This Row],[target.clade]]="II",Table11[[#This Row],[hits.II]],TRUE,SUM(Table11[[#This Row],[hits.I]:[hits.?]]))} -> 4423 | P2346: =Table11[[#This Row],[clade.P]]-Table11[[#This Row],[clade.TP]] -> 31 | Q2346: {=_xlfn.IFS(Table11[[#This Row],[target.clade]]="I",Table11[[#This Row],[hits.II]],Table11[[#This Row],[target.clade]]="II",Table11[[#This Row],[hits.I]],TRUE,NA())} -> 43 | R2346: =IFERROR(Table11[[#This Row],[clade.N]]-Table11[[#This Row],[clade.FP]], NA()) -> 67 | S2346: =Table11[[#This Row],[clade.TP]]/Table11[[#This Row],[clade.P]] -> 0.99303996 | T2346: =Table11[[#This Row],[clade.FN]]/Table11[[#This Row],[clade.P]] -> 0.0069600359 | U2346: =IFERROR(Table11[[#This Row],[clade.FP]]/Table11[[#This Row],[clade.N]],NA()) -> 0.39090909 | V2346: =IFERROR(Table11[[#This Row],[clade.TN]]/Table11[[#This Row],[clade.N]],NA()) -> 0.60909091

Sheet S3 - Alignments
A1: id | B1: primer1.aln | C1: primer1.sub | D1: primer1.ind | E1: probe.aln | F1: probe.sub | G1: probe.ind | H1: primer2.aln | I1: primer2.sub | J1: primer2.ind | K1: hits.I | L1: hits.II | M1: hits.?
A2: G2R_G | B2: qry:GGAAAATGTAAAGACAACGAATACAG sbj:GGAAAATGTAAAGACAACGAATACAG | C2: 0 | D2: 0 | E2: qry:AAGCCGTAATCTATGTTGTCTATCGTGTCC sbj:AAGCCGTAATCTATGTTGTCTATCGTGTCC | F2: 0 | G2: 0 | H2: qry:TACGCTTCCAGATTATGTGATAGC sbj:TACGCTTCCAGATTATGTGATAGC | I2: 0 | J2: 0 | K2: 50 | L2: 0 | M2: 0
A3: G2R_G | B3: qry:GGAAAaTGTAAAGACAACGAATACAG sbj:GGAAAgTGTAAAGACAACGAATACAG | C3: 1 | D3: 0 | E3: qry:AAGCCGTAATCTATGTTGTCTatCGTGTCC sbj:AAGCCGTAATCTATGTTGTCTnnCGTGTCC | F3: 0 | G3: 0 | H3: qry:TACGCTTcCAGATTATGTGATAGC sbj:TACGCTTtCAGATTATGTGATAGC | I3: 1 | J3: 0 | K3: 0 | L3: 1 | M3: 0
A4: G2R_G | B4: qry:GGAAAaTGTAAAGACAACGAATACAG sbj:GGAAAgTGTAAAGACAACGAATACAG | C4: 1 | D4: 0 | E4: qry:AAGCCGTAATCTATGTTGTCTATCGTGTCC sbj:AAGCCGTAATCTATGTTGTCTATCGTGTCC | F4: 0 | G4: 0 | H4: qry:TACGCTTCCAGATTATGTGATAGC sbj:TACGCTTCCAGATTATGTGATAGC | I4: 0 | J4: 0 | K4: 0 | L4: 176 | M4: 2
A5: G2R_G | B5: qry:GGAAAaTGTAAAGACAACGAATACAG sbj:GGAAAgTGTAAAGACAACGAATACAG | C5: 1 | D5: 0 | E5: qry:AAGCCGTAATCTATGTTGTCTATCGTGTCC sbj:AAGCCGTAATCTATGTTGTCTATCGTGTCC | F5: 0 | G5: 0 | H5: qry:TACGCTTcCAGatTATGTGATAGC sbj:TACGCTTtCAGnnTATGTGATAGC | I5: 1 | J5: 0 | K5: 0 | L5: 1 | M5: 0
A6: G2R_G | B6: qry:GGAAAaTGTAAAGACAACGAATACAG sbj:GGAAAgTGTAAAGACAACGAATACAG | C6: 1 | D6: 0 | E6: qry:AAGCCGTAATCTATGTTGTCTATCGTGTCC sbj:AAGCCGTAATCTATGTTGTCTATCGTGTCC | F6: 0 | G6: 0 | H6: qry:TACGCTTcCAGATTATGTGATAGC sbj:TACGCTTnCAGATTATGTGATAGC | I6: 0 | J6: 0 | K6: 0 | L6: 1 | M6: 0
A7: G2R_G | B7: qry:GGAAAaTGTAAAGACAACGAATACAG sbj:GGAAAgTGTAAAGACAACGAATACAG | C7: 1 | D7: 0 | E7: qry:AAGCCGTAATCTATGTTGTCTATCGTGTCC sbj:AAGCCGTAATCTATGTTGTCTATCKTGTCC | F7: 0 | G7: 0 | H7: qry:TACGCTTcCAGATTATGTGATAGC sbj:TACGCTTtCAGATTATGTGATAGC | I7: 1 | J7: 0 | K7: 0 | L7: 1 | M7: 0
A8: G2R_G | B8: qry:GGAAAaTGTAAAGACAACGAATACAG sbj:GGAAAgTGTAAAGACAACGAATACAG | C8: 1 | D8: 0 | E8: qry:AAGCCGTAATCTATGTTGTCTATCGTGTCC sbj:AAGCCGTAATCTATGTTGTCTATCGTGTCC | F8: 0 | G8: 0 | H8: qry:TACGCTTcCAGATTATGTGATAGC sbj:TACGCTTtCAGATTATGTGATAGC | I8: 1 | J8: 0 | K8: 0 | L8: 3997 | M8: 21
A9: G2R_G | B9: qry:GGAAAaTGTAAAGACAACGAATACAG sbj:GGAAAgTGTAAAGACAACGAATACAG | C9: 1 | D9: 0 | E9: qry:AAGCCGTAATCTATGTTGTCTATCgtgtcc sbj:AAGCCGTAATCTATGTTGTCTATCnnnnnn | F9: 0 | G9: 0 | H9: qry:TACGCTTcCAGATTATGTGATAGC sbj:TACGCTTtCAGATTATGTGATAGC | I9: 1 | J9: 0 | K9: 0 | L9: 1 | M9: 0
A10: G2R_G | B10: qry:GGAAAaTGTAAAGACAACGAATACAG sbj:GGAAAgTGTAAAGACAACGAATACAG | C10: 1 | D10: 0 | E10: qry:AAGCCGTAATCTATGTTGTCTATCGTGTCC sbj:AAGCCGTAATCTATGTTGTCTATCGTGTCC | F10: 0 | G10: 0 | H10: qry:TACGCTTcCAGATTATGTGATAGC sbj:TACGCTTtCAGATTATGTGATAGC | I10: 1 | J10: 0 | K10: 0 | L10: 1 | M10: 0
A11: G2R_G | B11: qry:GGAAAaTGTAAAGACAACGAATACAG sbj:GGAAAgTGTAAAGACAACGAATACAG | C11: 1 | D11: 0 | E11: qry:AAGCCGTAATCTATGTTGTCTATCGTGTCC sbj:AAGCCGTAATCTATGTTGTCTATCGTGTCC | F11: 0 | G11: 0 | H11: qry:TACGCTTcCAGATTATGTGATAGC sbj:TACGCTTtYAGATTATGTGATAGC | I11: 1 | J11: 0 | K11: 0 | L11: 1 | M11: 0
A12: G2R_G | B12: qry:GGAAAaTGTAAAGACAACGAATACAG sbj:GGAAAgTGTAAAGACAACGAATACAG | C12: 1 | D12: 0 | E12: qry:AAGCCGTAATCTATGTTGTCTATCGTGTCC sbj:AAGCCGTAATCTATGTTGTCTATCGTGTCC | F12: 0 | G12: 0 | H12: qry:TACGCTTccAGATTATGTGATAGC sbj:TACGCTTttAGATTATGTGATAGC | I12: 2 | J12: 0 | K12: 0 | L12: 3 | M12: 0
A13: G2R_G | B13: qry:GGAAAaTGTAAAGACAACGAATACAG sbj:GGAAAgTGTAAAGACAACGAATACAG | C13: 1 | D13: 0 | E13: qry:AAGCCGTAATCTATGTTGTCTATcGTGTCC sbj:AAGCCGTAATCTATGTTGTCTATtGTGTCC | F13: 1 | G13: 0 | H13: qry:TACGCTTcCAGATTATGTGATAGC sbj:TACGCTTtCAGATTATGTGATAGC | I13: 1 | J13: 0 | K13: 0 | L13: 1 | M13: 0
... A552: Noblis_MPXV-II-1253 | B552: qry:TC-AGTggggTgaAatCCTCA sbj:TCgAGTtactTagAtgCCTCA | C552: 8 | D552: 1 | E552: qry:ACACCAACCATGTACCGTCGAGT sbj:ACACCAACCATGTACCGTCGAGT | F552: 0 | G552: 0 | H552: qry:TCGACTGGTTAGTTCAATCTACG sbj:TCGACTGGTTAGTTCAATCTACG | I552: 0 | J552: 0 | K552: 0 | L552: 1 | M552: 0

Sheet S4 - Clade I LOD
A1: dilution | B1: copies per uL | C1: G2R_G | D1: C3L | E1: Noblis_MPXV-52 | F1: Noblis_MPXV-I-149 | G1: Noblis_MPXV-I-202 | H1: Noblis_MPXV-I-634
A2: 1:20 | B2: 5000 | C2: 25.72 | D2: 26.1 | E2: 28.1 | F2: 26.29 | G2: 25.83 | H2: 27.53
A3: 1:200 | B3: 500 | C3: 28.73 | D3: 29.39 | E3: 31.2 | F3: 29.49 | G3: 29.26 | H3: 30.88
A4: 1:2k | B4: 50 | C4: 32.47 | D4: 33.48 | E4: 34.87 | F4: 33.91 | G4: 33.23 | H4: 34.5
A5: 1:20k | B5: 5 | C5: 35.99 | D5: 36.55 | E5: 37.76 | F5: 38.05 | G5: 37.18 | H5: 37.84
A6: 1:200k | B6: 0.5 | C6: N/A | D6: 38.8 | E6: N/A | F6: 38.85 | G6: NA | H6: 39.77
A7: 1:2M | B7: 0.05 | C7: N/A | D7: NA | E7: N/A | F7: NA | G7: NA | H7: NA

Sheet S5 - Clade II LOD
A1: dilution | B1: copies per uL | C1: G2R_G | D1: G2R_WA | E1: Noblis_MPXV-522 | F1: Noblis_MPXV-II-1028 | G1: Noblis_MPXV-II-1253
A2: 1:20 | B2: 5000 | C2: 25.12 | D2: 26.6 | E2: 29.09 | F2: 27.47 | G2: 26.69
A3: 1:200 | B3: 500 | C3: 28.36 | D3: 29.9 | E3: 32.71 | F3: 30.88 | G3: 30.19
A4: 1:2k | B4: 50 | C4: 33.16 | D4: 33.15 | E4: 37.18 | F4: 34.11 | G4: 33.03
A5: 1:20k | B5: 5 | C5: 35.83 | D5: 37.82 | E5: NA | F5: 39.33 | G5: 37.58
A6: 1:200k | B6: 0.5 | C6: 38.62 | D6: 39.09 | E6: NA | F6: NA | G6: NA
A7: 1:2M | B7: 0.05 | C7: N/A | D7: NA | E7: N/A | F7: NA | G7: NA

Sheet S6 - Table 1
A1: ID | C1: Sequence | F1: Average Ct
C2: Forward Primer | D2: Probe | E2: Reverse Primer | F2: Control 1 | G2: Control 2 | H2: NTC
A3: Generic | B3: G2R_G | C3: =LOOKUP($B3,'S1 - Assay'!$A:$A,'S1 - Assay'!F:F) -> GGAAAATGTAAAGACAACGAATACAG | D3: =LOOKUP($B3,'S1 - Assay'!$A:$A,'S1 - Assay'!G:G) -> AAGCCGTAATCTATGTTGTCTATCGTGTCC | E3: =LOOKUP($B3,'S1 - Assay'!$A:$A,'S1 - Assay'!H:H) -> GCTATCACATAATCTGGAAGCGTA | F3: 24.455389 | G3: 24.319748 | H3: N.A.
B4: Noblis_MPXV-51 | C4: =LOOKUP($B4,'S1 - Assay'!$A:$A,'S1 - Assay'!F:F) -> ACGGAAATATTTGTAGCACAACGA | D4: =LOOKUP($B4,'S1 - Assay'!$A:$A,'S1 - Assay'!G:G) -> ACTCCCAAACTGCATTCATGTTACACT | E4: =LOOKUP($B4,'S1 - Assay'!$A:$A,'S1 - Assay'!H:H) -> ACAGCATTCCATTCCAACACT | F4: 27.384539 | G4: 28.46583 | H4: N.A.
B5: Noblis_MPXV-52 | C5: =LOOKUP($B5,'S1 - Assay'!$A:$A,'S1 - Assay'!F:F) -> ACGGAAATATTTGTAGCACAACG | D5: =LOOKUP($B5,'S1 - Assay'!$A:$A,'S1 - Assay'!G:G) -> ACTCCCAAACTGCATTCATGTTACACT | E5: =LOOKUP($B5,'S1 - Assay'!$A:$A,'S1 - Assay'!H:H) -> ACAGCATTCCATTCCAACACT | F5: 27.176224 | G5: 28.388138 | H5: N.A.
B6: Noblis_MPXV-53 | C6: =LOOKUP($B6,'S1 - Assay'!$A:$A,'S1 - Assay'!F:F) -> ACGGAAATATTTGTAGCACAACGA | D6: =LOOKUP($B6,'S1 - Assay'!$A:$A,'S1 - Assay'!G:G) -> ACTCCCAAACTGCATTCATGTTACACT | E6: =LOOKUP($B6,'S1 - Assay'!$A:$A,'S1 - Assay'!H:H) -> AACAGCATTCCATTCCAACACT | F6: 27.368402 | G6: 28.540863 | H6: N.A.
B7: Noblis_MPXV-54 | C7: =LOOKUP($B7,'S1 - Assay'!$A:$A,'S1 - Assay'!F:F) -> ACGGAAATATTTGTAGCACAACGAA | D7: =LOOKUP($B7,'S1 - Assay'!$A:$A,'S1 - Assay'!G:G) -> ACTCCCAAACTGCATTCATGTTACACT | E7: =LOOKUP($B7,'S1 - Assay'!$A:$A,'S1 - Assay'!H:H) -> ACAGCATTCCATTCCAACACT | F7: 27.534523 | G7: 28.42589 | H7: N.A.
B8: Noblis_MPXV-55 | C8: =LOOKUP($B8,'S1 - Assay'!$A:$A,'S1 - Assay'!F:F) -> AACGGAAATATTTGTAGCACAACGA | D8: =LOOKUP($B8,'S1 - Assay'!$A:$A,'S1 - Assay'!G:G) -> ACTCCCAAACTGCATTCATGTTACACT | E8: =LOOKUP($B8,'S1 - Assay'!$A:$A,'S1 - Assay'!H:H) -> ACAGCATTCCATTCCAACACT | F8: 27.554808 | G8: 28.760641 | H8: N.A.
A9: Clade-I | B9: C3L | C9: =LOOKUP($B9,'S1 - Assay'!$A:$A,'S1 - Assay'!F:F) -> TGTCTACCTGGATACAGAAAGCAA | D9: =LOOKUP($B9,'S1 - Assay'!$A:$A,'S1 - Assay'!G:G) -> CCCATATATGCTAAATGTACCGGTACCGGA | E9: =LOOKUP($B9,'S1 - Assay'!$A:$A,'S1 - Assay'!H:H) -> GGCATCTCCGTTTAATACATTGAT | F9: 26.364029 | G9: N.A. | H9: N.A.
B10: Noblis_MPXV-I-149 | C10: =LOOKUP($B10,'S1 - Assay'!$A:$A,'S1 - Assay'!F:F) -> GATATCTCGAGGCGATGGGC | D10: =LOOKUP($B10,'S1 - Assay'!$A:$A,'S1 - Assay'!G:G) -> TGGGGCGTGACGGAATAGTACA | E10: =LOOKUP($B10,'S1 - Assay'!$A:$A,'S1 - Assay'!H:H) -> AGCGTGACGTTCCTGACATT | F10: 26.543497 | G10: N.A. | H10: N.A.
B11: Noblis_MPXV-I-202 | C11: =LOOKUP($B11,'S1 - Assay'!$A:$A,'S1 - Assay'!F:F) -> CGCAAATAGGTGCCTCAGGA | D11: =LOOKUP($B11,'S1 - Assay'!$A:$A,'S1 - Assay'!G:G) -> CGAGGCGATGGGCATCTCCG | E11: =LOOKUP($B11,'S1 - Assay'!$A:$A,'S1 - Assay'!H:H) -> CTATTCCGTCACGCCCCATT | F11: 26.168371 | G11: N.A. | H11: N.A.
B12: Noblis_MPXV-I-578 | C12: =LOOKUP($B12,'S1 - Assay'!$A:$A,'S1 - Assay'!F:F) -> CGGACATTTCAGTCATTGGCA | D12: =LOOKUP($B12,'S1 - Assay'!$A:$A,'S1 - Assay'!G:G) -> TGCTCGCTGCTTTACATGTTTCCCA | E12: =LOOKUP($B12,'S1 - Assay'!$A:$A,'S1 - Assay'!H:H) -> TCGGTCTTATGCGATACATTGC | F12: N.A. | G12: N.A. | H12: N.A.
B13: Noblis_MPXV-I-634 | C13: =LOOKUP($B13,'S1 - Assay'!$A:$A,'S1 - Assay'!F:F) -> TCACTACGGACATAAACCATTGT | D13: =LOOKUP($B13,'S1 - Assay'!$A:$A,'S1 - Assay'!G:G) -> GGAAGTAAGTTCCGGCTGCCATGT | E13: =LOOKUP($B13,'S1 - Assay'!$A:$A,'S1 - Assay'!H:H) -> TCATCATCTACTTGCTCTCCAGG | F13: 27.669228 | G13: N.A. | H13: N.A.
B14: Noblis_MPXV-I-640 | C14: =LOOKUP($B14,'S1 - Assay'!$A:$A,'S1 - Assay'!F:F) -> TTAAGATCTACCCGCGATACG | D14: =LOOKUP($B14,'S1 - Assay'!$A:$A,'S1 - Assay'!G:G) -> ACATGTCTATTGTTAATCATGCCGCCA | E14: =LOOKUP($B14,'S1 - Assay'!$A:$A,'S1 - Assay'!H:H) -> ACCCATTACTCTCCTAGAACAGA | F14: 38.085281 | G14: N.A. | H14: N.A.
A15: Clade-II | B15: G2R_WA | C15: =LOOKUP($B15,'S1 - Assay'!$A:$A,'S1 - Assay'!F:F) -> CACACCGTCTCTTCCACAGA | D15: =LOOKUP($B15,'S1 - Assay'!$A:$A,'S1 - Assay'!G:G) -> AACCCGTCGTAACCAGCAATACATTT | E15: =LOOKUP($B15,'S1 - Assay'!$A:$A,'S1 - Assay'!H:H) -> GATACAGGTTAATTTCCACATCG | F15: N.A. | G15: 25.282965 | H15: N.A.
B16: Noblis_MPXV-II-0430 | C16: =LOOKUP($B16,'S1 - Assay'!$A:$A,'S1 - Assay'!F:F) -> GGAGGAGTTGCCAATGACGA | D16: =LOOKUP($B16,'S1 - Assay'!$A:$A,'S1 - Assay'!G:G) -> ACGCGATCAGGAGTCATCGTTGA | E16: =LOOKUP($B16,'S1 - Assay'!$A:$A,'S1 - Assay'!H:H) -> GCGTCGGTACATGTGTGTCA | F16: N.A. | G16: 33.689724 | H16: N.A.
B17: Noblis_MPXV-II-0482 | C17: =LOOKUP($B17,'S1 - Assay'!$A:$A,'S1 - Assay'!F:F) -> CCCTGGCATTACCGAGTTCA | D17: =LOOKUP($B17,'S1 - Assay'!$A:$A,'S1 - Assay'!G:G) -> CCTCAGAAGATGCTCCGTTACCGT | E17: =LOOKUP($B17,'S1 - Assay'!$A:$A,'S1 - Assay'!H:H) -> GTTGAACGACTGCGGACGTA | F17: N.A. | G17: N.A. | H17: N.A.
B18: Noblis_MPXV-II-0483 | C18: =LOOKUP($B18,'S1 - Assay'!$A:$A,'S1 - Assay'!F:F) -> CGCGATCAGGAGTCATCGTT | D18: =LOOKUP($B18,'S1 - Assay'!$A:$A,'S1 - Assay'!G:G) -> GCGAACCAAAATGTGATATGGGGTTGC | E18: =LOOKUP($B18,'S1 - Assay'!$A:$A,'S1 - Assay'!H:H) -> GCGTCGGTACATGTGTGTCA | F18: N.A. | G18: 38.64085 | H18: N.A.
B19: Noblis_MPXV-II-1028 | C19: =LOOKUP($B19,'S1 - Assay'!$A:$A,'S1 - Assay'!F:F) -> AACTCATAATTGCTGACGCGAT | D19: =LOOKUP($B19,'S1 - Assay'!$A:$A,'S1 - Assay'!G:G) -> ACAACGCCATCATGAATAGCAGTGA | E19: =LOOKUP($B19,'S1 - Assay'!$A:$A,'S1 - Assay'!H:H) -> TTCGGAGGCTCCAGATAGGA | F19: N.A. | G19: 26.030115 | H19: N.A.
B20: Noblis_MPXV-II-1253 | C20: =LOOKUP($B20,'S1 - Assay'!$A:$A,'S1 - Assay'!F:F) -> TGAGGATTTCACCCCACTGA | D20: =LOOKUP($B20,'S1 - Assay'!$A:$A,'S1 - Assay'!G:G) -> ACACCAACCATGTACCGTCGAGT | E20: =LOOKUP($B20,'S1 - Assay'!$A:$A,'S1 - Assay'!H:H) -> CGTAGATTGAACTAACCAGTCGA | F20: N.A. | G20: 25.46946 | H20: N.A.

Sheet S7 - Primer3
A1: key | B1: value
A2: PRIMER_OPT_SIZE | B2: 20
A3: PRIMER_PICK_INTERNAL_OLIGO | B3: 1
A4: PRIMER_MIN_SIZE | B4: 16
A5: PRIMER_MAX_SIZE | B5: 27
A6: PRIMER_INTERNAL_MIN_SIZE | B6: 16
A7: PRIMER_INTERNAL_MAX_SIZE | B7: 27
A8: PRIMER_OPT_TM | B8: 60
A9: PRIMER_MIN_TM | B9: 57
A10: PRIMER_MAX_TM | B10: 63
A11: PRIMER_MIN_GC | B11: 40
A12: PRIMER_MAX_GC | B12: 60
A13: PRIMER_MAX_POLY_X | B13: 5
... A21: PRIMER_PAIR_MAX_COMPL_END | B21: 3
A22: PRIMER_PRODUCT_SIZE_RANGE | B22: [ [28,50], [50,75], [75,100], [100,125], [125,150], [150,175], [175,200], [200,225] ]

Sheet S8 - EpiPox
A1: from | B1: to | C1: total
A2: EPI_ISL_13052263 | B2: EPI_ISL_13052295 | C2: =RIGHT(Table5[[#This Row],[to]],8)-RIGHT(Table5[[#This Row],[from]],8) + 1 -> 33
A3: EPI_ISL_13053218 | B3: EPI_ISL_13053218 | C3: =RIGHT(Table5[[#This Row],[to]],8)-RIGHT(Table5[[#This Row],[from]],8) + 1 -> 1
A4: EPI_ISL_13056233 | B4: EPI_ISL_13056289 | C4: =RIGHT(Table5[[#This Row],[to]],8)-RIGHT(Table5[[#This Row],[from]],8) + 1 -> 57
A5: EPI_ISL_13056556 | B5: EPI_ISL_13056556 | C5: =RIGHT(Table5[[#This Row],[to]],8)-RIGHT(Table5[[#This Row],[from]],8) + 1 -> 1
A6: EPI_ISL_13056891 | B6: EPI_ISL_13056910 | C6: =RIGHT(Table5[[#This Row],[to]],8)-RIGHT(Table5[[#This Row],[from]],8) + 1 -> 20
A7: EPI_ISL_13058395 | B7: EPI_ISL_13058475 | C7: =RIGHT(Table5[[#This Row],[to]],8)-RIGHT(Table5[[#This Row],[from]],8) + 1 -> 81
A8: EPI_ISL_13069002 | B8: EPI_ISL_13069002 | C8: =RIGHT(Table5[[#This Row],[to]],8)-RIGHT(Table5[[#This Row],[from]],8) + 1 -> 1
A9: EPI_ISL_13089461 | B9: EPI_ISL_13089461 | C9: =RIGHT(Table5[[#This Row],[to]],8)-RIGHT(Table5[[#This Row],[from]],8) + 1 -> 1
A10: EPI_ISL_13090993 | B10: EPI_ISL_13090993 | C10: =RIGHT(Table5[[#This Row],[to]],8)-RIGHT(Table5[[#This Row],[from]],8) + 1 -> 1
A11: EPI_ISL_13094227 | B11: EPI_ISL_13094227 | C11: =RIGHT(Table5[[#This Row],[to]],8)-RIGHT(Table5[[#This Row],[from]],8) + 1 -> 1
A12: EPI_ISL_13096615 | B12: EPI_ISL_13096615 | C12: =RIGHT(Table5[[#This Row],[to]],8)-RIGHT(Table5[[#This Row],[from]],8) + 1 -> 1
A13: EPI_ISL_13100618 | B13: EPI_ISL_13100622 | C13: =RIGHT(Table5[[#This Row],[to]],8)-RIGHT(Table5[[#This Row],[from]],8) + 1 -> 5
... A734: EPI_ISL_16360969 | B734: EPI_ISL_16360969 | C734: =RIGHT(Table5[[#This Row],[to]],8)-RIGHT(Table5[[#This Row],[from]],8) + 1 -> 1

Sheet S9 - Captions
A1: table | B1: column | C1: description
A2: S1 - Assay | B2: caption | C2: the descriptions of assays studied in silico and in vitro
A3: S1 - Assay | B3: id | C3: the assay identifier
A4: S1 - Assay | B4: target.taxon | C4: the NCBI Taxonomy identifier of the assay target
A5: S1 - Assay | B5: target.clade | C5: the mpox clade target: I, II, or I;II (all)
A6: S1 - Assay | B6: is.tested | C6: the flag to indicate that the assay was tested in this study in vitro
A7: S1 - Assay | B7: definition | C7: the reference amplicon 5'->3' sequence hosting the assay primers/probe with additional sequence context at each end
A8: S1 - Assay | B8: forward_primer | C8: the forward primer sequence
A9: S1 - Assay | B9: probe | C9: the probe sequence
A10: S1 - Assay | B10: reverse_primer | C10: the reverse primer sequence
A11: S1 - Assay | B11: ref | C11: the reference accession of the assay design
A12: S1 - Assay | B12: sstart | C12: the alignment start of the amplicon on the ref accession
... A70: SB - Contact | B70: caption | C70: the table of author contact information

Sheet SA - CRediT
A1: Term | B1: Definition | C1: Daniel Negrón | D1: Nicholas Tolli | E1: Stephanie Guertin | F1: Suzanne Wollen-Roberts | G1: Shane Mitchell | H1: Jared Haas | I1: Catherine Pratt | J1: Katharine Jennings | K1: Bradley Abramson | L1: Lauren Brinkac | M1: David Ashford
A2: Conceptualization | B2: Ideas; formulation or evolution of overarching research goals and aims | C2: 1 | D2: 1 | E2: 1 | F2: 0 | G2: 0 | H2: 0 | I2: 1 | J2: 0 | K2: 1 | L2: 0 | M2: 1
A3: Methodology | B3: Development or design of methodology; creation of models | C3: 1 | D3: 1 | E3: 0 | F3: 0 | G3: 0 | H3: 0 | I3: 1 | J3: 0 | K3: 1 | L3: 0 | M3: 1
A4: Software | B4: Programming, software development; designing computer programs; implementation of the computer code and supporting algorithms; testing of existing code components | C4: 1 | D4: 0 | E4: 0 | F4: 0 | G4: 1 | H4: 0 | I4: 0 | J4: 0 | K4: 1 | L4: 0 | M4: 0
A5: Validation | B5: Verification, whether as a part of the activity or separate, of the overall replication/ reproducibility of results/experiments and other research outputs | C5: 1 | D5: 1 | E5: 1 | F5: 0 | G5: 0 | H5: 0 | I5: 0 | J5: 0 | K5: 0 | L5: 0 | M5: 1
A6: Formal analysis | B6: Application of statistical, mathematical, computational, or other formal techniques to analyze or synthesize study data | C6: 1 | D6: 1 | E6: 0 | F6: 0 | G6: 1 | H6: 0 | I6: 0 | J6: 0 | K6: 0 | L6: 0 | M6: 0
A7: Investigation | B7: Conducting a research and investigation process, specifically performing the experiments, or data/evidence collection | C7: 1 | D7: 1 | E7: 0 | F7: 0 | G7: 1 | H7: 0 | I7: 0 | J7: 0 | K7: 0 | L7: 0 | M7: 0
A8: Resources | B8: Provision of study materials, reagents, materials, patients, laboratory samples, animals, instrumentation, computing resources, or other analysis tools | C8: 0 | D8: 0 | E8: 1 | F8: 1 | G8: 0 | H8: 1 | I8: 0 | J8: 1 | K8: 1 | L8: 0 | M8: 1
A9: Data Curation | B9: Management activities to annotate (produce metadata), scrub data and maintain research data (including software code, where it is necessary for interpreting the data itself) for initial use and later reuse | C9: 1 | D9: 1 | E9: 0 | F9: 0 | G9: 1 | H9: 0 | I9: 0 | J9: 0 | K9: 0 | L9: 0 | M9: 0
A10: Writing - Original Draft | B10: Preparation, creation and/or presentation of the published work, specifically writing the initial draft (including substantive translation) | C10: 1 | D10: 1 | E10: 0 | F10: 1 | G10: 0 | H10: 0 | I10: 0 | J10: 0 | K10: 1 | L10: 0 | M10: 0
A11: Writing - Review & Editing | B11: Preparation, creation and/or presentation of the published work by those from the original research group, specifically critical review, commentary or revision – including pre-or postpublication stages | C11: 1 | D11: 1 | E11: 1 | F11: 1 | G11: 0 | H11: 0 | I11: 1 | J11: 1 | K11: 1 | L11: 1 | M11: 1
A12: Visualization | B12: Preparation, creation and/or presentation of the published work, specifically visualization/ data presentation | C12: 1 | D12: 1 | E12: 1 | F12: 1 | G12: 0 | H12: 0 | I12: 0 | J12: 0 | K12: 0 | L12: 0 | M12: 0
A13: Supervision | B13: Oversight and leadership responsibility for the research activity planning and execution, including mentorship external to the core team | C13: 0 | D13: 0 | E13: 0 | F13: 0 | G13: 0 | H13: 0 | I13: 0 | J13: 1 | K13: 0 | L13: 0 | M13: 1
... A15: Funding acquisition | B15: Acquisition of the financial support for the project leading to this publication | C15: 0 | D15: 0 | E15: 0 | F15: 0 | G15: 0 | H15: 0 | I15: 0 | J15: 1 | K15: 0 | L15: 0 | M15: 1
A16: Reference | B16: Allen, Liz, Alison O’Connell, and Veronique Kiermer. “How Can We Ensure Visibility and Diversity in Research Contributions? How the Contributor Role Taxonomy (CRediT) Is Helping the Shift from Authorship to Contributorship.” Learned Publishing 32, no. 1 (January 2019): 71–74. https://doi.org/10.1002/leap.1210.

Sheet SB - Contact
A1: Author | B1: Suffix | C1: Company | D1: Address | E1: E-Mail | F1: ORCiD
A2: Daniel Antonio Negrón | B2: PhD | C2: Noblis, Inc. | D2: 2002 Edmund Halley Dr, Reston, VA 20191 | E2: Daniel.Negron@noblis.org | F2: https://orcid.org/0000-0002-6123-2441
A3: Nicholas Tolli | B3: BS | C3: Noblis ESI | D3: 14425 Penrose Pl, Chantilly, VA 20151 | E3: Nicholas.Tolli@noblis-esi.com | F3: https://orcid.org/0009-0004-8648-5789
A4: Stephanie Guertin | B4: PhD | C4: Noblis ESI | D4: 14425 Penrose Pl, Chantilly, VA 20151 | E4: Stephanie.Guertin@noblis-esi.com | F4: https://orcid.org/0000-0001-8740-948X
A5: Suzanne Wollen-Roberts | B5: MS | C5: Noblis, Inc. | D5: 2002 Edmund Halley Dr, Reston, VA 20191 | E5: Suzanne.Wollen-Roberts@noblis.org | F5: https://orcid.org/0000-0002-9409-2756
A6: Shane Mitchell | B6: MS | C6: Noblis, Inc. | D6: 2002 Edmund Halley Dr, Reston, VA 20191 | E6: Shane.Mitchell@noblis.org | F6: https://orcid.org/0000-0002-4348-6253
A7: Jared Haas | B7: BS | C7: Noblis, Inc. | D7: 2002 Edmund Halley Dr, Reston, VA 20191 | E7: Jared.Haas@noblis.org | F7: https://orcid.org/0009-0004-2232-0790
A8: Catherine Pratt | B8: MS | C8: University of Nebraska Medical Center | D8: 984388 Nebraska Medical Center, Omaha, NE 68198-4388 | E8: catherine.pratt@unmc.edu | F8: https://orcid.org/0000-0001-6132-2570
A9: Katharine Jennings | B9: PhD | C9: Noblis, Inc. | D9: 2002 Edmund Halley Dr, Reston, VA 20191 | E9: Katharine.Jennings@noblis.org | F9: https://orcid.org/0000-0003-4948-2701
A10: Bradley Abramson | B10: PhD | C10: Noblis, Inc. | D10: 2002 Edmund Halley Dr, Reston, VA 20191 | E10: Bradley.Abramson@noblis.org | F10: https://orcid.org/0000-0003-0888-3648
A11: Lauren Brinkac | B11: MS | C11: Noblis, Inc. | D11: 2002 Edmund Halley Dr, Reston, VA 20191 | E11: Lauren.Leone@noblis.org | F11: https://orcid.org/0000-0002-7549-7280
A12: David Ashford | B12: DVM, MPH, DSc | C12: Noblis ESI | D12: 14425 Penrose Pl, Chantilly, VA 20151 | E12: David.Ashford@noblis-esi.com
