Workbook

Sheet Mean + S.E.M.
A1: Table S7 Effect of LCMs on the lipid mediator profile of LPS- and A23187-treated peripheral blood mononuclear cells
C4: compound | D4: vehicle (0.1% DMSO) | G4: 2 | M4: 3 | S4: 4 | Y4: 6 | AE4: 7 | AK4: 8 | AS4: vehicle (0.1% DMSO) | AV4: 2 | BB4: 3 | BH4: 4 | BN4: 6 | BT4: 7 | BZ4: 8
C5: conc [µM] | G5: 0.3 | J5: 3 | M5: 0.3 | P5: 3 | S5: 0.3 | V5: 3 | Y5: 0.3 | AB5: 3 | AE5: 0.3 | AH5: 3 | AK5: 0.3 | AN5: 3 | AV5: 0.3 | AY5: 3 | BB5: 0.3 | BE5: 3 | BH5: 0.3 | BK5: 3 | BN5: 0.3 | BQ5: 3 | BT5: 0.3 | BW5: 3 | BZ5: 0.3 | CC5: 3
D6: A23874 | G6: A23187 | J6: A23187 | M6: A23187 | P6: A23187 | S6: A23187 | V6: A23187 | Y6: A23187 | AB6: A23187 | AE6: A23187 | AH6: A23187 | AK6: A23187 | AN6: A23187 | AS6: LPS | AV6: LPS | AY6: LPS | BB6: LPS | BE6: LPS | BH6: LPS | BK6: LPS | BN6: LPS | BQ6: LPS | BT6: LPS | BW6: LPS | BZ6: LPS | CC6: LPS
D7: mean | E7: ± | F7: S.E.M. | G7: mean | H7: ± | I7: S.E.M. | J7: mean | K7: ± | L7: S.E.M. | M7: mean | N7: ± | O7: S.E.M. | P7: mean | Q7: ± | R7: S.E.M. | S7: mean | T7: ± | U7: S.E.M. | V7: mean | W7: ± | X7: S.E.M. | Y7: mean | Z7: ± | AA7: S.E.M. | AB7: mean | AC7: ± | AD7: S.E.M. | AE7: mean | AF7: ± | AG7: S.E.M. | AH7: mean | AI7: ± | AJ7: S.E.M. | AK7: mean | AL7: ± | AM7: S.E.M. | AN7: mean | AO7: ± | AP7: S.E.M. | AS7: mean | AT7: ± | AU7: S.E.M. | AV7: mean | AW7: ± | AX7: S.E.M. | AY7: mean | AZ7: ± | BA7: S.E.M. | BB7: mean | BC7: ± | BD7: S.E.M. | BE7: mean | BF7: ± | BG7: S.E.M. | BH7: mean | BI7: ± | BJ7: S.E.M. | BK7: mean | BL7: ± | BM7: S.E.M. | BN7: mean | BO7: ± | BP7: S.E.M. | BQ7: mean | BR7: ± | BS7: S.E.M. | BT7: mean | BU7: ± | BV7: S.E.M. | BW7: mean | BX7: ± | BY7: S.E.M. | BZ7: mean | CA7: ± | CB7: S.E.M. | CC7: mean | CD7: ± | CE7: S.E.M.
A8: pg per 5 * 106 cells | B8: SPM | C8: RvD5 | D8: =AVERAGE('Single data'!D9:I9) -> 3.2473123 | E8: ± | F8: =_xlfn.STDEV.S('Single data'!D9:I9)/SQRT(6) -> 0.83810335 | G8: =AVERAGE('Single data'!J9:M9) -> 1.258974 | H8: ± | I8: =_xlfn.STDEV.S('Single data'!J9:M9)/SQRT(3) -> 0.22442026 | J8: =AVERAGE('Single data'!N9:Q9) -> 0.37202633 | K8: ± | L8: =_xlfn.STDEV.S(('Single data'!N9:Q9))/SQRT(3) -> 0.18699281 | M8: =AVERAGE('Single data'!R9:U9) -> 1.2732521 | N8: ± | O8: =_xlfn.STDEV.S('Single data'!R9:U9)/SQRT(4) -> 0.41393653 | P8: =AVERAGE('Single data'!V9:Y9) -> 0.54657235 | Q8: ± | R8: =_xlfn.STDEV.S('Single data'!V9:Y9)/SQRT(4) -> 0.22489312 | S8: =AVERAGE('Single data'!Z9:AC9) -> 1.2782464 | T8: ± | U8: =_xlfn.STDEV.S('Single data'!Z9:AC9)/SQRT(4) -> 0.65293344 | V8: =AVERAGE('Single data'!AD9:AG9) -> 0.43559016 | W8: ± | X8: =_xlfn.STDEV.S('Single data'!AD9:AG9)/SQRT(4) -> 0.25596144 | Y8: =AVERAGE('Single data'!AH9:AK9) -> 1.9823813 | Z8: ± | AA8: =_xlfn.STDEV.S('Single data'!AH9:AK9)/SQRT(4) -> 1.0937731 | AB8: =AVERAGE('Single data'!AL9:AO9) -> 1.1722135 | AC8: ± | AD8: =_xlfn.STDEV.S(('Single data'!AL9:AO9))/SQRT(4) -> 0.76244482 | AE8: =AVERAGE('Single data'!AP9:AS9) -> 1.763786 | AF8: ± | AG8: =_xlfn.STDEV.S('Single data'!AP9:AS9)/SQRT(4) -> 0.61388401 | AH8: =AVERAGE('Single data'!AT9:AW9) -> 0.9898096 | AI8: ± | AJ8: =_xlfn.STDEV.S('Single data'!AT9:AW9)/SQRT(4) -> 0.55770811 | AK8: =AVERAGE('Single data'!AX9:BA9) -> 1.379991 | AL8: ± | AM8: =_xlfn.STDEV.S('Single data'!AX9:BA9)/SQRT(4) -> 1.1422617 | AN8: =AVERAGE('Single data'!BB9:BE9) -> 0.47640364 | AO8: ± | AP8: =_xlfn.STDEV.S('Single data'!BB9:BE9)/SQRT(4) -> 0.13035891
B9: SPM precursor | C9: 17-HDHA | D9: =AVERAGE('Single data'!D10:I10) -> 78.382671 | E9: ± | F9: =_xlfn.STDEV.S('Single data'!D10:I10)/SQRT(6) -> 43.060204 | G9: =AVERAGE('Single data'!J10:M10) -> 455.38578 | H9: ± | I9: =_xlfn.STDEV.S('Single data'!J10:M10)/SQRT(3) -> 414.15186 | J9: =AVERAGE('Single data'!N10:Q10) -> 139.74798 | K9: ± | L9: =_xlfn.STDEV.S(('Single data'!N10:Q10))/SQRT(3) -> 93.621712 | M9: =AVERAGE('Single data'!R10:U10) -> 79.903815 | N9: ± | O9: =_xlfn.STDEV.S('Single data'!R10:U10)/SQRT(4) -> 53.840284 | P9: =AVERAGE('Single data'!V10:Y10) -> 79.028876 | Q9: ± | R9: =_xlfn.STDEV.S('Single data'!V10:Y10)/SQRT(4) -> 63.281163 | S9: =AVERAGE('Single data'!Z10:AC10) -> 103.73153 | T9: ± | U9: =_xlfn.STDEV.S('Single data'!Z10:AC10)/SQRT(4) -> 78.684831 | V9: =AVERAGE('Single data'!AD10:AG10) -> 130.20249 | W9: ± | X9: =_xlfn.STDEV.S('Single data'!AD10:AG10)/SQRT(4) -> 112.14338 | Y9: =AVERAGE('Single data'!AH10:AK10) -> 104.03431 | Z9: ± | AA9: =_xlfn.STDEV.S('Single data'!AH10:AK10)/SQRT(4) -> 73.356571 | AB9: =AVERAGE('Single data'!AL10:AO10) -> 98.485796 | AC9: ± | AD9: =_xlfn.STDEV.S(('Single data'!AL10:AO10))/SQRT(4) -> 88.166884 | AE9: =AVERAGE('Single data'!AP10:AS10) -> 140.49537 | AF9: ± | AG9: =_xlfn.STDEV.S('Single data'!AP10:AS10)/SQRT(4) -> 107.73312 | AH9: =AVERAGE('Single data'!AT10:AW10) -> 85.96056 | AI9: ± | AJ9: =_xlfn.STDEV.S('Single data'!AT10:AW10)/SQRT(4) -> 51.231528 | AK9: =AVERAGE('Single data'!AX10:BA10) -> 23.353143 | AL9: ± | AM9: =_xlfn.STDEV.S('Single data'!AX10:BA10)/SQRT(4) -> 6.10018 | AN9: =AVERAGE('Single data'!BB10:BE10) -> 34.690783 | AO9: ± | AP9: =_xlfn.STDEV.S('Single data'!BB10:BE10)/SQRT(4) -> 15.239903
C10: 17-HDPA | D10: =AVERAGE('Single data'!D11:I11) -> 94.786395 | E10: ± | F10: =_xlfn.STDEV.S('Single data'!D11:I11)/SQRT(6) -> 49.846453 | G10: =AVERAGE('Single data'!J11:M11) -> 502.29697 | H10: ± | I10: =_xlfn.STDEV.S('Single data'!J11:M11)/SQRT(3) -> 456.29113 | J10: =AVERAGE('Single data'!N11:Q11) -> 177.05497 | K10: ± | L10: =_xlfn.STDEV.S(('Single data'!N11:Q11))/SQRT(3) -> 104.33207 | M10: =AVERAGE('Single data'!R11:U11) -> 94.037283 | N10: ± | O10: =_xlfn.STDEV.S('Single data'!R11:U11)/SQRT(4) -> 69.576464 | P10: =AVERAGE('Single data'!V11:Y11) -> 84.474699 | Q10: ± | R10: =_xlfn.STDEV.S('Single data'!V11:Y11)/SQRT(4) -> 61.483033 | S10: =AVERAGE('Single data'!Z11:AC11) -> 110.21327 | T10: ± | U10: =_xlfn.STDEV.S('Single data'!Z11:AC11)/SQRT(4) -> 83.703407 | V10: =AVERAGE('Single data'!AD11:AG11) -> 127.8635 | W10: ± | X10: =_xlfn.STDEV.S('Single data'!AD11:AG11)/SQRT(4) -> 105.8274 | AK10: =AVERAGE('Single data'!AX11:BA11) -> 29.415063 | AL10: ± | AM10: =_xlfn.STDEV.S('Single data'!AX11:BA11)/SQRT(4) -> 5.4350696 | AN10: =AVERAGE('Single data'!BB11:BE11) -> 49.189057 | AO10: ± | AP10: =_xlfn.STDEV.S('Single data'!BB11:BE11)/SQRT(4) -> 23.10977
C11: 15-HETE | D11: =AVERAGE('Single data'!D12:I12) -> 382.22383 | E11: ± | F11: =_xlfn.STDEV.S('Single data'!D12:I12)/SQRT(6) -> 82.483156 | G11: =AVERAGE('Single data'!J12:M12) -> 983.95364 | H11: ± | I11: =_xlfn.STDEV.S('Single data'!J12:M12)/SQRT(3) -> 642.61089 | J11: =AVERAGE('Single data'!N12:Q12) -> 182.47996 | K11: ± | L11: =_xlfn.STDEV.S(('Single data'!N12:Q12))/SQRT(3) -> 69.510779 | M11: =AVERAGE('Single data'!R12:U12) -> 314.45507 | N11: ± | O11: =_xlfn.STDEV.S('Single data'!R12:U12)/SQRT(4) -> 88.594881 | P11: =AVERAGE('Single data'!V12:Y12) -> 129.65475 | Q11: ± | R11: =_xlfn.STDEV.S('Single data'!V12:Y12)/SQRT(4) -> 47.245963 | S11: =AVERAGE('Single data'!Z12:AC12) -> 336.21893 | T11: ± | U11: =_xlfn.STDEV.S('Single data'!Z12:AC12)/SQRT(4) -> 81.361414 | V11: =AVERAGE('Single data'!AD12:AG12) -> 306.23295 | W11: ± | X11: =_xlfn.STDEV.S('Single data'!AD12:AG12)/SQRT(4) -> 218.32321 | Y11: =AVERAGE('Single data'!AH12:AK12) -> 420.28099 | Z11: ± | AA11: =_xlfn.STDEV.S('Single data'!AH12:AK12)/SQRT(4) -> 119.26463 | AB11: =AVERAGE('Single data'!AL12:AO12) -> 187.93219 | AC11: ± | AD11: =_xlfn.STDEV.S(('Single data'!AL12:AO12))/SQRT(4) -> 124.09779 | AE11: =AVERAGE('Single data'!AP12:AS12) -> 392.98471 | AF11: ± | AG11: =_xlfn.STDEV.S('Single data'!AP12:AS12)/SQRT(4) -> 114.16236 | AH11: =AVERAGE('Single data'!AT12:AW12) -> 369.66294 | AI11: ± | AJ11: =_xlfn.STDEV.S('Single data'!AT12:AW12)/SQRT(4) -> 102.44725 | AK11: =AVERAGE('Single data'!AX12:BA12) -> 335.76587 | AL11: ± | AM11: =_xlfn.STDEV.S('Single data'!AX12:BA12)/SQRT(4) -> 65.55722 | AN11: =AVERAGE('Single data'!BB12:BE12) -> 174.17413 | AO11: ± | AP11: =_xlfn.STDEV.S('Single data'!BB12:BE12)/SQRT(4) -> 71.223276
C12: 14-HDHA | D12: =AVERAGE('Single data'!D13:I13) -> 593.66364 | E12: ± | F12: =_xlfn.STDEV.S('Single data'!D13:I13)/SQRT(6) -> 220.2489 | G12: =AVERAGE('Single data'!J13:M13) -> 568.12186 | H12: ± | I12: =_xlfn.STDEV.S('Single data'!J13:M13)/SQRT(3) -> 244.78912 | J12: =AVERAGE('Single data'!N13:Q13) -> 119.07601 | K12: ± | L12: =_xlfn.STDEV.S(('Single data'!N13:Q13))/SQRT(3) -> 65.740488 | M12: =AVERAGE('Single data'!R13:U13) -> 376.91336 | N12: ± | O12: =_xlfn.STDEV.S('Single data'!R13:U13)/SQRT(4) -> 186.48036 | P12: =AVERAGE('Single data'!V13:Y13) -> 141.22104 | Q12: ± | R12: =_xlfn.STDEV.S('Single data'!V13:Y13)/SQRT(4) -> 59.953108 | S12: =AVERAGE('Single data'!Z13:AC13) -> 420.24105 | T12: ± | U12: =_xlfn.STDEV.S('Single data'!Z13:AC13)/SQRT(4) -> 182.58015 | V12: =AVERAGE('Single data'!AD13:AG13) -> 252.7867 | W12: ± | X12: =_xlfn.STDEV.S('Single data'!AD13:AG13)/SQRT(4) -> 105.51759 | Y12: =AVERAGE('Single data'!AH13:AK13) -> 602.70153 | Z12: ± | AA12: =_xlfn.STDEV.S('Single data'!AH13:AK13)/SQRT(4) -> 282.27208 | AB12: =AVERAGE('Single data'!AL13:AO13) -> 197.69894 | AC12: ± | AD12: =_xlfn.STDEV.S(('Single data'!AL13:AO13))/SQRT(4) -> 106.23141 | AE12: =AVERAGE('Single data'!AP13:AS13) -> 602.67825 | AF12: ± | AG12: =_xlfn.STDEV.S('Single data'!AP13:AS13)/SQRT(4) -> 271.34818 | AH12: =AVERAGE('Single data'!AT13:AW13) -> 587.57026 | AI12: ± | AJ12: =_xlfn.STDEV.S('Single data'!AT13:AW13)/SQRT(4) -> 281.96192 | AK12: =AVERAGE('Single data'!AX13:BA13) -> 500.69021 | AL12: ± | AM12: =_xlfn.STDEV.S('Single data'!AX13:BA13)/SQRT(4) -> 165.56798 | AN12: =AVERAGE('Single data'!BB13:BE13) -> 276.34382 | AO12: ± | AP12: =_xlfn.STDEV.S('Single data'!BB13:BE13)/SQRT(4) -> 154.32908
C13: 18-HEPE | D13: =AVERAGE('Single data'!D14:I14) -> 46.877248 | E13: ± | F13: =_xlfn.STDEV.S('Single data'!D14:I14)/SQRT(6) -> 39.768145 | G13: =AVERAGE('Single data'!J14:M14) -> 317.69224 | H13: ± | I13: =_xlfn.STDEV.S('Single data'!J14:M14)/SQRT(3) -> 312.49324 | J13: =AVERAGE('Single data'!N14:Q14) -> 91.053754 | K13: ± | L13: =_xlfn.STDEV.S(('Single data'!N14:Q14))/SQRT(3) -> 86.452866 | M13: =AVERAGE('Single data'!R14:U14) -> 66.093043 | N13: ± | O13: =_xlfn.STDEV.S('Single data'!R14:U14)/SQRT(4) -> 58.562498 | P13: =AVERAGE('Single data'!V14:Y14) -> 46.790188 | Q13: ± | R13: =_xlfn.STDEV.S('Single data'!V14:Y14)/SQRT(4) -> 44.414543 | S13: =AVERAGE('Single data'!Z14:AC14) -> 61.716465 | T13: ± | U13: =_xlfn.STDEV.S('Single data'!Z14:AC14)/SQRT(4) -> 56.118594 | V13: =AVERAGE('Single data'!AD14:AG14) -> 104.38741 | W13: ± | X13: =_xlfn.STDEV.S('Single data'!AD14:AG14)/SQRT(4) -> 100.2624 | AK13: =AVERAGE('Single data'!AX14:BA14) -> 9.0923558 | AL13: ± | AM13: =_xlfn.STDEV.S('Single data'!AX14:BA14)/SQRT(4) -> 3.2327076 | AN13: =AVERAGE('Single data'!BB14:BE14) -> 4.0364662 | AO13: ± | AP13: =_xlfn.STDEV.S('Single data'!BB14:BE14)/SQRT(4) -> 1.4581531
B14: ALOX 12/15 | C14: 15-HEPE | D14: =AVERAGE('Single data'!D15:I15) -> 16.406514 | E14: ± | F14: =_xlfn.STDEV.S('Single data'!D15:I15)/SQRT(6) -> 8.5293513 | G14: =AVERAGE('Single data'!J15:M15) -> 64.669974 | H14: ± | I14: =_xlfn.STDEV.S('Single data'!J15:M15)/SQRT(3) -> 54.287708 | J14: =AVERAGE('Single data'!N15:Q15) -> 17.416132 | K14: ± | L14: =_xlfn.STDEV.S(('Single data'!N15:Q15))/SQRT(3) -> 13.59419 | M14: =AVERAGE('Single data'!R15:U15) -> 14.432615 | N14: ± | O14: =_xlfn.STDEV.S('Single data'!R15:U15)/SQRT(4) -> 8.0105256 | P14: =AVERAGE('Single data'!V15:Y15) -> 10.684938 | Q14: ± | R14: =_xlfn.STDEV.S('Single data'!V15:Y15)/SQRT(4) -> 8.6111437 | S14: =AVERAGE('Single data'!Z15:AC15) -> 16.85755 | T14: ± | U14: =_xlfn.STDEV.S('Single data'!Z15:AC15)/SQRT(4) -> 11.621308 | V14: =AVERAGE('Single data'!AD15:AG15) -> 28.859419 | W14: ± | X14: =_xlfn.STDEV.S('Single data'!AD15:AG15)/SQRT(4) -> 26.435808 | Y14: =AVERAGE('Single data'!AH15:AK15) -> 18.28632 | Z14: ± | AA14: =_xlfn.STDEV.S('Single data'!AH15:AK15)/SQRT(4) -> 9.9606835 | AB14: =AVERAGE('Single data'!AL15:AO15) -> 17.218876 | AC14: ± | AD14: =_xlfn.STDEV.S(('Single data'!AL15:AO15))/SQRT(4) -> 15.358494 | AE14: =AVERAGE('Single data'!AP15:AS15) -> 109.99526 | AF14: ± | AG14: =_xlfn.STDEV.S('Single data'!AP15:AS15)/SQRT(4) -> 100.82048 | AH14: =AVERAGE('Single data'!AT15:AW15) -> 17.624182 | AI14: ± | AJ14: =_xlfn.STDEV.S('Single data'!AT15:AW15)/SQRT(4) -> 8.5344618 | AK14: =AVERAGE('Single data'!AX15:BA15) -> 7.1466716 | AL14: ± | AM14: =_xlfn.STDEV.S('Single data'!AX15:BA15)/SQRT(4) -> 1.8946179 | AN14: =AVERAGE('Single data'!BB15:BE15) -> 4.9947035 | AO14: ± | AP14: =_xlfn.STDEV.S('Single data'!BB15:BE15)/SQRT(4) -> 2.2182604
C15: 14-HDPA | D15: =AVERAGE('Single data'!D16:I16) -> 1270.3911 | E15: ± | F15: =_xlfn.STDEV.S('Single data'!D16:I16)/SQRT(6) -> 457.21523 | G15: =AVERAGE('Single data'!J16:M16) -> 1229.353 | H15: ± | I15: =_xlfn.STDEV.S('Single data'!J16:M16)/SQRT(3) -> 454.12452 | J15: =AVERAGE('Single data'!N16:Q16) -> 262.8312 | K15: ± | L15: =_xlfn.STDEV.S(('Single data'!N16:Q16))/SQRT(3) -> 110.03498 | M15: =AVERAGE('Single data'!R16:U16) -> 897.79365 | N15: ± | O15: =_xlfn.STDEV.S('Single data'!R16:U16)/SQRT(4) -> 450.01255 | P15: =AVERAGE('Single data'!V16:Y16) -> 280.53017 | Q15: ± | R15: =_xlfn.STDEV.S('Single data'!V16:Y16)/SQRT(4) -> 79.951263 | S15: =AVERAGE('Single data'!Z16:AC16) -> 1109.0003 | T15: ± | U15: =_xlfn.STDEV.S('Single data'!Z16:AC16)/SQRT(4) -> 505.25104 | V15: =AVERAGE('Single data'!AD16:AG16) -> 495.09905 | W15: ± | X15: =_xlfn.STDEV.S('Single data'!AD16:AG16)/SQRT(4) -> 156.59555 | Y15: =AVERAGE('Single data'!AH16:AK16) -> 1117.6943 | Z15: ± | AA15: =_xlfn.STDEV.S('Single data'!AH16:AK16)/SQRT(4) -> 502.03779 | AB15: =AVERAGE('Single data'!AL16:AO16) -> 191.56261 | AC15: ± | AD15: =_xlfn.STDEV.S(('Single data'!AL16:AO16))/SQRT(4) -> 97.554407 | AE15: =AVERAGE('Single data'!AP16:AS16) -> 955.97676 | AF15: ± | AG15: =_xlfn.STDEV.S('Single data'!AP16:AS16)/SQRT(4) -> 533.21244 | AH15: =AVERAGE('Single data'!AT16:AW16) -> 1117.7131 | AI15: ± | AJ15: =_xlfn.STDEV.S('Single data'!AT16:AW16)/SQRT(4) -> 513.68867 | AK15: =AVERAGE('Single data'!AX16:BA16) -> 1285.3484 | AL15: ± | AM15: =_xlfn.STDEV.S('Single data'!AX16:BA16)/SQRT(4) -> 403.3789 | AN15: =AVERAGE('Single data'!BB16:BE16) -> 665.60228 | AO15: ± | AP15: =_xlfn.STDEV.S('Single data'!BB16:BE16)/SQRT(4) -> 336.69759
C16: 12-HEPE | D16: =AVERAGE('Single data'!D17:I17) -> 578.25255 | E16: ± | F16: =_xlfn.STDEV.S('Single data'!D17:I17)/SQRT(6) -> 234.81158 | G16: =AVERAGE('Single data'!J17:M17) -> 548.75272 | H16: ± | I16: =_xlfn.STDEV.S('Single data'!J17:M17)/SQRT(3) -> 418.70759 | J16: =AVERAGE('Single data'!N17:Q17) -> 60.951017 | K16: ± | L16: =_xlfn.STDEV.S(('Single data'!N17:Q17))/SQRT(3) -> 28.183407 | M16: =AVERAGE('Single data'!R17:U17) -> 427.27028 | N16: ± | O16: =_xlfn.STDEV.S('Single data'!R17:U17)/SQRT(4) -> 283.75051 | P16: =AVERAGE('Single data'!V17:Y17) -> 177.88627 | Q16: ± | R16: =_xlfn.STDEV.S('Single data'!V17:Y17)/SQRT(4) -> 127.06671 | S16: =AVERAGE('Single data'!Z17:AC17) -> 458.27501 | T16: ± | U16: =_xlfn.STDEV.S('Single data'!Z17:AC17)/SQRT(4) -> 283.32421 | V16: =AVERAGE('Single data'!AD17:AG17) -> 173.5785 | W16: ± | X16: =_xlfn.STDEV.S('Single data'!AD17:AG17)/SQRT(4) -> 94.048065 | Y16: =AVERAGE('Single data'!AH17:AK17) -> 650.68231 | Z16: ± | AA16: =_xlfn.STDEV.S('Single data'!AH17:AK17)/SQRT(4) -> 334.44884 | AB16: =AVERAGE('Single data'!AL17:AO17) -> 107.91462 | AC16: ± | AD16: =_xlfn.STDEV.S(('Single data'!AL17:AO17))/SQRT(4) -> 60.619373 | AE16: =AVERAGE('Single data'!AP17:AS17) -> 729.54724 | AF16: ± | AG16: =_xlfn.STDEV.S('Single data'!AP17:AS17)/SQRT(4) -> 308.69031 | AH16: =AVERAGE('Single data'!AT17:AW17) -> 707.11314 | AI16: ± | AJ16: =_xlfn.STDEV.S('Single data'!AT17:AW17)/SQRT(4) -> 361.19651 | AK16: =AVERAGE('Single data'!AX17:BA17) -> 631.46347 | AL16: ± | AM16: =_xlfn.STDEV.S('Single data'!AX17:BA17)/SQRT(4) -> 244.29446 | AN16: =AVERAGE('Single data'!BB17:BE17) -> 349.56937 | AO16: ± | AP16: =_xlfn.STDEV.S('Single data'!BB17:BE17)/SQRT(4) -> 231.55933
C17: 12-HETE | D17: =AVERAGE('Single data'!D18:I18) -> 32088.543 | E17: ± | F17: =_xlfn.STDEV.S('Single data'!D18:I18)/SQRT(6) -> 10619.172 | G17: =AVERAGE('Single data'!J18:M18) -> 25865.014 | H17: ± | I17: =_xlfn.STDEV.S('Single data'!J18:M18)/SQRT(3) -> 18422.082 | J17: =AVERAGE('Single data'!N18:Q18) -> 4035.0918 | K17: ± | L17: =_xlfn.STDEV.S(('Single data'!N18:Q18))/SQRT(3) -> 2129.2742 | M17: =AVERAGE('Single data'!R18:U18) -> 25774.004 | N17: ± | O17: =_xlfn.STDEV.S('Single data'!R18:U18)/SQRT(4) -> 14453.328 | P17: =AVERAGE('Single data'!V18:Y18) -> 11232.592 | Q17: ± | R17: =_xlfn.STDEV.S('Single data'!V18:Y18)/SQRT(4) -> 7134.2512 | S17: =AVERAGE('Single data'!Z18:AC18) -> 28503.229 | T17: ± | U17: =_xlfn.STDEV.S('Single data'!Z18:AC18)/SQRT(4) -> 13983.502 | V17: =AVERAGE('Single data'!AD18:AG18) -> 10819.411 | W17: ± | X17: =_xlfn.STDEV.S('Single data'!AD18:AG18)/SQRT(4) -> 5884.5858 | Y17: =AVERAGE('Single data'!AH18:AK18) -> 34253.687 | Z17: ± | AA17: =_xlfn.STDEV.S('Single data'!AH18:AK18)/SQRT(4) -> 17667.164 | AB17: =AVERAGE('Single data'!AL18:AO18) -> 7160.155 | AC17: ± | AD17: =_xlfn.STDEV.S(('Single data'!AL18:AO18))/SQRT(4) -> 4861.9964 | AE17: =AVERAGE('Single data'!AP18:AS18) -> 17440.036 | AF17: ± | AG17: =_xlfn.STDEV.S('Single data'!AP18:AS18)/SQRT(4) -> 8585.5766 | AH17: =AVERAGE('Single data'!AT18:AW18) -> 30757.773 | AI17: ± | AJ17: =_xlfn.STDEV.S('Single data'!AT18:AW18)/SQRT(4) -> 14970.047 | AK17: =AVERAGE('Single data'!AX18:BA18) -> 36560.148 | AL17: ± | AM17: =_xlfn.STDEV.S('Single data'!AX18:BA18)/SQRT(4) -> 9648.7595 | AN17: =AVERAGE('Single data'!BB18:BE18) -> 20475.51 | AO17: ± | AP17: =_xlfn.STDEV.S('Single data'!BB18:BE18)/SQRT(4) -> 11003.578
B18: ALOX5 | C18: LTB4 isomers | D18: =AVERAGE('Single data'!D19:I19) -> 6365.0216 | E18: ± | F18: =_xlfn.STDEV.S('Single data'!D19:I19)/SQRT(6) -> 1583.5366 | G18: =AVERAGE('Single data'!J19:M19) -> 862.47065 | H18: ± | I18: =_xlfn.STDEV.S('Single data'!J19:M19)/SQRT(3) -> 368.62849 | J18: =AVERAGE('Single data'!N19:Q19) -> 11.166191 | K18: ± | L18: =_xlfn.STDEV.S(('Single data'!N19:Q19))/SQRT(3) -> 3.3260067 | M18: =AVERAGE('Single data'!R19:U19) -> 3934.8325 | N18: ± | O18: =_xlfn.STDEV.S('Single data'!R19:U19)/SQRT(4) -> 1144.8359 | P18: =AVERAGE('Single data'!V19:Y19) -> 35.910375 | Q18: ± | R18: =_xlfn.STDEV.S('Single data'!V19:Y19)/SQRT(4) -> 16.738982 | S18: =AVERAGE('Single data'!Z19:AC19) -> 4663.8126 | T18: ± | U18: =_xlfn.STDEV.S('Single data'!Z19:AC19)/SQRT(4) -> 2060.4645 | V18: =AVERAGE('Single data'!AD19:AG19) -> 268.40548 | W18: ± | X18: =_xlfn.STDEV.S('Single data'!AD19:AG19)/SQRT(4) -> 262.77061 | Y18: =AVERAGE('Single data'!AH19:AK19) -> 2131.9113 | Z18: ± | AA18: =_xlfn.STDEV.S('Single data'!AH19:AK19)/SQRT(4) -> 471.22481 | AB18: =AVERAGE('Single data'!AL19:AO19) -> 5.8119457 | AC18: ± | AD18: =_xlfn.STDEV.S(('Single data'!AL19:AO19))/SQRT(4) -> 2.024841 | AE18: =AVERAGE('Single data'!AP19:AS19) -> 2682.1902 | AF18: ± | AG18: =_xlfn.STDEV.S('Single data'!AP19:AS19)/SQRT(4) -> 493.04074 | AH18: =AVERAGE('Single data'!AT19:AW19) -> 206.9757 | AI18: ± | AJ18: =_xlfn.STDEV.S('Single data'!AT19:AW19)/SQRT(4) -> 175.07502 | AK18: =AVERAGE('Single data'!AX19:BA19) -> 1195.2055 | AL18: ± | AM18: =_xlfn.STDEV.S('Single data'!AX19:BA19)/SQRT(4) -> 373.34344 | AN18: =AVERAGE('Single data'!BB19:BE19) -> 177.38424 | AO18: ± | AP18: =_xlfn.STDEV.S('Single data'!BB19:BE19)/SQRT(4) -> 107.50768
C19: LTB4 | D19: =AVERAGE('Single data'!D20:I20) -> 19893.682 | E19: ± | F19: =_xlfn.STDEV.S('Single data'!D20:I20)/SQRT(6) -> 2504.3791 | G19: =AVERAGE('Single data'!J20:M20) -> 4603.8217 | H19: ± | I19: =_xlfn.STDEV.S('Single data'!J20:M20)/SQRT(3) -> 1834.3347 | J19: =AVERAGE('Single data'!N20:Q20) -> 44.086088 | K19: ± | L19: =_xlfn.STDEV.S(('Single data'!N20:Q20))/SQRT(3) -> 23.109142 | M19: =AVERAGE('Single data'!R20:U20) -> 13777.904 | N19: ± | O19: =_xlfn.STDEV.S('Single data'!R20:U20)/SQRT(4) -> 3400.7902 | P19: =AVERAGE('Single data'!V20:Y20) -> 222.34998 | Q19: ± | R19: =_xlfn.STDEV.S('Single data'!V20:Y20)/SQRT(4) -> 130.29699 | S19: =AVERAGE('Single data'!Z20:AC20) -> 13767.235 | T19: ± | U19: =_xlfn.STDEV.S('Single data'!Z20:AC20)/SQRT(4) -> 3983.6658 | V19: =AVERAGE('Single data'!AD20:AG20) -> 738.62042 | W19: ± | X19: =_xlfn.STDEV.S('Single data'!AD20:AG20)/SQRT(4) -> 718.00985 | Y19: =AVERAGE('Single data'!AH20:AK20) -> 10159.693 | Z19: ± | AA19: =_xlfn.STDEV.S('Single data'!AH20:AK20)/SQRT(4) -> 2313.8406 | AB19: =AVERAGE('Single data'!AL20:AO20) -> 16.437178 | AC19: ± | AD19: =_xlfn.STDEV.S(('Single data'!AL20:AO20))/SQRT(4) -> 7.4356482 | AE19: =AVERAGE('Single data'!AP20:AS20) -> 11225.03 | AF19: ± | AG19: =_xlfn.STDEV.S('Single data'!AP20:AS20)/SQRT(4) -> 1874.3005 | AH19: =AVERAGE('Single data'!AT20:AW20) -> 925.53927 | AI19: ± | AJ19: =_xlfn.STDEV.S('Single data'!AT20:AW20)/SQRT(4) -> 782.39581 | AK19: =AVERAGE('Single data'!AX20:BA20) -> 5133.6438 | AL19: ± | AM19: =_xlfn.STDEV.S('Single data'!AX20:BA20)/SQRT(4) -> 1330.4798 | AN19: =AVERAGE('Single data'!BB20:BE20) -> 732.07126 | AO19: ± | AP19: =_xlfn.STDEV.S('Single data'!BB20:BE20)/SQRT(4) -> 506.53392
C20: 20-OH-LTB4 | D20: =AVERAGE('Single data'!D21:I21) -> 296.63744 | E20: ± | F20: =_xlfn.STDEV.S('Single data'!D21:I21)/SQRT(6) -> 73.219226 | G20: =AVERAGE('Single data'!J21:M21) -> 108.95587 | H20: ± | I20: =_xlfn.STDEV.S('Single data'!J21:M21)/SQRT(3) -> 31.827504 | J20: =AVERAGE('Single data'!N21:Q21) -> 2.2781605 | K20: ± | L20: =_xlfn.STDEV.S(('Single data'!N21:Q21))/SQRT(3) -> 0.95604461 | M20: =AVERAGE('Single data'!R21:U21) -> 188.19184 | N20: ± | O20: =_xlfn.STDEV.S('Single data'!R21:U21)/SQRT(4) -> 52.991591 | P20: =AVERAGE('Single data'!V21:Y21) -> 10.050741 | Q20: ± | R20: =_xlfn.STDEV.S('Single data'!V21:Y21)/SQRT(4) -> 5.9831989 | S20: =AVERAGE('Single data'!Z21:AC21) -> 187.6773 | T20: ± | U20: =_xlfn.STDEV.S('Single data'!Z21:AC21)/SQRT(4) -> 54.840968 | V20: =AVERAGE('Single data'!AD21:AG21) -> 15.853323 | W20: ± | X20: =_xlfn.STDEV.S('Single data'!AD21:AG21)/SQRT(4) -> 15.151111 | Y20: =AVERAGE('Single data'!AH21:AK21) -> 224.38669 | Z20: ± | AA20: =_xlfn.STDEV.S('Single data'!AH21:AK21)/SQRT(4) -> 58.747855 | AB20: =AVERAGE('Single data'!AL21:AO21) -> 1.4107048 | AC20: ± | AD20: =_xlfn.STDEV.S(('Single data'!AL21:AO21))/SQRT(4) -> 0.56555286 | AE20: =AVERAGE('Single data'!AP21:AS21) -> 238.72167 | AF20: ± | AG20: =_xlfn.STDEV.S('Single data'!AP21:AS21)/SQRT(4) -> 63.448055 | AH20: =AVERAGE('Single data'!AT21:AW21) -> 23.016264 | AI20: ± | AJ20: =_xlfn.STDEV.S('Single data'!AT21:AW21)/SQRT(4) -> 15.02128 | AK20: =AVERAGE('Single data'!AX21:BA21) -> 105.07192 | AL20: ± | AM20: =_xlfn.STDEV.S('Single data'!AX21:BA21)/SQRT(4) -> 27.447057 | AN20: =AVERAGE('Single data'!BB21:BE21) -> 15.969818 | AO20: ± | AP20: =_xlfn.STDEV.S('Single data'!BB21:BE21)/SQRT(4) -> 9.4767081
C21: 5-HEPE
C22: 5-HETE | D22: =AVERAGE('Single data'!D23:I23) -> 17033.75 | E22: ± | F22: =_xlfn.STDEV.S('Single data'!D23:I23)/SQRT(6) -> 4400.5559 | G22: =AVERAGE('Single data'!J23:M23) -> 3365.8414 | H22: ± | I22: =_xlfn.STDEV.S('Single data'!J23:M23)/SQRT(3) -> 2039.4694 | J22: =AVERAGE('Single data'!N23:Q23) -> 40.631067 | K22: ± | L22: =_xlfn.STDEV.S(('Single data'!N23:Q23))/SQRT(3) -> 4.9437152 | M22: =AVERAGE('Single data'!R23:U23) -> 10287.499 | N22: ± | O22: =_xlfn.STDEV.S('Single data'!R23:U23)/SQRT(4) -> 5692.3829 | P22: =AVERAGE('Single data'!V23:Y23) -> 163.23349 | Q22: ± | R22: =_xlfn.STDEV.S('Single data'!V23:Y23)/SQRT(4) -> 94.276903 | S22: =AVERAGE('Single data'!Z23:AC23) -> 11775.851 | T22: ± | U22: =_xlfn.STDEV.S('Single data'!Z23:AC23)/SQRT(4) -> 6386.0643 | V22: =AVERAGE('Single data'!AD23:AG23) -> 701.00935 | W22: ± | X22: =_xlfn.STDEV.S('Single data'!AD23:AG23)/SQRT(4) -> 640.22812 | Y22: =AVERAGE('Single data'!AH23:AK23) -> 5514.8773 | Z22: ± | AA22: =_xlfn.STDEV.S('Single data'!AH23:AK23)/SQRT(4) -> 3258.1904 | AB22: =AVERAGE('Single data'!AL23:AO23) -> 32.742518 | AC22: ± | AD22: =_xlfn.STDEV.S(('Single data'!AL23:AO23))/SQRT(4) -> 14.627632 | AE22: =AVERAGE('Single data'!AP23:AS23) -> 7191.4704 | AF22: ± | AG22: =_xlfn.STDEV.S('Single data'!AP23:AS23)/SQRT(4) -> 4002.6694 | AH22: =AVERAGE('Single data'!AT23:AW23) -> 119.83868 | AI22: ± | AJ22: =_xlfn.STDEV.S('Single data'!AT23:AW23)/SQRT(4) -> 73.256427 | AK22: =AVERAGE('Single data'!AX23:BA23) -> 8258.0275 | AL22: ± | AM22: =_xlfn.STDEV.S('Single data'!AX23:BA23)/SQRT(4) -> 5706.9349 | AN22: =AVERAGE('Single data'!BB23:BE23) -> 165.55241 | AO22: ± | AP22: =_xlfn.STDEV.S('Single data'!BB23:BE23)/SQRT(4) -> 133.88143
B23: PUFA | C23: AA | D23: =AVERAGE('Single data'!D24:I24) -> 967560.82 | E23: ± | F23: =_xlfn.STDEV.S('Single data'!D24:I24)/SQRT(6) -> 249702.82 | G23: =AVERAGE('Single data'!J24:M24) -> 4658202 | H23: ± | I23: =_xlfn.STDEV.S('Single data'!J24:M24)/SQRT(3) -> 3969534.2 | J23: =AVERAGE('Single data'!N24:Q24) -> 910185.01 | K23: ± | L23: =_xlfn.STDEV.S(('Single data'!N24:Q24))/SQRT(3) -> 530447.05 | M23: =AVERAGE('Single data'!R24:U24) -> 757863.63 | N23: ± | O23: =_xlfn.STDEV.S('Single data'!R24:U24)/SQRT(4) -> 231220.64 | P23: =AVERAGE('Single data'!V24:Y24) -> 488137.16 | Q23: ± | R23: =_xlfn.STDEV.S('Single data'!V24:Y24)/SQRT(4) -> 317602.25 | S23: =AVERAGE('Single data'!Z24:AC24) -> 661599.57 | T23: ± | U23: =_xlfn.STDEV.S('Single data'!Z24:AC24)/SQRT(4) -> 223109.96 | V23: =AVERAGE('Single data'!AD24:AG24) -> 528438.18 | W23: ± | X23: =_xlfn.STDEV.S('Single data'!AD24:AG24)/SQRT(4) -> 350540.46 | Y23: =AVERAGE('Single data'!AH24:AK24) -> 1109949.3 | Z23: ± | AA23: =_xlfn.STDEV.S('Single data'!AH24:AK24)/SQRT(4) -> 490185.09 | AB23: =AVERAGE('Single data'!AL24:AO24) -> 557087.07 | AC23: ± | AD23: =_xlfn.STDEV.S(('Single data'!AL24:AO24))/SQRT(4) -> 362874.69 | AE23: =AVERAGE('Single data'!AP24:AS24) -> 685050.17 | AF23: ± | AG23: =_xlfn.STDEV.S('Single data'!AP24:AS24)/SQRT(4) -> 473387.55 | AH23: =AVERAGE('Single data'!AT24:AW24) -> 950118.51 | AI23: ± | AJ23: =_xlfn.STDEV.S('Single data'!AT24:AW24)/SQRT(4) -> 439579.17 | AK23: =AVERAGE('Single data'!AX24:BA24) -> 791547.38 | AL23: ± | AM23: =_xlfn.STDEV.S('Single data'!AX24:BA24)/SQRT(4) -> 207991.24 | AN23: =AVERAGE('Single data'!BB24:BE24) -> 490962.84 | AO23: ± | AP23: =_xlfn.STDEV.S('Single data'!BB24:BE24)/SQRT(4) -> 206314.13
C24: EPA | D24: =AVERAGE('Single data'!D25:I25) -> 25346.24 | E24: ± | F24: =_xlfn.STDEV.S('Single data'!D25:I25)/SQRT(6) -> 14479.445 | G24: =AVERAGE('Single data'!J25:M25) -> 270010.45 | H24: ± | I24: =_xlfn.STDEV.S('Single data'!J25:M25)/SQRT(3) -> 256557.31 | J24: =AVERAGE('Single data'!N25:Q25) -> 60488.831 | K24: ± | L24: =_xlfn.STDEV.S(('Single data'!N25:Q25))/SQRT(3) -> 40715.013 | M24: =AVERAGE('Single data'!R25:U25) -> 29581.95 | N24: ± | O24: =_xlfn.STDEV.S('Single data'!R25:U25)/SQRT(4) -> 19482.735 | P24: =AVERAGE('Single data'!V25:Y25) -> 26736.454 | Q24: ± | R24: =_xlfn.STDEV.S('Single data'!V25:Y25)/SQRT(4) -> 24283.114 | S24: =AVERAGE('Single data'!Z25:AC25) -> 29408.904 | T24: ± | U24: =_xlfn.STDEV.S('Single data'!Z25:AC25)/SQRT(4) -> 20575.793 | V24: =AVERAGE('Single data'!AD25:AG25) -> 20138.504 | W24: ± | X24: =_xlfn.STDEV.S('Single data'!AD25:AG25)/SQRT(4) -> 16584.282 | Y24: =AVERAGE('Single data'!AH25:AK25) -> 33166.565 | Z24: ± | AA24: =_xlfn.STDEV.S('Single data'!AH25:AK25)/SQRT(4) -> 27819.115 | AB24: =AVERAGE('Single data'!AL25:AO25) -> 10007.598 | AC24: ± | AD24: =_xlfn.STDEV.S(('Single data'!AL25:AO25))/SQRT(4) -> 8835.0187 | AE24: =AVERAGE('Single data'!AP25:AS25) -> 17836.133 | AF24: ± | AG24: =_xlfn.STDEV.S('Single data'!AP25:AS25)/SQRT(4) -> 10619.035 | AH24: =AVERAGE('Single data'!AT25:AW25) -> 27323.173 | AI24: ± | AJ24: =_xlfn.STDEV.S('Single data'!AT25:AW25)/SQRT(4) -> 21284.095 | AK24: =AVERAGE('Single data'!AX25:BA25) -> 17306.055 | AL24: ± | AM24: =_xlfn.STDEV.S('Single data'!AX25:BA25)/SQRT(4) -> 4482.7079 | AN24: =AVERAGE('Single data'!BB25:BE25) -> 11279.459 | AO24: ± | AP24: =_xlfn.STDEV.S('Single data'!BB25:BE25)/SQRT(4) -> 4997.7296
C25: DHA | D25: =AVERAGE('Single data'!D26:I26) -> 270626.09 | E25: ± | F25: =_xlfn.STDEV.S('Single data'!D26:I26)/SQRT(6) -> 210475.23 | G25: =AVERAGE('Single data'!J26:M26) -> 4828904.9 | H25: ± | I25: =_xlfn.STDEV.S('Single data'!J26:M26)/SQRT(3) -> 4791558.6 | J25: =AVERAGE('Single data'!N26:Q26) -> 723768.87 | K25: ± | L25: =_xlfn.STDEV.S(('Single data'!N26:Q26))/SQRT(3) -> 679394.84 | M25: =AVERAGE('Single data'!R26:U26) -> 384021.07 | N25: ± | O25: =_xlfn.STDEV.S('Single data'!R26:U26)/SQRT(4) -> 345861.19 | P25: =AVERAGE('Single data'!V26:Y26) -> 400008.92 | Q25: ± | R25: =_xlfn.STDEV.S('Single data'!V26:Y26)/SQRT(4) -> 379891.44 | S25: =AVERAGE('Single data'!Z26:AC26) -> 390453.77 | T25: ± | U25: =_xlfn.STDEV.S('Single data'!Z26:AC26)/SQRT(4) -> 354985.01 | V25: =AVERAGE('Single data'!AD26:AG26) -> 460488.75 | W25: ± | X25: =_xlfn.STDEV.S('Single data'!AD26:AG26)/SQRT(4) -> 442507.41 | Y25: =AVERAGE('Single data'!AH26:AK26) -> 612069.64 | Z25: ± | AA25: =_xlfn.STDEV.S('Single data'!AH26:AK26)/SQRT(4) -> 552527.61 | AB25: =AVERAGE('Single data'!AL26:AO26) -> 176000.85 | AC25: ± | AD25: =_xlfn.STDEV.S(('Single data'!AL26:AO26))/SQRT(4) -> 146833.62 | AE25: =AVERAGE('Single data'!AP26:AS26) -> 43955.855 | AF25: ± | AG25: =_xlfn.STDEV.S('Single data'!AP26:AS26)/SQRT(4) -> 20664.563 | AH25: =AVERAGE('Single data'!AT26:AW26) -> 459342.82 | AI25: ± | AJ25: =_xlfn.STDEV.S('Single data'!AT26:AW26)/SQRT(4) -> 413094.55 | AK25: =AVERAGE('Single data'!AX26:BA26) -> 57604.49 | AL25: ± | AM25: =_xlfn.STDEV.S('Single data'!AX26:BA26)/SQRT(4) -> 10058.129 | AN25: =AVERAGE('Single data'!BB26:BE26) -> 42370.433 | AO25: ± | AP25: =_xlfn.STDEV.S('Single data'!BB26:BE26)/SQRT(4) -> 17885.611
C26: DPA | D26: =AVERAGE('Single data'!D27:I27) -> 9734.5626 | E26: ± | F26: =_xlfn.STDEV.S('Single data'!D27:I27)/SQRT(6) -> 7477.4557 | G26: =AVERAGE('Single data'!J27:M27) -> 132922.2 | H26: ± | I26: =_xlfn.STDEV.S('Single data'!J27:M27)/SQRT(3) -> 131287.84 | J26: =AVERAGE('Single data'!N27:Q27) -> 27132.652 | K26: ± | L26: =_xlfn.STDEV.S(('Single data'!N27:Q27))/SQRT(3) -> 25746.966 | M26: =AVERAGE('Single data'!R27:U27) -> 12176.222 | N26: ± | O26: =_xlfn.STDEV.S('Single data'!R27:U27)/SQRT(4) -> 10688.865 | P26: =AVERAGE('Single data'!V27:Y27) -> 12325.141 | Q26: ± | R26: =_xlfn.STDEV.S('Single data'!V27:Y27)/SQRT(4) -> 11725.578 | S26: =AVERAGE('Single data'!Z27:AC27) -> 13280.602 | T26: ± | U26: =_xlfn.STDEV.S('Single data'!Z27:AC27)/SQRT(4) -> 11798.061 | V26: =AVERAGE('Single data'!AD27:AG27) -> 13077.106 | W26: ± | X26: =_xlfn.STDEV.S('Single data'!AD27:AG27)/SQRT(4) -> 12466.205 | Y26: =AVERAGE('Single data'!AH27:AK27) -> 18626.09 | Z26: ± | AA26: =_xlfn.STDEV.S('Single data'!AH27:AK27)/SQRT(4) -> 16870.957 | AB26: =AVERAGE('Single data'!AL27:AO27) -> 5251.6156 | AC26: ± | AD26: =_xlfn.STDEV.S(('Single data'!AL27:AO27))/SQRT(4) -> 4350.4103 | AE26: =AVERAGE('Single data'!AP27:AS27) -> 3736.9487 | AF26: ± | AG26: =_xlfn.STDEV.S('Single data'!AP27:AS27)/SQRT(4) -> 2002.6845 | AH26: =AVERAGE('Single data'!AT27:AW27) -> 12804.84 | AI26: ± | AJ26: =_xlfn.STDEV.S('Single data'!AT27:AW27)/SQRT(4) -> 11229.592 | AK26: =AVERAGE('Single data'!AX27:BA27) -> 2198.1874 | AL26: ± | AM26: =_xlfn.STDEV.S('Single data'!AX27:BA27)/SQRT(4) -> 448.46151 | AN26: =AVERAGE('Single data'!BB27:BE27) -> 1380.2115 | AO26: ± | AP26: =_xlfn.STDEV.S('Single data'!BB27:BE27)/SQRT(4) -> 626.12068
B27: PTGS | C27: PGE2 | D27: =AVERAGE('Single data'!D28:I28) -> 796324.36 | E27: ± | F27: =_xlfn.STDEV.S('Single data'!D28:I28)/SQRT(6) -> 559403.92 | G27: =AVERAGE('Single data'!J28:M28) -> 1563474.6 | H27: ± | I27: =_xlfn.STDEV.S('Single data'!J28:M28)/SQRT(3) -> 1173889.6 | J27: =AVERAGE('Single data'!N28:Q28) -> 519682.25 | K27: ± | L27: =_xlfn.STDEV.S(('Single data'!N28:Q28))/SQRT(3) -> 408177.8 | M27: =AVERAGE('Single data'!R28:U28) -> 1725009 | N27: ± | O27: =_xlfn.STDEV.S('Single data'!R28:U28)/SQRT(4) -> 1034779.6 | P27: =AVERAGE('Single data'!V28:Y28) -> 1361274.1 | Q27: ± | R27: =_xlfn.STDEV.S('Single data'!V28:Y28)/SQRT(4) -> 806364.6 | S27: =AVERAGE('Single data'!Z28:AC28) -> 1608315.5 | T27: ± | U27: =_xlfn.STDEV.S('Single data'!Z28:AC28)/SQRT(4) -> 983154.52 | V27: =AVERAGE('Single data'!AD28:AG28) -> 770980.54 | W27: ± | X27: =_xlfn.STDEV.S('Single data'!AD28:AG28)/SQRT(4) -> 713863.26 | Y27: =AVERAGE('Single data'!AH28:AK28) -> 736.6919 | Z27: ± | AA27: =_xlfn.STDEV.S('Single data'!AH28:AK28)/SQRT(4) -> 174.41574 | AB27: =AVERAGE('Single data'!AL28:AO28) -> 1018.3766 | AC27: ± | AD27: =_xlfn.STDEV.S(('Single data'!AL28:AO28))/SQRT(4) -> 600.76481 | AE27: =AVERAGE('Single data'!AP28:AS28) -> 478.72911 | AF27: ± | AG27: =_xlfn.STDEV.S('Single data'!AP28:AS28)/SQRT(4) -> 123.56674 | AH27: =AVERAGE('Single data'!AT28:AW28) -> 240.11632 | AI27: ± | AJ27: =_xlfn.STDEV.S('Single data'!AT28:AW28)/SQRT(4) -> 79.238402 | AK27: =AVERAGE('Single data'!AX28:BA28) -> 1036809.3 | AL27: ± | AM27: =_xlfn.STDEV.S('Single data'!AX28:BA28)/SQRT(4) -> 668186.09 | AN27: =AVERAGE('Single data'!BB28:BE28) -> 460934.86 | AO27: ± | AP27: =_xlfn.STDEV.S('Single data'!BB28:BE28)/SQRT(4) -> 268451.75 | AS27: =AVERAGE('Single data'!BG28:BK28) -> 4926265.4 | AT27: ± | AU27: =_xlfn.STDEV.S('Single data'!BG28:BK28)/SQRT(4) -> 5484935.4 | AV27: =AVERAGE('Single data'!BM28:BP28) -> 13828128 | AW27: ± | AX27: =_xlfn.STDEV.S('Single data'!BM28:BP28)/SQRT(4) -> 13804614 | AY27: =AVERAGE('Single data'!BQ28:BT28) -> 10509556 | AZ27: ± | BA27: =_xlfn.STDEV.S(('Single data'!BQ28:BT28))/SQRT(4) -> 10482215 | BB27: =AVERAGE('Single data'!BU28:BX28) -> 11990885 | BC27: ± | BD27: =_xlfn.STDEV.S('Single data'!BU28:BX28)/SQRT(4) -> 11966461 | BE27: =AVERAGE('Single data'!BY28:CB28) -> 14289081 | BF27: ± | BG27: =_xlfn.STDEV.S('Single data'!BY28:CB28)/SQRT(4) -> 14245348 | BH27: =AVERAGE('Single data'!CC28:CF28) -> 7522634.9 | BI27: ± | BJ27: =_xlfn.STDEV.S('Single data'!CC28:CF28)/SQRT(4) -> 7498985.5 | BK27: =AVERAGE('Single data'!CG28:CJ28) -> 3278269.3 | BL27: ± | BM27: =_xlfn.STDEV.S('Single data'!CG28:CJ28)/SQRT(4) -> 3258680.5 | BN27: =AVERAGE('Single data'!CK28:CN28) -> 23474.25 | BO27: ± | BP27: =_xlfn.STDEV.S('Single data'!CK28:CN28)/SQRT(4) -> 6098.7735 | BQ27: =AVERAGE('Single data'!CO28:CR28) -> 30460.305 | BR27: ± | BS27: =_xlfn.STDEV.S(('Single data'!CO28:CR28))/SQRT(4) -> 9989.3012 | BT27: =AVERAGE('Single data'!CS28:CV28) -> 19267.342 | BU27: ± | BV27: =_xlfn.STDEV.S('Single data'!CS28:CV28)/SQRT(4) -> 4091.0382 | BW27: =AVERAGE('Single data'!CW28:CZ28) -> 9341.4551 | BX27: ± | BY27: =_xlfn.STDEV.S('Single data'!CW28:CZ28)/SQRT(4) -> 1780.5267 | BZ27: =AVERAGE('Single data'!DA28:DD28) -> 9548785.9 | CA27: ± | CB27: =_xlfn.STDEV.S('Single data'!DA28:DD28)/SQRT(4) -> 9525992 | CC27: =AVERAGE('Single data'!DE28:DH28) -> 6738761.9 | CD27: ± | CE27: =_xlfn.STDEV.S('Single data'!DE28:DH28)/SQRT(4) -> 6725557
C28: 15-ketoPGE2 | D28: =AVERAGE('Single data'!D29:I29) -> 111.261 | E28: ± | F28: =_xlfn.STDEV.S('Single data'!D29:I29)/SQRT(6) -> 30.887047 | G28: =AVERAGE('Single data'!J29:M29) -> 170.02382 | H28: ± | I28: =_xlfn.STDEV.S('Single data'!J29:M29)/SQRT(3) -> 61.121067 | J28: =AVERAGE('Single data'!N29:Q29) -> 68.251805 | K28: ± | L28: =_xlfn.STDEV.S(('Single data'!N29:Q29))/SQRT(3) -> 39.96601 | M28: =AVERAGE('Single data'!R29:U29) -> 147.51961 | N28: ± | O28: =_xlfn.STDEV.S('Single data'!R29:U29)/SQRT(4) -> 36.146207 | P28: =AVERAGE('Single data'!V29:Y29) -> 104.05749 | Q28: ± | R28: =_xlfn.STDEV.S('Single data'!V29:Y29)/SQRT(4) -> 63.976623 | S28: =AVERAGE('Single data'!Z29:AC29) -> 149.10741 | T28: ± | U28: =_xlfn.STDEV.S('Single data'!Z29:AC29)/SQRT(4) -> 57.337854 | V28: =AVERAGE('Single data'!AD29:AG29) -> 77.834111 | W28: ± | X28: =_xlfn.STDEV.S('Single data'!AD29:AG29)/SQRT(4) -> 67.904912 | Y28: =AVERAGE('Single data'!AH29:AK29) -> 75.816121 | Z28: ± | AA28: =_xlfn.STDEV.S('Single data'!AH29:AK29)/SQRT(4) -> 9.8027849 | AB28: =AVERAGE('Single data'!AL29:AO29) -> 17.998626 | AC28: ± | AD28: =_xlfn.STDEV.S(('Single data'!AL29:AO29))/SQRT(4) -> 6.4632055 | AE28: =AVERAGE('Single data'!AP29:AS29) -> 58.6526 | AF28: ± | AG28: =_xlfn.STDEV.S('Single data'!AP29:AS29)/SQRT(4) -> 14.986278 | AH28: =AVERAGE('Single data'!AT29:AW29) -> 23.053579 | AI28: ± | AJ28: =_xlfn.STDEV.S('Single data'!AT29:AW29)/SQRT(4) -> 6.4259177 | AK28: =AVERAGE('Single data'!AX29:BA29) -> 120.2004 | AL28: ± | AM28: =_xlfn.STDEV.S('Single data'!AX29:BA29)/SQRT(4) -> 40.886194 | AN28: =AVERAGE('Single data'!BB29:BE29) -> 71.338272 | AO28: ± | AP28: =_xlfn.STDEV.S('Single data'!BB29:BE29)/SQRT(4) -> 27.747015 | AS28: =AVERAGE('Single data'!BG29:BK29) -> 154.55966 | AT28: ± | AU28: =_xlfn.STDEV.S('Single data'!BG29:BK29)/SQRT(4) -> 37.104812 | AV28: =AVERAGE('Single data'!BM29:BP29) -> 176.07648 | AW28: ± | AX28: =_xlfn.STDEV.S('Single data'!BM29:BP29)/SQRT(4) -> 48.029713 | AY28: =AVERAGE('Single data'!BQ29:BT29) -> 179.07216 | AZ28: ± | BA28: =_xlfn.STDEV.S(('Single data'!BQ29:BT29))/SQRT(4) -> 56.996127 | BB28: =AVERAGE('Single data'!BU29:BX29) -> 185.65086 | BC28: ± | BD28: =_xlfn.STDEV.S('Single data'!BU29:BX29)/SQRT(4) -> 51.690076 | BE28: =AVERAGE('Single data'!BY29:CB29) -> 277.97872 | BF28: ± | BG28: =_xlfn.STDEV.S('Single data'!BY29:CB29)/SQRT(4) -> 114.49746 | BH28: =AVERAGE('Single data'!CC29:CF29) -> 178.34583 | BI28: ± | BJ28: =_xlfn.STDEV.S('Single data'!CC29:CF29)/SQRT(4) -> 56.459778 | BK28: =AVERAGE('Single data'!CG29:CJ29) -> 138.80216 | BL28: ± | BM28: =_xlfn.STDEV.S('Single data'!CG29:CJ29)/SQRT(4) -> 52.760099 | BN28: =AVERAGE('Single data'!CK29:CN29) -> 214.14212 | BO28: ± | BP28: =_xlfn.STDEV.S('Single data'!CK29:CN29)/SQRT(4) -> 41.897453 | BQ28: =AVERAGE('Single data'!CO29:CR29) -> 289.28989 | BR28: ± | BS28: =_xlfn.STDEV.S(('Single data'!CO29:CR29))/SQRT(4) -> 82.611694 | BT28: =AVERAGE('Single data'!CS29:CV29) -> 194.52766 | BU28: ± | BV28: =_xlfn.STDEV.S('Single data'!CS29:CV29)/SQRT(4) -> 42.717039 | BW28: =AVERAGE('Single data'!CW29:CZ29) -> 100.46644 | BX28: ± | BY28: =_xlfn.STDEV.S('Single data'!CW29:CZ29)/SQRT(4) -> 20.532289 | BZ28: =AVERAGE('Single data'!DA29:DD29) -> 147.19382 | CA28: ± | CB28: =_xlfn.STDEV.S('Single data'!DA29:DD29)/SQRT(4) -> 37.769556 | CC28: =AVERAGE('Single data'!DE29:DH29) -> 97.589101 | CD28: ± | CE28: =_xlfn.STDEV.S('Single data'!DE29:DH29)/SQRT(4) -> 28.328589
C29: PGD2 | D29: =AVERAGE('Single data'!D30:I30) -> 291.94145 | E29: ± | F29: =_xlfn.STDEV.S('Single data'!D30:I30)/SQRT(6) -> 82.664272 | G29: =AVERAGE('Single data'!J30:M30) -> 578.59899 | H29: ± | I29: =_xlfn.STDEV.S('Single data'!J30:M30)/SQRT(3) -> 298.69245 | J29: =AVERAGE('Single data'!N30:Q30) -> 173.28361 | K29: ± | L29: =_xlfn.STDEV.S(('Single data'!N30:Q30))/SQRT(3) -> 88.805103 | M29: =AVERAGE('Single data'!R30:U30) -> 520.54094 | N29: ± | O29: =_xlfn.STDEV.S('Single data'!R30:U30)/SQRT(4) -> 249.68187 | P29: =AVERAGE('Single data'!V30:Y30) -> 383.53762 | Q29: ± | R29: =_xlfn.STDEV.S('Single data'!V30:Y30)/SQRT(4) -> 171.92368 | S29: =AVERAGE('Single data'!Z30:AC30) -> 332.02064 | T29: ± | U29: =_xlfn.STDEV.S('Single data'!Z30:AC30)/SQRT(4) -> 158.08676 | V29: =AVERAGE('Single data'!AD30:AG30) -> 166.09831 | W29: ± | X29: =_xlfn.STDEV.S('Single data'!AD30:AG30)/SQRT(4) -> 83.806501 | Y29: =AVERAGE('Single data'!AH30:AK30) -> 425.83295 | Z29: ± | AA29: =_xlfn.STDEV.S('Single data'!AH30:AK30)/SQRT(4) -> 189.14499 | AB29: =AVERAGE('Single data'!AL30:AO30) -> 325.82163 | AC29: ± | AD29: =_xlfn.STDEV.S(('Single data'!AL30:AO30))/SQRT(4) -> 98.441876 | AE29: =AVERAGE('Single data'!AP30:AS30) -> 260.00508 | AF29: ± | AG29: =_xlfn.STDEV.S('Single data'!AP30:AS30)/SQRT(4) -> 110.29566 | AH29: =AVERAGE('Single data'!AT30:AW30) -> 193.89662 | AI29: ± | AJ29: =_xlfn.STDEV.S('Single data'!AT30:AW30)/SQRT(4) -> 93.544606 | AK29: =AVERAGE('Single data'!AX30:BA30) -> 387.55547 | AL29: ± | AM29: =_xlfn.STDEV.S('Single data'!AX30:BA30)/SQRT(4) -> 125.93705 | AN29: =AVERAGE('Single data'!BB30:BE30) -> 299.76764 | AO29: ± | AP29: =_xlfn.STDEV.S('Single data'!BB30:BE30)/SQRT(4) -> 152.38563 | AS29: =AVERAGE('Single data'!BG30:BK30) -> 2031.8907 | AT29: ± | AU29: =_xlfn.STDEV.S('Single data'!BG30:BK30)/SQRT(4) -> 603.88124 | AV29: =AVERAGE('Single data'!BM30:BP30) -> 1273.1264 | AW29: ± | AX29: =_xlfn.STDEV.S('Single data'!BM30:BP30)/SQRT(4) -> 350.21398 | AY29: =AVERAGE('Single data'!BQ30:BT30) -> 2228.9783 | AZ29: ± | BA29: =_xlfn.STDEV.S(('Single data'!BQ30:BT30))/SQRT(4) -> 633.66722 | BB29: =AVERAGE('Single data'!BU30:BX30) -> 2236.6675 | BC29: ± | BD29: =_xlfn.STDEV.S('Single data'!BU30:BX30)/SQRT(4) -> 618.87886 | BE29: =AVERAGE('Single data'!BY30:CB30) -> 3828.3988 | BF29: ± | BG29: =_xlfn.STDEV.S('Single data'!BY30:CB30)/SQRT(4) -> 1166.448 | BH29: =AVERAGE('Single data'!CC30:CF30) -> 2017.864 | BI29: ± | BJ29: =_xlfn.STDEV.S('Single data'!CC30:CF30)/SQRT(4) -> 697.29723 | BK29: =AVERAGE('Single data'!CG30:CJ30) -> 1842.2817 | BL29: ± | BM29: =_xlfn.STDEV.S('Single data'!CG30:CJ30)/SQRT(4) -> 584.17708 | BN29: =AVERAGE('Single data'!CK30:CN30) -> 3844.384 | BO29: ± | BP29: =_xlfn.STDEV.S('Single data'!CK30:CN30)/SQRT(4) -> 1329.6686 | BQ29: =AVERAGE('Single data'!CO30:CR30) -> 3327.4631 | BR29: ± | BS29: =_xlfn.STDEV.S(('Single data'!CO30:CR30))/SQRT(4) -> 627.45011 | BT29: =AVERAGE('Single data'!CS30:CV30) -> 2112.4892 | BU29: ± | BV29: =_xlfn.STDEV.S('Single data'!CS30:CV30)/SQRT(4) -> 360.02193 | BW29: =AVERAGE('Single data'!CW30:CZ30) -> 1399.1231 | BX29: ± | BY29: =_xlfn.STDEV.S('Single data'!CW30:CZ30)/SQRT(4) -> 433.8954 | BZ29: =AVERAGE('Single data'!DA30:DD30) -> 2211.646 | CA29: ± | CB29: =_xlfn.STDEV.S('Single data'!DA30:DD30)/SQRT(4) -> 619.53168 | CC29: =AVERAGE('Single data'!DE30:DH30) -> 1003.9625 | CD29: ± | CE29: =_xlfn.STDEV.S('Single data'!DE30:DH30)/SQRT(4) -> 259.02056
C30: PGF2a | D30: =AVERAGE('Single data'!D31:I31) -> 143.45106 | E30: ± | F30: =_xlfn.STDEV.S('Single data'!D31:I31)/SQRT(6) -> 27.178049 | G30: =AVERAGE('Single data'!J31:M31) -> 236.36232 | H30: ± | I30: =_xlfn.STDEV.S('Single data'!J31:M31)/SQRT(3) -> 73.282593 | J30: =AVERAGE('Single data'!N31:Q31) -> 168.57032 | K30: ± | L30: =_xlfn.STDEV.S(('Single data'!N31:Q31))/SQRT(3) -> 88.717162 | M30: =AVERAGE('Single data'!R31:U31) -> 212.60542 | N30: ± | O30: =_xlfn.STDEV.S('Single data'!R31:U31)/SQRT(4) -> 36.296858 | P30: =AVERAGE('Single data'!V31:Y31) -> 229.93789 | Q30: ± | R30: =_xlfn.STDEV.S('Single data'!V31:Y31)/SQRT(4) -> 87.329366 | S30: =AVERAGE('Single data'!Z31:AC31) -> 206.69671 | T30: ± | U30: =_xlfn.STDEV.S('Single data'!Z31:AC31)/SQRT(4) -> 50.916534 | V30: =AVERAGE('Single data'!AD31:AG31) -> 83.307726 | W30: ± | X30: =_xlfn.STDEV.S('Single data'!AD31:AG31)/SQRT(4) -> 25.930996 | Y30: =AVERAGE('Single data'!AH31:AK31) -> 223.5937 | Z30: ± | AA30: =_xlfn.STDEV.S('Single data'!AH31:AK31)/SQRT(4) -> 42.821514 | AB30: =AVERAGE('Single data'!AL31:AO31) -> 166.12284 | AC30: ± | AD30: =_xlfn.STDEV.S(('Single data'!AL31:AO31))/SQRT(4) -> 73.485197 | AE30: =AVERAGE('Single data'!AP31:AS31) -> 151.68216 | AF30: ± | AG30: =_xlfn.STDEV.S('Single data'!AP31:AS31)/SQRT(4) -> 23.147428 | AH30: =AVERAGE('Single data'!AT31:AW31) -> 64.82951 | AI30: ± | AJ30: =_xlfn.STDEV.S('Single data'!AT31:AW31)/SQRT(4) -> 15.722957 | AK30: =AVERAGE('Single data'!AX31:BA31) -> 140.0216 | AL30: ± | AM30: =_xlfn.STDEV.S('Single data'!AX31:BA31)/SQRT(4) -> 35.564222 | AN30: =AVERAGE('Single data'!BB31:BE31) -> 100.41909 | AO30: ± | AP30: =_xlfn.STDEV.S('Single data'!BB31:BE31)/SQRT(4) -> 38.57414 | AS30: =AVERAGE('Single data'!BG31:BK31) -> 7517.0192 | AT30: ± | AU30: =_xlfn.STDEV.S('Single data'!BG31:BK31)/SQRT(4) -> 1807.2194 | AV30: =AVERAGE('Single data'!BM31:BP31) -> 6855.0285 | AW30: ± | AX30: =_xlfn.STDEV.S('Single data'!BM31:BP31)/SQRT(4) -> 1663.3096 | AY30: =AVERAGE('Single data'!BQ31:BT31) -> 7372.442 | AZ30: ± | BA30: =_xlfn.STDEV.S(('Single data'!BQ31:BT31))/SQRT(4) -> 1971.3172 | BB30: =AVERAGE('Single data'!BU31:BX31) -> 7898.3782 | BC30: ± | BD30: =_xlfn.STDEV.S('Single data'!BU31:BX31)/SQRT(4) -> 2037.8265 | BE30: =AVERAGE('Single data'!BY31:CB31) -> 14549.375 | BF30: ± | BG30: =_xlfn.STDEV.S('Single data'!BY31:CB31)/SQRT(4) -> 4643.2457 | BH30: =AVERAGE('Single data'!CC31:CF31) -> 6453.4666 | BI30: ± | BJ30: =_xlfn.STDEV.S('Single data'!CC31:CF31)/SQRT(4) -> 1852.8058 | BK30: =AVERAGE('Single data'!CG31:CJ31) -> 7656.5161 | BL30: ± | BM30: =_xlfn.STDEV.S('Single data'!CG31:CJ31)/SQRT(4) -> 3419.2342 | BN30: =AVERAGE('Single data'!CK31:CN31) -> 10139.365 | BO30: ± | BP30: =_xlfn.STDEV.S('Single data'!CK31:CN31)/SQRT(4) -> 1143.2463 | BQ30: =AVERAGE('Single data'!CO31:CR31) -> 12084.48 | BR30: ± | BS30: =_xlfn.STDEV.S(('Single data'!CO31:CR31))/SQRT(4) -> 2564.7581 | BT30: =AVERAGE('Single data'!CS31:CV31) -> 8184.2976 | BU30: ± | BV30: =_xlfn.STDEV.S('Single data'!CS31:CV31)/SQRT(4) -> 1001.2904 | BW30: =AVERAGE('Single data'!CW31:CZ31) -> 3209.021 | BX30: ± | BY30: =_xlfn.STDEV.S('Single data'!CW31:CZ31)/SQRT(4) -> 1056.6789 | BZ30: =AVERAGE('Single data'!DA31:DD31) -> 6819.952 | CA30: ± | CB30: =_xlfn.STDEV.S('Single data'!DA31:DD31)/SQRT(4) -> 1712.2941 | CC30: =AVERAGE('Single data'!DE31:DH31) -> 3512.1479 | CD30: ± | CE30: =_xlfn.STDEV.S('Single data'!DE31:DH31)/SQRT(4) -> 953.20382
C31: TXB2 | D31: =AVERAGE('Single data'!D32:I32) -> 7475.703 | E31: ± | F31: =_xlfn.STDEV.S('Single data'!D32:I32)/SQRT(6) -> 2864.3864 | G31: =AVERAGE('Single data'!J32:M32) -> 4029.0576 | H31: ± | I31: =_xlfn.STDEV.S('Single data'!J32:M32)/SQRT(3) -> 906.19495 | J31: =AVERAGE('Single data'!N32:Q32) -> 825.71855 | K31: ± | L31: =_xlfn.STDEV.S(('Single data'!N32:Q32))/SQRT(3) -> 454.08785 | M31: =AVERAGE('Single data'!R32:U32) -> 4687.1361 | N31: ± | O31: =_xlfn.STDEV.S('Single data'!R32:U32)/SQRT(4) -> 1031.0777 | P31: =AVERAGE('Single data'!V32:Y32) -> 848.06384 | Q31: ± | R31: =_xlfn.STDEV.S('Single data'!V32:Y32)/SQRT(4) -> 275.89297 | S31: =AVERAGE('Single data'!Z32:AC32) -> 3072.4219 | T31: ± | U31: =_xlfn.STDEV.S('Single data'!Z32:AC32)/SQRT(4) -> 746.90235 | V31: =AVERAGE('Single data'!AD32:AG32) -> 303.35433 | W31: ± | X31: =_xlfn.STDEV.S('Single data'!AD32:AG32)/SQRT(4) -> 108.25475 | Y31: =AVERAGE('Single data'!AH32:AK32) -> 6979.9827 | Z31: ± | AA31: =_xlfn.STDEV.S('Single data'!AH32:AK32)/SQRT(4) -> 2790.875 | AB31: =AVERAGE('Single data'!AL32:AO32) -> 645.03198 | AC31: ± | AD31: =_xlfn.STDEV.S(('Single data'!AL32:AO32))/SQRT(4) -> 391.66374 | AE31: =AVERAGE('Single data'!AP32:AS32) -> 7981.2503 | AF31: ± | AG31: =_xlfn.STDEV.S('Single data'!AP32:AS32)/SQRT(4) -> 3192.0852 | AH31: =AVERAGE('Single data'!AT32:AW32) -> 3418.2053 | AI31: ± | AJ31: =_xlfn.STDEV.S('Single data'!AT32:AW32)/SQRT(4) -> 1330.1961 | AK31: =AVERAGE('Single data'!AX32:BA32) -> 4912.9056 | AL31: ± | AM31: =_xlfn.STDEV.S('Single data'!AX32:BA32)/SQRT(4) -> 810.26251 | AN31: =AVERAGE('Single data'!BB32:BE32) -> 2948.6204 | AO31: ± | AP31: =_xlfn.STDEV.S('Single data'!BB32:BE32)/SQRT(4) -> 991.02802 | AS31: =AVERAGE('Single data'!BG32:BK32) -> 104063.61 | AT31: ± | AU31: =_xlfn.STDEV.S('Single data'!BG32:BK32)/SQRT(4) -> 26722.15 | AV31: =AVERAGE('Single data'!BM32:BP32) -> 119611 | AW31: ± | AX31: =_xlfn.STDEV.S('Single data'!BM32:BP32)/SQRT(4) -> 22687.084 | AY31: =AVERAGE('Single data'!BQ32:BT32) -> 94264.494 | AZ31: ± | BA31: =_xlfn.STDEV.S(('Single data'!BQ32:BT32))/SQRT(4) -> 20672.378 | BB31: =AVERAGE('Single data'!BU32:BX32) -> 112829.85 | BC31: ± | BD31: =_xlfn.STDEV.S('Single data'!BU32:BX32)/SQRT(4) -> 22158.197 | BE31: =AVERAGE('Single data'!BY32:CB32) -> 91785.768 | BF31: ± | BG31: =_xlfn.STDEV.S('Single data'!BY32:CB32)/SQRT(4) -> 17014.359 | BH31: =AVERAGE('Single data'!CC32:CF32) -> 100519.13 | BI31: ± | BJ31: =_xlfn.STDEV.S('Single data'!CC32:CF32)/SQRT(4) -> 22806.826 | BK31: =AVERAGE('Single data'!CG32:CJ32) -> 28867.246 | BL31: ± | BM31: =_xlfn.STDEV.S('Single data'!CG32:CJ32)/SQRT(4) -> 6801.8554 | BN31: =AVERAGE('Single data'!CK32:CN32) -> 117504.92 | BO31: ± | BP31: =_xlfn.STDEV.S('Single data'!CK32:CN32)/SQRT(4) -> 27144.531 | BQ31: =AVERAGE('Single data'!CO32:CR32) -> 105548.58 | BR31: ± | BS31: =_xlfn.STDEV.S(('Single data'!CO32:CR32))/SQRT(4) -> 11338.494 | BT31: =AVERAGE('Single data'!CS32:CV32) -> 119891.1 | BU31: ± | BV31: =_xlfn.STDEV.S('Single data'!CS32:CV32)/SQRT(4) -> 15792.242 | BW31: =AVERAGE('Single data'!CW32:CZ32) -> 72804.995 | BX31: ± | BY31: =_xlfn.STDEV.S('Single data'!CW32:CZ32)/SQRT(4) -> 15046.766 | BZ31: =AVERAGE('Single data'!DA32:DD32) -> 117655.92 | CA31: ± | CB31: =_xlfn.STDEV.S('Single data'!DA32:DD32)/SQRT(4) -> 23862.876 | CC31: =AVERAGE('Single data'!DE32:DH32) -> 80798.265 | CD31: ± | CE31: =_xlfn.STDEV.S('Single data'!DE32:DH32)/SQRT(4) -> 17363.206
C32: PGE1/PGD1 | D32: =AVERAGE('Single data'!D33:I33) -> 6.095644 | E32: ± | F32: =_xlfn.STDEV.S('Single data'!D33:I33)/SQRT(6) -> 1.8741858 | G32: =AVERAGE('Single data'!J33:M33) -> 11.848757 | H32: ± | I32: =_xlfn.STDEV.S('Single data'!J33:M33)/SQRT(3) -> 3.9383936 | J32: =AVERAGE('Single data'!N33:Q33) -> 7.8806428 | K32: ± | L32: =_xlfn.STDEV.S(('Single data'!N33:Q33))/SQRT(3) -> 4.2595124 | M32: =AVERAGE('Single data'!R33:U33) -> 12.514552 | N32: ± | O32: =_xlfn.STDEV.S('Single data'!R33:U33)/SQRT(4) -> 1.7899924 | P32: =AVERAGE('Single data'!V33:Y33) -> 11.454838 | Q32: ± | R32: =_xlfn.STDEV.S('Single data'!V33:Y33)/SQRT(4) -> 3.7270694 | S32: =AVERAGE('Single data'!Z33:AC33) -> 10.607192 | T32: ± | U32: =_xlfn.STDEV.S('Single data'!Z33:AC33)/SQRT(4) -> 2.4740231 | V32: =AVERAGE('Single data'!AD33:AG33) -> 4.452723 | W32: ± | X32: =_xlfn.STDEV.S('Single data'!AD33:AG33)/SQRT(4) -> 1.2885706 | AK32: =AVERAGE('Single data'!AX33:BA33) -> 6.1252763 | AL32: ± | AM32: =_xlfn.STDEV.S('Single data'!AX33:BA33)/SQRT(4) -> 2.136801 | AN32: =AVERAGE('Single data'!BB33:BE33) -> 5.7541435 | AO32: ± | AP32: =_xlfn.STDEV.S('Single data'!BB33:BE33)/SQRT(4) -> 1.4225285
C33: 13-HDHA | D33: =AVERAGE('Single data'!D34:I34) -> 118.82201 | E33: ± | F33: =_xlfn.STDEV.S('Single data'!D34:I34)/SQRT(6) -> 63.112449 | G33: =AVERAGE('Single data'!J34:M34) -> 1044.8795 | H33: ± | I33: =_xlfn.STDEV.S('Single data'!J34:M34)/SQRT(3) -> 1001.2831 | J33: =AVERAGE('Single data'!N34:Q34) -> 150.19067 | K33: ± | L33: =_xlfn.STDEV.S(('Single data'!N34:Q34))/SQRT(3) -> 129.82918 | M33: =AVERAGE('Single data'!R34:U34) -> 144.3671 | N33: ± | O33: =_xlfn.STDEV.S('Single data'!R34:U34)/SQRT(4) -> 95.166271 | P33: =AVERAGE('Single data'!V34:Y34) -> 72.485729 | Q33: ± | R33: =_xlfn.STDEV.S('Single data'!V34:Y34)/SQRT(4) -> 55.033692 | S33: =AVERAGE('Single data'!Z34:AC34) -> 189.2951 | T33: ± | U33: =_xlfn.STDEV.S('Single data'!Z34:AC34)/SQRT(4) -> 147.95888 | V33: =AVERAGE('Single data'!AD34:AG34) -> 209.30286 | W33: ± | X33: =_xlfn.STDEV.S('Single data'!AD34:AG34)/SQRT(4) -> 188.34166 | AK33: =AVERAGE('Single data'!AX34:BA34) -> 46.887837 | AL33: ± | AM33: =_xlfn.STDEV.S('Single data'!AX34:BA34)/SQRT(4) -> 10.946666 | AN33: =AVERAGE('Single data'!BB34:BE34) -> 24.732457 | AO33: ± | AP33: =_xlfn.STDEV.S('Single data'!BB34:BE34)/SQRT(4) -> 8.9542067
C34: 7-HDHA | D34: =AVERAGE('Single data'!D35:I35) -> 114.93064 | E34: ± | F34: =_xlfn.STDEV.S('Single data'!D35:I35)/SQRT(6) -> 26.95868 | G34: =AVERAGE('Single data'!J35:M35) -> 142.41366 | H34: ± | I34: =_xlfn.STDEV.S('Single data'!J35:M35)/SQRT(3) -> 105.99506 | J34: =AVERAGE('Single data'!N35:Q35) -> 41.732503 | K34: ± | L34: =_xlfn.STDEV.S(('Single data'!N35:Q35))/SQRT(3) -> 32.843081 | M34: =AVERAGE('Single data'!R35:U35) -> 74.344792 | N34: ± | O34: =_xlfn.STDEV.S('Single data'!R35:U35)/SQRT(4) -> 26.08649 | P34: =AVERAGE('Single data'!V35:Y35) -> 24.963259 | Q34: ± | R34: =_xlfn.STDEV.S('Single data'!V35:Y35)/SQRT(4) -> 18.05058 | S34: =AVERAGE('Single data'!Z35:AC35) -> 88.887082 | T34: ± | U34: =_xlfn.STDEV.S('Single data'!Z35:AC35)/SQRT(4) -> 28.437417 | V34: =AVERAGE('Single data'!AD35:AG35) -> 39.414738 | W34: ± | X34: =_xlfn.STDEV.S('Single data'!AD35:AG35)/SQRT(4) -> 24.858658 | Y34: =AVERAGE('Single data'!AH35:AK35) -> 52.683702 | Z34: ± | AA34: =_xlfn.STDEV.S('Single data'!AH35:AK35)/SQRT(4) -> 19.445392 | AB34: =AVERAGE('Single data'!AL35:AO35) -> 27.468041 | AC34: ± | AD34: =_xlfn.STDEV.S(('Single data'!AL35:AO35))/SQRT(4) -> 23.067987 | AE34: =AVERAGE('Single data'!AP35:AS35) -> 50.443491 | AF34: ± | AG34: =_xlfn.STDEV.S('Single data'!AP35:AS35)/SQRT(4) -> 34.823203 | AH34: =AVERAGE('Single data'!AT35:AW35) -> 19.897289 | AI34: ± | AJ34: =_xlfn.STDEV.S('Single data'!AT35:AW35)/SQRT(4) -> 13.09398 | AK34: =AVERAGE('Single data'!AX35:BA35) -> 61.106774 | AL34: ± | AM34: =_xlfn.STDEV.S('Single data'!AX35:BA35)/SQRT(4) -> 33.926923 | AN34: =AVERAGE('Single data'!BB35:BE35) -> 8.7682504 | AO34: ± | AP34: =_xlfn.STDEV.S('Single data'!BB35:BE35)/SQRT(4) -> 3.1235523
C35: 4-HDHA
C36: 7-HDPA | D36: =AVERAGE('Single data'!D37:I37) -> 64.024498 | E36: ± | F36: =_xlfn.STDEV.S('Single data'!D37:I37)/SQRT(6) -> 16.877072 | G36: =AVERAGE('Single data'!J37:M37) -> 115.42282 | H36: ± | I36: =_xlfn.STDEV.S('Single data'!J37:M37)/SQRT(3) -> 96.349409 | J36: =AVERAGE('Single data'!N37:Q37) -> 30.506522 | K36: ± | L36: =_xlfn.STDEV.S(('Single data'!N37:Q37))/SQRT(3) -> 28.61141 | M36: =AVERAGE('Single data'!R37:U37) -> 55.609655 | N36: ± | O36: =_xlfn.STDEV.S('Single data'!R37:U37)/SQRT(4) -> 17.802081 | P36: =AVERAGE('Single data'!V37:Y37) -> 29.253463 | Q36: ± | R36: =_xlfn.STDEV.S('Single data'!V37:Y37)/SQRT(4) -> 16.760906 | S36: =AVERAGE('Single data'!Z37:AC37) -> 58.88989 | T36: ± | U36: =_xlfn.STDEV.S('Single data'!Z37:AC37)/SQRT(4) -> 17.324692 | V36: =AVERAGE('Single data'!AD37:AG37) -> 27.519444 | W36: ± | X36: =_xlfn.STDEV.S('Single data'!AD37:AG37)/SQRT(4) -> 15.861576 | AK36: =AVERAGE('Single data'!AX37:BA37) -> 36.773167 | AL36: ± | AM36: =_xlfn.STDEV.S('Single data'!AX37:BA37)/SQRT(4) -> 20.095834 | AN36: =AVERAGE('Single data'!BB37:BE37) -> 11.640203 | AO36: ± | AP36: =_xlfn.STDEV.S('Single data'!BB37:BE37)/SQRT(4) -> 5.1457179
C37: 11-HEPE
C38: 11-HETE | D38: =AVERAGE('Single data'!D39:I39) -> 326.06923 | E38: ± | F38: =_xlfn.STDEV.S('Single data'!D39:I39)/SQRT(6) -> 100.63422 | G38: =AVERAGE('Single data'!J39:M39) -> 871.79528 | H38: ± | I38: =_xlfn.STDEV.S('Single data'!J39:M39)/SQRT(3) -> 650.78161 | J38: =AVERAGE('Single data'!N39:Q39) -> 128.7352 | K38: ± | L38: =_xlfn.STDEV.S(('Single data'!N39:Q39))/SQRT(3) -> 82.221408 | M38: =AVERAGE('Single data'!R39:U39) -> 247.74917 | N38: ± | O38: =_xlfn.STDEV.S('Single data'!R39:U39)/SQRT(4) -> 75.157641 | P38: =AVERAGE('Single data'!V39:Y39) -> 92.84148 | Q38: ± | R38: =_xlfn.STDEV.S('Single data'!V39:Y39)/SQRT(4) -> 34.86514 | S38: =AVERAGE('Single data'!Z39:AC39) -> 234.20248 | T38: ± | U38: =_xlfn.STDEV.S('Single data'!Z39:AC39)/SQRT(4) -> 78.464146 | V38: =AVERAGE('Single data'!AD39:AG39) -> 209.11456 | W38: ± | X38: =_xlfn.STDEV.S('Single data'!AD39:AG39)/SQRT(4) -> 175.14374 | Y38: =AVERAGE('Single data'!AH39:AK39) -> 375.74809 | Z38: ± | AA38: =_xlfn.STDEV.S('Single data'!AH39:AK39)/SQRT(4) -> 124.32817 | AB38: =AVERAGE('Single data'!AL39:AO39) -> 163.6109 | AC38: ± | AD38: =_xlfn.STDEV.S(('Single data'!AL39:AO39))/SQRT(4) -> 110.55388 | AE38: =AVERAGE('Single data'!AP39:AS39) -> 312.18015 | AF38: ± | AG38: =_xlfn.STDEV.S('Single data'!AP39:AS39)/SQRT(4) -> 112.09585 | AH38: =AVERAGE('Single data'!AT39:AW39) -> 225.02698 | AI38: ± | AJ38: =_xlfn.STDEV.S('Single data'!AT39:AW39)/SQRT(4) -> 102.75491 | AK38: =AVERAGE('Single data'!AX39:BA39) -> 221.76108 | AL38: ± | AM38: =_xlfn.STDEV.S('Single data'!AX39:BA39)/SQRT(4) -> 47.337463 | AN38: =AVERAGE('Single data'!BB39:BE39) -> 73.440563 | AO38: ± | AP38: =_xlfn.STDEV.S('Single data'!BB39:BE39)/SQRT(4) -> 31.544711
A41: % of control | B41: SPM | C41: RvD5 | D41: =AVERAGE('Single data'!D42:I42) -> 100 | E41: ± | F41: =_xlfn.STDEV.S('Single data'!D42:I42)/SQRT(6) -> 0 | G41: =AVERAGE('Single data'!J42:M42) -> 38.502057 | H41: ± | I41: =_xlfn.STDEV.S('Single data'!J42:M42)/SQRT(3) -> 11.228619 | J41: =AVERAGE('Single data'!N42:Q42) -> 20.580581 | K41: ± | L41: =_xlfn.STDEV.S(('Single data'!N42:Q42))/SQRT(3) -> 0.16252733 | M41: =AVERAGE('Single data'!R42:U42) -> 69.199517 | N41: ± | O41: =_xlfn.STDEV.S('Single data'!R42:U42)/SQRT(4) -> 25.576449 | P41: =AVERAGE('Single data'!V42:Y42) -> 32.780511 | Q41: ± | R41: =_xlfn.STDEV.S('Single data'!V42:Y42)/SQRT(4) -> 14.844491 | S41: =AVERAGE('Single data'!Z42:AC42) -> 61.146242 | T41: ± | U41: =_xlfn.STDEV.S('Single data'!Z42:AC42)/SQRT(4) -> 23.075204 | V41: =AVERAGE('Single data'!AD42:AG42) -> 51.928364 | W41: ± | X41: =_xlfn.STDEV.S('Single data'!AD42:AG42)/SQRT(4) -> 36.504094 | Y41: =AVERAGE('Single data'!AH42:AK42) -> 68.851953 | Z41: ± | AA41: =_xlfn.STDEV.S('Single data'!AH42:AK42)/SQRT(4) -> 44.125269 | AB41: =AVERAGE('Single data'!AL42:AO42) -> 39.50256 | AC41: ± | AD41: =_xlfn.STDEV.S(('Single data'!AL42:AO42))/SQRT(4) -> 31.942464 | AE41: =AVERAGE('Single data'!AP42:AS42) -> 54.660576 | AF41: ± | AG41: =_xlfn.STDEV.S('Single data'!AP42:AS42)/SQRT(4) -> 19.747725 | AH41: =AVERAGE('Single data'!AT42:AW42) -> 32.891371 | AI41: ± | AJ41: =_xlfn.STDEV.S('Single data'!AT42:AW42)/SQRT(4) -> 22.229494 | AK41: =AVERAGE('Single data'!AX42:BA42) -> 56.903344 | AL41: ± | AM41: =_xlfn.STDEV.S('Single data'!AX42:BA42)/SQRT(4) -> 44.480464 | AN41: =AVERAGE('Single data'!BB42:BE42) -> 25.632599 | AO41: ± | AP41: =_xlfn.STDEV.S('Single data'!BB42:BE42)/SQRT(4) -> 8.6448729
B42: SPM precursor | C42: 17-HDHA | D42: =AVERAGE('Single data'!D43:I43) -> 100 | E42: ± | F42: =_xlfn.STDEV.S('Single data'!D43:I43)/SQRT(6) -> 0 | G42: =AVERAGE('Single data'!J43:M43) -> 212.97775 | H42: ± | I42: =_xlfn.STDEV.S('Single data'!J43:M43)/SQRT(3) -> 116.05166 | J42: =AVERAGE('Single data'!N43:Q43) -> 123.76099 | K42: ± | L42: =_xlfn.STDEV.S(('Single data'!N43:Q43))/SQRT(3) -> 57.714386 | M42: =AVERAGE('Single data'!R43:U43) -> 69.383382 | N42: ± | O42: =_xlfn.STDEV.S('Single data'!R43:U43)/SQRT(4) -> 14.53681 | P42: =AVERAGE('Single data'!V43:Y43) -> 54.20516 | Q42: ± | R42: =_xlfn.STDEV.S('Single data'!V43:Y43)/SQRT(4) -> 14.608464 | S42: =AVERAGE('Single data'!Z43:AC43) -> 77.450282 | T42: ± | U42: =_xlfn.STDEV.S('Single data'!Z43:AC43)/SQRT(4) -> 18.869027 | V42: =AVERAGE('Single data'!AD43:AG43) -> 73.94058 | W42: ± | X42: =_xlfn.STDEV.S('Single data'!AD43:AG43)/SQRT(4) -> 29.102336 | Y42: =AVERAGE('Single data'!AH43:AK43) -> 83.430354 | Z42: ± | AA42: =_xlfn.STDEV.S('Single data'!AH43:AK43)/SQRT(4) -> 16.799048 | AB42: =AVERAGE('Single data'!AL43:AO43) -> 55.727723 | AC42: ± | AD42: =_xlfn.STDEV.S(('Single data'!AL43:AO43))/SQRT(4) -> 23.925076 | AE42: =AVERAGE('Single data'!AP43:AS43) -> 96.349918 | AF42: ± | AG42: =_xlfn.STDEV.S('Single data'!AP43:AS43)/SQRT(4) -> 22.218722 | AH42: =AVERAGE('Single data'!AT43:AW43) -> 92.302172 | AI42: ± | AJ42: =_xlfn.STDEV.S('Single data'!AT43:AW43)/SQRT(4) -> 7.294312 | AK42: =AVERAGE('Single data'!AX43:BA43) -> 44.915526 | AL42: ± | AM42: =_xlfn.STDEV.S('Single data'!AX43:BA43)/SQRT(4) -> 20.949703 | AN42: =AVERAGE('Single data'!BB43:BE43) -> 93.665265 | AO42: ± | AP42: =_xlfn.STDEV.S('Single data'!BB43:BE43)/SQRT(4) -> 46.757726
C43: 17-HDPA | D43: =AVERAGE('Single data'!D44:I44) -> 100 | E43: ± | F43: =_xlfn.STDEV.S('Single data'!D44:I44)/SQRT(6) -> 0 | G43: =AVERAGE('Single data'!J44:M44) -> 187.31798 | H43: ± | I43: =_xlfn.STDEV.S('Single data'!J44:M44)/SQRT(3) -> 116.72435 | J43: =AVERAGE('Single data'!N44:Q44) -> 113.30364 | K43: ± | L43: =_xlfn.STDEV.S(('Single data'!N44:Q44))/SQRT(3) -> 40.406182 | M43: =AVERAGE('Single data'!R44:U44) -> 63.783735 | N43: ± | O43: =_xlfn.STDEV.S('Single data'!R44:U44)/SQRT(4) -> 13.055804 | P43: =AVERAGE('Single data'!V44:Y44) -> 68.673844 | Q43: ± | R43: =_xlfn.STDEV.S('Single data'!V44:Y44)/SQRT(4) -> 25.627833 | S43: =AVERAGE('Single data'!Z44:AC44) -> 71.907401 | T43: ± | U43: =_xlfn.STDEV.S('Single data'!Z44:AC44)/SQRT(4) -> 17.269314 | V43: =AVERAGE('Single data'!AD44:AG44) -> 69.3923 | W43: ± | X43: =_xlfn.STDEV.S('Single data'!AD44:AG44)/SQRT(4) -> 21.976338 | AK43: =AVERAGE('Single data'!AX44:BA44) -> 51.392795 | AL43: ± | AM43: =_xlfn.STDEV.S('Single data'!AX44:BA44)/SQRT(4) -> 23.708638 | AN43: =AVERAGE('Single data'!BB44:BE44) -> 100.02574 | AO43: ± | AP43: =_xlfn.STDEV.S('Single data'!BB44:BE44)/SQRT(4) -> 41.062406
C44: 15-HETE | D44: =AVERAGE('Single data'!D45:I45) -> 100 | E44: ± | F44: =_xlfn.STDEV.S('Single data'!D45:I45)/SQRT(6) -> 0 | G44: =AVERAGE('Single data'!J45:M45) -> 198.06683 | H44: ± | I44: =_xlfn.STDEV.S('Single data'!J45:M45)/SQRT(3) -> 114.42838 | J44: =AVERAGE('Single data'!N45:Q45) -> 43.253297 | K44: ± | L44: =_xlfn.STDEV.S(('Single data'!N45:Q45))/SQRT(3) -> 12.160144 | M44: =AVERAGE('Single data'!R45:U45) -> 71.515564 | N44: ± | O44: =_xlfn.STDEV.S('Single data'!R45:U45)/SQRT(4) -> 8.2440571 | P44: =AVERAGE('Single data'!V45:Y45) -> 28.695761 | Q44: ± | R44: =_xlfn.STDEV.S('Single data'!V45:Y45)/SQRT(4) -> 6.7393531 | S44: =AVERAGE('Single data'!Z45:AC45) -> 78.483775 | T44: ± | U44: =_xlfn.STDEV.S('Single data'!Z45:AC45)/SQRT(4) -> 4.3958449 | V44: =AVERAGE('Single data'!AD45:AG45) -> 65.853033 | W44: ± | X44: =_xlfn.STDEV.S('Single data'!AD45:AG45)/SQRT(4) -> 39.6989 | Y44: =AVERAGE('Single data'!AH45:AK45) -> 93.583141 | Z44: ± | AA44: =_xlfn.STDEV.S('Single data'!AH45:AK45)/SQRT(4) -> 5.7423255 | AB44: =AVERAGE('Single data'!AL45:AO45) -> 36.400086 | AC44: ± | AD44: =_xlfn.STDEV.S(('Single data'!AL45:AO45))/SQRT(4) -> 23.009795 | AE44: =AVERAGE('Single data'!AP45:AS45) -> 91.926739 | AF44: ± | AG44: =_xlfn.STDEV.S('Single data'!AP45:AS45)/SQRT(4) -> 7.7153775 | AH44: =AVERAGE('Single data'!AT45:AW45) -> 86.732063 | AI44: ± | AJ44: =_xlfn.STDEV.S('Single data'!AT45:AW45)/SQRT(4) -> 6.163024 | AK44: =AVERAGE('Single data'!AX45:BA45) -> 81.030274 | AL44: ± | AM44: =_xlfn.STDEV.S('Single data'!AX45:BA45)/SQRT(4) -> 1.3734733 | AN44: =AVERAGE('Single data'!BB45:BE45) -> 48.591166 | AO44: ± | AP44: =_xlfn.STDEV.S('Single data'!BB45:BE45)/SQRT(4) -> 19.433409
C45: 14-HDHA | D45: =AVERAGE('Single data'!D46:I46) -> 100 | E45: ± | F45: =_xlfn.STDEV.S('Single data'!D46:I46)/SQRT(6) -> 0 | G45: =AVERAGE('Single data'!J46:M46) -> 113.86662 | H45: ± | I45: =_xlfn.STDEV.S('Single data'!J46:M46)/SQRT(3) -> 51.185992 | J45: =AVERAGE('Single data'!N46:Q46) -> 31.262952 | K45: ± | L45: =_xlfn.STDEV.S(('Single data'!N46:Q46))/SQRT(3) -> 16.868049 | M45: =AVERAGE('Single data'!R46:U46) -> 64.809925 | N45: ± | O45: =_xlfn.STDEV.S('Single data'!R46:U46)/SQRT(4) -> 9.1155881 | P45: =AVERAGE('Single data'!V46:Y46) -> 29.498689 | Q45: ± | R45: =_xlfn.STDEV.S('Single data'!V46:Y46)/SQRT(4) -> 7.5391505 | S45: =AVERAGE('Single data'!Z46:AC46) -> 79.529683 | T45: ± | U45: =_xlfn.STDEV.S('Single data'!Z46:AC46)/SQRT(4) -> 7.2823746 | V45: =AVERAGE('Single data'!AD46:AG46) -> 56.857073 | W45: ± | X45: =_xlfn.STDEV.S('Single data'!AD46:AG46)/SQRT(4) -> 21.831302 | Y45: =AVERAGE('Single data'!AH46:AK46) -> 79.949702 | Z45: ± | AA45: =_xlfn.STDEV.S('Single data'!AH46:AK46)/SQRT(4) -> 10.841962 | AB45: =AVERAGE('Single data'!AL46:AO46) -> 27.67513 | AC45: ± | AD45: =_xlfn.STDEV.S(('Single data'!AL46:AO46))/SQRT(4) -> 15.373993 | AE45: =AVERAGE('Single data'!AP46:AS46) -> 87.16328 | AF45: ± | AG45: =_xlfn.STDEV.S('Single data'!AP46:AS46)/SQRT(4) -> 11.278213 | AH45: =AVERAGE('Single data'!AT46:AW46) -> 80.614841 | AI45: ± | AJ45: =_xlfn.STDEV.S('Single data'!AT46:AW46)/SQRT(4) -> 14.705243 | AK45: =AVERAGE('Single data'!AX46:BA46) -> 101.50153 | AL45: ± | AM45: =_xlfn.STDEV.S('Single data'!AX46:BA46)/SQRT(4) -> 22.308775 | AN45: =AVERAGE('Single data'!BB46:BE46) -> 50.276077 | AO45: ± | AP45: =_xlfn.STDEV.S('Single data'!BB46:BE46)/SQRT(4) -> 15.572609
C46: 18-HEPE | D46: =AVERAGE('Single data'!D47:I47) -> 100 | E46: ± | F46: =_xlfn.STDEV.S('Single data'!D47:I47)/SQRT(6) -> 0 | G46: =AVERAGE('Single data'!J47:M47) -> 159.36835 | H46: ± | I46: =_xlfn.STDEV.S('Single data'!J47:M47)/SQRT(3) -> 112.53875 | J46: =AVERAGE('Single data'!N47:Q47) -> 58.617038 | K46: ± | L46: =_xlfn.STDEV.S(('Single data'!N47:Q47))/SQRT(3) -> 26.037427 | M46: =AVERAGE('Single data'!R47:U47) -> 140.85663 | N46: ± | O46: =_xlfn.STDEV.S('Single data'!R47:U47)/SQRT(4) -> 77.607905 | P46: =AVERAGE('Single data'!V47:Y47) -> 52.186572 | Q46: ± | R46: =_xlfn.STDEV.S('Single data'!V47:Y47)/SQRT(4) -> 22.668073 | S46: =AVERAGE('Single data'!Z47:AC47) -> 78.174469 | T46: ± | U46: =_xlfn.STDEV.S('Single data'!Z47:AC47)/SQRT(4) -> 21.059376 | V46: =AVERAGE('Single data'!AD47:AG47) -> 113.29276 | W46: ± | X46: =_xlfn.STDEV.S('Single data'!AD47:AG47)/SQRT(4) -> 55.594975 | AK46: =AVERAGE('Single data'!AX47:BA47) -> 54.370895 | AL46: ± | AM46: =_xlfn.STDEV.S('Single data'!AX47:BA47)/SQRT(4) -> 17.703183 | AN46: =AVERAGE('Single data'!BB47:BE47) -> 39.906799 | AO46: ± | AP46: =_xlfn.STDEV.S('Single data'!BB47:BE47)/SQRT(4) -> 14.164371
B47: ALOX 12/15 | C47: 15-HEPE | D47: =AVERAGE('Single data'!D48:I48) -> 100 | E47: ± | F47: =_xlfn.STDEV.S('Single data'!D48:I48)/SQRT(6) -> 0 | G47: =AVERAGE('Single data'!J48:M48) -> 168.78313 | H47: ± | I47: =_xlfn.STDEV.S('Single data'!J48:M48)/SQRT(3) -> 65.111716 | J47: =AVERAGE('Single data'!N48:Q48) -> 63.218647 | K47: ± | L47: =_xlfn.STDEV.S(('Single data'!N48:Q48))/SQRT(3) -> 19.812026 | M47: =AVERAGE('Single data'!R48:U48) -> 70.810196 | N47: ± | O47: =_xlfn.STDEV.S('Single data'!R48:U48)/SQRT(4) -> 15.401312 | P47: =AVERAGE('Single data'!V48:Y48) -> 29.62643 | Q47: ± | R47: =_xlfn.STDEV.S('Single data'!V48:Y48)/SQRT(4) -> 13.378365 | S47: =AVERAGE('Single data'!Z48:AC48) -> 69.430285 | T47: ± | U47: =_xlfn.STDEV.S('Single data'!Z48:AC48)/SQRT(4) -> 9.9635832 | V47: =AVERAGE('Single data'!AD48:AG48) -> 69.241596 | W47: ± | X47: =_xlfn.STDEV.S('Single data'!AD48:AG48)/SQRT(4) -> 39.478404 | Y47: =AVERAGE('Single data'!AH48:AK48) -> 73.985519 | Z47: ± | AA47: =_xlfn.STDEV.S('Single data'!AH48:AK48)/SQRT(4) -> 14.570937 | AB47: =AVERAGE('Single data'!AL48:AO48) -> 38.510784 | AC47: ± | AD47: =_xlfn.STDEV.S(('Single data'!AL48:AO48))/SQRT(4) -> 23.871819 | AE47: =AVERAGE('Single data'!AP48:AS48) -> 238.84866 | AF47: ± | AG47: =_xlfn.STDEV.S('Single data'!AP48:AS48)/SQRT(4) -> 158.34926 | AH47: =AVERAGE('Single data'!AT48:AW48) -> 83.324957 | AI47: ± | AJ47: =_xlfn.STDEV.S('Single data'!AT48:AW48)/SQRT(4) -> 9.4305484 | AK47: =AVERAGE('Single data'!AX48:BA48) -> 64.429659 | AL47: ± | AM47: =_xlfn.STDEV.S('Single data'!AX48:BA48)/SQRT(4) -> 21.273613 | AN47: =AVERAGE('Single data'!BB48:BE48) -> 67.273574 | AO47: ± | AP47: =_xlfn.STDEV.S('Single data'!BB48:BE48)/SQRT(4) -> 26.340977
C48: 14-HDPA | D48: =AVERAGE('Single data'!D49:I49) -> 100 | E48: ± | F48: =_xlfn.STDEV.S('Single data'!D49:I49)/SQRT(6) -> 0 | G48: =AVERAGE('Single data'!J49:M49) -> 122.48209 | H48: ± | I48: =_xlfn.STDEV.S('Single data'!J49:M49)/SQRT(3) -> 66.315744 | J48: =AVERAGE('Single data'!N49:Q49) -> 32.867414 | K48: ± | L48: =_xlfn.STDEV.S(('Single data'!N49:Q49))/SQRT(3) -> 21.152494 | M48: =AVERAGE('Single data'!R49:U49) -> 65.85684 | N48: ± | O48: =_xlfn.STDEV.S('Single data'!R49:U49)/SQRT(4) -> 6.6186995 | P48: =AVERAGE('Single data'!V49:Y49) -> 28.94108 | Q48: ± | R48: =_xlfn.STDEV.S('Single data'!V49:Y49)/SQRT(4) -> 10.149307 | S48: =AVERAGE('Single data'!Z49:AC49) -> 86.005947 | T48: ± | U48: =_xlfn.STDEV.S('Single data'!Z49:AC49)/SQRT(4) -> 6.7099461 | V48: =AVERAGE('Single data'!AD49:AG49) -> 50.158705 | W48: ± | X48: =_xlfn.STDEV.S('Single data'!AD49:AG49)/SQRT(4) -> 17.437567 | Y48: =AVERAGE('Single data'!AH49:AK49) -> 73.605285 | Z48: ± | AA48: =_xlfn.STDEV.S('Single data'!AH49:AK49)/SQRT(4) -> 5.1683132 | AB48: =AVERAGE('Single data'!AL49:AO49) -> 20.98935 | AC48: ± | AD48: =_xlfn.STDEV.S(('Single data'!AL49:AO49))/SQRT(4) -> 15.913493 | AE48: =AVERAGE('Single data'!AP49:AS49) -> 61.361884 | AF48: ± | AG48: =_xlfn.STDEV.S('Single data'!AP49:AS49)/SQRT(4) -> 23.349129 | AH48: =AVERAGE('Single data'!AT49:AW49) -> 78.461607 | AI48: ± | AJ48: =_xlfn.STDEV.S('Single data'!AT49:AW49)/SQRT(4) -> 13.373197 | AK48: =AVERAGE('Single data'!AX49:BA49) -> 132.00913 | AL48: ± | AM48: =_xlfn.STDEV.S('Single data'!AX49:BA49)/SQRT(4) -> 57.296061 | AN48: =AVERAGE('Single data'!BB49:BE49) -> 48.554303 | AO48: ± | AP48: =_xlfn.STDEV.S('Single data'!BB49:BE49)/SQRT(4) -> 17.816582
C49: 12-HEPE | D49: =AVERAGE('Single data'!D50:I50) -> 100 | E49: ± | F49: =_xlfn.STDEV.S('Single data'!D50:I50)/SQRT(6) -> 0 | G49: =AVERAGE('Single data'!J50:M50) -> 79.188288 | H49: ± | I49: =_xlfn.STDEV.S('Single data'!J50:M50)/SQRT(3) -> 13.745432 | J49: =AVERAGE('Single data'!N50:Q50) -> 14.168586 | K49: ± | L49: =_xlfn.STDEV.S(('Single data'!N50:Q50))/SQRT(3) -> 2.7424127 | M49: =AVERAGE('Single data'!R50:U50) -> 65.451987 | N49: ± | O49: =_xlfn.STDEV.S('Single data'!R50:U50)/SQRT(4) -> 18.323861 | P49: =AVERAGE('Single data'!V50:Y50) -> 27.586253 | Q49: ± | R49: =_xlfn.STDEV.S('Single data'!V50:Y50)/SQRT(4) -> 7.7884526 | S49: =AVERAGE('Single data'!Z50:AC50) -> 76.265466 | T49: ± | U49: =_xlfn.STDEV.S('Single data'!Z50:AC50)/SQRT(4) -> 19.720244 | V49: =AVERAGE('Single data'!AD50:AG50) -> 38.813289 | W49: ± | X49: =_xlfn.STDEV.S('Single data'!AD50:AG50)/SQRT(4) -> 12.979877 | Y49: =AVERAGE('Single data'!AH50:AK50) -> 76.430209 | Z49: ± | AA49: =_xlfn.STDEV.S('Single data'!AH50:AK50)/SQRT(4) -> 20.93262 | AB49: =AVERAGE('Single data'!AL50:AO50) -> 14.844464 | AC49: ± | AD49: =_xlfn.STDEV.S(('Single data'!AL50:AO50))/SQRT(4) -> 5.3786028 | AE49: =AVERAGE('Single data'!AP50:AS50) -> 129.54654 | AF49: ± | AG49: =_xlfn.STDEV.S('Single data'!AP50:AS50)/SQRT(4) -> 33.28816 | AH49: =AVERAGE('Single data'!AT50:AW50) -> 92.360912 | AI49: ± | AJ49: =_xlfn.STDEV.S('Single data'!AT50:AW50)/SQRT(4) -> 30.802549 | AK49: =AVERAGE('Single data'!AX50:BA50) -> 183.09019 | AL49: ± | AM49: =_xlfn.STDEV.S('Single data'!AX50:BA50)/SQRT(4) -> 95.483061 | AN49: =AVERAGE('Single data'!BB50:BE50) -> 56.180896 | AO49: ± | AP49: =_xlfn.STDEV.S('Single data'!BB50:BE50)/SQRT(4) -> 19.316983
C50: 12-HETE | D50: =AVERAGE('Single data'!D51:I51) -> 100 | E50: ± | F50: =_xlfn.STDEV.S('Single data'!D51:I51)/SQRT(6) -> 0 | G50: =AVERAGE('Single data'!J51:M51) -> 62.78869 | H50: ± | I50: =_xlfn.STDEV.S('Single data'!J51:M51)/SQRT(3) -> 24.436436 | J50: =AVERAGE('Single data'!N51:Q51) -> 12.670817 | K50: ± | L50: =_xlfn.STDEV.S(('Single data'!N51:Q51))/SQRT(3) -> 5.0796352 | M50: =AVERAGE('Single data'!R51:U51) -> 62.920376 | N50: ± | O50: =_xlfn.STDEV.S('Single data'!R51:U51)/SQRT(4) -> 21.064304 | P50: =AVERAGE('Single data'!V51:Y51) -> 28.384963 | Q50: ± | R50: =_xlfn.STDEV.S('Single data'!V51:Y51)/SQRT(4) -> 11.743788 | S50: =AVERAGE('Single data'!Z51:AC51) -> 76.208028 | T50: ± | U50: =_xlfn.STDEV.S('Single data'!Z51:AC51)/SQRT(4) -> 24.406711 | V50: =AVERAGE('Single data'!AD51:AG51) -> 34.089441 | W50: ± | X50: =_xlfn.STDEV.S('Single data'!AD51:AG51)/SQRT(4) -> 18.203905 | Y50: =AVERAGE('Single data'!AH51:AK51) -> 79.196386 | Z50: ± | AA50: =_xlfn.STDEV.S('Single data'!AH51:AK51)/SQRT(4) -> 25.261123 | AB50: =AVERAGE('Single data'!AL51:AO51) -> 13.507465 | AC50: ± | AD50: =_xlfn.STDEV.S(('Single data'!AL51:AO51))/SQRT(4) -> 7.0413084 | AE50: =AVERAGE('Single data'!AP51:AS51) -> 53.339965 | AF50: ± | AG50: =_xlfn.STDEV.S('Single data'!AP51:AS51)/SQRT(4) -> 22.915492 | AH50: =AVERAGE('Single data'!AT51:AW51) -> 83.013446 | AI50: ± | AJ50: =_xlfn.STDEV.S('Single data'!AT51:AW51)/SQRT(4) -> 30.800514 | AK50: =AVERAGE('Single data'!AX51:BA51) -> 171.16333 | AL50: ± | AM50: =_xlfn.STDEV.S('Single data'!AX51:BA51)/SQRT(4) -> 81.128827 | AN50: =AVERAGE('Single data'!BB51:BE51) -> 54.071669 | AO50: ± | AP50: =_xlfn.STDEV.S('Single data'!BB51:BE51)/SQRT(4) -> 19.146351
B51: ALOX5 | C51: LTB4 isomers | D51: =AVERAGE('Single data'!D52:I52) -> 100 | E51: ± | F51: =_xlfn.STDEV.S('Single data'!D52:I52)/SQRT(6) -> 0 | G51: =AVERAGE('Single data'!J52:M52) -> 13.905359 | H51: ± | I51: =_xlfn.STDEV.S('Single data'!J52:M52)/SQRT(3) -> 5.9180365 | J51: =AVERAGE('Single data'!N52:Q52) -> 0.18465595 | K51: ± | L51: =_xlfn.STDEV.S(('Single data'!N52:Q52))/SQRT(3) -> 0.043921559 | M51: =AVERAGE('Single data'!R52:U52) -> 59.736636 | N51: ± | O51: =_xlfn.STDEV.S('Single data'!R52:U52)/SQRT(4) -> 14.985529 | P51: =AVERAGE('Single data'!V52:Y52) -> 0.51381211 | Q51: ± | R51: =_xlfn.STDEV.S('Single data'!V52:Y52)/SQRT(4) -> 0.26566419 | S51: =AVERAGE('Single data'!Z52:AC52) -> 59.679686 | T51: ± | U51: =_xlfn.STDEV.S('Single data'!Z52:AC52)/SQRT(4) -> 17.377872 | V51: =AVERAGE('Single data'!AD52:AG52) -> 2.0050937 | W51: ± | X51: =_xlfn.STDEV.S('Single data'!AD52:AG52)/SQRT(4) -> 1.8774578 | Y51: =AVERAGE('Single data'!AH52:AK52) -> 38.671317 | Z51: ± | AA51: =_xlfn.STDEV.S('Single data'!AH52:AK52)/SQRT(4) -> 6.7578629 | AB51: =AVERAGE('Single data'!AL52:AO52) -> 0.10086735 | AC51: ± | AD51: =_xlfn.STDEV.S(('Single data'!AL52:AO52))/SQRT(4) -> 0.027165661 | AE51: =AVERAGE('Single data'!AP52:AS52) -> 50.374951 | AF51: ± | AG51: =_xlfn.STDEV.S('Single data'!AP52:AS52)/SQRT(4) -> 8.2047748 | AH51: =AVERAGE('Single data'!AT52:AW52) -> 4.1695926 | AI51: ± | AJ51: =_xlfn.STDEV.S('Single data'!AT52:AW52)/SQRT(4) -> 3.6347624 | AK51: =AVERAGE('Single data'!AX52:BA52) -> 20.256708 | AL51: ± | AM51: =_xlfn.STDEV.S('Single data'!AX52:BA52)/SQRT(4) -> 6.5387212 | AN51: =AVERAGE('Single data'!BB52:BE52) -> 2.935692 | AO51: ± | AP51: =_xlfn.STDEV.S('Single data'!BB52:BE52)/SQRT(4) -> 2.2356977
C52: LTB4 | D52: =AVERAGE('Single data'!D53:I53) -> 100 | E52: ± | F52: =_xlfn.STDEV.S('Single data'!D53:I53)/SQRT(6) -> 0 | G52: =AVERAGE('Single data'!J53:M53) -> 22.935383 | H52: ± | I52: =_xlfn.STDEV.S('Single data'!J53:M53)/SQRT(3) -> 7.4400932 | J52: =AVERAGE('Single data'!N53:Q53) -> 0.2193444 | K52: ± | L52: =_xlfn.STDEV.S(('Single data'!N53:Q53))/SQRT(3) -> 0.082548537 | M52: =AVERAGE('Single data'!R53:U53) -> 70.619368 | N52: ± | O52: =_xlfn.STDEV.S('Single data'!R53:U53)/SQRT(4) -> 14.320041 | P52: =AVERAGE('Single data'!V53:Y53) -> 1.0400673 | Q52: ± | R52: =_xlfn.STDEV.S('Single data'!V53:Y53)/SQRT(4) -> 0.61839424 | S52: =AVERAGE('Single data'!Z53:AC53) -> 68.141681 | T52: ± | U52: =_xlfn.STDEV.S('Single data'!Z53:AC53)/SQRT(4) -> 14.490609 | V52: =AVERAGE('Single data'!AD53:AG53) -> 2.9882503 | W52: ± | X52: =_xlfn.STDEV.S('Single data'!AD53:AG53)/SQRT(4) -> 2.8625045 | Y52: =AVERAGE('Single data'!AH53:AK53) -> 48.737709 | Z52: ± | AA52: =_xlfn.STDEV.S('Single data'!AH53:AK53)/SQRT(4) -> 9.4350391 | AB52: =AVERAGE('Single data'!AL53:AO53) -> 0.070232145 | AC52: ± | AD52: =_xlfn.STDEV.S(('Single data'!AL53:AO53))/SQRT(4) -> 0.023839439 | AE52: =AVERAGE('Single data'!AP53:AS53) -> 55.183199 | AF52: ± | AG52: =_xlfn.STDEV.S('Single data'!AP53:AS53)/SQRT(4) -> 7.4558278 | AH52: =AVERAGE('Single data'!AT53:AW53) -> 5.1754321 | AI52: ± | AJ52: =_xlfn.STDEV.S('Single data'!AT53:AW53)/SQRT(4) -> 4.558369 | AK52: =AVERAGE('Single data'!AX53:BA53) -> 27.105251 | AL52: ± | AM52: =_xlfn.STDEV.S('Single data'!AX53:BA53)/SQRT(4) -> 6.3214261 | AN52: =AVERAGE('Single data'!BB53:BE53) -> 3.9048259 | AO52: ± | AP52: =_xlfn.STDEV.S('Single data'!BB53:BE53)/SQRT(4) -> 2.9487151
C53: 20-OH-LTB4 | D53: =AVERAGE('Single data'!D54:I54) -> 100 | E53: ± | F53: =_xlfn.STDEV.S('Single data'!D54:I54)/SQRT(6) -> 0 | G53: =AVERAGE('Single data'!J54:M54) -> 45.677072 | H53: ± | I53: =_xlfn.STDEV.S('Single data'!J54:M54)/SQRT(3) -> 2.4537358 | J53: =AVERAGE('Single data'!N54:Q54) -> 0.81440663 | K53: ± | L53: =_xlfn.STDEV.S(('Single data'!N54:Q54))/SQRT(3) -> 0.28093312 | M53: =AVERAGE('Single data'!R54:U54) -> 75.90605 | N53: ± | O53: =_xlfn.STDEV.S('Single data'!R54:U54)/SQRT(4) -> 9.9757486 | P53: =AVERAGE('Single data'!V54:Y54) -> 3.3556269 | Q53: ± | R53: =_xlfn.STDEV.S('Single data'!V54:Y54)/SQRT(4) -> 1.8124782 | S53: =AVERAGE('Single data'!Z54:AC54) -> 73.64668 | T53: ± | U53: =_xlfn.STDEV.S('Single data'!Z54:AC54)/SQRT(4) -> 10.289566 | V53: =AVERAGE('Single data'!AD54:AG54) -> 5.4470855 | W53: ± | X53: =_xlfn.STDEV.S('Single data'!AD54:AG54)/SQRT(4) -> 5.1940108 | Y53: =AVERAGE('Single data'!AH54:AK54) -> 63.687064 | Z53: ± | AA53: =_xlfn.STDEV.S('Single data'!AH54:AK54)/SQRT(4) -> 5.5468101 | AB53: =AVERAGE('Single data'!AL54:AO54) -> 0.37577306 | AC53: ± | AD53: =_xlfn.STDEV.S(('Single data'!AL54:AO54))/SQRT(4) -> 0.077837337 | AE53: =AVERAGE('Single data'!AP54:AS54) -> 67.71525 | AF53: ± | AG53: =_xlfn.STDEV.S('Single data'!AP54:AS54)/SQRT(4) -> 1.9659053 | AH53: =AVERAGE('Single data'!AT54:AW54) -> 8.5288579 | AI53: ± | AJ53: =_xlfn.STDEV.S('Single data'!AT54:AW54)/SQRT(4) -> 6.5321214 | AK53: =AVERAGE('Single data'!AX54:BA54) -> 44.113561 | AL53: ± | AM53: =_xlfn.STDEV.S('Single data'!AX54:BA54)/SQRT(4) -> 6.4387786 | AN53: =AVERAGE('Single data'!BB54:BE54) -> 6.2176882 | AO53: ± | AP53: =_xlfn.STDEV.S('Single data'!BB54:BE54)/SQRT(4) -> 3.9424921
C54: 5-HEPE | D54: =AVERAGE('Single data'!D55:I55) -> #DIV/0! | E54: ± | F54: =_xlfn.STDEV.S('Single data'!D55:I55)/SQRT(6) -> #DIV/0!
C55: 5-HETE | D55: =AVERAGE('Single data'!D56:I56) -> 100 | E55: ± | F55: =_xlfn.STDEV.S('Single data'!D56:I56)/SQRT(6) -> 0 | G55: =AVERAGE('Single data'!J56:M56) -> 12.163112 | H55: ± | I55: =_xlfn.STDEV.S('Single data'!J56:M56)/SQRT(3) -> 6.9020972 | J55: =AVERAGE('Single data'!N56:Q56) -> 0.25257178 | K55: ± | L55: =_xlfn.STDEV.S(('Single data'!N56:Q56))/SQRT(3) -> 0.105549 | M55: =AVERAGE('Single data'!R56:U56) -> 40.030415 | N55: ± | O55: =_xlfn.STDEV.S('Single data'!R56:U56)/SQRT(4) -> 18.152484 | P55: =AVERAGE('Single data'!V56:Y56) -> 0.78598548 | Q55: ± | R55: =_xlfn.STDEV.S('Single data'!V56:Y56)/SQRT(4) -> 0.29874834 | S55: =AVERAGE('Single data'!Z56:AC56) -> 43.811852 | T55: ± | U55: =_xlfn.STDEV.S('Single data'!Z56:AC56)/SQRT(4) -> 20.045909 | V55: =AVERAGE('Single data'!AD56:AG56) -> 2.4970872 | W55: ± | X55: =_xlfn.STDEV.S('Single data'!AD56:AG56)/SQRT(4) -> 1.8693448 | Y55: =AVERAGE('Single data'!AH56:AK56) -> 26.202944 | Z55: ± | AA55: =_xlfn.STDEV.S('Single data'!AH56:AK56)/SQRT(4) -> 11.080096 | AB55: =AVERAGE('Single data'!AL56:AO56) -> 0.22895901 | AC55: ± | AD55: =_xlfn.STDEV.S(('Single data'!AL56:AO56))/SQRT(4) -> 0.099607414 | AE55: =AVERAGE('Single data'!AP56:AS56) -> 36.7113 | AF55: ± | AG55: =_xlfn.STDEV.S('Single data'!AP56:AS56)/SQRT(4) -> 12.684601 | AH55: =AVERAGE('Single data'!AT56:AW56) -> 0.61445419 | AI55: ± | AJ55: =_xlfn.STDEV.S('Single data'!AT56:AW56)/SQRT(4) -> 0.20441857 | AK55: =AVERAGE('Single data'!AX56:BA56) -> 98.747535 | AL55: ± | AM55: =_xlfn.STDEV.S('Single data'!AX56:BA56)/SQRT(4) -> 86.572892 | AN55: =AVERAGE('Single data'!BB56:BE56) -> 0.65134034 | AO55: ± | AP55: =_xlfn.STDEV.S('Single data'!BB56:BE56)/SQRT(4) -> 0.36822304
B56: PUFA | C56: AA | D56: =AVERAGE('Single data'!D57:I57) -> 100 | E56: ± | F56: =_xlfn.STDEV.S('Single data'!D57:I57)/SQRT(6) -> 0 | G56: =AVERAGE('Single data'!J57:M57) -> 314.85145 | H56: ± | I56: =_xlfn.STDEV.S('Single data'!J57:M57)/SQRT(3) -> 239.15935 | J56: =AVERAGE('Single data'!N57:Q57) -> 75.727186 | K56: ± | L56: =_xlfn.STDEV.S(('Single data'!N57:Q57))/SQRT(3) -> 29.393167 | M56: =AVERAGE('Single data'!R57:U57) -> 73.256059 | N56: ± | O56: =_xlfn.STDEV.S('Single data'!R57:U57)/SQRT(4) -> 7.8493347 | P56: =AVERAGE('Single data'!V57:Y57) -> 38.912523 | Q56: ± | R56: =_xlfn.STDEV.S('Single data'!V57:Y57)/SQRT(4) -> 17.182437 | S56: =AVERAGE('Single data'!Z57:AC57) -> 62.945416 | T56: ± | U56: =_xlfn.STDEV.S('Single data'!Z57:AC57)/SQRT(4) -> 6.1334377 | V56: =AVERAGE('Single data'!AD57:AG57) -> 39.320327 | W56: ± | X56: =_xlfn.STDEV.S('Single data'!AD57:AG57)/SQRT(4) -> 20.492208 | Y56: =AVERAGE('Single data'!AH57:AK57) -> 96.465477 | Z56: ± | AA56: =_xlfn.STDEV.S('Single data'!AH57:AK57)/SQRT(4) -> 14.372751 | AB56: =AVERAGE('Single data'!AL57:AO57) -> 35.632438 | AC56: ± | AD56: =_xlfn.STDEV.S(('Single data'!AL57:AO57))/SQRT(4) -> 20.224013 | AE56: =AVERAGE('Single data'!AP57:AS57) -> 72.10348 | AF56: ± | AG56: =_xlfn.STDEV.S('Single data'!AP57:AS57)/SQRT(4) -> 25.568455 | AH56: =AVERAGE('Single data'!AT57:AW57) -> 87.187526 | AI56: ± | AJ56: =_xlfn.STDEV.S('Single data'!AT57:AW57)/SQRT(4) -> 16.974307 | AK56: =AVERAGE('Single data'!AX57:BA57) -> 89.584244 | AL56: ± | AM56: =_xlfn.STDEV.S('Single data'!AX57:BA57)/SQRT(4) -> 23.10316 | AN56: =AVERAGE('Single data'!BB57:BE57) -> 63.610456 | AO56: ± | AP56: =_xlfn.STDEV.S('Single data'!BB57:BE57)/SQRT(4) -> 26.410662
C57: EPA | D57: =AVERAGE('Single data'!D58:I58) -> 100 | E57: ± | F57: =_xlfn.STDEV.S('Single data'!D58:I58)/SQRT(6) -> 0 | G57: =AVERAGE('Single data'!J58:M58) -> 320.18966 | H57: ± | I57: =_xlfn.STDEV.S('Single data'!J58:M58)/SQRT(3) -> 246.12559 | J57: =AVERAGE('Single data'!N58:Q58) -> 133.56754 | K57: ± | L57: =_xlfn.STDEV.S(('Single data'!N58:Q58))/SQRT(3) -> 60.209882 | M57: =AVERAGE('Single data'!R58:U58) -> 68.737355 | N57: ± | O57: =_xlfn.STDEV.S('Single data'!R58:U58)/SQRT(4) -> 8.9221378 | P57: =AVERAGE('Single data'!V58:Y58) -> 37.799109 | Q57: ± | R57: =_xlfn.STDEV.S('Single data'!V58:Y58)/SQRT(4) -> 21.899532 | S57: =AVERAGE('Single data'!Z58:AC58) -> 64.822393 | T57: ± | U57: =_xlfn.STDEV.S('Single data'!Z58:AC58)/SQRT(4) -> 9.9065187 | V57: =AVERAGE('Single data'!AD58:AG58) -> 33.732846 | W57: ± | X57: =_xlfn.STDEV.S('Single data'!AD58:AG58)/SQRT(4) -> 13.799409 | Y57: =AVERAGE('Single data'!AH58:AK58) -> 97.239128 | Z57: ± | AA57: =_xlfn.STDEV.S('Single data'!AH58:AK58)/SQRT(4) -> 16.82085 | AB57: =AVERAGE('Single data'!AL58:AO58) -> 31.15774 | AC57: ± | AD57: =_xlfn.STDEV.S(('Single data'!AL58:AO58))/SQRT(4) -> 15.047724 | AE57: =AVERAGE('Single data'!AP58:AS58) -> 89.204706 | AF57: ± | AG57: =_xlfn.STDEV.S('Single data'!AP58:AS58)/SQRT(4) -> 13.932455 | AH57: =AVERAGE('Single data'!AT58:AW58) -> 97.828504 | AI57: ± | AJ57: =_xlfn.STDEV.S('Single data'!AT58:AW58)/SQRT(4) -> 14.297348 | AK57: =AVERAGE('Single data'!AX58:BA58) -> 89.1245 | AL57: ± | AM57: =_xlfn.STDEV.S('Single data'!AX58:BA58)/SQRT(4) -> 34.047271 | AN57: =AVERAGE('Single data'!BB58:BE58) -> 69.04608 | AO57: ± | AP57: =_xlfn.STDEV.S('Single data'!BB58:BE58)/SQRT(4) -> 31.046349
C58: DHA | D58: =AVERAGE('Single data'!D59:I59) -> 100 | E58: ± | F58: =_xlfn.STDEV.S('Single data'!D59:I59)/SQRT(6) -> 0 | G58: =AVERAGE('Single data'!J59:M59) -> 404.44997 | H58: ± | I58: =_xlfn.STDEV.S('Single data'!J59:M59)/SQRT(3) -> 343.06847 | J58: =AVERAGE('Single data'!N59:Q59) -> 100.08547 | K58: ± | L58: =_xlfn.STDEV.S(('Single data'!N59:Q59))/SQRT(3) -> 37.653048 | M58: =AVERAGE('Single data'!R59:U59) -> 73.650443 | N58: ± | O58: =_xlfn.STDEV.S('Single data'!R59:U59)/SQRT(4) -> 11.323691 | P58: =AVERAGE('Single data'!V59:Y59) -> 53.830093 | Q58: ± | R58: =_xlfn.STDEV.S('Single data'!V59:Y59)/SQRT(4) -> 21.353777 | S58: =AVERAGE('Single data'!Z59:AC59) -> 71.02455 | T58: ± | U58: =_xlfn.STDEV.S('Single data'!Z59:AC59)/SQRT(4) -> 13.061999 | V58: =AVERAGE('Single data'!AD59:AG59) -> 56.09102 | W58: ± | X58: =_xlfn.STDEV.S('Single data'!AD59:AG59)/SQRT(4) -> 27.122484 | Y58: =AVERAGE('Single data'!AH59:AK59) -> 110.22928 | Z58: ± | AA58: =_xlfn.STDEV.S('Single data'!AH59:AK59)/SQRT(4) -> 26.322969 | AB58: =AVERAGE('Single data'!AL59:AO59) -> 37.268642 | AC58: ± | AD58: =_xlfn.STDEV.S(('Single data'!AL59:AO59))/SQRT(4) -> 16.539766 | AE58: =AVERAGE('Single data'!AP59:AS59) -> 67.744183 | AF58: ± | AG58: =_xlfn.STDEV.S('Single data'!AP59:AS59)/SQRT(4) -> 22.414794 | AH58: =AVERAGE('Single data'!AT59:AW59) -> 87.865008 | AI58: ± | AJ58: =_xlfn.STDEV.S('Single data'!AT59:AW59)/SQRT(4) -> 16.867101 | AK58: =AVERAGE('Single data'!AX59:BA59) -> 73.055174 | AL58: ± | AM58: =_xlfn.STDEV.S('Single data'!AX59:BA59)/SQRT(4) -> 27.272616 | AN58: =AVERAGE('Single data'!BB59:BE59) -> 67.19506 | AO58: ± | AP58: =_xlfn.STDEV.S('Single data'!BB59:BE59)/SQRT(4) -> 28.856592
C59: DPA | D59: =AVERAGE('Single data'!D60:I60) -> 100 | E59: ± | F59: =_xlfn.STDEV.S('Single data'!D60:I60)/SQRT(6) -> 0 | G59: =AVERAGE('Single data'!J60:M60) -> 315.92603 | H59: ± | I59: =_xlfn.STDEV.S('Single data'!J60:M60)/SQRT(3) -> 262.36284 | J59: =AVERAGE('Single data'!N60:Q60) -> 89.744032 | K59: ± | L59: =_xlfn.STDEV.S(('Single data'!N60:Q60))/SQRT(3) -> 42.205367 | M59: =AVERAGE('Single data'!R60:U60) -> 68.275735 | N59: ± | O59: =_xlfn.STDEV.S('Single data'!R60:U60)/SQRT(4) -> 8.7618242 | P59: =AVERAGE('Single data'!V60:Y60) -> 45.193586 | Q59: ± | R59: =_xlfn.STDEV.S('Single data'!V60:Y60)/SQRT(4) -> 19.516856 | S59: =AVERAGE('Single data'!Z60:AC60) -> 67.639766 | T59: ± | U59: =_xlfn.STDEV.S('Single data'!Z60:AC60)/SQRT(4) -> 13.063202 | V59: =AVERAGE('Single data'!AD60:AG60) -> 46.186348 | W59: ± | X59: =_xlfn.STDEV.S('Single data'!AD60:AG60)/SQRT(4) -> 21.378337 | Y59: =AVERAGE('Single data'!AH60:AK60) -> 94.722864 | Z59: ± | AA59: =_xlfn.STDEV.S('Single data'!AH60:AK60)/SQRT(4) -> 21.833395 | AB59: =AVERAGE('Single data'!AL60:AO60) -> 33.431665 | AC59: ± | AD59: =_xlfn.STDEV.S(('Single data'!AL60:AO60))/SQRT(4) -> 15.722144 | AE59: =AVERAGE('Single data'!AP60:AS60) -> 67.718086 | AF59: ± | AG59: =_xlfn.STDEV.S('Single data'!AP60:AS60)/SQRT(4) -> 15.979905 | AH59: =AVERAGE('Single data'!AT60:AW60) -> 78.947967 | AI59: ± | AJ59: =_xlfn.STDEV.S('Single data'!AT60:AW60)/SQRT(4) -> 13.507081 | AK59: =AVERAGE('Single data'!AX60:BA60) -> 67.126262 | AL59: ± | AM59: =_xlfn.STDEV.S('Single data'!AX60:BA60)/SQRT(4) -> 24.864044 | AN59: =AVERAGE('Single data'!BB60:BE60) -> 57.45077 | AO59: ± | AP59: =_xlfn.STDEV.S('Single data'!BB60:BE60)/SQRT(4) -> 26.341433
B60: PTGS | C60: PGE2 | D60: =AVERAGE('Single data'!D61:I61) -> 100 | E60: ± | F60: =_xlfn.STDEV.S('Single data'!D61:I61)/SQRT(6) -> 0 | G60: =AVERAGE('Single data'!J61:M61) -> 144.82399 | H60: ± | I60: =_xlfn.STDEV.S('Single data'!J61:M61)/SQRT(3) -> 10.481808 | J60: =AVERAGE('Single data'!N61:Q61) -> 117.30986 | K60: ± | L60: =_xlfn.STDEV.S(('Single data'!N61:Q61))/SQRT(3) -> 55.017221 | M60: =AVERAGE('Single data'!R61:U61) -> 172.18307 | N60: ± | O60: =_xlfn.STDEV.S('Single data'!R61:U61)/SQRT(4) -> 17.712506 | P60: =AVERAGE('Single data'!V61:Y61) -> 168.14878 | Q60: ± | R60: =_xlfn.STDEV.S('Single data'!V61:Y61)/SQRT(4) -> 34.001648 | S60: =AVERAGE('Single data'!Z61:AC61) -> 150.04111 | T60: ± | U60: =_xlfn.STDEV.S('Single data'!Z61:AC61)/SQRT(4) -> 10.672868 | V60: =AVERAGE('Single data'!AD61:AG61) -> 81.396749 | W60: ± | X60: =_xlfn.STDEV.S('Single data'!AD61:AG61)/SQRT(4) -> 42.080834 | Y60: =AVERAGE('Single data'!AH61:AK61) -> 142.37016 | Z60: ± | AA60: =_xlfn.STDEV.S('Single data'!AH61:AK61)/SQRT(4) -> 11.775971 | AB60: =AVERAGE('Single data'!AL61:AO61) -> 161.72473 | AC60: ± | AD60: =_xlfn.STDEV.S(('Single data'!AL61:AO61))/SQRT(4) -> 69.430176 | AE60: =AVERAGE('Single data'!AP61:AS61) -> 91.327329 | AF60: ± | AG60: =_xlfn.STDEV.S('Single data'!AP61:AS61)/SQRT(4) -> 9.9360167 | AH60: =AVERAGE('Single data'!AT61:AW61) -> 50.237761 | AI60: ± | AJ60: =_xlfn.STDEV.S('Single data'!AT61:AW61)/SQRT(4) -> 12.519044 | AK60: =AVERAGE('Single data'!AX61:BA61) -> 89.256845 | AL60: ± | AM60: =_xlfn.STDEV.S('Single data'!AX61:BA61)/SQRT(4) -> 5.4185543 | AN60: =AVERAGE('Single data'!BB61:BE61) -> 59.3199 | AO60: ± | AP60: =_xlfn.STDEV.S('Single data'!BB61:BE61)/SQRT(4) -> 16.333036 | AS60: =AVERAGE('Single data'!BG61:BK61) -> 100 | AT60: ± | AU60: =_xlfn.STDEV.S('Single data'!BG61:BK61)/SQRT(4) -> 0 | AV60: =AVERAGE('Single data'!BM61:BP61) -> 135.71795 | AW60: ± | AX60: =_xlfn.STDEV.S('Single data'!BM61:BP61)/SQRT(4) -> 32.909869 | AY60: =AVERAGE('Single data'!BQ61:BT61) -> 139.16776 | AZ60: ± | BA60: =_xlfn.STDEV.S(('Single data'!BQ61:BT61))/SQRT(4) -> 20.252665 | BB60: =AVERAGE('Single data'!BU61:BX61) -> 133.52098 | BC60: ± | BD60: =_xlfn.STDEV.S('Single data'!BU61:BX61)/SQRT(4) -> 23.30324 | BE60: =AVERAGE('Single data'!BY61:CB61) -> 213.15999 | BF60: ± | BG60: =_xlfn.STDEV.S('Single data'!BY61:CB61)/SQRT(4) -> 30.804832 | BH60: =AVERAGE('Single data'!CC61:CF61) -> 110.95154 | BI60: ± | BJ60: =_xlfn.STDEV.S('Single data'!CC61:CF61)/SQRT(4) -> 13.290682 | BK60: =AVERAGE('Single data'!CG61:CJ61) -> 82.710113 | BL60: ± | BM60: =_xlfn.STDEV.S('Single data'!CG61:CJ61)/SQRT(4) -> 22.728475 | BN60: =AVERAGE('Single data'!CK61:CN61) -> 114.12721 | BO60: ± | BP60: =_xlfn.STDEV.S('Single data'!CK61:CN61)/SQRT(4) -> 13.728574 | BQ60: =AVERAGE('Single data'!CO61:CR61) -> 149.51304 | BR60: ± | BS60: =_xlfn.STDEV.S(('Single data'!CO61:CR61))/SQRT(4) -> 37.422832 | BT60: =AVERAGE('Single data'!CS61:CV61) -> 96.959519 | BU60: ± | BV60: =_xlfn.STDEV.S('Single data'!CS61:CV61)/SQRT(4) -> 12.107532 | BW60: =AVERAGE('Single data'!CW61:CZ61) -> 49.755976 | BX60: ± | BY60: =_xlfn.STDEV.S('Single data'!CW61:CZ61)/SQRT(4) -> 10.734467 | BZ60: =AVERAGE('Single data'!DA61:DD61) -> 118.14303 | CA60: ± | CB60: =_xlfn.STDEV.S('Single data'!DA61:DD61)/SQRT(4) -> 14.739109 | CC60: =AVERAGE('Single data'!DE61:DH61) -> 73.634829 | CD60: ± | CE60: =_xlfn.STDEV.S('Single data'!DE61:DH61)/SQRT(4) -> 16.493993
C61: 15-ketoPGE2 | D61: =AVERAGE('Single data'!D62:I62) -> 100 | E61: ± | F61: =_xlfn.STDEV.S('Single data'!D62:I62)/SQRT(6) -> 0 | G61: =AVERAGE('Single data'!J62:M62) -> 132.21311 | H61: ± | I61: =_xlfn.STDEV.S('Single data'!J62:M62)/SQRT(3) -> 11.842211 | J61: =AVERAGE('Single data'!N62:Q62) -> 61.61417 | K61: ± | L61: =_xlfn.STDEV.S(('Single data'!N62:Q62))/SQRT(3) -> 34.231467 | M61: =AVERAGE('Single data'!R62:U62) -> 121.24812 | N61: ± | O61: =_xlfn.STDEV.S('Single data'!R62:U62)/SQRT(4) -> 12.011509 | P61: =AVERAGE('Single data'!V62:Y62) -> 76.648299 | Q61: ± | R61: =_xlfn.STDEV.S('Single data'!V62:Y62)/SQRT(4) -> 26.050233 | S61: =AVERAGE('Single data'!Z62:AC62) -> 107.1602 | T61: ± | U61: =_xlfn.STDEV.S('Single data'!Z62:AC62)/SQRT(4) -> 12.533485 | V61: =AVERAGE('Single data'!AD62:AG62) -> 45.901237 | W61: ± | X61: =_xlfn.STDEV.S('Single data'!AD62:AG62)/SQRT(4) -> 30.309226 | Y61: =AVERAGE('Single data'!AH62:AK62) -> 126.30463 | Z61: ± | AA61: =_xlfn.STDEV.S('Single data'!AH62:AK62)/SQRT(4) -> 14.67629 | AB61: =AVERAGE('Single data'!AL62:AO62) -> 24.782366 | AC61: ± | AD61: =_xlfn.STDEV.S(('Single data'!AL62:AO62))/SQRT(4) -> 5.1910807 | AE61: =AVERAGE('Single data'!AP62:AS62) -> 89.196427 | AF61: ± | AG61: =_xlfn.STDEV.S('Single data'!AP62:AS62)/SQRT(4) -> 3.5028623 | AH61: =AVERAGE('Single data'!AT62:AW62) -> 36.854074 | AI61: ± | AJ61: =_xlfn.STDEV.S('Single data'!AT62:AW62)/SQRT(4) -> 8.8187696 | AK61: =AVERAGE('Single data'!AX62:BA62) -> 87.45096 | AL61: ± | AM61: =_xlfn.STDEV.S('Single data'!AX62:BA62)/SQRT(4) -> 3.5427083 | AN61: =AVERAGE('Single data'!BB62:BE62) -> 60.674975 | AO61: ± | AP61: =_xlfn.STDEV.S('Single data'!BB62:BE62)/SQRT(4) -> 19.979886 | AS61: =AVERAGE('Single data'!BG62:BK62) -> 100 | AT61: ± | AU61: =_xlfn.STDEV.S('Single data'!BG62:BK62)/SQRT(4) -> 0 | AV61: =AVERAGE('Single data'!BM62:BP62) -> 123.99852 | AW61: ± | AX61: =_xlfn.STDEV.S('Single data'!BM62:BP62)/SQRT(4) -> 19.126898 | AY61: =AVERAGE('Single data'!BQ62:BT62) -> 122.60386 | AZ61: ± | BA61: =_xlfn.STDEV.S(('Single data'!BQ62:BT62))/SQRT(4) -> 18.087253 | BB61: =AVERAGE('Single data'!BU62:BX62) -> 130.10218 | BC61: ± | BD61: =_xlfn.STDEV.S('Single data'!BU62:BX62)/SQRT(4) -> 18.658209 | BE61: =AVERAGE('Single data'!BY62:CB62) -> 175.23121 | BF61: ± | BG61: =_xlfn.STDEV.S('Single data'!BY62:CB62)/SQRT(4) -> 37.083204 | BH61: =AVERAGE('Single data'!CC62:CF62) -> 120.7817 | BI61: ± | BJ61: =_xlfn.STDEV.S('Single data'!CC62:CF62)/SQRT(4) -> 16.861959 | BK61: =AVERAGE('Single data'!CG62:CJ62) -> 89.37298 | BL61: ± | BM61: =_xlfn.STDEV.S('Single data'!CG62:CJ62)/SQRT(4) -> 15.990286 | BN61: =AVERAGE('Single data'!CK62:CN62) -> 117.57066 | BO61: ± | BP61: =_xlfn.STDEV.S('Single data'!CK62:CN62)/SQRT(4) -> 11.513887 | BQ61: =AVERAGE('Single data'!CO62:CR62) -> 158.62334 | BR61: ± | BS61: =_xlfn.STDEV.S(('Single data'!CO62:CR62))/SQRT(4) -> 31.494997 | BT61: =AVERAGE('Single data'!CS62:CV62) -> 108.32217 | BU61: ± | BV61: =_xlfn.STDEV.S('Single data'!CS62:CV62)/SQRT(4) -> 21.673836 | BW61: =AVERAGE('Single data'!CW62:CZ62) -> 56.978948 | BX61: ± | BY61: =_xlfn.STDEV.S('Single data'!CW62:CZ62)/SQRT(4) -> 11.426763 | BZ61: =AVERAGE('Single data'!DA62:DD62) -> 101.9981 | CA61: ± | CB61: =_xlfn.STDEV.S('Single data'!DA62:DD62)/SQRT(4) -> 9.1216698 | CC61: =AVERAGE('Single data'!DE62:DH62) -> 71.38801 | CD61: ± | CE61: =_xlfn.STDEV.S('Single data'!DE62:DH62)/SQRT(4) -> 16.273202
C62: PGD2 | D62: =AVERAGE('Single data'!D63:I63) -> 100 | E62: ± | F62: =_xlfn.STDEV.S('Single data'!D63:I63)/SQRT(6) -> 0 | G62: =AVERAGE('Single data'!J63:M63) -> 153.23827 | H62: ± | I62: =_xlfn.STDEV.S('Single data'!J63:M63)/SQRT(3) -> 28.097034 | J62: =AVERAGE('Single data'!N63:Q63) -> 44.329464 | K62: ± | L62: =_xlfn.STDEV.S(('Single data'!N63:Q63))/SQRT(3) -> 15.242225 | M62: =AVERAGE('Single data'!R63:U63) -> 136.1626 | N62: ± | O62: =_xlfn.STDEV.S('Single data'!R63:U63)/SQRT(4) -> 25.648551 | P62: =AVERAGE('Single data'!V63:Y63) -> 94.261642 | Q62: ± | R62: =_xlfn.STDEV.S('Single data'!V63:Y63)/SQRT(4) -> 19.693366 | S62: =AVERAGE('Single data'!Z63:AC63) -> 94.494826 | T62: ± | U62: =_xlfn.STDEV.S('Single data'!Z63:AC63)/SQRT(4) -> 21.98593 | V62: =AVERAGE('Single data'!AD63:AG63) -> 50.383882 | W62: ± | X62: =_xlfn.STDEV.S('Single data'!AD63:AG63)/SQRT(4) -> 22.07748 | Y62: =AVERAGE('Single data'!AH63:AK63) -> 100.28795 | Z62: ± | AA62: =_xlfn.STDEV.S('Single data'!AH63:AK63)/SQRT(4) -> 22.92999 | AB62: =AVERAGE('Single data'!AL63:AO63) -> 125.26711 | AC62: ± | AD62: =_xlfn.STDEV.S(('Single data'!AL63:AO63))/SQRT(4) -> 50.033725 | AE62: =AVERAGE('Single data'!AP63:AS63) -> 76.001603 | AF62: ± | AG62: =_xlfn.STDEV.S('Single data'!AP63:AS63)/SQRT(4) -> 18.911281 | AH62: =AVERAGE('Single data'!AT63:AW63) -> 58.118845 | AI62: ± | AJ62: =_xlfn.STDEV.S('Single data'!AT63:AW63)/SQRT(4) -> 19.907195 | AK62: =AVERAGE('Single data'!AX63:BA63) -> 110.82787 | AL62: ± | AM62: =_xlfn.STDEV.S('Single data'!AX63:BA63)/SQRT(4) -> 11.95716 | AN62: =AVERAGE('Single data'!BB63:BE63) -> 71.186722 | AO62: ± | AP62: =_xlfn.STDEV.S('Single data'!BB63:BE63)/SQRT(4) -> 20.617942 | AS62: =AVERAGE('Single data'!BG63:BK63) -> 100 | AT62: ± | AU62: =_xlfn.STDEV.S('Single data'!BG63:BK63)/SQRT(4) -> 0 | AV62: =AVERAGE('Single data'!BM63:BP63) -> 122.69731 | AW62: ± | AX62: =_xlfn.STDEV.S('Single data'!BM63:BP63)/SQRT(4) -> 68.036268 | AY62: =AVERAGE('Single data'!BQ63:BT63) -> 134.66255 | AZ62: ± | BA62: =_xlfn.STDEV.S(('Single data'!BQ63:BT63))/SQRT(4) -> 26.186663 | BB62: =AVERAGE('Single data'!BU63:BX63) -> 148.1636 | BC62: ± | BD62: =_xlfn.STDEV.S('Single data'!BU63:BX63)/SQRT(4) -> 40.499505 | BE62: =AVERAGE('Single data'!BY63:CB63) -> 233.82104 | BF62: ± | BG62: =_xlfn.STDEV.S('Single data'!BY63:CB63)/SQRT(4) -> 50.915843 | BH62: =AVERAGE('Single data'!CC63:CF63) -> 114.02309 | BI62: ± | BJ62: =_xlfn.STDEV.S('Single data'!CC63:CF63)/SQRT(4) -> 23.190396 | BK62: =AVERAGE('Single data'!CG63:CJ63) -> 100.91196 | BL62: ± | BM62: =_xlfn.STDEV.S('Single data'!CG63:CJ63)/SQRT(4) -> 16.409704 | BN62: =AVERAGE('Single data'!CK63:CN63) -> 163.91874 | BO62: ± | BP62: =_xlfn.STDEV.S('Single data'!CK63:CN63)/SQRT(4) -> 61.392354 | BQ62: =AVERAGE('Single data'!CO63:CR63) -> 132.82013 | BR62: ± | BS62: =_xlfn.STDEV.S(('Single data'!CO63:CR63))/SQRT(4) -> 17.957059 | BT62: =AVERAGE('Single data'!CS63:CV63) -> 89.565613 | BU62: ± | BV62: =_xlfn.STDEV.S('Single data'!CS63:CV63)/SQRT(4) -> 21.183897 | BW62: =AVERAGE('Single data'!CW63:CZ63) -> 60.28687 | BX62: ± | BY62: =_xlfn.STDEV.S('Single data'!CW63:CZ63)/SQRT(4) -> 20.670962 | BZ62: =AVERAGE('Single data'!DA63:DD63) -> 135.63219 | CA62: ± | CB62: =_xlfn.STDEV.S('Single data'!DA63:DD63)/SQRT(4) -> 27.842517 | CC62: =AVERAGE('Single data'!DE63:DH63) -> 71.822952 | CD62: ± | CE62: =_xlfn.STDEV.S('Single data'!DE63:DH63)/SQRT(4) -> 23.78116
C63: PGF2a | D63: =AVERAGE('Single data'!D64:I64) -> 100 | E63: ± | F63: =_xlfn.STDEV.S('Single data'!D64:I64)/SQRT(6) -> 0 | G63: =AVERAGE('Single data'!J64:M64) -> 156.80179 | H63: ± | I63: =_xlfn.STDEV.S('Single data'!J64:M64)/SQRT(3) -> 13.875927 | J63: =AVERAGE('Single data'!N64:Q64) -> 100.97131 | K63: ± | L63: =_xlfn.STDEV.S(('Single data'!N64:Q64))/SQRT(3) -> 34.039572 | M63: =AVERAGE('Single data'!R64:U64) -> 158.43316 | N63: ± | O63: =_xlfn.STDEV.S('Single data'!R64:U64)/SQRT(4) -> 29.258676 | P63: =AVERAGE('Single data'!V64:Y64) -> 146.85808 | Q63: ± | R63: =_xlfn.STDEV.S('Single data'!V64:Y64)/SQRT(4) -> 33.614378 | S63: =AVERAGE('Single data'!Z64:AC64) -> 139.66687 | T63: ± | U63: =_xlfn.STDEV.S('Single data'!Z64:AC64)/SQRT(4) -> 9.3725748 | V63: =AVERAGE('Single data'!AD64:AG64) -> 68.057851 | W63: ± | X63: =_xlfn.STDEV.S('Single data'!AD64:AG64)/SQRT(4) -> 30.53589 | Y63: =AVERAGE('Single data'!AH64:AK64) -> 140.78767 | Z63: ± | AA63: =_xlfn.STDEV.S('Single data'!AH64:AK64)/SQRT(4) -> 25.596733 | AB63: =AVERAGE('Single data'!AL64:AO64) -> 96.552633 | AC63: ± | AD63: =_xlfn.STDEV.S(('Single data'!AL64:AO64))/SQRT(4) -> 41.305899 | AE63: =AVERAGE('Single data'!AP64:AS64) -> 92.012415 | AF63: ± | AG63: =_xlfn.STDEV.S('Single data'!AP64:AS64)/SQRT(4) -> 6.4355896 | AH63: =AVERAGE('Single data'!AT64:AW64) -> 37.103315 | AI63: ± | AJ63: =_xlfn.STDEV.S('Single data'!AT64:AW64)/SQRT(4) -> 3.3106836 | AK63: =AVERAGE('Single data'!AX64:BA64) -> 95.056532 | AL63: ± | AM63: =_xlfn.STDEV.S('Single data'!AX64:BA64)/SQRT(4) -> 8.9888134 | AN63: =AVERAGE('Single data'!BB64:BE64) -> 62.021995 | AO63: ± | AP63: =_xlfn.STDEV.S('Single data'!BB64:BE64)/SQRT(4) -> 12.690974 | AS63: =AVERAGE('Single data'!BG64:BK64) -> 100 | AT63: ± | AU63: =_xlfn.STDEV.S('Single data'!BG64:BK64)/SQRT(4) -> 0 | AV63: =AVERAGE('Single data'!BM64:BP64) -> 119.33776 | AW63: ± | AX63: =_xlfn.STDEV.S('Single data'!BM64:BP64)/SQRT(4) -> 32.464574 | AY63: =AVERAGE('Single data'!BQ64:BT64) -> 114.39901 | AZ63: ± | BA63: =_xlfn.STDEV.S(('Single data'!BQ64:BT64))/SQRT(4) -> 18.628565 | BB63: =AVERAGE('Single data'!BU64:BX64) -> 127.30881 | BC63: ± | BD63: =_xlfn.STDEV.S('Single data'!BU64:BX64)/SQRT(4) -> 25.309905 | BE63: =AVERAGE('Single data'!BY64:CB64) -> 207.12822 | BF63: ± | BG63: =_xlfn.STDEV.S('Single data'!BY64:CB64)/SQRT(4) -> 26.525129 | BH63: =AVERAGE('Single data'!CC64:CF64) -> 93.482149 | BI63: ± | BJ63: =_xlfn.STDEV.S('Single data'!CC64:CF64)/SQRT(4) -> 9.5910974 | BK63: =AVERAGE('Single data'!CG64:CJ64) -> 92.974024 | BL63: ± | BM63: =_xlfn.STDEV.S('Single data'!CG64:CJ64)/SQRT(4) -> 26.735863 | BN63: =AVERAGE('Single data'!CK64:CN64) -> 110.68055 | BO63: ± | BP63: =_xlfn.STDEV.S('Single data'!CK64:CN64)/SQRT(4) -> 8.6314944 | BQ63: =AVERAGE('Single data'!CO64:CR64) -> 130.11989 | BR63: ± | BS63: =_xlfn.STDEV.S(('Single data'!CO64:CR64))/SQRT(4) -> 22.701494 | BT63: =AVERAGE('Single data'!CS64:CV64) -> 90.978322 | BU63: ± | BV63: =_xlfn.STDEV.S('Single data'!CS64:CV64)/SQRT(4) -> 13.865307 | BW63: =AVERAGE('Single data'!CW64:CZ64) -> 36.70443 | BX63: ± | BY63: =_xlfn.STDEV.S('Single data'!CW64:CZ64)/SQRT(4) -> 13.89606 | BZ63: =AVERAGE('Single data'!DA64:DD64) -> 105.70904 | CA63: ± | CB63: =_xlfn.STDEV.S('Single data'!DA64:DD64)/SQRT(4) -> 15.876773 | CC63: =AVERAGE('Single data'!DE64:DH64) -> 55.303052 | CD63: ± | CE63: =_xlfn.STDEV.S('Single data'!DE64:DH64)/SQRT(4) -> 10.037304
C64: TXB2 | D64: =AVERAGE('Single data'!D65:I65) -> 100 | E64: ± | F64: =_xlfn.STDEV.S('Single data'!D65:I65)/SQRT(6) -> 0 | G64: =AVERAGE('Single data'!J65:M65) -> 74.566539 | H64: ± | I64: =_xlfn.STDEV.S('Single data'!J65:M65)/SQRT(3) -> 1.5101209 | J64: =AVERAGE('Single data'!N65:Q65) -> 14.239849 | K64: ± | L64: =_xlfn.STDEV.S(('Single data'!N65:Q65))/SQRT(3) -> 6.2477207 | M64: =AVERAGE('Single data'!R65:U65) -> 85.337616 | N64: ± | O64: =_xlfn.STDEV.S('Single data'!R65:U65)/SQRT(4) -> 3.5310729 | P64: =AVERAGE('Single data'!V65:Y65) -> 15.134087 | Q64: ± | R64: =_xlfn.STDEV.S('Single data'!V65:Y65)/SQRT(4) -> 3.226057 | S64: =AVERAGE('Single data'!Z65:AC65) -> 55.985231 | T64: ± | U64: =_xlfn.STDEV.S('Single data'!Z65:AC65)/SQRT(4) -> 5.7095575 | V64: =AVERAGE('Single data'!AD65:AG65) -> 6.7927798 | W64: ± | X64: =_xlfn.STDEV.S('Single data'!AD65:AG65)/SQRT(4) -> 3.4271427 | Y64: =AVERAGE('Single data'!AH65:AK65) -> 78.121271 | Z64: ± | AA64: =_xlfn.STDEV.S('Single data'!AH65:AK65)/SQRT(4) -> 3.2931196 | AB64: =AVERAGE('Single data'!AL65:AO65) -> 5.2556133 | AC64: ± | AD64: =_xlfn.STDEV.S(('Single data'!AL65:AO65))/SQRT(4) -> 1.5237214 | AE64: =AVERAGE('Single data'!AP65:AS65) -> 89.586098 | AF64: ± | AG64: =_xlfn.STDEV.S('Single data'!AP65:AS65)/SQRT(4) -> 5.205433 | AH64: =AVERAGE('Single data'!AT65:AW65) -> 39.39581 | AI64: ± | AJ64: =_xlfn.STDEV.S('Single data'!AT65:AW65)/SQRT(4) -> 10.462454 | AK64: =AVERAGE('Single data'!AX65:BA65) -> 92.850975 | AL64: ± | AM64: =_xlfn.STDEV.S('Single data'!AX65:BA65)/SQRT(4) -> 4.0088185 | AN64: =AVERAGE('Single data'!BB65:BE65) -> 54.58157 | AO64: ± | AP64: =_xlfn.STDEV.S('Single data'!BB65:BE65)/SQRT(4) -> 14.017098 | AS64: =AVERAGE('Single data'!BG65:BK65) -> 100 | AT64: ± | AU64: =_xlfn.STDEV.S('Single data'!BG65:BK65)/SQRT(4) -> 0 | AV64: =AVERAGE('Single data'!BM65:BP65) -> 130.7527 | AW64: ± | AX64: =_xlfn.STDEV.S('Single data'!BM65:BP65)/SQRT(4) -> 32.562864 | AY64: =AVERAGE('Single data'!BQ65:BT65) -> 94.586583 | AZ64: ± | BA64: =_xlfn.STDEV.S(('Single data'!BQ65:BT65))/SQRT(4) -> 14.447105 | BB64: =AVERAGE('Single data'!BU65:BX65) -> 122.47813 | BC64: ± | BD64: =_xlfn.STDEV.S('Single data'!BU65:BX65)/SQRT(4) -> 29.850615 | BE64: =AVERAGE('Single data'!BY65:CB65) -> 101.6992 | BF64: ± | BG64: =_xlfn.STDEV.S('Single data'!BY65:CB65)/SQRT(4) -> 26.862573 | BH64: =AVERAGE('Single data'!CC65:CF65) -> 99.16262 | BI64: ± | BJ64: =_xlfn.STDEV.S('Single data'!CC65:CF65)/SQRT(4) -> 13.420144 | BK64: =AVERAGE('Single data'!CG65:CJ65) -> 30.706374 | BL64: ± | BM64: =_xlfn.STDEV.S('Single data'!CG65:CJ65)/SQRT(4) -> 7.2876816 | BN64: =AVERAGE('Single data'!CK65:CN65) -> 91.085504 | BO64: ± | BP64: =_xlfn.STDEV.S('Single data'!CK65:CN65)/SQRT(4) -> 12.770371 | BQ64: =AVERAGE('Single data'!CO65:CR65) -> 94.720754 | BR64: ± | BS64: =_xlfn.STDEV.S(('Single data'!CO65:CR65))/SQRT(4) -> 22.915084 | BT64: =AVERAGE('Single data'!CS65:CV65) -> 99.693329 | BU64: ± | BV64: =_xlfn.STDEV.S('Single data'!CS65:CV65)/SQRT(4) -> 8.5834247 | BW64: =AVERAGE('Single data'!CW65:CZ65) -> 71.240832 | BX64: ± | BY64: =_xlfn.STDEV.S('Single data'!CW65:CZ65)/SQRT(4) -> 29.833446 | BZ64: =AVERAGE('Single data'!DA65:DD65) -> 119.19916 | CA64: ± | CB64: =_xlfn.STDEV.S('Single data'!DA65:DD65)/SQRT(4) -> 18.470009 | CC64: =AVERAGE('Single data'!DE65:DH65) -> 83.131454 | CD64: ± | CE64: =_xlfn.STDEV.S('Single data'!DE65:DH65)/SQRT(4) -> 15.356367
C65: PGE1/PGD1 | D65: =AVERAGE('Single data'!D66:I66) -> 100 | E65: ± | F65: =_xlfn.STDEV.S('Single data'!D66:I66)/SQRT(6) -> 0 | G65: =AVERAGE('Single data'!J66:M66) -> 140.39923 | H65: ± | I65: =_xlfn.STDEV.S('Single data'!J66:M66)/SQRT(3) -> 10.113091 | J65: =AVERAGE('Single data'!N66:Q66) -> 90.411432 | K65: ± | L65: =_xlfn.STDEV.S(('Single data'!N66:Q66))/SQRT(3) -> 32.569537 | M65: =AVERAGE('Single data'!R66:U66) -> 184.25829 | N65: ± | O65: =_xlfn.STDEV.S('Single data'!R66:U66)/SQRT(4) -> 47.638295 | P65: =AVERAGE('Single data'!V66:Y66) -> 144.57062 | Q65: ± | R65: =_xlfn.STDEV.S('Single data'!V66:Y66)/SQRT(4) -> 29.57548 | S65: =AVERAGE('Single data'!Z66:AC66) -> 135.72223 | T65: ± | U65: =_xlfn.STDEV.S('Single data'!Z66:AC66)/SQRT(4) -> 10.826646 | V65: =AVERAGE('Single data'!AD66:AG66) -> 74.78393 | W65: ± | X65: =_xlfn.STDEV.S('Single data'!AD66:AG66)/SQRT(4) -> 38.043486 | AK65: =AVERAGE('Single data'!AX66:BA66) -> 62.874963 | AL65: ± | AM65: =_xlfn.STDEV.S('Single data'!AX66:BA66)/SQRT(4) -> 21.106486 | AN65: =AVERAGE('Single data'!BB66:BE66) -> 71.082653 | AO65: ± | AP65: =_xlfn.STDEV.S('Single data'!BB66:BE66)/SQRT(4) -> 10.099178
C66: 13-HDHA | D66: =AVERAGE('Single data'!D67:I67) -> 100 | E66: ± | F66: =_xlfn.STDEV.S('Single data'!D67:I67)/SQRT(6) -> 0 | G66: =AVERAGE('Single data'!J67:M67) -> 291.48572 | H66: ± | I66: =_xlfn.STDEV.S('Single data'!J67:M67)/SQRT(3) -> 215.62544 | J66: =AVERAGE('Single data'!N67:Q67) -> 58.682229 | K66: ± | L66: =_xlfn.STDEV.S(('Single data'!N67:Q67))/SQRT(3) -> 20.298223 | M66: =AVERAGE('Single data'!R67:U67) -> 88.753256 | N66: ± | O66: =_xlfn.STDEV.S('Single data'!R67:U67)/SQRT(4) -> 5.5410243 | P66: =AVERAGE('Single data'!V67:Y67) -> 38.783887 | Q66: ± | R66: =_xlfn.STDEV.S('Single data'!V67:Y67)/SQRT(4) -> 8.071742 | S66: =AVERAGE('Single data'!Z67:AC67) -> 92.02245 | T66: ± | U66: =_xlfn.STDEV.S('Single data'!Z67:AC67)/SQRT(4) -> 19.311077 | V66: =AVERAGE('Single data'!AD67:AG67) -> 76.369734 | W66: ± | X66: =_xlfn.STDEV.S('Single data'!AD67:AG67)/SQRT(4) -> 36.273255 | AK66: =AVERAGE('Single data'!AX67:BA67) -> 61.097102 | AL66: ± | AM66: =_xlfn.STDEV.S('Single data'!AX67:BA67)/SQRT(4) -> 16.363797 | AN66: =AVERAGE('Single data'!BB67:BE67) -> 41.089555 | AO66: ± | AP66: =_xlfn.STDEV.S('Single data'!BB67:BE67)/SQRT(4) -> 13.205102
C67: 7-HDHA | D67: =AVERAGE('Single data'!D68:I68) -> 100 | E67: ± | F67: =_xlfn.STDEV.S('Single data'!D68:I68)/SQRT(6) -> 0 | G67: =AVERAGE('Single data'!J68:M68) -> 117.76223 | H67: ± | I67: =_xlfn.STDEV.S('Single data'!J68:M68)/SQRT(3) -> 99.596437 | J67: =AVERAGE('Single data'!N68:Q68) -> 35.726048 | K67: ± | L67: =_xlfn.STDEV.S(('Single data'!N68:Q68))/SQRT(3) -> 30.283663 | M67: =AVERAGE('Single data'!R68:U68) -> 49.146601 | N67: ± | O67: =_xlfn.STDEV.S('Single data'!R68:U68)/SQRT(4) -> 7.7076068 | P67: =AVERAGE('Single data'!V68:Y68) -> 21.439992 | Q67: ± | R67: =_xlfn.STDEV.S('Single data'!V68:Y68)/SQRT(4) -> 16.482244 | S67: =AVERAGE('Single data'!Z68:AC68) -> 58.574513 | T67: ± | U67: =_xlfn.STDEV.S('Single data'!Z68:AC68)/SQRT(4) -> 7.92656 | V67: =AVERAGE('Single data'!AD68:AG68) -> 34.338583 | W67: ± | X67: =_xlfn.STDEV.S('Single data'!AD68:AG68)/SQRT(4) -> 22.668467 | Y67: =AVERAGE('Single data'!AH68:AK68) -> 43.953728 | Z67: ± | AA67: =_xlfn.STDEV.S('Single data'!AH68:AK68)/SQRT(4) -> 7.5549401 | AB67: =AVERAGE('Single data'!AL68:AO68) -> 23.425717 | AC67: ± | AD67: =_xlfn.STDEV.S(('Single data'!AL68:AO68))/SQRT(4) -> 20.964666 | AE67: =AVERAGE('Single data'!AP68:AS68) -> 36.51284 | AF67: ± | AG67: =_xlfn.STDEV.S('Single data'!AP68:AS68)/SQRT(4) -> 13.704147 | AH67: =AVERAGE('Single data'!AT68:AW68) -> 17.699515 | AI67: ± | AJ67: =_xlfn.STDEV.S('Single data'!AT68:AW68)/SQRT(4) -> 11.68438 | AK67: =AVERAGE('Single data'!AX68:BA68) -> 52.826143 | AL67: ± | AM67: =_xlfn.STDEV.S('Single data'!AX68:BA68)/SQRT(4) -> 31.499637 | AN67: =AVERAGE('Single data'!BB68:BE68) -> 7.6934355 | AO67: ± | AP67: =_xlfn.STDEV.S('Single data'!BB68:BE68)/SQRT(4) -> 4.0638383
C68: 4-HDHA | D68: =AVERAGE('Single data'!D69:I69) -> #DIV/0! | E68: ± | F68: =_xlfn.STDEV.S('Single data'!D69:I69)/SQRT(6) -> #DIV/0!
C69: 7-HDPA | D69: =AVERAGE('Single data'!D70:I70) -> 100 | E69: ± | F69: =_xlfn.STDEV.S('Single data'!D70:I70)/SQRT(6) -> 0 | G69: =AVERAGE('Single data'!J70:M70) -> 139.78308 | H69: ± | I69: =_xlfn.STDEV.S('Single data'!J70:M70)/SQRT(3) -> 121.34167 | J69: =AVERAGE('Single data'!N70:Q70) -> 56.545028 | K69: ± | L69: =_xlfn.STDEV.S(('Single data'!N70:Q70))/SQRT(3) -> 42.712869 | M69: =AVERAGE('Single data'!R70:U70) -> 66.588352 | N69: ± | O69: =_xlfn.STDEV.S('Single data'!R70:U70)/SQRT(4) -> 15.981518 | P69: =AVERAGE('Single data'!V70:Y70) -> 50.301728 | Q69: ± | R69: =_xlfn.STDEV.S('Single data'!V70:Y70)/SQRT(4) -> 26.532976 | S69: =AVERAGE('Single data'!Z70:AC70) -> 67.870495 | T69: ± | U69: =_xlfn.STDEV.S('Single data'!Z70:AC70)/SQRT(4) -> 11.969408 | V69: =AVERAGE('Single data'!AD70:AG70) -> 34.788473 | W69: ± | X69: =_xlfn.STDEV.S('Single data'!AD70:AG70)/SQRT(4) -> 19.341146 | AK69: =AVERAGE('Single data'!AX70:BA70) -> 46.563861 | AL69: ± | AM69: =_xlfn.STDEV.S('Single data'!AX70:BA70)/SQRT(4) -> 24.376302 | AN69: =AVERAGE('Single data'!BB70:BE70) -> 22.911438 | AO69: ± | AP69: =_xlfn.STDEV.S('Single data'!BB70:BE70)/SQRT(4) -> 16.045911
C70: 11-HEPE | D70: =AVERAGE('Single data'!D71:I71) -> #DIV/0! | E70: ± | F70: =_xlfn.STDEV.S('Single data'!D71:I71)/SQRT(6) -> #DIV/0!
C71: 11-HETE | D71: =AVERAGE('Single data'!D72:I72) -> 100 | E71: ± | F71: =_xlfn.STDEV.S('Single data'!D72:I72)/SQRT(6) -> 0 | G71: =AVERAGE('Single data'!J72:M72) -> 255.38157 | H71: ± | I71: =_xlfn.STDEV.S('Single data'!J72:M72)/SQRT(3) -> 181.83733 | J71: =AVERAGE('Single data'!N72:Q72) -> 39.146677 | K71: ± | L71: =_xlfn.STDEV.S(('Single data'!N72:Q72))/SQRT(3) -> 22.117399 | M71: =AVERAGE('Single data'!R72:U72) -> 80.092737 | N71: ± | O71: =_xlfn.STDEV.S('Single data'!R72:U72)/SQRT(4) -> 9.3938593 | P71: =AVERAGE('Single data'!V72:Y72) -> 29.518294 | Q71: ± | R71: =_xlfn.STDEV.S('Single data'!V72:Y72)/SQRT(4) -> 7.261974 | S71: =AVERAGE('Single data'!Z72:AC72) -> 77.119006 | T71: ± | U71: =_xlfn.STDEV.S('Single data'!Z72:AC72)/SQRT(4) -> 15.727911 | V71: =AVERAGE('Single data'!AD72:AG72) -> 64.181789 | W71: ± | X71: =_xlfn.STDEV.S('Single data'!AD72:AG72)/SQRT(4) -> 48.93239 | Y71: =AVERAGE('Single data'!AH72:AK72) -> 99.676064 | Z71: ± | AA71: =_xlfn.STDEV.S('Single data'!AH72:AK72)/SQRT(4) -> 22.842135 | AB71: =AVERAGE('Single data'!AL72:AO72) -> 42.691462 | AC71: ± | AD71: =_xlfn.STDEV.S(('Single data'!AL72:AO72))/SQRT(4) -> 32.029283 | AE71: =AVERAGE('Single data'!AP72:AS72) -> 83.668926 | AF71: ± | AG71: =_xlfn.STDEV.S('Single data'!AP72:AS72)/SQRT(4) -> 13.348704 | AH71: =AVERAGE('Single data'!AT72:AW72) -> 64.809908 | AI71: ± | AJ71: =_xlfn.STDEV.S('Single data'!AT72:AW72)/SQRT(4) -> 27.001156 | AK71: =AVERAGE('Single data'!AX72:BA72) -> 77.292201 | AL71: ± | AM71: =_xlfn.STDEV.S('Single data'!AX72:BA72)/SQRT(4) -> 4.0538163 | AN71: =AVERAGE('Single data'!BB72:BE72) -> 29.582353 | AO71: ± | AP71: =_xlfn.STDEV.S('Single data'!BB72:BE72)/SQRT(4) -> 12.338596

Sheet Single data
A1: Table S7 Effect of LCMs on the lipid mediator profile of LPS- and A23187-treated peripheral blood mononuclear cells
D3: aa | E3: ac | F3: aae | G3: aaf | H3: aai | I3: aab | J3: aa | K3: ac | L3: aae | M3: aaf | N3: aa | O3: ac | P3: aae | Q3: aaf | R3: aa | S3: ac | T3: aae | U3: aaf | V3: aa | W3: ac | X3: aae | Y3: aaf | Z3: aa | AA3: ac | AB3: aae | AC3: aaf | AD3: aa | AE3: ac | AF3: aae | AG3: aaf | AH3: aae | AI3: aaf | AJ3: aai | AK3: aab | AL3: aae | AM3: aaf | AN3: aai | AO3: aab | AP3: aae | AQ3: aaf | AR3: aai | AS3: aab | AT3: aae | AU3: aaf | AV3: aai | AW3: aab | AX3: aa | AY3: ac | AZ3: aae | BA3: aaf | BB3: aa | BC3: ac | BD3: aae | BE3: aaf | BG3: ab | BH3: aag | BI3: aad | BJ3: aaa | BK3: aac | BM3: ab | BN3: aag | BO3: aad | BP3: aaa | BQ3: ab | BR3: aag | BS3: aad | BT3: aaa | BU3: ab | BV3: aag | BW3: aad | BX3: aaa | BY3: ab | BZ3: aag | CA3: aad | CB3: aaa | CC3: ab | CD3: aag | CE3: aad | CF3: aaa | CG3: ab | CH3: aag | CI3: aad | CJ3: aaa | CK3: aag | CL3: aad | CM3: aaa | CN3: aac | CO3: aag | CP3: aad | CQ3: aaa | CR3: aac | CS3: aag | CT3: aad | CU3: aaa | CV3: aac | CW3: aag | CX3: aad | CY3: aaa | CZ3: aac | DA3: ab | DB3: aag | DC3: aad | DD3: aaa | DE3: ab | DF3: aag | DG3: aad | DH3: aaa
C4: compound | D4: vehicle (0.1% DMSO) | J4: 2 | R4: 3 | S4: 3 | T4: 3 | U4: 3 | V4: 3 | W4: 3 | X4: 3 | Y4: 3 | Z4: 4 | AA4: 4 | AB4: 4 | AC4: 4 | AD4: 4 | AE4: 4 | AF4: 4 | AG4: 4 | AH4: 6 | AI4: 6 | AJ4: 6 | AK4: 6 | AL4: 6 | AM4: 6 | AN4: 6 | AO4: 6 | AP4: 7 | AQ4: 7 | AR4: 7 | AS4: 7 | AT4: 7 | AU4: 7 | AV4: 7 | AW4: 7 | AX4: 8 | AY4: 8 | AZ4: 8 | BA4: 8 | BB4: 8 | BC4: 8 | BD4: 8 | BE4: 8 | BG4: vehicle (0.1% DMSO) | BM4: 2 | BU4: 3 | BV4: 3 | BW4: 3 | BX4: 3 | BY4: 3 | BZ4: 3 | CA4: 3 | CB4: 3 | CC4: 4 | CD4: 4 | CE4: 4 | CF4: 4 | CG4: 4 | CH4: 4 | CI4: 4 | CJ4: 4 | CK4: 6 | CL4: 6 | CM4: 6 | CN4: 6 | CO4: 6 | CP4: 6 | CQ4: 6 | CR4: 6 | CS4: 7 | CT4: 7 | CU4: 7 | CV4: 7 | CW4: 7 | CX4: 7 | CY4: 7 | CZ4: 7 | DA4: 8 | DB4: 8 | DC4: 8 | DD4: 8 | DE4: 8 | DF4: 8 | DG4: 8 | DH4: 8
C5: conc [µM] | J5: 0.3 | N5: 3 | R5: 0.3 | S5: 0.3 | T5: 0.3 | U5: 0.3 | V5: 3 | W5: 3 | X5: 3 | Y5: 3 | Z5: 0.3 | AA5: 0.3 | AB5: 0.3 | AC5: 0.3 | AD5: 3 | AE5: 3 | AF5: 3 | AG5: 3 | AH5: 0.3 | AI5: 0.3 | AJ5: 0.3 | AK5: 0.3 | AL5: 3 | AM5: 3 | AN5: 3 | AO5: 3 | AP5: 0.3 | AQ5: 0.3 | AR5: 0.3 | AS5: 0.3 | AT5: 3 | AU5: 3 | AV5: 3 | AW5: 3 | AX5: 0.3 | AY5: 0.3 | AZ5: 0.3 | BA5: 0.3 | BB5: 3 | BC5: 3 | BD5: 3 | BE5: 3 | BM5: 0.3 | BQ5: 3 | BU5: 0.3 | BV5: 0.3 | BW5: 0.3 | BX5: 0.3 | BY5: 3 | BZ5: 3 | CA5: 3 | CB5: 3 | CC5: 0.3 | CD5: 0.3 | CE5: 0.3 | CF5: 0.3 | CG5: 3 | CH5: 3 | CI5: 3 | CJ5: 3 | CK5: 0.3 | CL5: 0.3 | CM5: 0.3 | CN5: 0.3 | CO5: 3 | CP5: 3 | CQ5: 3 | CR5: 3 | CS5: 0.3 | CT5: 0.3 | CU5: 0.3 | CV5: 0.3 | CW5: 3 | CX5: 3 | CY5: 3 | CZ5: 3 | DA5: 0.3 | DB5: 0.3 | DC5: 0.3 | DD5: 0.3 | DE5: 3 | DF5: 3 | DG5: 3 | DH5: 3
C7: stimulus | D7: A23187 | E7: A23187 | F7: A23187 | G7: A23187 | H7: A23187 | I7: A23187 | J7: A23187 | K7: A23187 | L7: A23187 | M7: A23187 | N7: A23187 | O7: A23187 | P7: A23187 | Q7: A23187 | R7: A23187 | S7: A23187 | T7: A23187 | U7: A23187 | V7: A23187 | W7: A23187 | X7: A23187 | Y7: A23187 | Z7: A23187 | AA7: A23187 | AB7: A23187 | AC7: A23187 | AD7: A23187 | AE7: A23187 | AF7: A23187 | AG7: A23187 | AH7: A23187 | AI7: A23187 | AJ7: A23187 | AK7: A23187 | AL7: A23187 | AM7: A23187 | AN7: A23187 | AO7: A23187 | AP7: A23187 | AQ7: A23187 | AR7: A23187 | AS7: A23187 | AT7: A23187 | AU7: A23187 | AV7: A23187 | AW7: A23187 | AX7: A23187 | AY7: A23187 | AZ7: A23187 | BA7: A23187 | BB7: A23187 | BC7: A23187 | BD7: A23187 | BE7: A23187 | BG7: LPS | BH7: LPS | BI7: LPS | BJ7: LPS | BK7: LPS | BM7: LPS | BN7: LPS | BO7: LPS | BP7: LPS | BQ7: LPS | BR7: LPS | BS7: LPS | BT7: LPS | BU7: LPS | BV7: LPS | BW7: LPS | BX7: LPS | BY7: LPS | BZ7: LPS | CA7: LPS | CB7: LPS | CC7: LPS | CD7: LPS | CE7: LPS | CF7: LPS | CG7: LPS | CH7: LPS | CI7: LPS | CJ7: LPS | CK7: LPS | CL7: LPS | CM7: LPS | CN7: LPS | CO7: LPS | CP7: LPS | CQ7: LPS | CR7: LPS | CS7: LPS | CT7: LPS | CU7: LPS | CV7: LPS | CW7: LPS | CX7: LPS | CY7: LPS | CZ7: LPS | DA7: LPS | DB7: LPS | DC7: LPS | DD7: LPS | DE7: LPS | DF7: LPS | DG7: LPS | DH7: LPS
A9: pg per 5 * 106 cells | B9: SPM | C9: RvD5 | D9: 0.28284636 | E9: 2.9004153 | F9: 2.5261758 | G9: 5.3753065 | H9: 2.571352 | I9: 5.8277777 | K9: 0.81526305 | L9: 1.5394283 | M9: 1.4222305 | O9: 0.5911489 | P9: 0.5249301 | Q9: 0 | R9: 0.40311756 | S9: 0.80925487 | T9: 1.6290785 | U9: 2.2515575 | V9: 0.20259693 | W9: 0.11766409 | X9: 0.9876356 | Y9: 0.87839278 | Z9: 0.33980667 | AA9: 0.215597 | AB9: 1.5358934 | AC9: 3.0216884 | AD9: 0.44428452 | AE9: 0.14641459 | AF9: 1.1516615 | AG9: 0 | AH9: 1.1721042 | AI9: 1.6654941 | AJ9: 5.0919269 | AK9: 0 | AL9: 3.40824 | AM9: 0.77468883 | AN9: 0 | AO9: 0.505925 | AP9: 1.9572367 | AQ9: 2.81438 | AR9: 2.2835273 | AS9: 0 | AT9: 2.4804006 | AU9: 1.189688 | AV9: 0.2891498 | AW9: 0 | AX9: 0.058302025 | AY9: 0.2934531 | AZ9: 4.8010771 | BA9: 0.36713184 | BB9: 0.143301 | BC9: 0.68086066 | BD9: 0.39429136 | BE9: 0.68716153
B10: SPM precursor | C10: 17-HDHA | D10: 25.393907 | E10: 34.229956 | F10: 290.00903 | G10: 56.358353 | H10: 6.4337042 | I10: 57.871075 | K10: 43.556359 | L10: 1283.6852 | M10: 38.915811 | O10: 78.473697 | P10: 323.61427 | Q10: 17.15598 | R10: 19.22103 | S10: 9.2439327 | T10: 239.07554 | U10: 52.074758 | V10: 14.316005 | W10: 7.7153533 | X10: 268.55155 | Y10: 25.532601 | Z10: 21.958045 | AA10: 8.9413842 | AB10: 338.70384 | AC10: 45.322868 | AD10: 9.9518279 | AE10: 14.69537 | AF10: 466.39386 | AG10: 29.768889 | AH10: 320.79611 | AI10: 25.847489 | AJ10: 4.1374246 | AK10: 65.35622 | AL10: 362.85194 | AM10: 11.06644 | AN10: 3.1527044 | AO10: 16.872102 | AP10: 462.0839 | AQ10: 42.0381 | AR10: 3.7274039 | AS10: 54.13206 | AT10: 236.5781 | AU10: 46.159482 | AV10: 7.2486619 | AW10: 53.856 | AX10: 26.810816 | AY10: 7.5828388 | AZ10: 36.92862 | BA10: 22.090296 | BB10: 22.091605 | BC10: 76.398526 | BD10: 4.88648 | BE10: 35.386521
C11: 17-HDPA | D11: 23.513875 | E11: 69.403508 | F11: 336.39573 | G11: 59.750724 | H11: 0 | I11: 79.654531 | K11: 54.612986 | L11: 1414.8254 | M11: 37.452468 | O11: 127.59696 | P11: 377.343 | Q11: 26.224945 | R11: 18.112882 | S11: 20.644579 | T11: 302.47141 | U11: 34.92026 | V11: 32.048744 | W11: 15.985425 | X11: 268.65065 | Y11: 21.213979 | Z11: 19.493119 | AA11: 17.278127 | AB11: 360.69683 | AC11: 43.38498 | AD11: 15.62788 | AE11: 25.203405 | AF11: 445.27236 | AG11: 25.350364 | AX11: 27.861385 | AY11: 16.610487 | AZ11: 43.114503 | BA11: 30.073877 | BB11: 40.185871 | BC11: 114.07234 | BD11: 4.5674701 | BE11: 37.930547
C12: 15-HETE | D12: 331.81127 | E12: 228.58366 | F12: 527.93426 | G12: 572.36751 | H12: 79.801007 | I12: 552.8453 | K12: 172.57047 | L12: 2252.8308 | M12: 526.45969 | O12: 111.84045 | P12: 321.49538 | Q12: 114.10406 | R12: 234.31235 | S12: 118.21967 | T12: 378.26329 | U12: 527.02496 | V12: 36.067965 | W12: 62.002778 | X12: 225.3062 | Y12: 195.24207 | Z12: 235.76371 | AA12: 161.65466 | AB12: 450.76827 | AC12: 496.68909 | AD12: 25.529603 | AE12: 122.1025 | AF12: 957.72422 | AG12: 119.57549 | AH12: 565.86045 | AI12: 512.89 | AJ12: 63.96118 | AK12: 538.41231 | AL12: 549.13764 | AM12: 49.062 | AN12: 4.8884482 | AO12: 148.64068 | AP12: 395.69275 | AQ12: 486.7525 | AR12: 77.40525 | AS12: 612.08836 | AT12: 523.40396 | AU12: 399.49 | AV12: 72.2449 | AW12: 483.51292 | AX12: 258.24719 | AY12: 191.56082 | AZ12: 436.93141 | BA12: 456.32407 | BB12: 125.62406 | BC12: 215.37807 | BD12: 9.33725 | BE12: 346.35714
C13: 14-HDHA | D13: 430.77789 | E13: 144.30254 | F13: 390.56448 | G13: 1109.9213 | H13: 82.022508 | I13: 1404.3931 | K13: 79.840564 | L13: 843.10362 | M13: 781.4214 | O13: 33.813585 | P13: 248.38579 | Q13: 75.028642 | R13: 338.99073 | S13: 74.812343 | T13: 181.69382 | U13: 912.15653 | V13: 40.876277 | W13: 54.522735 | X13: 171.28285 | Y13: 298.20232 | Z13: 389.37814 | AA13: 122.32204 | AB13: 226.67314 | AC13: 942.59086 | AD13: 49.832512 | AE13: 91.7399 | AF13: 445.57406 | AG13: 424.00033 | AH13: 200.97512 | AI13: 840.028 | AJ13: 82.859687 | AK13: 1286.9433 | AL13: 269.64809 | AM13: 53.0544 | AN13: 3.0917599 | AO13: 465.00153 | AP13: 380.0576 | AQ13: 593.704 | AR13: 83.220067 | AS13: 1353.7313 | AT13: 178.09499 | AU13: 780.21176 | AV13: 93.599751 | AW13: 1298.3745 | AX13: 376.93239 | AY13: 104.94887 | AZ13: 655.35365 | BA13: 865.52593 | BB13: 288.91819 | BC13: 96.419152 | BD13: 14.13205 | BE13: 705.90588
C14: 18-HEPE | D14: 11.008368 | E14: 2.1998814 | F14: 245.27454 | G14: 17.906256 | H14: 0 | I14: 4.874442 | K14: 0.89277148 | L14: 942.65884 | M14: 9.5251085 | O14: 0.41353713 | P14: 263.89075 | Q14: 8.8569735 | R14: 3.8764954 | S14: 8.1475637 | T14: 241.73088 | U14: 10.617232 | V14: 0.84885862 | W14: 2.3199626 | X14: 180.02008 | Y14: 3.9718563 | Z14: 3.4448158 | AA14: 2.8245982 | AB14: 229.98887 | AC14: 10.607575 | AD14: 1.1400667 | AE14: 5.3869874 | AF14: 405.15773 | AG14: 5.864841 | AX14: 5.9576795 | AY14: 2.0169877 | AZ14: 16.785355 | BA14: 11.609401 | BB14: 6.2834912 | BC14: 1.4029587 | BD14: 1.6359304 | BE14: 6.8234847
B15: ALOX 12/15 | C15: 15-HEPE | D15: 4.8158646 | E15: 4.7133867 | F15: 58.004924 | G15: 14.359792 | H15: 3.5564466 | I15: 12.98867 | K15: 4.3398061 | L15: 173.01222 | M15: 16.657895 | O15: 4.1755467 | P15: 44.601472 | Q15: 3.4713765 | R15: 3.3959414 | S15: 1.7841058 | T15: 36.466756 | U15: 16.083656 | V15: 0.20462833 | W15: 0.55637318 | X15: 36.237883 | Y15: 5.740867 | Z15: 3.5469833 | AA15: 1.9473227 | AB15: 51.252976 | AC15: 10.682919 | AD15: 0.75109133 | AE15: 2.056476 | AF15: 108.13264 | AG15: 4.4974725 | AH15: 47.068644 | AI15: 12.196714 | AJ15: 1.1262971 | AK15: 12.753626 | AL15: 63.254732 | AM15: 2.2353 | AN15: 0.16461865 | AO15: 3.2208511 | AP15: 412.31063 | AQ15: 8.64316 | AR15: 1.8557957 | AS15: 17.171463 | AT15: 42.064661 | AU15: 11.58499 | AV15: 2.4682083 | AW15: 14.378867 | AX15: 5.7962322 | AY15: 2.420008 | AZ15: 10.65655 | BA15: 9.7138963 | BB15: 3.1978574 | BC15: 6.0732186 | BD15: 0.1385886 | BE15: 10.56915
C16: 14-HDPA | D16: 880.66947 | E16: 628.18138 | F16: 632.94806 | G16: 2878.2298 | H16: 136.32333 | I16: 2465.9949 | K16: 324.47626 | L16: 1614.073 | M16: 1749.5097 | O16: 102.99995 | P16: 473.75663 | Q16: 211.73702 | R16: 669.49953 | S16: 313.03797 | T16: 380.85952 | U16: 2227.7776 | V16: 110.43824 | W16: 188.39965 | X16: 362.10935 | Y16: 461.17345 | Z16: 823.04281 | AA16: 590.96204 | AB16: 417.83693 | AC16: 2604.1595 | AD16: 123.61397 | AE16: 404.98602 | AF16: 581.66209 | AG16: 870.13412 | AH16: 399.57086 | AI16: 1909.6572 | AJ16: 111.52986 | AK16: 2050.0193 | AL16: 432.77952 | AM16: 66.87015 | AN16: 3.5321956 | AO16: 263.0686 | AP16: 0.14546933 | AQ16: 1471.7404 | AR16: 142.73166 | AS16: 2209.2896 | AT16: 322.33444 | AU16: 1838.9291 | AV16: 152.05237 | AW16: 2157.5363 | AX16: 810.95098 | AY16: 395.48778 | AZ16: 1917.1303 | BA16: 2017.8245 | BB16: 789.48087 | BC16: 299.60379 | BD16: 17.971353 | BE16: 1555.3531
C17: 12-HEPE | D17: 334.59144 | E17: 203.51405 | F17: 185.4973 | G17: 1326.3777 | H17: 115.73267 | I17: 1303.8021 | K17: 154.44961 | L17: 106.10592 | M17: 1385.7026 | O17: 36.504309 | P17: 29.18935 | Q17: 117.15939 | R17: 276.22048 | S17: 145.46484 | T17: 23.109454 | U17: 1264.2863 | V17: 44.959448 | W17: 81.528689 | X17: 27.470554 | Y17: 557.5864 | Z17: 313.98351 | AA17: 196.98238 | AB17: 31.810299 | AC17: 1290.3239 | AD17: 22.462082 | AE17: 140.568 | AF17: 84.999713 | AG17: 446.2842 | AH17: 26.833579 | AI17: 1168.1561 | AJ17: 120.92547 | AK17: 1286.8141 | AL17: 48.859094 | AM17: 97.2262 | AN17: 4.8326291 | AO17: 280.74056 | AP17: 410.48642 | AQ17: 819.98 | AR17: 134.15598 | AS17: 1553.5666 | AT17: 22.419831 | AU17: 1099.7379 | AV17: 182.34793 | AW17: 1523.9469 | AX17: 257.14392 | AY17: 194.2426 | AZ17: 870.52846 | BA17: 1203.9389 | BB17: 170.20912 | BC17: 186.80747 | BD17: 7.67267 | BE17: 1033.5882
C18: 12-HETE | D18: 29985.287 | E18: 17364.014 | F18: 10764.52 | G18: 66626.667 | H18: 6439.567 | I18: 61351.204 | K18: 14046.373 | L18: 1552.5027 | M18: 61996.167 | O18: 3800.8793 | P18: 469.769 | Q18: 7834.6272 | R18: 24937.088 | S18: 11377.058 | T18: 354.76861 | U18: 66427.101 | V18: 4096.1143 | W18: 8448.909 | X18: 335.69397 | Y18: 32049.65 | Z18: 28613.681 | AA18: 18429.834 | AB18: 353.56416 | AC18: 66615.838 | AD18: 2217.4611 | AE18: 14556.96 | AF18: 686.85486 | AG18: 25816.367 | AH18: 402.64231 | AI18: 66032.271 | AJ18: 7115.2366 | AK18: 63464.598 | AL18: 451.84867 | AM18: 6826.332 | AN18: 342.95349 | AO18: 21019.486 | AP18: 426.13302 | AQ18: 38873.7 | AR18: 7295.941 | AS18: 23164.37 | AT18: 290.05355 | AU18: 55671.939 | AV18: 9819.4782 | AW18: 57249.621 | AX18: 25221.018 | AY18: 16775.428 | AZ18: 44611.257 | BA18: 59632.889 | BB18: 14688.782 | BC18: 15181.731 | BD18: 227.7282 | BE18: 51803.798
B19: ALOX5 | C19: LTB4 isomers | D19: 2833.5215 | E19: 13836.069 | F19: 4854.5256 | G19: 5917.2082 | H19: 4257.5278 | I19: 6491.2775 | J19: 239.38691 | K19: 942.85541 | L19: 550.28498 | M19: 1717.3553 | N19: 5.8664963 | O19: 18.074937 | P19: 13.71195 | Q19: 7.0113795 | R19: 815.93599 | S19: 5732.9883 | T19: 3621.8757 | U19: 5568.5301 | V19: 2.6933236 | W19: 49.385599 | X19: 15.101506 | Y19: 76.461071 | Z19: 543.48276 | AA19: 9830.019 | AB19: 2306.149 | AC19: 5975.5998 | AD19: 4.2851659 | AE19: 1056.7143 | AF19: 4.9840467 | AG19: 7.6383673 | AH19: 2016.5989 | AI19: 3279.008 | AJ19: 982.29338 | AK19: 2249.745 | AL19: 3.878178 | AM19: 5.9817526 | AN19: 2.0101403 | AO19: 11.377712 | AP19: 2833.2415 | AQ19: 4018.869 | AR19: 1917.4294 | AS19: 1959.2211 | AT19: 731.4267 | AU19: 30.245581 | AV19: 9.9003848 | AW19: 56.330137 | AX19: 599.63959 | AY19: 1825.994 | AZ19: 1855.6099 | BA19: 499.57849 | BB19: 8.025504 | BC19: 218.81579 | BD19: 465.08112 | BE19: 17.614556
C20: LTB4 | D20: 12189.248 | E20: 24988.89 | F20: 17349.977 | G20: 20864.48 | H20: 15401.438 | I20: 28568.061 | J20: 1598.9367 | K20: 5644.519 | L20: 2565.8449 | M20: 8605.9862 | N20: 21.91101 | O20: 101.91188 | P20: 39.207718 | Q20: 13.313743 | R20: 4409.7719 | S20: 14667.516 | T20: 15344.291 | U20: 20690.039 | V20: 2.0981595 | W20: 227.83045 | X20: 72.710957 | Y20: 586.76036 | Z20: 3919.8694 | AA20: 19207.38 | AB20: 10767.119 | AC20: 21174.572 | AD20: 17.990201 | AE20: 2892.6471 | AF20: 20.125284 | AG20: 23.71914 | AH20: 9442.8045 | AI20: 14843.591 | AJ20: 4057.6393 | AK20: 12294.737 | AL20: 6.42285 | AM20: 18.961297 | AN20: 3.9225655 | AO20: 36.442 | AP20: 9711.8844 | AQ20: 15843.03 | AR20: 7053.4011 | AS20: 12291.805 | AT20: 3269.9889 | AU20: 138.86336 | AV20: 54.224977 | AW20: 239.07981 | AX20: 2390.5897 | AY20: 7111.3253 | AZ20: 7697.3449 | BA20: 3335.3154 | BB20: 3.872061 | BC20: 687.51788 | BD20: 2178.6567 | BE20: 58.238381
C21: 20-OH-LTB4 | D21: 81.666136 | E21: 291.51794 | F21: 240.57994 | G21: 320.3735 | H21: 224.05856 | I21: 621.62858 | J21: 34.569485 | K21: 126.88676 | L21: 108.30069 | M21: 166.06655 | N21: 0.12232021 | O21: 3.6162239 | P21: 1.8344788 | Q21: 3.5396189 | R21: 43.380105 | S21: 190.13086 | T21: 224.15429 | U21: 295.10212 | V21: 0.10568231 | W21: 7.3935075 | X21: 5.3017739 | Y21: 27.402002 | Z21: 36.396753 | AA21: 222.3081 | AB21: 195.00363 | AC21: 297.00072 | AD21: 0.04654047 | AE21: 61.297641 | AF21: 0.5646236 | AG21: 1.5044882 | AH21: 175.22484 | AI21: 228.46369 | AJ21: 109.1505 | AK21: 384.70773 | AL21: 0.455749 | AM21: 0.98074287 | AN21: 1.1591314 | AO21: 3.047196 | AP21: 173.59775 | AQ21: 218.1333 | AR21: 140.21026 | AS21: 422.94535 | AT21: 67.628466 | AU21: 8.1141311 | AV21: 2.9650757 | AW21: 13.357382 | AX21: 28.51448 | AY21: 147.6796 | AZ21: 141.88795 | BA21: 102.20565 | BB21: 0.052185 | BC21: 19.325455 | BD21: 41.410184 | BE21: 3.0914485
C22: 5-HEPE
C23: 5-HETE | D23: 7895.3797 | E23: 32464.943 | F23: 7035.6086 | G23: 28061.662 | H23: 11035.001 | I23: 15709.903 | K23: 2764.0103 | L23: 172.95445 | M23: 7160.5594 | O23: 49.65143 | P23: 32.614355 | Q23: 39.627417 | R23: 2206.2359 | S23: 14435.842 | T23: 35.342682 | U23: 24472.576 | V23: 18.957624 | W23: 129.81953 | X23: 66.419089 | Y23: 437.73771 | Z23: 1819.4382 | AA23: 19713.409 | AB23: 33.632609 | AC23: 25536.924 | AD23: 89.37768 | AE23: 2621.448 | AF23: 42.20278 | AG23: 51.008931 | AH23: 39.702791 | AI23: 14729.206 | AJ23: 1984.3322 | AK23: 5306.2681 | AL23: 34.851328 | AM23: 72.43808 | AN23: 4.3029631 | AO23: 19.377702 | AP23: 446.01797 | AQ23: 18806.04 | AR23: 4794.6356 | AS23: 4719.1881 | AT23: 35.213798 | AU23: 336.8624 | AV23: 27.441368 | AW23: 79.837168 | AX23: 1215.5814 | AY23: 4807.3369 | AZ23: 25215.125 | BA23: 1794.0667 | BB23: 27.005611 | BC23: 567.03445 | BD23: 25.70792 | BE23: 42.461647
B24: PUFA | C24: AA | D24: 549023.59 | E24: 1154881.9 | F24: 1587647.1 | G24: 630471.67 | H24: 179828.62 | I24: 1703512.1 | K24: 942320.5 | L24: 12591978 | M24: 440307.66 | O24: 255977.78 | P24: 1960567.2 | Q24: 514010.05 | R24: 278338.08 | S24: 996834.91 | T24: 1281607.4 | U24: 474674.16 | V24: 123382.2 | W24: 274129.6 | X24: 1434833.3 | Y24: 120203.5 | Z24: 280064.26 | AA24: 765122 | AB24: 1249162 | AC24: 352050 | AD24: 82229.492 | AE24: 449155.26 | AF24: 1543209.5 | AG24: 39158.503 | AH24: 1891450.6 | AI24: 369259.67 | AJ24: 161325.11 | AK24: 2017761.9 | AL24: 612567 | AM24: 42601.008 | AN24: 9731.3234 | AO24: 1563449 | AP24: 5286.3381 | AQ24: 512694.17 | AR24: 153428.06 | AS24: 2068792.1 | AT24: 1371845 | AU24: 251235.68 | AV24: 190348.23 | AW24: 1987045.1 | AX24: 364754.03 | AY24: 1329800.9 | AZ24: 592563.67 | BA24: 879070.96 | BB24: 278426.17 | BC24: 863508.24 | BD24: 14711.723 | BE24: 807205.2
C25: EPA | D25: 11223.441 | E25: 21083.199 | F25: 96401.108 | G25: 15776.998 | H25: 4988.4227 | I25: 2604.2689 | K25: 14001.4 | L25: 783124.68 | M25: 12905.286 | O25: 5059.9654 | P25: 139864.35 | Q25: 36542.179 | R25: 5337.0076 | S25: 14837.847 | T25: 87739.407 | U25: 10413.539 | V25: 2324.7593 | W25: 2976.2976 | X25: 99583.513 | Y25: 2061.2462 | Z25: 6034.7184 | AA25: 12120.39 | AB25: 91022.129 | AC25: 8458.38 | AD25: 2130.4119 | AE25: 7139.826 | AF25: 69748.296 | AG25: 1535.4806 | AH25: 116559.28 | AI25: 8392.5239 | AJ25: 4433.957 | AK25: 3280.4974 | AL25: 36496.8 | AM25: 1313.3004 | AN25: 370.98581 | AO25: 1849.3059 | AP25: 48726.986 | AQ25: 14813.956 | AR25: 4755.279 | AS25: 3048.3103 | AT25: 91065.3 | AU25: 9303.5455 | AV25: 5709.5557 | AW25: 3214.2887 | AX25: 7492.7168 | AY25: 21220.665 | AZ25: 12768.337 | BA25: 27742.5 | BB25: 6467.2768 | BC25: 14005.4 | BD25: 769.14887 | BE25: 23876.012
C26: DHA | D26: 61918.466 | E26: 58218.311 | F26: 1321493.3 | G26: 63546.85 | H26: 15763.987 | I26: 102815.63 | K26: 36272.889 | L26: 14412022 | M26: 38419.721 | O26: 17005.575 | P26: 2082186 | Q26: 72115.061 | R26: 39440.204 | S26: 36389.571 | T26: 1421602.8 | U26: 38651.685 | V26: 27439.205 | W26: 18450.289 | X26: 1539654.3 | Y26: 14491.915 | Z26: 35404.8 | AA26: 35088 | AB26: 1455408.7 | AC26: 35913.6 | AD26: 24853.284 | AE26: 21355.287 | AF26: 1787965 | AG26: 7781.3904 | AH26: 2267723 | AI26: 31815.43 | AJ26: 13885.987 | AK26: 134854.2 | AL26: 613008 | AM26: 6634.2857 | AN26: 1898.3953 | AO26: 82462.702 | AP26: 8832.9371 | AQ26: 55908.35 | AR26: 13831.51 | AS26: 97250.625 | AT26: 1697417.1 | AU26: 29787.273 | AV26: 12844.754 | AW26: 97322.185 | AX26: 46277.695 | AY26: 44303.555 | AZ26: 52518.385 | BA26: 87318.323 | BB26: 43134.848 | BC26: 33810.797 | BD26: 3056.3189 | BE26: 89479.769
C27: DPA | D27: 1556.5357 | E27: 3498.0043 | F27: 47048.464 | G27: 2506.8957 | H27: 444.63695 | I27: 3352.8393 | K27: 2056.8156 | L27: 395497.43 | M27: 1212.3677 | O27: 763.30378 | P27: 78621.529 | Q27: 2013.1235 | R27: 932.07866 | S27: 1933.8364 | T27: 44236.726 | U27: 1602.2472 | V27: 671.30092 | W27: 735.74656 | X27: 47501.165 | Y27: 392.35258 | Z27: 650.24772 | AA27: 2365.92 | AB27: 48659.161 | AC27: 1447.08 | AD27: 630.40459 | AE27: 982.89793 | AF27: 50472.816 | AG27: 222.30481 | AH27: 69191.518 | AI27: 1233.4113 | AJ27: 312.46815 | AK27: 3766.9642 | AL27: 18190.8 | AM27: 226.48235 | AN27: 45.135029 | AO27: 2544.0452 | AP27: 9521.4286 | AQ27: 2156.1553 | AR27: 343.91685 | AS27: 2926.2941 | AT27: 46437.281 | AU27: 1077.9545 | AV27: 326.09743 | AW27: 3378.0252 | AX27: 1026.3536 | AY27: 2524.9685 | AZ27: 2083.8826 | BA27: 3157.5449 | BB27: 1105.1707 | BC27: 1227.4512 | BD27: 91.808028 | BE27: 3096.4162
B28: PTGS | C28: PGE2 | D28: 3333572.1 | E28: 1442245.7 | F28: 612.95102 | G28: 609.39141 | H28: 150.39692 | I28: 755.56841 | J28: 4274104.2 | K28: 1977876.1 | L28: 880.06953 | M28: 1038.1853 | N28: 578068.82 | O28: 1498530.8 | P28: 1513.6281 | Q28: 615.81986 | R28: 4142544.1 | S28: 2755209.2 | T28: 1258.4117 | U28: 1024.5394 | V28: 2272368.3 | W28: 3170377.7 | X28: 1151.3867 | Y28: 1199.0597 | Z28: 4010870.7 | AA28: 2420484.1 | AB28: 998.69124 | AC28: 908.52859 | AD28: 174155.42 | AE28: 2909041.5 | AF28: 362.68428 | AG28: 362.52883 | AH28: 1003.9483 | AI28: 895.14269 | AJ28: 225.58984 | AK28: 822.08683 | AL28: 653.81388 | AM28: 493.47698 | AN28: 135.135 | AO28: 2791.0805 | AP28: 727.51882 | AQ28: 501.3175 | AR28: 138.1068 | AS28: 547.97332 | AT28: 466.96208 | AU28: 177.606 | AV28: 101.04918 | AW28: 214.84803 | AX28: 2801881.4 | AY28: 1344256.7 | AZ28: 627.12308 | BA28: 472.02882 | BB28: 1012616.6 | BC28: 830209.07 | BD28: 646.074 | BE28: 267.74094 | BG28: 24549761 | BH28: 11405.268 | BI28: 22492.024 | BJ28: 33306.132 | BK28: 14362.513 | BM28: 55241966 | BN28: 10199.806 | BO28: 32718.784 | BP28: 27628.233 | BQ28: 41956197 | BR28: 14538.07 | BS28: 38560.982 | BT28: 28928.848 | BU28: 47890265 | BV28: 12710.022 | BW28: 31671.783 | BX28: 28895.177 | BY28: 57025118 | BZ28: 23431.923 | CA28: 63262.805 | CB28: 44510.382 | CC28: 30019587 | CD28: 10779.969 | CE28: 32102.751 | CF28: 28069.962 | CG28: 13054299 | CH28: 9244.9425 | CI28: 33172.363 | CJ28: 16360.661 | CK28: 12046.32 | CL28: 34842.893 | CM28: 33160.369 | CN28: 13847.417 | CO28: 18402.989 | CP28: 56123.139 | CQ28: 35923.733 | CR28: 11391.36 | CS28: 8994.5638 | CT28: 27069.9 | CU28: 24463.401 | CV28: 16541.502 | CW28: 4318.3296 | CX28: 12455.283 | CY28: 9492.0898 | CZ28: 11100.118 | DA28: 38126760 | DB28: 12476.209 | DC28: 27721.473 | DD28: 28186.314 | DE28: 26915431 | DF28: 6251.8422 | DG28: 20720.7 | DH28: 12644.023
C29: 15-ketoPGE2 | D29: 200.75758 | E29: 207.97732 | F29: 65.143551 | G29: 56.606105 | H29: 33.237858 | I29: 103.84359 | J29: 207.21074 | K29: 303.17288 | L29: 86.149755 | M29: 83.561889 | N29: 10.868157 | O29: 156.39002 | P29: 90.566608 | Q29: 15.182431 | R29: 214.72491 | S29: 203.88319 | T29: 98.974086 | U29: 72.496244 | V29: 29.334434 | W29: 295.5831 | X29: 49.469995 | Y29: 41.842441 | Z29: 177.1833 | AA29: 299.65117 | AB29: 64.664899 | AC29: 54.930255 | AD29: 0.67099861 | AE29: 281.2924 | AF29: 16.719765 | AG29: 12.65328 | AH29: 92.987037 | AI29: 69.479 | AJ29: 50.912689 | AK29: 89.885759 | AL29: 20.471935 | AM29: 13.845465 | AN29: 3.403213 | AO29: 34.27389 | AP29: 61.12587 | AQ29: 45.305312 | AR29: 29.07766 | AS29: 99.101559 | AT29: 40.481246 | AU29: 19.46399 | AV29: 9.6865135 | AW29: 22.582566 | AX29: 181.60369 | AY29: 199.74768 | AZ29: 53.500349 | BA29: 45.949879 | BB29: 42.359986 | BC29: 148.39801 | BD29: 72.840699 | BE29: 21.754396 | BG29: 52.886519 | BH29: 109.25038 | BI29: 213.67476 | BJ29: 232.27931 | BK29: 164.70735 | BM29: 92.120644 | BN29: 98.18849 | BO29: 284.11302 | BP29: 229.88377 | BQ29: 78.860892 | BR29: 112.04502 | BS29: 335.02193 | BT29: 190.36081 | BU29: 92.626347 | BV29: 110.80581 | BW29: 312.69557 | BX29: 226.47571 | BY29: 80.890678 | BZ29: 168.05316 | CA29: 603.61921 | CB29: 259.35183 | CC29: 77.89189 | CD29: 103.22759 | CE29: 325.73872 | CF29: 206.52511 | CG29: 49.93295 | CH29: 72.031381 | CI29: 283.46361 | CJ29: 149.7807 | CK29: 110.45516 | CL29: 314.4755 | CM29: 226.80441 | CN29: 204.83342 | CO29: 176.93861 | CP29: 525.94626 | CQ29: 279.7747 | CR29: 174.5 | CS29: 83.520295 | CT29: 245.92858 | CU29: 173.55791 | CV29: 275.10387 | CW29: 50.426172 | CX29: 112.15142 | CY29: 90.637464 | CZ29: 148.6507 | DA29: 67.176285 | DB29: 99.220535 | DC29: 221.75821 | DD29: 200.62023 | DE29: 59.941971 | DF29: 48.43809 | DG29: 172.8474 | DH29: 109.12895
C30: PGD2 | D30: 206.55707 | E30: 134.20739 | F30: 453.72388 | G30: 627.16672 | H30: 132.96934 | I30: 197.02429 | J30: 229.01946 | K30: 235.04142 | L30: 523.60968 | M30: 1326.7254 | N30: 24.73106 | O30: 64.327772 | P30: 346.09796 | Q30: 257.97766 | R30: 199.8846 | S30: 208.59995 | T30: 419.78139 | U30: 1253.8978 | V30: 80.385496 | W30: 127.39728 | X30: 520.39042 | Y30: 805.97727 | Z30: 154.69339 | AA30: 178.36 | AB30: 189.24195 | AC30: 805.78722 | AD30: 7.2315638 | AE30: 117.3438 | AF30: 402.41067 | AG30: 137.40723 | AH30: 610.8438 | AI30: 865.2041 | AJ30: 54.028763 | AK30: 173.25515 | AL30: 466.67056 | AM30: 174.04369 | AN30: 139.7725 | AO30: 522.79978 | AP30: 579.52153 | AQ30: 230.77532 | AR30: 93.610157 | AS30: 136.1133 | AT30: 467.21374 | AU30: 152.635 | AV30: 106.82987 | AW30: 48.907886 | AX30: 168.98482 | AY30: 188.31353 | AZ30: 508.23615 | BA30: 684.6874 | BB30: 28.906263 | BC30: 106.41877 | BD30: 358.435 | BE30: 705.31052 | BG30: 196.39554 | BH30: 2140.217 | BI30: 2261.4506 | BJ30: 3580.6545 | BK30: 1980.7357 | BM30: 639.74885 | BN30: 1461.2166 | BO30: 811.62375 | BP30: 2179.9165 | BQ30: 409.00176 | BR30: 2325.5663 | BS30: 3014.0837 | BT30: 3167.2615 | BU30: 518.02814 | BV30: 2160.1136 | BW30: 3246.495 | BX30: 3022.0332 | BY30: 754.81743 | BZ30: 4432.4232 | CA30: 3746.7223 | CB30: 6379.6323 | CC30: 292.54607 | CD30: 1666.8912 | CE30: 3594.1942 | CF30: 2517.8243 | CG30: 227.94355 | CH30: 2069.0529 | CI30: 3023.3897 | CJ30: 2048.7407 | CK30: 2332.4 | CL30: 7822.6619 | CM30: 2787.4914 | CN30: 2434.9829 | CO30: 3294.6957 | CP30: 3707.2187 | CQ30: 4657.1048 | CR30: 1650.833 | CS30: 1464.2894 | CT30: 1619.711 | CU30: 2335.5013 | CV30: 3030.4553 | CW30: 681.85905 | CX30: 2648.0724 | CY30: 985.80841 | CZ30: 1280.7524 | DA30: 417.81932 | DB30: 2353.4446 | DC30: 3078.3687 | DD30: 2996.9515 | DE30: 278.03925 | DF30: 985.97008 | DG30: 1399.44 | DH30: 1352.4005
C31: PGF2a | D31: 125.17064 | E31: 56.628952 | F31: 219.04879 | G31: 206.16543 | H31: 81.637928 | I31: 172.05465 | J31: 155.45326 | K31: 101.06368 | L31: 337.11229 | M31: 351.82007 | N31: 25.785524 | O31: 61.591566 | P31: 355.95707 | Q31: 230.94713 | R31: 161.19276 | S31: 139.29539 | T31: 272.31689 | U31: 277.61666 | V31: 59.598466 | W31: 105.03829 | X31: 418.2916 | Y31: 336.8232 | Z31: 149.75417 | AA31: 93.2197 | AB31: 307.2203 | AC31: 276.59266 | AD31: 9.4103998 | AE31: 86.527932 | AF31: 111.56863 | AG31: 125.72394 | AH31: 343.61723 | AI31: 226.30309 | AJ31: 167.6821 | AK31: 156.77237 | AL31: 113.04933 | AM31: 131.15521 | AN31: 41.49328 | AO31: 378.79355 | AP31: 164.64587 | AQ31: 182.95714 | AR31: 83.168157 | AS31: 175.95746 | AT31: 96.756716 | AU31: 84.108 | AV31: 27.726264 | AW31: 50.72706 | AX31: 116.95308 | AY31: 59.534467 | AZ31: 154.3458 | BA31: 229.25303 | BB31: 31.998546 | BC31: 37.843757 | BD31: 184.3367 | BE31: 147.49736 | BG31: 1163.8473 | BH31: 8934.0133 | BI31: 9945.9293 | BJ31: 9419.9637 | BK31: 8121.3423 | BM31: 2497.5065 | BN31: 7167.7545 | BO31: 10599.809 | BP31: 7155.0441 | BQ31: 1932.7196 | BR31: 9080.0118 | BS31: 11130.904 | BT31: 7346.133 | BU31: 2329.7555 | BV31: 8984.376 | BW31: 12088.656 | BX31: 8190.7253 | BY31: 2859.128 | BZ31: 16648 | CA31: 25330.629 | CB31: 13359.742 | CC31: 1346.9427 | CD31: 7270.9112 | CE31: 10218.464 | CF31: 6977.5485 | CG31: 685.675 | CH31: 7990.5055 | CI31: 16872.648 | CJ31: 5077.2358 | CK31: 9812.6 | CL31: 13437.856 | CM31: 9028.8369 | CN31: 8278.168 | CO31: 11399.37 | CP31: 19091.961 | CQ31: 11088.41 | CR31: 6758.178 | CS31: 6101.5632 | CT31: 9033.2496 | CU31: 7038.8923 | CV31: 10563.485 | CW31: 1957.1167 | CX31: 2454.2034 | CY31: 2061.9911 | CZ31: 6362.7729 | DA31: 1766.4596 | DB31: 9000.5613 | DC31: 8874.3909 | DD31: 7638.396 | DE31: 966.25269 | DF31: 4162.9239 | DG31: 5509.074 | DH31: 3410.341
C32: TXB2 | D32: 4486.6514 | E32: 3017.0369 | F32: 6687.4395 | G32: 7325.7334 | H32: 2141.8422 | I32: 21195.514 | J32: 3280.8801 | K32: 2236.6953 | L32: 4857.0606 | M32: 5741.5944 | N32: 121.24925 | O32: 426.9305 | P32: 1921.3439 | Q32: 833.35058 | R32: 3567.1566 | S32: 2409.3259 | T32: 5865.3615 | U32: 6906.7005 | V32: 255.6995 | W32: 542.04233 | X32: 1116.5499 | Y32: 1477.9636 | Z32: 1744.9008 | AA32: 1832.355 | AB32: 4134.8281 | AC32: 4577.6037 | AD32: 75.397887 | AE32: 499.90459 | AF32: 161.67291 | AG32: 476.44192 | AH32: 5739.5983 | AI32: 5589.7734 | AJ32: 1717.4169 | AK32: 14873.142 | AL32: 227.03612 | AM32: 529.46334 | AN32: 42.7965 | AO32: 1780.832 | AP32: 6889.6654 | AQ32: 6053.5079 | AR32: 1980.6885 | AS32: 17001.14 | AT32: 4705.409 | AU32: 1782.495 | AV32: 690.74431 | AW32: 6494.1729 | AX32: 4083.9424 | AY32: 3049.0111 | AZ32: 6472.9698 | BA32: 6045.6991 | BB32: 1001.7876 | BC32: 2119.0446 | BD32: 5650.8 | BE32: 3022.8495 | BG32: 27236.995 | BH32: 123844.34 | BI32: 140639.28 | BJ32: 156632.34 | BK32: 71965.079 | BM32: 61535.149 | BN32: 110542.19 | BO32: 168467.22 | BP32: 137899.44 | BQ32: 36628.1 | BR32: 99102.322 | BS32: 134609.45 | BT32: 106718.1 | BU32: 56997.803 | BV32: 101889.1 | BW32: 160804.04 | BX32: 131628.46 | BY32: 49162.519 | BZ32: 82604.702 | CA32: 128434.65 | CB32: 106941.21 | CC32: 36963.347 | CD32: 102902.68 | CE32: 143868 | CF32: 118342.5 | CG32: 13781.326 | CH32: 23546.261 | CI32: 45818.442 | CJ32: 32322.954 | CK32: 119248.5 | CL32: 169826.43 | CM32: 138637.75 | CN32: 42306.986 | CO32: 78914.86 | CP32: 131349.83 | CQ32: 96817.931 | CR32: 115111.7 | CS32: 102815.37 | CT32: 154652.22 | CU32: 136898.33 | CV32: 85198.498 | CW32: 44927.788 | CX32: 64155.922 | CY32: 66595.371 | CZ32: 115540.9 | DA32: 47122.811 | DB32: 132344.2 | DC32: 152030.27 | DD32: 139126.4 | DE32: 34505.685 | DF32: 77405.477 | DG32: 116340 | DH32: 94941.897
C33: PGE1/PGD1 | D33: 7.1864501 | E33: 2.8735633 | F33: 10.922586 | G33: 11.508404 | H33: 4.0828607 | I33: 0 | J33: 8.9452115 | K33: 3.6548015 | L33: 16.290767 | M33: 18.504248 | N33: 1.8283033 | O33: 2.6771795 | P33: 17.765164 | Q33: 9.2519249 | R33: 9.5231986 | S33: 9.3981388 | T33: 14.814702 | U33: 16.32217 | V33: 4.4076011 | W33: 5.6825956 | X33: 18.742274 | Y33: 16.986882 | Z33: 8.3822009 | AA33: 4.72048 | AB33: 15.350668 | AC33: 13.975419 | AD33: 0.6196847 | AE33: 5.3021848 | AF33: 5.7708203 | AG33: 6.1182022 | AX33: 6.5959174 | AY33: 0.01299991 | AZ33: 8.1412428 | BA33: 9.7509453 | BB33: 7.0470268 | BC33: 1.6736615 | BD33: 8.16672 | BE33: 6.1291656
C34: 13-HDHA | D34: 49.229423 | E34: 28.545752 | F34: 421.69346 | G34: 93.30838 | H34: 0 | I34: 120.15507 | K34: 23.950904 | L34: 3047.3163 | M34: 63.37113 | O34: 14.45074 | P34: 409.75792 | Q34: 26.363335 | R34: 41.134864 | S34: 21.747256 | T34: 426.82533 | U34: 87.760934 | V34: 23.820012 | W34: 8.044613 | X34: 237.26784 | Y34: 20.810452 | Z34: 34.654434 | AA34: 20.934079 | AB34: 632.11228 | AC34: 69.479613 | AD34: 14.731198 | AE34: 16.545747 | AF34: 774.21229 | AG34: 31.722212 | AX34: 32.518331 | AY34: 24.981645 | AZ34: 58.18365 | BA34: 71.86772 | BB34: 24.849234 | BC34: 16.848616 | BD34: 7.7617138 | BE34: 49.470264
C35: 7-HDHA | D35: 77.58698 | E35: 148.41025 | F35: 111.50525 | G35: 230.41271 | H35: 54.238334 | I35: 67.4303 | K35: 18.163282 | L35: 353.28777 | M35: 55.789921 | O35: 13.425865 | P35: 107.21861 | Q35: 4.5530379 | R35: 27.338603 | S35: 54.214991 | T35: 67.307071 | U35: 148.5185 | V35: 5.5435665 | W35: 4.7281564 | X35: 78.974324 | Y35: 10.606989 | Z35: 28.363004 | AA35: 85.639414 | AB35: 76.067748 | AC35: 165.47816 | AD35: 12.937835 | AE35: 22.221323 | AF35: 113.52439 | AG35: 8.9753992 | AH35: 70.485046 | AI35: 99.01926 | AJ35: 23.516657 | AK35: 17.713846 | AL35: 96.091723 | AM35: 12.896386 | AN35: 1.7129586 | AO35: -0.82890485 | AP35: 1.3877704 | AQ35: 153.74164 | AR35: 24.695897 | AS35: 21.948657 | AT35: 58.573594 | AU35: 12.882338 | AV35: 1.7064068 | AW35: 6.4268177 | AX35: 28.182554 | AY35: 24.05884 | AZ35: 162.8305 | BA35: 29.3552 | BB35: 15.271925 | BC35: 3.0353732 | BD35: 3.8211514 | BE35: 12.944552
C36: 4-HDHA
C37: 7-HDPA | D37: 34.434176 | E37: 90.558468 | F37: 80.551748 | G37: 114.94607 | H37: 0 | I37: 63.656521 | K37: 15.638894 | L37: 308.08033 | M37: 22.549237 | O37: 3.8330331 | P37: 87.686534 | Q37: 0 | R37: 15.573693 | S37: 35.775768 | T37: 88.237928 | U37: 82.851232 | V37: 34.322472 | W37: 8.2003152 | X37: 74.491066 | Y37: 0 | Z37: 12.995413 | AA37: 54.588866 | AB37: 73.567869 | AC37: 94.407413 | AD37: 5.7771917 | AE37: 16.738139 | AF37: 74.613206 | AG37: 12.94924 | AX37: 9.1533081 | AY37: 16.676401 | AZ37: 96.275104 | BA37: 24.987854 | BB37: 24.26683 | BC37: 6.1100816 | BD37: 0.93140566 | BE37: 15.252495
C38: 11-HEPE
C39: 11-HETE | D39: 228.54806 | E39: 146.27498 | F39: 349.75299 | G39: 434.53673 | H39: 52.877851 | I39: 744.42477 | K39: 95.923758 | L39: 2164.7546 | M39: 354.70747 | O39: 27.122122 | P39: 291.51123 | Q39: 67.572252 | R39: 147.39915 | S39: 93.086593 | T39: 349.97998 | U39: 400.53095 | V39: 27.220469 | W39: 39.210984 | X39: 164.59422 | Y39: 140.34025 | Z39: 111.81866 | AA39: 101.11131 | AB39: 427.34131 | AC39: 296.53865 | AD39: 8.174147 | AE39: 47.6296 | AF39: 733.81919 | AG39: 46.835325 | AH39: 587.45662 | AI39: 328.98535 | AJ39: 43.396098 | AK39: 543.15429 | AL39: 484.27337 | AM39: 31.57514 | AN39: 3.6544321 | AO39: 134.94066 | AP39: 406.94466 | AQ39: 227.883 | AR39: 47.481002 | AS39: 566.41194 | AT39: 504.13762 | AU39: 125.78852 | AV39: 28.37903 | AW39: 241.80276 | AX39: 160.73375 | AY39: 121.26071 | AZ39: 299.38096 | BA39: 305.66889 | BB39: 53.308947 | BC39: 87.306526 | BD39: 1.328291 | BE39: 151.81849
A42: % of control | B42: SPM | C42: RvD5 | D42: 100 | E42: 100 | F42: 100 | G42: 100 | H42: 100 | I42: 100 | K42: 28.108494 | L42: 60.939083 | M42: 26.458593 | O42: 20.381526 | P42: 20.779635 | R42: 142.52174 | S42: 27.901345 | T42: 64.487931 | U42: 41.887054 | V42: 71.627907 | W42: 4.0568014 | X42: 39.096076 | Y42: 16.341259 | Z42: 120.13825 | AA42: 7.4333148 | AB42: 60.799151 | AC42: 56.214253 | AD42: 157.07627 | AE42: 5.048056 | AF42: 45.58913 | AG42: 0 | AH42: 46.398363 | AI42: 30.98417 | AJ42: 198.02528 | AK42: 0 | AL42: 134.91698 | AM42: 14.411994 | AN42: 0 | AO42: 8.6812681 | AP42: 77.478247 | AQ42: 52.357573 | AR42: 88.806485 | AS42: 0 | AT42: 98.187966 | AU42: 22.132468 | AV42: 11.24505 | AW42: 0 | AX42: 20.612613 | AY42: 10.117624 | AZ42: 190.05317 | BA42: 6.8299704 | BB42: 50.6639 | BC42: 23.474592 | BD42: 15.608231 | BE42: 12.783672
B43: SPM precursor | C43: 17-HDHA | D43: 100 | E43: 100 | F43: 100 | G43: 100 | H43: 100 | I43: 100 | K43: 127.24632 | L43: 442.63628 | M43: 69.050653 | O43: 229.25445 | P43: 111.58765 | Q43: 30.440883 | R43: 75.691504 | S43: 27.005388 | T43: 82.437275 | U43: 92.39936 | V43: 56.375749 | W43: 22.53977 | X43: 92.601098 | Y43: 45.304023 | Z43: 86.46974 | AA43: 26.121518 | AB43: 116.79079 | AC43: 80.419078 | AD43: 39.189826 | AE43: 42.931314 | AF43: 160.82046 | AG43: 52.820721 | AH43: 110.6159 | AI43: 45.862748 | AJ43: 64.308592 | AK43: 112.93417 | AL43: 125.11746 | AM43: 19.635847 | AN43: 49.002943 | AO43: 29.154637 | AP43: 159.33432 | AQ43: 74.590717 | AR43: 57.93558 | AS43: 93.53906 | AT43: 81.576114 | AU43: 81.903533 | AV43: 112.66701 | AW43: 93.062035 | AX43: 105.57972 | AY43: 22.152639 | AZ43: 12.73361 | BA43: 39.196135 | BB43: 86.99569 | BC43: 223.19201 | BD43: 1.6849406 | BE43: 62.788423
C44: 17-HDPA | D44: 100 | E44: 100 | F44: 100 | G44: 100 | H44: 100 | I44: 100 | K44: 78.689087 | L44: 420.58365 | M44: 62.681195 | O44: 183.848 | P44: 112.17235 | Q44: 43.890589 | R44: 77.030615 | S44: 29.745728 | T44: 89.915353 | U44: 58.443242 | V44: 136.29716 | W44: 23.032589 | X44: 79.861492 | Y44: 35.504136 | Z44: 82.900498 | AA44: 24.895179 | AB44: 107.22396 | AC44: 72.609965 | AD44: 66.462377 | AE44: 36.31431 | AF44: 132.36564 | AG44: 42.426874 | AX44: 118.48913 | AY44: 23.933209 | AZ44: 12.816602 | BA44: 50.332238 | BB44: 170.9028 | BC44: 164.36106 | BD44: 1.3577669 | BE44: 63.481318
C45: 15-HETE | D45: 100 | E45: 100 | F45: 100 | G45: 100 | H45: 100 | I45: 100 | K45: 75.49554 | L45: 426.72563 | M45: 91.97931 | O45: 48.92758 | P45: 60.896859 | Q45: 19.935453 | R45: 70.616153 | S45: 51.718339 | T45: 71.649695 | U45: 92.078071 | V45: 10.870024 | W45: 27.124764 | X45: 42.676943 | Y45: 34.111312 | Z45: 71.053558 | AA45: 70.720132 | AB45: 85.38341 | AC45: 86.778001 | AD45: 7.6940133 | AE45: 53.416985 | AF45: 181.40975 | AG45: 20.891383 | AH45: 107.18389 | AI45: 89.60851 | AJ45: 80.150844 | AK45: 97.389325 | AL45: 104.01629 | AM45: 8.5717653 | AN45: 6.1257976 | AO45: 26.886487 | AP45: 74.951142 | AQ45: 85.041951 | AR45: 96.997836 | AS45: 110.71603 | AT45: 99.141882 | AU45: 69.796065 | AV45: 90.531314 | AW45: 87.45899 | AX45: 77.829542 | AY45: 83.803375 | AZ45: 82.762467 | BA45: 79.725712 | BB45: 37.860095 | BC45: 94.222864 | BD45: 1.7686388 | BE45: 60.513068
C46: 14-HDHA | D46: 100 | E46: 100 | F46: 100 | G46: 100 | H46: 100 | I46: 100 | K46: 55.328592 | L46: 215.86797 | M46: 70.403313 | O46: 23.432426 | P46: 63.596614 | Q46: 6.7598162 | R46: 78.692695 | S46: 51.844093 | T46: 46.520825 | U46: 82.182089 | V46: 9.4889451 | W46: 37.783628 | X46: 43.855204 | Y46: 26.866978 | Z46: 90.389539 | AA46: 84.767765 | AB46: 58.037314 | AC46: 84.924114 | AD46: 11.568029 | AE46: 63.574695 | AF46: 114.08463 | AG46: 38.200935 | AH46: 51.457603 | AI46: 75.683562 | AJ46: 101.02067 | AK46: 91.636973 | AL46: 69.040606 | AM46: 4.7800144 | AN46: 3.7694042 | AO46: 33.110498 | AP46: 97.30982 | AQ46: 53.490638 | AR46: 101.46004 | AS46: 96.392625 | AT46: 45.599382 | AU46: 70.29433 | AV46: 114.11472 | AW46: 92.450934 | AX46: 87.500404 | AY46: 72.728358 | AZ46: 167.79653 | BA46: 77.980835 | BB46: 67.068946 | BC46: 66.817364 | BD46: 3.6183654 | BE46: 63.599632
C47: 18-HEPE | D47: 100 | E47: 100 | F47: 100 | G47: 100 | H47: 100 | I47: 100 | K47: 40.58271 | L47: 384.32804 | M47: 53.194305 | O47: 18.798156 | P47: 107.58995 | Q47: 49.463011 | R47: 35.214078 | S47: 370.36377 | T47: 98.555227 | U47: 59.293421 | V47: 7.7110303 | W47: 105.45853 | X47: 73.395336 | Y47: 22.181389 | Z47: 31.292701 | AA47: 128.39775 | AB47: 93.767935 | AC47: 59.239488 | AD47: 10.356364 | AE47: 244.87627 | AF47: 165.1854 | AG47: 32.753027 | AX47: 54.119551 | AY47: 91.686203 | AZ47: 6.8434966 | BA47: 64.834329 | BB47: 57.079224 | BC47: 63.774287 | BD47: 0.66697931 | BE47: 38.106708
B48: ALOX 12/15 | C48: 15-HEPE | D48: 100 | E48: 100 | F48: 100 | G48: 100 | H48: 100 | I48: 100 | K48: 92.074053 | L48: 298.27161 | M48: 116.00373 | O48: 88.589097 | P48: 76.892561 | Q48: 24.174282 | R48: 70.515715 | S48: 37.851887 | T48: 62.86838 | U48: 112.0048 | V48: 4.2490465 | W48: 11.804106 | X48: 62.473805 | Y48: 39.978763 | Z48: 73.652055 | AA48: 41.314724 | AB48: 88.359699 | AC48: 74.394663 | AD48: 15.596189 | AE48: 43.630539 | AF48: 186.41976 | AG48: 31.319901 | AH48: 81.145947 | AI48: 84.936566 | AJ48: 31.669169 | AK48: 98.190393 | AL48: 109.05063 | AM48: 15.566382 | AN48: 4.6287396 | AO48: 24.797389 | AP48: 710.82005 | AQ48: 60.19001 | AR48: 52.181179 | AS48: 132.20339 | AT48: 72.519122 | AU48: 80.67659 | AV48: 69.400968 | AW48: 110.70315 | AX48: 120.35704 | AY48: 51.343294 | AZ48: 18.371802 | BA48: 67.646499 | BB48: 66.402559 | BC48: 128.85042 | BD48: 0.23892558 | BE48: 73.602388
C49: 14-HDPA | D49: 100 | E49: 100 | F49: 100 | G49: 100 | H49: 100 | I49: 100 | K49: 51.653275 | L49: 255.00877 | M49: 60.784228 | O49: 16.396531 | P49: 74.849211 | Q49: 7.3565018 | R49: 76.021658 | S49: 49.832418 | T49: 60.172319 | U49: 77.400964 | V49: 12.54026 | W49: 29.991282 | X49: 57.209962 | Y49: 16.022816 | Z49: 93.456495 | AA49: 94.075064 | AB49: 66.01441 | AC49: 90.47782 | AD49: 14.036364 | AE49: 64.469599 | AF49: 91.897286 | AG49: 30.231573 | AH49: 63.128538 | AI49: 66.348323 | AJ49: 81.812745 | AK49: 83.131533 | AL49: 68.375202 | AM49: 2.3233083 | AN49: 2.5910427 | AO49: 10.667848 | AP49: 0.022982823 | AQ49: 51.133526 | AR49: 104.70083 | AS49: 89.590192 | AT49: 50.925891 | AU49: 63.890977 | AV49: 111.53804 | AW49: 87.491515 | AX49: 92.083467 | AY49: 62.957578 | AZ49: 302.88905 | BA49: 70.106442 | BB49: 89.645537 | BC49: 47.693835 | BD49: 2.8393092 | BE49: 54.038533
C50: 12-HEPE | D50: 100 | E50: 100 | F50: 100 | G50: 100 | H50: 100 | I50: 100 | K50: 75.891373 | L50: 57.200789 | M50: 104.4727 | O50: 17.936996 | P50: 15.735727 | Q50: 8.8330341 | R50: 82.554558 | S50: 71.476556 | T50: 12.458108 | U50: 95.318727 | V50: 13.437118 | W50: 40.060471 | X50: 14.809139 | Y50: 42.038282 | Z50: 93.840867 | AA50: 96.790555 | AB50: 17.148659 | AC50: 97.281782 | AD50: 6.7132867 | AE50: 69.070414 | AF50: 45.822613 | AG50: 33.646841 | AH50: 14.465752 | AI50: 88.071152 | AJ50: 104.48689 | AK50: 98.697038 | AL50: 26.339517 | AM50: 7.3302047 | AN50: 4.1756828 | AO50: 21.532452 | AP50: 221.28969 | AQ50: 61.821003 | AR50: 115.91885 | AS50: 119.15662 | AT50: 12.086338 | AU50: 82.912875 | AV50: 157.5596 | AW50: 116.88483 | AX50: 76.853109 | AY50: 95.444316 | AZ50: 469.2944 | BA50: 90.768933 | BB50: 50.870733 | BC50: 91.790946 | BD50: 4.1362704 | BE50: 77.925634
C51: 12-HETE | D51: 100 | E51: 100 | F51: 100 | G51: 100 | H51: 100 | I51: 100 | K51: 80.893585 | L51: 14.422405 | M51: 93.05008 | O51: 21.889405 | P51: 4.3640498 | Q51: 11.758996 | R51: 83.164413 | S51: 65.520897 | T51: 3.2957216 | U51: 99.700471 | V51: 13.660414 | W51: 48.65758 | X51: 3.1185225 | Y51: 48.103336 | Z51: 95.425735 | AA51: 106.1381 | AB51: 3.2845326 | AC51: 99.983746 | AD51: 7.3951638 | AE51: 83.834072 | AF51: 6.3807292 | AG51: 38.747799 | AH51: 3.7404577 | AI51: 99.10787 | AJ51: 110.49247 | AK51: 103.44475 | AL51: 4.1975739 | AM51: 10.245645 | AN51: 5.3257229 | AO51: 34.260919 | AP51: 3.9586812 | AQ51: 58.345557 | AR51: 113.29863 | AS51: 37.756994 | AT51: 2.6945331 | AU51: 83.558042 | AV51: 152.48662 | AW51: 93.314585 | AX51: 84.111311 | AY51: 96.610315 | AZ51: 414.42868 | BA51: 89.503034 | BB51: 48.986632 | BC51: 87.432153 | BD51: 2.1155444 | BE51: 77.752348
B52: ALOX5 | C52: LTB4 isomers | D52: 100 | E52: 100 | F52: 100 | G52: 100 | H52: 100 | I52: 100 | J52: =J19/D19*100 -> 8.4483888 | K52: 6.8144746 | L52: 11.335505 | M52: 29.023067 | N52: =N19/D19*100 -> 0.20703906 | O52: 0.13063636 | P52: 0.28245705 | Q52: 0.11849134 | R52: 28.795828 | S52: 41.435095 | T52: 74.608232 | U52: 94.107389 | V52: 0.095052168 | W52: 0.35693374 | X52: 0.311081 | Y52: 1.2921815 | Z52: 19.180471 | AA52: 71.046328 | AB52: 47.505136 | AC52: 100.98681 | AD52: 0.1512311 | AE52: 7.6373883 | AF52: 0.10266805 | AG52: 0.12908735 | AH52: 41.540598 | AI52: 55.414781 | AJ52: 23.071919 | AK52: 34.65797 | AL52: 0.079887889 | AM52: 0.10109079 | AN52: 0.047213791 | AO52: 0.17527693 | AP52: 58.362891 | AQ52: 67.91833 | AR52: 45.036216 | AS52: 30.182365 | AT52: 15.066904 | AU52: 0.51114614 | AV52: 0.23253834 | AW52: 0.86778199 | AX52: 21.162345 | AY52: 13.197347 | AZ52: 38.224332 | BA52: 8.4428074 | BB52: 0.28323427 | BC52: 1.5814881 | BD52: 9.5803621 | BE52: 0.29768356
C53: LTB4 | D53: 100 | E53: 100 | F53: 100 | G53: 100 | H53: 100 | I53: 100 | J53: =J20/D20*100 -> 13.1176 | K53: 22.588114 | L53: 14.788751 | M53: 41.247068 | N53: =N20/D20*100 -> 0.17975687 | O53: 0.40782876 | P53: 0.22598139 | Q53: 0.063810569 | R53: 36.177555 | S53: 58.696147 | T53: 88.439834 | U53: 99.163936 | V53: 0.017213199 | W53: 0.91172696 | X53: 0.41908389 | Y53: 2.8122453 | Z53: 32.158419 | AA53: 76.863679 | AB53: 62.058408 | AC53: 101.48622 | AD53: 0.14759074 | AE53: 11.575733 | AF53: 0.11599603 | AG53: 0.11368192 | AH53: 54.425459 | AI53: 71.142877 | AJ53: 26.345848 | AK53: 43.036651 | AL53: 0.037019358 | AM53: 0.09087836 | AN53: 0.025468827 | AO53: 0.12756204 | AP53: 55.976354 | AQ53: 75.933022 | AR53: 45.797031 | AS53: 43.026389 | AT53: 18.847224 | AU53: 0.66554911 | AV53: 0.35207737 | AW53: 0.83687799 | AX53: 19.612282 | AY53: 28.457948 | AZ53: 44.36516 | BA53: 15.985615 | BB53: 0.031766201 | BC53: 2.7512942 | BD53: 12.557116 | BE53: 0.27912693
C54: 20-OH-LTB4 | D54: 100 | E54: 100 | F54: 100 | G54: 100 | H54: 100 | I54: 100 | J54: =J21/D21*100 -> 42.330256 | K54: 43.526226 | L54: 45.016511 | M54: 51.835296 | N54: =N21/D21*100 -> 0.14978082 | O54: 1.2404807 | P54: 0.76252361 | Q54: 1.1048414 | R54: 53.118841 | S54: 65.220982 | T54: 93.172478 | U54: 92.1119 | V54: 0.12940775 | W54: 2.5362101 | X54: 2.2037473 | Y54: 8.5531425 | Z54: 44.567742 | AA54: 76.258805 | AB54: 81.055651 | AC54: 92.70452 | AD54: 0.056988701 | AE54: 21.027056 | AF54: 0.23469272 | AG54: 0.46960443 | AH54: 72.834352 | AI54: 71.311667 | AJ54: 48.715164 | AK54: 61.887072 | AL54: 0.18943766 | AM54: 0.30612484 | AN54: 0.51733413 | AO54: 0.4901956 | AP54: 72.158033 | AQ54: 68.087185 | AR54: 62.577507 | AS54: 68.038273 | AT54: 28.110601 | AU54: 2.5327098 | AV54: 1.3233485 | AW54: 2.1487721 | AX54: 34.915916 | AY54: 50.658836 | AZ54: 58.977464 | BA54: 31.902028 | BB54: 0.063900415 | BC54: 6.6292506 | BD54: 17.212651 | BE54: 0.96495138
C55: 5-HEPE
C56: 5-HETE | D56: 100 | E56: 100 | F56: 100 | G56: 100 | H56: 100 | I56: 100 | K56: 8.5138306 | L56: 2.4582728 | M56: 25.517232 | O56: 0.1529386 | P56: 0.46356125 | Q56: 0.1412155 | R56: 27.94338 | S56: 44.465939 | T56: 0.50234008 | U56: 87.21 | V56: 0.24011035 | W56: 0.39987604 | X56: 0.94404183 | Y56: 1.5599137 | Z56: 23.04434 | AA56: 60.722142 | AB56: 0.47803411 | AC56: 91.002891 | AD56: 1.1320251 | AE56: 8.0747037 | AF56: 0.59984547 | AG56: 0.18177445 | AH56: 0.56431211 | AI56: 52.488716 | AJ56: 17.982165 | AK56: 33.776582 | AL56: 0.49535626 | AM56: 0.25813895 | AN56: 0.038993771 | AO56: 0.12334705 | AP56: 6.3394369 | AQ56: 67.016843 | AR56: 43.449344 | AS56: 30.039575 | AT56: 0.5005082 | AU56: 1.2004364 | AV56: 0.24867572 | AW56: 0.50819645 | AX56: 15.39611 | AY56: 14.807778 | AZ56: 358.39295 | BA56: 6.3933015 | BB56: 0.34204322 | BC56: 1.7466054 | BD56: 0.36539724 | BE56: 0.15131551
B57: PUFA | C57: AA | D57: 100 | E57: 100 | F57: 100 | G57: 100 | H57: 100 | I57: 100 | K57: 81.594532 | L57: 793.12199 | M57: 69.837819 | O57: 22.164844 | P57: 123.48886 | Q57: 81.527858 | R57: 50.696924 | S57: 86.314876 | T57: 80.723696 | U57: 75.288737 | V57: 22.473024 | W57: 23.736591 | X57: 90.374831 | Y57: 19.065646 | Z57: 51.011334 | AA57: 66.251102 | AB57: 78.680083 | AC57: 55.839147 | AD57: 14.977406 | AE57: 38.891877 | AF57: 97.201041 | AG57: 6.2109853 | AH57: 119.13546 | AI57: 58.568797 | AJ57: 89.710475 | AK57: 118.44717 | AL57: 38.583323 | AM57: 6.757006 | AN57: 5.4114432 | AO57: 91.777979 | AP57: 0.33296683 | AQ57: 81.319146 | AR57: 85.319048 | AS57: 121.44276 | AT57: 86.407428 | AU57: 39.848846 | AV57: 105.8498 | AW57: 116.64403 | AX57: 66.436858 | AY57: 115.14605 | AZ57: 37.323388 | BA57: 139.43068 | BB57: 50.712971 | BC57: 74.770262 | BD57: 0.92663688 | BE57: 128.03196
C58: EPA | D58: 100 | E58: 100 | F58: 100 | G58: 100 | H58: 100 | I58: 100 | K58: 66.410225 | L58: 812.36066 | M58: 81.798108 | O58: 23.999989 | P58: 145.08583 | Q58: 231.61681 | R58: 47.552327 | S58: 70.377589 | T58: 91.014936 | U58: 66.004569 | V58: 20.713427 | W58: 14.116916 | X58: 103.30121 | Y58: 13.064883 | Z58: 53.768877 | AA58: 57.488382 | AB58: 94.42021 | AC58: 53.612102 | AD58: 18.981806 | AE58: 33.865003 | AF58: 72.352172 | AG58: 9.7324006 | AH58: 120.91073 | AI58: 53.194683 | AJ58: 88.88495 | AK58: 125.96615 | AL58: 37.859316 | AM58: 8.3241467 | AN58: 7.4369362 | AO58: 71.01056 | AP58: 50.546085 | AQ58: 93.895915 | AR58: 95.326304 | AS58: 117.05052 | AT58: 94.464993 | AU58: 58.969049 | AV58: 114.45613 | AW58: 123.42384 | AX58: 66.759531 | AY58: 100.65202 | AZ58: 13.245011 | BA58: 175.84144 | BB58: 57.622939 | BC58: 66.4292 | BD58: 0.7978631 | BE58: 151.33432
C59: DHA | D59: 100 | E59: 100 | F59: 100 | G59: 100 | H59: 100 | I59: 100 | K59: 62.304948 | L59: 1090.5861 | M59: 60.458892 | O59: 29.210011 | P59: 157.56311 | Q59: 113.4833 | R59: 63.696998 | S59: 62.50537 | T59: 107.57548 | U59: 60.823921 | V59: 44.31506 | W59: 31.691556 | X59: 116.50867 | Y59: 22.805088 | Z59: 57.179711 | AA59: 60.269697 | AB59: 110.13364 | AC59: 56.515154 | AD59: 40.138728 | AE59: 36.681392 | AF59: 135.29883 | AG59: 12.245124 | AH59: 171.60306 | AI59: 50.066102 | AJ59: 88.086774 | AK59: 131.16119 | AL59: 46.387522 | AM59: 10.439992 | AN59: 12.042609 | AO59: 80.204445 | AP59: 0.66840574 | AQ59: 87.979734 | AR59: 87.741193 | AS59: 94.587398 | AT59: 128.44689 | AU59: 46.874507 | AV59: 81.481633 | AW59: 94.656999 | AX59: 74.73973 | AY59: 76.099004 | AZ59: 3.9741696 | BA59: 137.40779 | BB59: 69.663948 | BC59: 58.07588 | BD59: 0.23127767 | BE59: 140.80913
C60: DPA | D60: 100 | E60: 100 | F60: 100 | G60: 100 | H60: 100 | I60: 100 | K60: 58.799687 | L60: 840.6171 | M60: 48.361313 | O60: 21.821122 | P60: 167.10754 | Q60: 80.303439 | R60: 59.881612 | S60: 55.283991 | T60: 94.02374 | U60: 63.913595 | V60: 43.127886 | W60: 21.033324 | X60: 100.9622 | Y60: 15.650933 | Z60: 41.775318 | AA60: 67.636281 | AB60: 103.42348 | AC60: 57.72398 | AD60: 40.500491 | AE60: 28.09882 | AF60: 107.27835 | AG60: 8.8677327 | AH60: 147.06435 | AI60: 49.20074 | AJ60: 70.274896 | AK60: 112.35147 | AL60: 38.663962 | AM60: 9.0343746 | AN60: 10.150985 | AO60: 75.877338 | AP60: 20.237491 | AQ60: 86.008975 | AR60: 77.347789 | AS60: 87.27809 | AT60: 98.700951 | AU60: 42.999576 | AV60: 73.340155 | AW60: 100.75118 | AX60: 65.938331 | AY60: 72.183116 | AZ60: 4.4292255 | BA60: 125.95438 | BB60: 71.001949 | BC60: 35.090043 | BD60: 0.19513502 | BE60: 123.51595
B61: PTGS | C61: PGE2 | D61: 100 | E61: 100 | F61: 100 | G61: 100 | H61: 100 | I61: 100 | J61: =J28/D28*100 -> 128.21394 | K61: 137.13864 | L61: 143.5791 | M61: 170.36428 | N61: =N28/D28*100 -> 17.340822 | O61: 103.90259 | P61: 246.94112 | Q61: 101.0549 | R61: 124.26742 | S61: 191.03604 | T61: 205.3038 | U61: 168.12501 | V61: 68.166167 | W61: 219.82229 | X61: 187.84318 | Y61: 196.76347 | Z61: 120.3175 | AA61: 167.82744 | AB61: 162.93166 | AC61: 149.08786 | AD61: 5.2242884 | AE61: 201.70221 | AF61: 59.17019 | AG61: 59.490309 | AH61: 163.78931 | AI61: 146.89125 | AJ61: 149.99632 | AK61: 108.80376 | AL61: 106.66658 | AM61: 80.978658 | AN61: 89.852241 | AO61: 369.40142 | AP61: 118.69118 | AQ61: 82.265273 | AR61: 91.828212 | AS61: 72.524647 | AT61: 76.182609 | AU61: 29.144815 | AV61: 67.188334 | AW61: 28.435284 | AX61: 84.05042 | AY61: 93.205799 | AZ61: 102.3121 | BA61: 77.459054 | BB61: 30.376321 | BC61: 57.563634 | BD61: 105.40385 | BE61: 43.935791 | BG61: 100 | BH61: 100 | BI61: 100 | BJ61: 100 | BK61: 100 | BM61: 225.02038 | BN61: 89.430657 | BO61: 145.46839 | BP61: 82.952393 | BQ61: 170.90267 | BR61: 127.46802 | BS61: 171.44292 | BT61: 86.857423 | BU61: 195.07426 | BV61: 111.43992 | BW61: 140.8134 | BX61: 86.756328 | BY61: 232.2838 | BZ61: 205.44824 | CA61: 281.26773 | CB61: 133.6402 | CC61: 122.28057 | CD61: 94.517452 | CE61: 142.72949 | CF61: 84.27866 | CG61: 53.174853 | CH61: 81.058526 | CI61: 147.48501 | CJ61: 49.122068 | CK61: 105.62066 | CL61: 154.91222 | CM61: 99.562355 | CN61: 96.413607 | CO61: 161.35515 | CP61: 249.52463 | CQ61: 107.85922 | CR61: 79.313141 | CS61: 78.863236 | CT61: 120.35333 | CU61: 73.450142 | CV61: 115.17137 | CW61: 37.862586 | CX61: 55.376446 | CY61: 28.499526 | CZ61: 77.285346 | DA61: 155.304 | DB61: 109.38987 | DC61: 123.25024 | DD61: 84.628002 | DE61: 109.63622 | DF61: 54.815388 | DG61: 92.124657 | DH61: 37.963048
C62: 15-ketoPGE2 | D62: 100 | E62: 100 | F62: 100 | G62: 100 | H62: 100 | I62: 100 | J62: =J29/D29*100 -> 103.21441 | K62: 145.77209 | L62: 132.24602 | M62: 147.61992 | N62: =N29/D29*100 -> 5.4135725 | O62: 75.195709 | P62: 139.02621 | Q62: 26.82119 | R62: 106.95731 | S62: 98.031454 | T62: 151.93229 | U62: 128.07142 | V62: 14.611869 | W62: 142.12275 | X62: 75.939973 | Y62: 73.918602 | Z62: 88.257343 | AA62: 144.07877 | AB62: 99.265234 | AC62: 97.039455 | AD62: 0.33423327 | AE62: 135.25148 | AF62: 25.666033 | AG62: 22.353207 | AH62: 142.74174 | AI62: 122.74118 | AJ62: 153.17681 | AK62: 86.558798 | AL62: 31.425881 | AM62: 24.459313 | AN62: 10.238966 | AO62: 33.005303 | AP62: 93.832572 | AQ62: 80.036089 | AR62: 87.483556 | AS62: 95.433491 | AT62: 62.141602 | AU62: 34.384966 | AV62: 29.143014 | AW62: 21.746713 | AX62: 90.459197 | AY62: 96.04301 | AZ62: 82.126854 | BA62: 81.174777 | BB62: 21.100069 | BC62: 71.352975 | BD62: 111.81567 | BE62: 38.431184 | BG62: 100 | BH62: 100 | BI62: 100 | BJ62: 100 | BK62: 100 | BM62: 174.18549 | BN62: 89.874736 | BO62: 132.96518 | BP62: 98.968681 | BQ62: 149.11341 | BR62: 102.55801 | BS62: 156.7906 | BT62: 81.953408 | BU62: 175.1417 | BV62: 101.42373 | BW62: 146.34184 | BX62: 97.501455 | BY62: 152.95141 | BZ62: 153.82387 | CA62: 282.49439 | CB62: 111.65516 | CC62: 147.28118 | CD62: 94.487172 | CE62: 152.44604 | CF62: 88.912398 | CG62: 94.415272 | CH62: 65.932385 | CI62: 132.66125 | CJ62: 64.483012 | CK62: 101.10277 | CL62: 147.17485 | CM62: 97.642967 | CN62: 124.36204 | CO62: 161.95698 | CP62: 246.14337 | CQ62: 120.44753 | CR62: 105.94548 | CS62: 76.448517 | CT62: 115.09482 | CU62: 74.719488 | CV62: 167.02586 | CW62: 46.156519 | CX62: 52.486974 | CY62: 39.020894 | CZ62: 90.251405 | DA62: 127.01968 | DB62: 90.819397 | DC62: 103.78306 | DD62: 86.370255 | DE62: 113.34074 | DF62: 44.336771 | DG62: 80.892754 | DH62: 46.981776
C63: PGD2 | D63: 100 | E63: 100 | F63: 100 | G63: 100 | H63: 100 | I63: 100 | J63: =J30/D30*100 -> 110.87466 | K63: 175.13299 | L63: 115.40272 | M63: 211.5427 | N63: =N30/D30*100 -> 11.972991 | O63: 47.931616 | P63: 76.279424 | Q63: 41.133825 | R63: 96.769674 | S63: 155.43104 | T63: 92.519132 | U63: 199.93054 | V63: 38.916845 | W63: 94.925678 | X63: 114.6932 | Y63: 128.51085 | Z63: 74.891356 | AA63: 132.89879 | AB63: 41.708616 | AC63: 128.48055 | AD63: 3.5010004 | AE63: 87.434673 | AF63: 88.690653 | AG63: 21.909203 | AH63: 134.62897 | AI63: 137.9544 | AJ63: 40.632496 | AK63: 87.935933 | AL63: 102.85343 | AM63: 27.750785 | AN63: 105.11633 | AO63: 265.34789 | AP63: 127.7256 | AQ63: 36.796487 | AR63: 70.399803 | AS63: 69.084527 | AT63: 102.97314 | AU63: 24.337229 | AV63: 80.341731 | AW63: 24.823278 | AX63: 81.810231 | AY63: 140.31531 | AZ63: 112.01442 | BA63: 109.17151 | BB63: 13.994322 | BC63: 79.294267 | BD63: 78.998487 | BE63: 112.45981 | BG63: 100 | BH63: 100 | BI63: 100 | BJ63: 100 | BK63: 100 | BM63: 325.74511 | BN63: 68.274224 | BO63: 35.889519 | BP63: 60.880392 | BQ63: 208.2541 | BR63: 108.6603 | BS63: 133.28099 | BT63: 88.454822 | BU63: 263.76778 | BV63: 100.92965 | BW63: 143.55808 | BX63: 84.398905 | BY63: 384.33533 | BZ63: 207.10158 | CA63: 165.67783 | CB63: 178.16945 | CC63: 148.95759 | CD63: 77.884216 | CE63: 158.93313 | CF63: 70.317434 | CG63: 116.06351 | CH63: 96.67491 | CI63: 133.69249 | CJ63: 57.216934 | CK63: 108.9796 | CL63: 345.91345 | CM63: 77.848658 | CN63: 122.93326 | CO63: 153.94213 | CP63: 163.93101 | CQ63: 130.06295 | CR63: 83.344437 | CS63: 68.417799 | CT63: 71.622657 | CU63: 65.225542 | CV63: 152.99645 | CW63: 31.859342 | CX63: 117.09618 | CY63: 27.531515 | CZ63: 64.66044 | DA63: 212.74379 | DB63: 109.9629 | DC63: 136.12363 | DD63: 83.698428 | DE63: 141.57106 | DF63: 46.068696 | DG63: 61.882404 | DH63: 37.769647
C64: PGF2a | D64: 100 | E64: 100 | F64: 100 | G64: 100 | H64: 100 | I64: 100 | J64: =J31/D31*100 -> 124.19308 | K64: 178.46644 | L64: 153.89826 | M64: 170.6494 | N64: =N31/D31*100 -> 20.600298 | O64: 108.76339 | P64: 162.50127 | Q64: 112.0203 | R64: 128.77841 | S64: 245.9791 | T64: 124.31791 | U64: 134.65723 | V64: 47.613775 | W64: 185.48515 | X64: 190.95819 | Y64: 163.37521 | Z64: 119.64001 | AA64: 164.61491 | AB64: 140.25199 | AC64: 134.16054 | AD64: 7.518057 | AE64: 152.79805 | AF64: 50.933234 | AG64: 60.982065 | AH64: 156.86789 | AI64: 109.76772 | AJ64: 205.3973 | AK64: 91.117778 | AL64: 51.6092 | AM64: 63.61649 | AN64: 50.825984 | AO64: 220.15886 | AP64: 75.164015 | AQ64: 88.742877 | AR64: 101.87441 | AS64: 102.26836 | AT64: 44.171308 | AU64: 40.796364 | AV64: 33.962479 | AW64: 29.483109 | AX64: 93.434918 | AY64: 105.1308 | AZ64: 70.461836 | BA64: 111.19858 | BB64: 25.563939 | BC64: 66.827578 | BD64: 84.15326 | BE64: 71.543204 | BG64: 100 | BH64: 100 | BI64: 100 | BJ64: 100 | BK64: 100 | BM64: 214.59056 | BN64: 80.229951 | BO64: 106.57435 | BP64: 75.956174 | BQ64: 166.06298 | BR64: 101.63419 | BS64: 111.91416 | BT64: 77.984727 | BU64: 200.17707 | BV64: 100.56372 | BW64: 121.54375 | BX64: 86.95071 | BY64: 245.66177 | BZ64: 186.34402 | CA64: 254.68338 | CB64: 141.82371 | CC64: 115.7319 | CD64: 81.384602 | CE64: 102.74016 | CF64: 74.071926 | CG64: 58.914513 | CH64: 89.43915 | CI64: 169.64376 | CJ64: 53.898676 | CK64: 109.83418 | CL64: 135.1091 | CM64: 95.847895 | CN64: 101.93103 | CO64: 127.59517 | CP64: 191.95754 | CQ64: 117.71182 | CR64: 83.215037 | CS64: 68.295882 | CT64: 90.823585 | CU64: 74.723136 | CV64: 130.07068 | CW64: 21.906355 | CX64: 24.675456 | CY64: 21.889587 | CZ64: 78.346322 | DA64: 151.7776 | DB64: 100.74488 | DC64: 89.226362 | DD64: 81.087319 | DE64: 83.022288 | DF64: 46.596348 | DG64: 55.390239 | DH64: 36.203335
C65: TXB2 | D65: 100 | E65: 100 | F65: 100 | G65: 100 | H65: 100 | I65: 100 | J65: =J32/D32*100 -> 73.125363 | K65: 74.135497 | L65: 72.6296 | M65: 78.375695 | N65: =N32/D32*100 -> 2.7024441 | O65: 14.150656 | P65: 28.730635 | Q65: 11.375661 | R65: 79.505991 | S65: 79.857355 | T65: 87.707133 | U65: 94.279987 | V65: 5.6991167 | W65: 17.966049 | X65: 16.696225 | Y65: 20.174958 | Z65: 38.890938 | AA65: 60.733596 | AB65: 61.829765 | AC65: 62.486627 | AD65: 1.6804936 | AE65: 16.569389 | AF65: 2.4175607 | AG65: 6.5036754 | AH65: 85.826545 | AI65: 76.303261 | AJ65: 80.184099 | AK65: 70.171178 | AL65: 3.3949634 | AM65: 7.2274448 | AN65: 1.9981164 | AO65: 8.4019284 | AP65: 103.02397 | AQ65: 82.633472 | AR65: 92.475931 | AS65: 80.211025 | AT65: 70.361892 | AU65: 24.331967 | AV65: 32.250009 | AW65: 30.639374 | AX65: 91.024286 | AY65: 101.05979 | AZ65: 96.792946 | BA65: 82.526878 | BB65: 22.32818 | BC65: 70.235952 | BD65: 84.498708 | BE65: 41.263439 | BG65: 100 | BH65: 100 | BI65: 100 | BJ65: 100 | BK65: 100 | BM65: 225.92488 | BN65: 89.258978 | BO65: 119.78675 | BP65: 88.040214 | BQ65: 134.47923 | BR65: 80.021683 | BS65: 95.712554 | BT65: 68.132867 | BU65: 209.26612 | BV65: 82.27191 | BW65: 114.33793 | BX65: 84.036582 | BY65: 180.49906 | BZ65: 66.700428 | CA65: 91.322028 | CB65: 68.275305 | CC65: 135.71008 | CD65: 83.090343 | CE65: 102.29574 | CF65: 75.554319 | CG65: 50.597819 | CH65: 19.012788 | CI65: 32.578694 | CJ65: 20.636195 | CK65: 96.289022 | CL65: 120.7532 | CM65: 88.511579 | CN65: 58.788216 | CO65: 63.721009 | CP65: 93.39484 | CQ65: 61.812224 | CR65: 159.95494 | CS65: 83.019837 | CT65: 109.96374 | CU65: 87.401067 | CV65: 118.38867 | CW65: 36.277629 | CX65: 45.617355 | CY65: 42.517 | CZ65: 160.55134 | DA65: 173.01031 | DB65: 106.86334 | DC65: 108.09943 | DD65: 88.823546 | DE65: 126.68683 | DF65: 62.502234 | DG65: 82.722264 | DH65: 60.614493
C66: PGE1/PGD1 | D66: 100 | E66: 100 | F66: 100 | G66: 100 | H66: 100 | I66: 100 | J66: =J33/D33*100 -> 124.4733 | K66: 127.18709 | L66: 149.14753 | M66: 160.789 | N66: =N33/D33*100 -> 25.440979 | O66: 93.165843 | P66: 162.64614 | Q66: 80.39277 | R66: 132.51603 | S66: 327.05522 | T66: 135.63365 | U66: 141.82827 | V66: 61.332105 | W66: 197.75432 | X66: 171.59191 | Y66: 147.60415 | Z66: 116.63896 | AA66: 164.2727 | AB66: 140.54061 | AC66: 121.43663 | AD66: 8.6229597 | AE66: 184.51603 | AF66: 52.833829 | AG66: 53.162907 | AX66: 91.782692 | AY66: 0.45239686 | AZ66: 74.535856 | BA66: 84.728908 | BB66: 98.059915 | BC66: 58.243416 | BD66: 74.769109 | BE66: 53.258171
C67: 13-HDHA | D67: 100 | E67: 100 | F67: 100 | G67: 100 | H67: 100 | I67: 100 | K67: 83.903565 | L67: 722.63781 | M67: 67.915797 | O67: 50.623083 | P67: 97.169619 | Q67: 28.253984 | R67: 83.557477 | S67: 76.183862 | T67: 101.21697 | U67: 94.054719 | V67: 48.385723 | W67: 28.181472 | X67: 56.265478 | Y67: 22.302875 | Z67: 70.393744 | AA67: 73.335181 | AB67: 149.89853 | AC67: 74.462351 | AD67: 29.923565 | AE67: 57.962203 | AF67: 183.59599 | AG67: 33.997174 | AX67: 66.054667 | AY67: 87.514404 | AZ67: 13.797617 | BA67: 77.021722 | BB67: 50.476387 | BC67: 59.023198 | BD67: 1.8406057 | BE67: 53.018029
C68: 7-HDHA | D68: 100 | E68: 100 | F68: 100 | G68: 100 | H68: 100 | I68: 100 | K68: 12.238563 | L68: 316.8351 | M68: 24.21304 | O68: 9.0464538 | P68: 96.155655 | Q68: 1.9760359 | R68: 35.23607 | S68: 36.53049 | T68: 60.362243 | U68: 64.457601 | V68: 7.1449701 | W68: 3.1858692 | X68: 70.825654 | Y68: 4.603474 | Z68: 36.556397 | AA68: 57.704515 | AB68: 68.218982 | AC68: 71.818157 | AD68: 16.675266 | AE68: 14.972903 | AF68: 101.8108 | AG68: 3.8953577 | AH68: 63.21231 | AI68: 42.974739 | AJ68: 43.358001 | AK68: 26.269861 | AL68: 86.176858 | AM68: 5.597081 | AN68: 3.1582065 | AO68: -1.2292765 | AP68: 1.2445785 | AQ68: 66.724461 | AR68: 45.532182 | AS68: 32.550139 | AT68: 52.529897 | AU68: 5.590984 | AV68: 3.1461269 | AW68: 9.5310531 | AX68: 36.323819 | AY68: 16.211037 | AZ68: 146.02945 | BA68: 12.740269 | BB68: 19.683618 | BC68: 2.0452585 | BD68: 3.4268802 | BE68: 5.6179851
C69: 4-HDHA
C70: 7-HDPA | D70: 100 | E70: 100 | F70: 100 | G70: 100 | H70: 100 | I70: 100 | K70: 17.269388 | L70: 382.46263 | M70: 19.617231 | O70: 4.2326611 | P70: 108.85739 | R70: 45.227431 | S70: 39.505713 | T70: 109.54192 | U70: 72.078349 | V70: 99.675601 | W70: 9.0552715 | X70: 92.476039 | Y70: 0 | Z70: 37.739869 | AA70: 60.280244 | AB70: 91.329948 | AC70: 82.131917 | AD70: 16.777494 | AE70: 18.48324 | AF70: 92.627668 | AG70: 11.265491 | AX70: 26.582045 | AY70: 18.415066 | AZ70: 119.51957 | BA70: 21.738762 | BB70: 70.473096 | BC70: 6.7471124 | BD70: 1.1562824 | BE70: 13.269262
C71: 11-HEPE
C72: 11-HETE | D72: 100 | E72: 100 | F72: 100 | G72: 100 | H72: 100 | I72: 100 | K72: 65.577692 | L72: 618.93813 | M72: 81.628882 | O72: 18.541873 | P72: 83.347745 | Q72: 15.550412 | R72: 64.493722 | S72: 63.638081 | T72: 100.0649 | U72: 92.174246 | V72: 11.910173 | W72: 26.80635 | X72: 47.060132 | Y72: 32.296522 | Z72: 48.925665 | AA72: 69.124129 | AB72: 122.18375 | AC72: 68.242483 | AD72: 3.576555 | AE72: 32.561685 | AF72: 209.8107 | AG72: 10.77822 | AH72: 167.96329 | AI72: 75.709447 | AJ72: 82.068573 | AK72: 72.962952 | AL72: 138.46154 | AM72: 7.2663915 | AN72: 6.9110828 | AO72: 18.126837 | AP72: 116.35202 | AQ72: 52.442748 | AR72: 89.793743 | AS72: 76.087197 | AT72: 144.14105 | AU72: 28.94773 | AV72: 53.669029 | AW72: 32.481826 | AX72: 70.328208 | AY72: 82.899144 | AZ72: 85.597826 | BA72: 70.343625 | BB72: 23.325049 | BC72: 59.686574 | BD72: 0.37977974 | BE72: 34.93801
