Workbook

Sheet Mean + S.E.M.
A1: Table S7 Effect of LCMs on the lipid mediator profile of LPS- and A23187-treated peripheral blood mononuclear cells
C4: compound | D4: vehicle (0.1% DMSO) | G4: 2 | M4: 3 | S4: 4 | Y4: 6 | AE4: 7 | AK4: 8 | AS4: vehicle (0.1% DMSO) | AV4: 2 | BB4: 3 | BH4: 4 | BN4: 6 | BT4: 7 | BZ4: 8
C5: conc [µM] | G5: 0.3 | J5: 3 | M5: 0.3 | P5: 3 | S5: 0.3 | V5: 3 | Y5: 0.3 | AB5: 3 | AE5: 0.3 | AH5: 3 | AK5: 0.3 | AN5: 3 | AV5: 0.3 | AY5: 3 | BB5: 0.3 | BE5: 3 | BH5: 0.3 | BK5: 3 | BN5: 0.3 | BQ5: 3 | BT5: 0.3 | BW5: 3 | BZ5: 0.3 | CC5: 3
D6: A23874 | G6: A23187 | J6: A23187 | M6: A23187 | P6: A23187 | S6: A23187 | V6: A23187 | Y6: A23187 | AB6: A23187 | AE6: A23187 | AH6: A23187 | AK6: A23187 | AN6: A23187 | AS6: LPS | AV6: LPS | AY6: LPS | BB6: LPS | BE6: LPS | BH6: LPS | BK6: LPS | BN6: LPS | BQ6: LPS | BT6: LPS | BW6: LPS | BZ6: LPS | CC6: LPS
D7: mean | E7: ± | F7: S.E.M. | G7: mean | H7: ± | I7: S.E.M. | J7: mean | K7: ± | L7: S.E.M. | M7: mean | N7: ± | O7: S.E.M. | P7: mean | Q7: ± | R7: S.E.M. | S7: mean | T7: ± | U7: S.E.M. | V7: mean | W7: ± | X7: S.E.M. | Y7: mean | Z7: ± | AA7: S.E.M. | AB7: mean | AC7: ± | AD7: S.E.M. | AE7: mean | AF7: ± | AG7: S.E.M. | AH7: mean | AI7: ± | AJ7: S.E.M. | AK7: mean | AL7: ± | AM7: S.E.M. | AN7: mean | AO7: ± | AP7: S.E.M. | AS7: mean | AT7: ± | AU7: S.E.M. | AV7: mean | AW7: ± | AX7: S.E.M. | AY7: mean | AZ7: ± | BA7: S.E.M. | BB7: mean | BC7: ± | BD7: S.E.M. | BE7: mean | BF7: ± | BG7: S.E.M. | BH7: mean | BI7: ± | BJ7: S.E.M. | BK7: mean | BL7: ± | BM7: S.E.M. | BN7: mean | BO7: ± | BP7: S.E.M. | BQ7: mean | BR7: ± | BS7: S.E.M. | BT7: mean | BU7: ± | BV7: S.E.M. | BW7: mean | BX7: ± | BY7: S.E.M. | BZ7: mean | CA7: ± | CB7: S.E.M. | CC7: mean | CD7: ± | CE7: S.E.M.
A8: pg per 5 * 106 cells | B8: SPM | C8: RvD5 | D8: =AVERAGE('Single data'!D9:I9) -> 3.2473123 | E8: ± | F8: =_xlfn.STDEV.S('Single data'!D9:I9)/SQRT(6) -> 0.83810335 | G8: =AVERAGE('Single data'!J9:M9) -> 1.258974 | H8: ± | I8: =_xlfn.STDEV.S('Single data'!J9:M9)/SQRT(3) -> 0.22442026 | J8: =AVERAGE('Single data'!N9:Q9) -> 0.37202633 | K8: ± | L8: =_xlfn.STDEV.S(('Single data'!N9:Q9))/SQRT(3) -> 0.18699281 | M8: =AVERAGE('Single data'!R9:U9) -> 1.2732521 | N8: ± | O8: =_xlfn.STDEV.S('Single data'!R9:U9)/SQRT(4) -> 0.41393653 | P8: =AVERAGE('Single data'!V9:Y9) -> 0.54657235 | Q8: ± | R8: =_xlfn.STDEV.S('Single data'!V9:Y9)/SQRT(4) -> 0.22489312 | S8: =AVERAGE('Single data'!Z9:AC9) -> 1.2782464 | T8: ± | U8: =_xlfn.STDEV.S('Single data'!Z9:AC9)/SQRT(4) -> 0.65293344 | V8: =AVERAGE('Single data'!AD9:AG9) -> 0.43559016 | W8: ± | X8: =_xlfn.STDEV.S('Single data'!AD9:AG9)/SQRT(4) -> 0.25596144 | Y8: =AVERAGE('Single data'!AH9:AK9) -> 1.9823813 | Z8: ± | AA8: =_xlfn.STDEV.S('Single data'!AH9:AK9)/SQRT(4) -> 1.0937731 | AB8: =AVERAGE('Single data'!AL9:AO9) -> 1.1722135 | AC8: ± | AD8: =_xlfn.STDEV.S(('Single data'!AL9:AO9))/SQRT(4) -> 0.76244482 | AE8: =AVERAGE('Single data'!AP9:AS9) -> 1.763786 | AF8: ± | AG8: =_xlfn.STDEV.S('Single data'!AP9:AS9)/SQRT(4) -> 0.61388401 | AH8: =AVERAGE('Single data'!AT9:AW9) -> 0.9898096 | AI8: ± | AJ8: =_xlfn.STDEV.S('Single data'!AT9:AW9)/SQRT(4) -> 0.55770811 | AK8: =AVERAGE('Single data'!AX9:BA9) -> 1.379991 | AL8: ± | AM8: =_xlfn.STDEV.S('Single data'!AX9:BA9)/SQRT(4) -> 1.1422617 | AN8: =AVERAGE('Single data'!BB9:BE9) -> 0.47640364 | AO8: ± | AP8: =_xlfn.STDEV.S('Single data'!BB9:BE9)/SQRT(4) -> 0.13035891
B9: SPM precursor | C9: 17-HDHA | D9: =AVERAGE('Single data'!D10:I10) -> 78.382671 | E9: ± | F9: =_xlfn.STDEV.S('Single data'!D10:I10)/SQRT(6) -> 43.060204 | G9: =AVERAGE('Single data'!J10:M10) -> 455.38578 | H9: ± | I9: =_xlfn.STDEV.S('Single data'!J10:M10)/SQRT(3) -> 414.15186 | J9: =AVERAGE('Single data'!N10:Q10) -> 139.74798 | K9: ± | L9: =_xlfn.STDEV.S(('Single data'!N10:Q10))/SQRT(3) -> 93.621712 | M9: =AVERAGE('Single data'!R10:U10) -> 79.903815 | N9: ± | O9: =_xlfn.STDEV.S('Single data'!R10:U10)/SQRT(4) -> 53.840284 | P9: =AVERAGE('Single data'!V10:Y10) -> 79.028876 | Q9: ± | R9: =_xlfn.STDEV.S('Single data'!V10:Y10)/SQRT(4) -> 63.281163 | S9: =AVERAGE('Single data'!Z10:AC10) -> 103.73153 | T9: ± | U9: =_xlfn.STDEV.S('Single data'!Z10:AC10)/SQRT(4) -> 78.684831 | V9: =AVERAGE('Single data'!AD10:AG10) -> 130.20249 | W9: ± | X9: =_xlfn.STDEV.S('Single data'!AD10:AG10)/SQRT(4) -> 112.14338 | Y9: =AVERAGE('Single data'!AH10:AK10) -> 104.03431 | Z9: ± | AA9: =_xlfn.STDEV.S('Single data'!AH10:AK10)/SQRT(4) -> 73.356571 | AB9: =AVERAGE('Single data'!AL10:AO10) -> 98.485796 | AC9: ± | AD9: =_xlfn.STDEV.S(('Single data'!AL10:AO10))/SQRT(4) -> 88.166884 | AE9: =AVERAGE('Single data'!AP10:AS10) -> 140.49537 | AF9: ± | AG9: =_xlfn.STDEV.S('Single data'!AP10:AS10)/SQRT(4) -> 107.73312 | AH9: =AVERAGE('Single data'!AT10:AW10) -> 85.96056 | AI9: ± | AJ9: =_xlfn.STDEV.S('Single data'!AT10:AW10)/SQRT(4) -> 51.231528 | AK9: =AVERAGE('Single data'!AX10:BA10) -> 23.353143 | AL9: ± | AM9: =_xlfn.STDEV.S('Single data'!AX10:BA10)/SQRT(4) -> 6.10018 | AN9: =AVERAGE('Single data'!BB10:BE10) -> 34.690783 | AO9: ± | AP9: =_xlfn.STDEV.S('Single data'!BB10:BE10)/SQRT(4) -> 15.239903
C10: 17-HDPA | D10: =AVERAGE('Single data'!D11:I11) -> 94.786395 | E10: ± | F10: =_xlfn.STDEV.S('Single data'!D11:I11)/SQRT(6) -> 49.846453 | G10: =AVERAGE('Single data'!J11:M11) -> 502.29697 | H10: ± | I10: =_xlfn.STDEV.S('Single data'!J11:M11)/SQRT(3) -> 456.29113 | J10: =AVERAGE('Single data'!N11:Q11) -> 177.05497 | K10: ± | L10: =_xlfn.STDEV.S(('Single data'!N11:Q11))/SQRT(3) -> 104.33207 | M10: =AVERAGE('Single data'!R11:U11) -> 94.037283 | N10: ± | O10: =_xlfn.STDEV.S('Single data'!R11:U11)/SQRT(4) -> 69.576464 | P10: =AVERAGE('Single data'!V11:Y11) -> 84.474699 | Q10: ± | R10: =_xlfn.STDEV.S('Single data'!V11:Y11)/SQRT(4) -> 61.483033 | S10: =AVERAGE('Single data'!Z11:AC11) -> 110.21327 | T10: ± | U10: =_xlfn.STDEV.S('Single data'!Z11:AC11)/SQRT(4) -> 83.703407 | V10: =AVERAGE('Single data'!AD11:AG11) -> 127.8635 | W10: ± | X10: =_xlfn.STDEV.S('Single data'!AD11:AG11)/SQRT(4) -> 105.8274 | AK10: =AVERAGE('Single data'!AX11:BA11) -> 29.415063 | AL10: ± | AM10: =_xlfn.STDEV.S('Single data'!AX11:BA11)/SQRT(4) -> 5.4350696 | AN10: =AVERAGE('Single data'!BB11:BE11) -> 49.189057 | AO10: ± | AP10: =_xlfn.STDEV.S('Single data'!BB11:BE11)/SQRT(4) -> 23.10977
C11: 15-HETE | D11: =AVERAGE('Single data'!D12:I12) -> 382.22383 | E11: ± | F11: =_xlfn.STDEV.S('Single data'!D12:I12)/SQRT(6) -> 82.483156 | G11: =AVERAGE('Single data'!J12:M12) -> 983.95364 | H11: ± | I11: =_xlfn.STDEV.S('Single data'!J12:M12)/SQRT(3) -> 642.61089 | J11: =AVERAGE('Single data'!N12:Q12) -> 182.47996 | K11: ± | L11: =_xlfn.STDEV.S(('Single data'!N12:Q12))/SQRT(3) -> 69.510779 | M11: =AVERAGE('Single data'!R12:U12) -> 314.45507 | N11: ± | O11: =_xlfn.STDEV.S('Single data'!R12:U12)/SQRT(4) -> 88.594881 | P11: =AVERAGE('Single data'!V12:Y12) -> 129.65475 | Q11: ± | R11: =_xlfn.STDEV.S('Single data'!V12:Y12)/SQRT(4) -> 47.245963 | S11: =AVERAGE('Single data'!Z12:AC12) -> 336.21893 | T11: ± | U11: =_xlfn.STDEV.S('Single data'!Z12:AC12)/SQRT(4) -> 81.361414 | V11: =AVERAGE('Single data'!AD12:AG12) -> 306.23295 | W11: ± | X11: =_xlfn.STDEV.S('Single data'!AD12:AG12)/SQRT(4) -> 218.32321 | Y11: =AVERAGE('Single data'!AH12:AK12) -> 420.28099 | Z11: ± | AA11: =_xlfn.STDEV.S('Single data'!AH12:AK12)/SQRT(4) -> 119.26463 | AB11: =AVERAGE('Single data'!AL12:AO12) -> 187.93219 | AC11: ± | AD11: =_xlfn.STDEV.S(('Single data'!AL12:AO12))/SQRT(4) -> 124.09779 | AE11: =AVERAGE('Single data'!AP12:AS12) -> 392.98471 | AF11: ± | AG11: =_xlfn.STDEV.S('Single data'!AP12:AS12)/SQRT(4) -> 114.16236 | AH11: =AVERAGE('Single data'!AT12:AW12) -> 369.66294 | AI11: ± | AJ11: =_xlfn.STDEV.S('Single data'!AT12:AW12)/SQRT(4) -> 102.44725 | AK11: =AVERAGE('Single data'!AX12:BA12) -> 335.76587 | AL11: ± | AM11: =_xlfn.STDEV.S('Single data'!AX12:BA12)/SQRT(4) -> 65.55722 | AN11: =AVERAGE('Single data'!BB12:BE12) -> 174.17413 | AO11: ± | AP11: =_xlfn.STDEV.S('Single data'!BB12:BE12)/SQRT(4) -> 71.223276
C12: 14-HDHA | D12: =AVERAGE('Single data'!D13:I13) -> 593.66364 | E12: ± | F12: =_xlfn.STDEV.S('Single data'!D13:I13)/SQRT(6) -> 220.2489 | G12: =AVERAGE('Single data'!J13:M13) -> 568.12186 | H12: ± | I12: =_xlfn.STDEV.S('Single data'!J13:M13)/SQRT(3) -> 244.78912 | J12: =AVERAGE('Single data'!N13:Q13) -> 119.07601 | K12: ± | L12: =_xlfn.STDEV.S(('Single data'!N13:Q13))/SQRT(3) -> 65.740488 | M12: =AVERAGE('Single data'!R13:U13) -> 376.91336 | N12: ± | O12: =_xlfn.STDEV.S('Single data'!R13:U13)/SQRT(4) -> 186.48036 | P12: =AVERAGE('Single data'!V13:Y13) -> 141.22104 | Q12: ± | R12: =_xlfn.STDEV.S('Single data'!V13:Y13)/SQRT(4) -> 59.953108 | S12: =AVERAGE('Single data'!Z13:AC13) -> 420.24105 | T12: ± | U12: =_xlfn.STDEV.S('Single data'!Z13:AC13)/SQRT(4) -> 182.58015 | V12: =AVERAGE('Single data'!AD13:AG13) -> 252.7867 | W12: ± | X12: =_xlfn.STDEV.S('Single data'!AD13:AG13)/SQRT(4) -> 105.51759 | Y12: =AVERAGE('Single data'!AH13:AK13) -> 602.70153 | Z12: ± | AA12: =_xlfn.STDEV.S('Single data'!AH13:AK13)/SQRT(4) -> 282.27208 | AB12: =AVERAGE('Single data'!AL13:AO13) -> 197.69894 | AC12: ± | AD12: =_xlfn.STDEV.S(('Single data'!AL13:AO13))/SQRT(4) -> 106.23141 | AE12: =AVERAGE('Single data'!AP13:AS13) -> 602.67825 | AF12: ± | AG12: =_xlfn.STDEV.S('Single data'!AP13:AS13)/SQRT(4) -> 271.34818 | AH12: =AVERAGE('Single data'!AT13:AW13) -> 587.57026 | AI12: ± | AJ12: =_xlfn.STDEV.S('Single data'!AT13:AW13)/SQRT(4) -> 281.96192 | AK12: =AVERAGE('Single data'!AX13:BA13) -> 500.69021 | AL12: ± | AM12: =_xlfn.STDEV.S('Single data'!AX13:BA13)/SQRT(4) -> 165.56798 | AN12: =AVERAGE('Single data'!BB13:BE13) -> 276.34382 | AO12: ± | AP12: =_xlfn.STDEV.S('Single data'!BB13:BE13)/SQRT(4) -> 154.32908
C13: 18-HEPE | D13: =AVERAGE('Single data'!D14:I14) -> 46.877248 | E13: ± | F13: =_xlfn.STDEV.S('Single data'!D14:I14)/SQRT(6) -> 39.768145 | G13: =AVERAGE('Single data'!J14:M14) -> 317.69224 | H13: ± | I13: =_xlfn.STDEV.S('Single data'!J14:M14)/SQRT(3) -> 312.49324 | J13: =AVERAGE('Single data'!N14:Q14) -> 91.053754 | K13: ± | L13: =_xlfn.STDEV.S(('Single data'!N14:Q14))/SQRT(3) -> 86.452866 | M13: =AVERAGE('Single data'!R14:U14) -> 66.093043 | N13: ± | O13: =_xlfn.STDEV.S('Single data'!R14:U14)/SQRT(4) -> 58.562498 | P13: =AVERAGE('Single data'!V14:Y14) -> 46.790188 | Q13: ± | R13: =_xlfn.STDEV.S('Single data'!V14:Y14)/SQRT(4) -> 44.414543 | S13: =AVERAGE('Single data'!Z14:AC14) -> 61.716465 | T13: ± | U13: =_xlfn.STDEV.S('Single data'!Z14:AC14)/SQRT(4) -> 56.118594 | V13: =AVERAGE('Single data'!AD14:AG14) -> 104.38741 | W13: ± | X13: =_xlfn.STDEV.S('Single data'!AD14:AG14)/SQRT(4) -> 100.2624 | AK13: =AVERAGE('Single data'!AX14:BA14) -> 9.0923558 | AL13: ± | AM13: =_xlfn.STDEV.S('Single data'!AX14:BA14)/SQRT(4) -> 3.2327076 | AN13: =AVERAGE('Single data'!BB14:BE14) -> 4.0364662 | AO13: ± | AP13: =_xlfn.STDEV.S('Single data'!BB14:BE14)/SQRT(4) -> 1.4581531
B14: ALOX 12/15 | C14: 15-HEPE | D14: =AVERAGE('Single data'!D15:I15) -> 16.406514 | E14: ± | F14: =_xlfn.STDEV.S('Single data'!D15:I15)/SQRT(6) -> 8.5293513 | G14: =AVERAGE('Single data'!J15:M15) -> 64.669974 | H14: ± | I14: =_xlfn.STDEV.S('Single data'!J15:M15)/SQRT(3) -> 54.287708 | J14: =AVERAGE('Single data'!N15:Q15) -> 17.416132 | K14: ± | L14: =_xlfn.STDEV.S(('Single data'!N15:Q15))/SQRT(3) -> 13.59419 | M14: =AVERAGE('Single data'!R15:U15) -> 14.432615 | N14: ± | O14: =_xlfn.STDEV.S('Single data'!R15:U15)/SQRT(4) -> 8.0105256 | P14: =AVERAGE('Single data'!V15:Y15) -> 10.684938 | Q14: ± | R14: =_xlfn.STDEV.S('Single data'!V15:Y15)/SQRT(4) -> 8.6111437 | S14: =AVERAGE('Single data'!Z15:AC15) -> 16.85755 | T14: ± | U14: =_xlfn.STDEV.S('Single data'!Z15:AC15)/SQRT(4) -> 11.621308 | V14: =AVERAGE('Single data'!AD15:AG15) -> 28.859419 | W14: ± | X14: =_xlfn.STDEV.S('Single data'!AD15:AG15)/SQRT(4) -> 26.435808 | Y14: =AVERAGE('Single data'!AH15:AK15) -> 18.28632 | Z14: ± | AA14: =_xlfn.STDEV.S('Single data'!AH15:AK15)/SQRT(4) -> 9.9606835 | AB14: =AVERAGE('Single data'!AL15:AO15) -> 17.218876 | AC14: ± | AD14: =_xlfn.STDEV.S(('Single data'!AL15:AO15))/SQRT(4) -> 15.358494 | AE14: =AVERAGE('Single data'!AP15:AS15) -> 109.99526 | AF14: ± | AG14: =_xlfn.STDEV.S('Single data'!AP15:AS15)/SQRT(4) -> 100.82048 | AH14: =AVERAGE('Single data'!AT15:AW15) -> 17.624182 | AI14: ± | AJ14: =_xlfn.STDEV.S('Single data'!AT15:AW15)/SQRT(4) -> 8.5344618 | AK14: =AVERAGE('Single data'!AX15:BA15) -> 7.1466716 | AL14: ± | AM14: =_xlfn.STDEV.S('Single data'!AX15:BA15)/SQRT(4) -> 1.8946179 | AN14: =AVERAGE('Single data'!BB15:BE15) -> 4.9947035 | AO14: ± | AP14: =_xlfn.STDEV.S('Single data'!BB15:BE15)/SQRT(4) -> 2.2182604
C15: 14-HDPA | D15: =AVERAGE('Single data'!D16:I16) -> 1270.3911 | E15: ± | F15: =_xlfn.STDEV.S('Single data'!D16:I16)/SQRT(6) -> 457.21523 | G15: =AVERAGE('Single data'!J16:M16) -> 1229.353 | H15: ± | I15: =_xlfn.STDEV.S('Single data'!J16:M16)/SQRT(3) -> 454.12452 | J15: =AVERAGE('Single data'!N16:Q16) -> 262.8312 | K15: ± | L15: =_xlfn.STDEV.S(('Single data'!N16:Q16))/SQRT(3) -> 110.03498 | M15: =AVERAGE('Single data'!R16:U16) -> 897.79365 | N15: ± | O15: =_xlfn.STDEV.S('Single data'!R16:U16)/SQRT(4) -> 450.01255 | P15: =AVERAGE('Single data'!V16:Y16) -> 280.53017 | Q15: ± | R15: =_xlfn.STDEV.S('Single data'!V16:Y16)/SQRT(4) -> 79.951263 | S15: =AVERAGE('Single data'!Z16:AC16) -> 1109.0003 | T15: ± | U15: =_xlfn.STDEV.S('Single data'!Z16:AC16)/SQRT(4) -> 505.25104 | V15: =AVERAGE('Single data'!AD16:AG16) -> 495.09905 | W15: ± | X15: =_xlfn.STDEV.S('Single data'!AD16:AG16)/SQRT(4) -> 156.59555 | Y15: =AVERAGE('Single data'!AH16:AK16) -> 1117.6943 | Z15: ± | AA15: =_xlfn.STDEV.S('Single data'!AH16:AK16)/SQRT(4) -> 502.03779 | AB15: =AVERAGE('Single data'!AL16:AO16) -> 191.56261 | AC15: ± | AD15: =_xlfn.STDEV.S(('Single data'!AL16:AO16))/SQRT(4) -> 97.554407 | AE15: =AVERAGE('Single data'!AP16:AS16) -> 955.97676 | AF15: ± | AG15: =_xlfn.STDEV.S('Single data'!AP16:AS16)/SQRT(4) -> 533.21244 | AH15: =AVERAGE('Single data'!AT16:AW16) -> 1117.7131 | AI15: ± | AJ15: =_xlfn.STDEV.S('Single data'!AT16:AW16)/SQRT(4) -> 513.68867 | AK15: =AVERAGE('Single data'!AX16:BA16) -> 1285.3484 | AL15: ± | AM15: =_xlfn.STDEV.S('Single data'!AX16:BA16)/SQRT(4) -> 403.3789 | AN15: =AVERAGE('Single data'!BB16:BE16) -> 665.60228 | AO15: ± | AP15: =_xlfn.STDEV.S('Single data'!BB16:BE16)/SQRT(4) -> 336.69759
C16: 12-HEPE | D16: =AVERAGE('Single data'!D17:I17) -> 578.25255 | E16: ± | F16: =_xlfn.STDEV.S('Single data'!D17:I17)/SQRT(6) -> 234.81158 | G16: =AVERAGE('Single data'!J17:M17) -> 548.75272 | H16: ± | I16: =_xlfn.STDEV.S('Single data'!J17:M17)/SQRT(3) -> 418.70759 | J16: =AVERAGE('Single data'!N17:Q17) -> 60.951017 | K16: ± | L16: =_xlfn.STDEV.S(('Single data'!N17:Q17))/SQRT(3) -> 28.183407 | M16: =AVERAGE('Single data'!R17:U17) -> 427.27028 | N16: ± | O16: =_xlfn.STDEV.S('Single data'!R17:U17)/SQRT(4) -> 283.75051 | P16: =AVERAGE('Single data'!V17:Y17) -> 177.88627 | Q16: ± | R16: =_xlfn.STDEV.S('Single data'!V17:Y17)/SQRT(4) -> 127.06671 | S16: =AVERAGE('Single data'!Z17:AC17) -> 458.27501 | T16: ± | U16: =_xlfn.STDEV.S('Single data'!Z17:AC17)/SQRT(4) -> 283.32421 | V16: =AVERAGE('Single data'!AD17:AG17) -> 173.5785 | W16: ± | X16: =_xlfn.STDEV.S('Single data'!AD17:AG17)/SQRT(4) -> 94.048065 | Y16: =AVERAGE('Single data'!AH17:AK17) -> 650.68231 | Z16: ± | AA16: =_xlfn.STDEV.S('Single data'!AH17:AK17)/SQRT(4) -> 334.44884 | AB16: =AVERAGE('Single data'!AL17:AO17) -> 107.91462 | AC16: ± | AD16: =_xlfn.STDEV.S(('Single data'!AL17:AO17))/SQRT(4) -> 60.619373 | AE16: =AVERAGE('Single data'!AP17:AS17) -> 729.54724 | AF16: ± | AG16: =_xlfn.STDEV.S('Single data'!AP17:AS17)/SQRT(4) -> 308.69031 | AH16: =AVERAGE('Single data'!AT17:AW17) -> 707.11314 | AI16: ± | AJ16: =_xlfn.STDEV.S('Single data'!AT17:AW17)/SQRT(4) -> 361.19651 | AK16: =AVERAGE('Single data'!AX17:BA17) -> 631.46347 | AL16: ± | AM16: =_xlfn.STDEV.S('Single data'!AX17:BA17)/SQRT(4) -> 244.29446 | AN16: =AVERAGE('Single data'!BB17:BE17) -> 349.56937 | AO16: ± | AP16: =_xlfn.STDEV.S('Single data'!BB17:BE17)/SQRT(4) -> 231.55933
C17: 12-HETE | D17: =AVERAGE('Single data'!D18:I18) -> 32088.543 | E17: ± | F17: =_xlfn.STDEV.S('Single data'!D18:I18)/SQRT(6) -> 10619.172 | G17: =AVERAGE('Single data'!J18:M18) -> 25865.014 | H17: ± | I17: =_xlfn.STDEV.S('Single data'!J18:M18)/SQRT(3) -> 18422.082 | J17: =AVERAGE('Single data'!N18:Q18) -> 4035.0918 | K17: ± | L17: =_xlfn.STDEV.S(('Single data'!N18:Q18))/SQRT(3) -> 2129.2742 | M17: =AVERAGE('Single data'!R18:U18) -> 25774.004 | N17: ± | O17: =_xlfn.STDEV.S('Single data'!R18:U18)/SQRT(4) -> 14453.328 | P17: =AVERAGE('Single data'!V18:Y18) -> 11232.592 | Q17: ± | R17: =_xlfn.STDEV.S('Single data'!V18:Y18)/SQRT(4) -> 7134.2512 | S17: =AVERAGE('Single data'!Z18:AC18) -> 28503.229 | T17: ± | U17: =_xlfn.STDEV.S('Single data'!Z18:AC18)/SQRT(4) -> 13983.502 | V17: =AVERAGE('Single data'!AD18:AG18) -> 10819.411 | W17: ± | X17: =_xlfn.STDEV.S('Single data'!AD18:AG18)/SQRT(4) -> 5884.5858 | Y17: =AVERAGE('Single data'!AH18:AK18) -> 34253.687 | Z17: ± | AA17: =_xlfn.STDEV.S('Single data'!AH18:AK18)/SQRT(4) -> 17667.164 | AB17: =AVERAGE('Single data'!AL18:AO18) -> 7160.155 | AC17: ± | AD17: =_xlfn.STDEV.S(('Single data'!AL18:AO18))/SQRT(4) -> 4861.9964 | AE17: =AVERAGE('Single data'!AP18:AS18) -> 17440.036 | AF17: ± | AG17: =_xlfn.STDEV.S('Single data'!AP18:AS18)/SQRT(4) -> 8585.5766 | AH17: =AVERAGE('Single data'!AT18:AW18) -> 30757.773 | AI17: ± | AJ17: =_xlfn.STDEV.S('Single data'!AT18:AW18)/SQRT(4) -> 14970.047 | AK17: =AVERAGE('Single data'!AX18:BA18) -> 36560.148 | AL17: ± | AM17: =_xlfn.STDEV.S('Single data'!AX18:BA18)/SQRT(4) -> 9648.7595 | AN17: =AVERAGE('Single data'!BB18:BE18) -> 20475.51 | AO17: ± | AP17: =_xlfn.STDEV.S('Single data'!BB18:BE18)/SQRT(4) -> 11003.578
B18: ALOX5 | C18: LTB4 isomers | D18: =AVERAGE('Single data'!D19:I19) -> 6365.0216 | E18: ± | F18: =_xlfn.STDEV.S('Single data'!D19:I19)/SQRT(6) -> 1583.5366 | G18: =AVERAGE('Single data'!J19:M19) -> 862.47065 | H18: ± | I18: =_xlfn.STDEV.S('Single data'!J19:M19)/SQRT(3) -> 368.62849 | J18: =AVERAGE('Single data'!N19:Q19) -> 11.166191 | K18: ± | L18: =_xlfn.STDEV.S(('Single data'!N19:Q19))/SQRT(3) -> 3.3260067 | M18: =AVERAGE('Single data'!R19:U19) -> 3934.8325 | N18: ± | O18: =_xlfn.STDEV.S('Single data'!R19:U19)/SQRT(4) -> 1144.8359 | P18: =AVERAGE('Single data'!V19:Y19) -> 35.910375 | Q18: ± | R18: =_xlfn.STDEV.S('Single data'!V19:Y19)/SQRT(4) -> 16.738982 | S18: =AVERAGE('Single data'!Z19:AC19) -> 4663.8126 | T18: ± | U18: =_xlfn.STDEV.S('Single data'!Z19:AC19)/SQRT(4) -> 2060.4645 | V18: =AVERAGE('Single data'!AD19:AG19) -> 268.40548 | W18: ± | X18: =_xlfn.STDEV.S('Single data'!AD19:AG19)/SQRT(4) -> 262.77061 | Y18: =AVERAGE('Single data'!AH19:AK19) -> 2131.9113 | Z18: ± | AA18: =_xlfn.STDEV.S('Single data'!AH19:AK19)/SQRT(4) -> 471.22481 | AB18: =AVERAGE('Single data'!AL19:AO19) -> 5.8119457 | AC18: ± | AD18: =_xlfn.STDEV.S(('Single data'!AL19:AO19))/SQRT(4) -> 2.024841 | AE18: =AVERAGE('Single data'!AP19:AS19) -> 2682.1902 | AF18: ± | AG18: =_xlfn.STDEV.S('Single data'!AP19:AS19)/SQRT(4) -> 493.04074 | AH18: =AVERAGE('Single data'!AT19:AW19) -> 206.9757 | AI18: ± | AJ18: =_xlfn.STDEV.S('Single data'!AT19:AW19)/SQRT(4) -> 175.07502 | AK18: =AVERAGE('Single data'!AX19:BA19) -> 1195.2055 | AL18: ± | AM18: =_xlfn.STDEV.S('Single data'!AX19:BA19)/SQRT(4) -> 373.34344 | AN18: =AVERAGE('Single data'!BB19:BE19) -> 177.38424 | AO18: ± | AP18: =_xlfn.STDEV.S('Single data'!BB19:BE19)/SQRT(4) -> 107.50768
C19: LTB4 | D19: =AVERAGE('Single data'!D20:I20) -> 19893.682 | E19: ± | F19: =_xlfn.STDEV.S('Single data'!D20:I20)/SQRT(6) -> 2504.3791 | G19: =AVERAGE('Single data'!J20:M20) -> 4603.8217 | H19: ± | I19: =_xlfn.STDEV.S('Single data'!J20:M20)/SQRT(3) -> 1834.3347 | J19: =AVERAGE('Single data'!N20:Q20) -> 44.086088 | K19: ± | L19: =_xlfn.STDEV.S(('Single data'!N20:Q20))/SQRT(3) -> 23.109142 | M19: =AVERAGE('Single data'!R20:U20) -> 13777.904 | N19: ± | O19: =_xlfn.STDEV.S('Single data'!R20:U20)/SQRT(4) -> 3400.7902 | P19: =AVERAGE('Single data'!V20:Y20) -> 222.34998 | Q19: ± | R19: =_xlfn.STDEV.S('Single data'!V20:Y20)/SQRT(4) -> 130.29699 | S19: =AVERAGE('Single data'!Z20:AC20) -> 13767.235 | T19: ± | U19: =_xlfn.STDEV.S('Single data'!Z20:AC20)/SQRT(4) -> 3983.6658 | V19: =AVERAGE('Single data'!AD20:AG20) -> 738.62042 | W19: ± | X19: =_xlfn.STDEV.S('Single data'!AD20:AG20)/SQRT(4) -> 718.00985 | Y19: =AVERAGE('Single data'!AH20:AK20) -> 10159.693 | Z19: ± | AA19: =_xlfn.STDEV.S('Single data'!AH20:AK20)/SQRT(4) -> 2313.8406 | AB19: =AVERAGE('Single data'!AL20:AO20) -> 16.437178 | AC19: ± | AD19: =_xlfn.STDEV.S(('Single data'!AL20:AO20))/SQRT(4) -> 7.4356482 | AE19: =AVERAGE('Single data'!AP20:AS20) -> 11225.03 | AF19: ± | AG19: =_xlfn.STDEV.S('Single data'!AP20:AS20)/SQRT(4) -> 1874.3005 | AH19: =AVERAGE('Single data'!AT20:AW20) -> 925.53927 | AI19: ± | AJ19: =_xlfn.STDEV.S('Single data'!AT20:AW20)/SQRT(4) -> 782.39581 | AK19: =AVERAGE('Single data'!AX20:BA20) -> 5133.6438 | AL19: ± | AM19: =_xlfn.STDEV.S('Single data'!AX20:BA20)/SQRT(4) -> 1330.4798 | AN19: =AVERAGE('Single data'!BB20:BE20) -> 732.07126 | AO19: ± | AP19: =_xlfn.STDEV.S('Single data'!BB20:BE20)/SQRT(4) -> 506.53392
C20: 20-OH-LTB4 | D20: =AVERAGE('Single data'!D21:I21) -> 296.63744 | E20: ± | F20: =_xlfn.STDEV.S('Single data'!D21:I21)/SQRT(6) -> 73.219226 | G20: =AVERAGE('Single data'!J21:M21) -> 108.95587 | H20: ± | I20: =_xlfn.STDEV.S('Single data'!J21:M21)/SQRT(3) -> 31.827504 | J20: =AVERAGE('Single data'!N21:Q21) -> 2.2781605 | K20: ± | L20: =_xlfn.STDEV.S(('Single data'!N21:Q21))/SQRT(3) -> 0.95604461 | M20: =AVERAGE('Single data'!R21:U21) -> 188.19184 | N20: ± | O20: =_xlfn.STDEV.S('Single data'!R21:U21)/SQRT(4) -> 52.991591 | P20: =AVERAGE('Single data'!V21:Y21) -> 10.050741 | Q20: ± | R20: =_xlfn.STDEV.S('Single data'!V21:Y21)/SQRT(4) -> 5.9831989 | S20: =AVERAGE('Single data'!Z21:AC21) -> 187.6773 | T20: ± | U20: =_xlfn.STDEV.S('Single data'!Z21:AC21)/SQRT(4) -> 54.840968 | V20: =AVERAGE('Single data'!AD21:AG21) -> 15.853323 | W20: ± | X20: =_xlfn.STDEV.S('Single data'!AD21:AG21)/SQRT(4) -> 15.151111 | Y20: =AVERAGE('Single data'!AH21:AK21) -> 224.38669 | Z20: ± | AA20: =_xlfn.STDEV.S('Single data'!AH21:AK21)/SQRT(4) -> 58.747855 | AB20: =AVERAGE('Single data'!AL21:AO21) -> 1.4107048 | AC20: ± | AD20: =_xlfn.STDEV.S(('Single data'!AL21:AO21))/SQRT(4) -> 0.56555286 | AE20: =AVERAGE('Single data'!AP21:AS21) -> 238.72167 | AF20: ± | AG20: =_xlfn.STDEV.S('Single data'!AP21:AS21)/SQRT(4) -> 63.448055 | AH20: =AVERAGE('Single data'!AT21:AW21) -> 23.016264 | AI20: ± | AJ20: =_xlfn.STDEV.S('Single data'!AT21:AW21)/SQRT(4) -> 15.02128 | AK20: =AVERAGE('Single data'!AX21:BA21) -> 105.07192 | AL20: ± | AM20: =_xlfn.STDEV.S('Single data'!AX21:BA21)/SQRT(4) -> 27.447057 | AN20: =AVERAGE('Single data'!BB21:BE21) -> 15.969818 | AO20: ± | AP20: =_xlfn.STDEV.S('Single data'!BB21:BE21)/SQRT(4) -> 9.4767081
C21: 5-HEPE
C22: 5-HETE | D22: =AVERAGE('Single data'!D23:I23) -> 17033.75 | E22: ± | F22: =_xlfn.STDEV.S('Single data'!D23:I23)/SQRT(6) -> 4400.5559 | G22: =AVERAGE('Single data'!J23:M23) -> 3365.8414 | H22: ± | I22: =_xlfn.STDEV.S('Single data'!J23:M23)/SQRT(3) -> 2039.4694 | J22: =AVERAGE('Single data'!N23:Q23) -> 40.631067 | K22: ± | L22: =_xlfn.STDEV.S(('Single data'!N23:Q23))/SQRT(3) -> 4.9437152 | M22: =AVERAGE('Single data'!R23:U23) -> 10287.499 | N22: ± | O22: =_xlfn.STDEV.S('Single data'!R23:U23)/SQRT(4) -> 5692.3829 | P22: =AVERAGE('Single data'!V23:Y23) -> 163.23349 | Q22: ± | R22: =_xlfn.STDEV.S('Single data'!V23:Y23)/SQRT(4) -> 94.276903 | S22: =AVERAGE('Single data'!Z23:AC23) -> 11775.851 | T22: ± | U22: =_xlfn.STDEV.S('Single data'!Z23:AC23)/SQRT(4) -> 6386.0643 | V22: =AVERAGE('Single data'!AD23:AG23) -> 701.00935 | W22: ± | X22: =_xlfn.STDEV.S('Single data'!AD23:AG23)/SQRT(4) -> 640.22812 | Y22: =AVERAGE('Single data'!AH23:AK23) -> 5514.8773 | Z22: ± | AA22: =_xlfn.STDEV.S('Single data'!AH23:AK23)/SQRT(4) -> 3258.1904 | AB22: =AVERAGE('Single data'!AL23:AO23) -> 32.742518 | AC22: ± | AD22: =_xlfn.STDEV.S(('Single data'!AL23:AO23))/SQRT(4) -> 14.627632 | AE22: =AVERAGE('Single data'!AP23:AS23) -> 7191.4704 | AF22: ± | AG22: =_xlfn.STDEV.S('Single data'!AP23:AS23)/SQRT(4) -> 4002.6694 | AH22: =AVERAGE('Single data'!AT23:AW23) -> 119.83868 | AI22: ± | AJ22: =_xlfn.STDEV.S('Single data'!AT23:AW23)/SQRT(4) -> 73.256427 | AK22: =AVERAGE('Single data'!AX23:BA23) -> 8258.0275 | AL22: ± | AM22: =_xlfn.STDEV.S('Single data'!AX23:BA23)/SQRT(4) -> 5706.9349 | AN22: =AVERAGE('Single data'!BB23:BE23) -> 165.55241 | AO22: ± | AP22: =_xlfn.STDEV.S('Single data'!BB23:BE23)/SQRT(4) -> 133.88143
B23: PUFA | C23: AA | D23: =AVERAGE('Single data'!D24:I24) -> 967560.82 | E23: ± | F23: =_xlfn.STDEV.S('Single data'!D24:I24)/SQRT(6) -> 249702.82 | G23: =AVERAGE('Single data'!J24:M24) -> 4658202 | H23: ± | I23: =_xlfn.STDEV.S('Single data'!J24:M24)/SQRT(3) -> 3969534.2 | J23: =AVERAGE('Single data'!N24:Q24) -> 910185.01 | K23: ± | L23: =_xlfn.STDEV.S(('Single data'!N24:Q24))/SQRT(3) -> 530447.05 | M23: =AVERAGE('Single data'!R24:U24) -> 757863.63 | N23: ± | O23: =_xlfn.STDEV.S('Single data'!R24:U24)/SQRT(4) -> 231220.64 | P23: =AVERAGE('Single data'!V24:Y24) -> 488137.16 | Q23: ± | R23: =_xlfn.STDEV.S('Single data'!V24:Y24)/SQRT(4) -> 317602.25 | S23: =AVERAGE('Single data'!Z24:AC24) -> 661599.57 | T23: ± | U23: =_xlfn.STDEV.S('Single data'!Z24:AC24)/SQRT(4) -> 223109.96 | V23: =AVERAGE('Single data'!AD24:AG24) -> 528438.18 | W23: ± | X23: =_xlfn.STDEV.S('Single data'!AD24:AG24)/SQRT(4) -> 350540.46 | Y23: =AVERAGE('Single data'!AH24:AK24) -> 1109949.3 | Z23: ± | AA23: =_xlfn.STDEV.S('Single data'!AH24:AK24)/SQRT(4) -> 490185.09 | AB23: =AVERAGE('Single data'!AL24:AO24) -> 557087.07 | AC23: ± | AD23: =_xlfn.STDEV.S(('Single data'!AL24:AO24))/SQRT(4) -> 362874.69 | AE23: =AVERAGE('Single data'!AP24:AS24) -> 685050.17 | AF23: ± | AG23: =_xlfn.STDEV.S('Single data'!AP24:AS24)/SQRT(4) -> 473387.55 | AH23: =AVERAGE('Single data'!AT24:AW24) -> 950118.51 | AI23: ± | AJ23: =_xlfn.STDEV.S('Single data'!AT24:AW24)/SQRT(4) -> 439579.17 | AK23: =AVERAGE('Single data'!AX24:BA24) -> 791547.38 | AL23: ± | AM23: =_xlfn.STDEV.S('Single data'!AX24:BA24)/SQRT(4) -> 207991.24 | AN23: =AVERAGE('Single data'!BB24:BE24) -> 490962.84 | AO23: ± | AP23: =_xlfn.STDEV.S('Single data'!BB24:BE24)/SQRT(4) -> 206314.13
C24: EPA | D24: =AVERAGE('Single data'!D25:I25) -> 25346.24 | E24: ± | F24: =_xlfn.STDEV.S('Single data'!D25:I25)/SQRT(6) -> 14479.445 | G24: =AVERAGE('Single data'!J25:M25) -> 270010.45 | H24: ± | I24: =_xlfn.STDEV.S('Single data'!J25:M25)/SQRT(3) -> 256557.31 | J24: =AVERAGE('Single data'!N25:Q25) -> 60488.831 | K24: ± | L24: =_xlfn.STDEV.S(('Single data'!N25:Q25))/SQRT(3) -> 40715.013 | M24: =AVERAGE('Single data'!R25:U25) -> 29581.95 | N24: ± | O24: =_xlfn.STDEV.S('Single data'!R25:U25)/SQRT(4) -> 19482.735 | P24: =AVERAGE('Single data'!V25:Y25) -> 26736.454 | Q24: ± | R24: =_xlfn.STDEV.S('Single data'!V25:Y25)/SQRT(4) -> 24283.114 | S24: =AVERAGE('Single data'!Z25:AC25) -> 29408.904 | T24: ± | U24: =_xlfn.STDEV.S('Single data'!Z25:AC25)/SQRT(4) -> 20575.793 | V24: =AVERAGE('Single data'!AD25:AG25) -> 20138.504 | W24: ± | X24: =_xlfn.STDEV.S('Single data'!AD25:AG25)/SQRT(4) -> 16584.282 | Y24: =AVERAGE('Single data'!AH25:AK25) -> 33166.565 | Z24: ± | AA24: =_xlfn.STDEV.S('Single data'!AH25:AK25)/SQRT(4) -> 27819.115 | AB24: =AVERAGE('Single data'!AL25:AO25) -> 10007.598 | AC24: ± | AD24: =_xlfn.STDEV.S(('Single data'!AL25:AO25))/SQRT(4) -> 8835.0187 | AE24: =AVERAGE('Single data'!AP25:AS25) -> 17836.133 | AF24: ± | AG24: =_xlfn.STDEV.S('Single data'!AP25:AS25)/SQRT(4) -> 10619.035 | AH24: =AVERAGE('Single data'!AT25:AW25) -> 27323.173 | AI24: ± | AJ24: =_xlfn.STDEV.S('Single data'!AT25:AW25)/SQRT(4) -> 21284.095 | AK24: =AVERAGE('Single data'!AX25:BA25) -> 17306.055 | AL24: ± | AM24: =_xlfn.STDEV.S('Single data'!AX25:BA25)/SQRT(4) -> 4482.7079 | AN24: =AVERAGE('Single data'!BB25:BE25) -> 11279.459 | AO24: ± | AP24: =_xlfn.STDEV.S('Single data'!BB25:BE25)/SQRT(4) -> 4997.7296
C25: DHA | D25: =AVERAGE('Single data'!D26:I26) -> 270626.09 | E25: ± | F25: =_xlfn.STDEV.S('Single data'!D26:I26)/SQRT(6) -> 210475.23 | G25: =AVERAGE('Single data'!J26:M26) -> 4828904.9 | H25: ± | I25: =_xlfn.STDEV.S('Single data'!J26:M26)/SQRT(3) -> 4791558.6 | J25: =AVERAGE('Single data'!N26:Q26) -> 723768.87 | K25: ± | L25: =_xlfn.STDEV.S(('Single data'!N26:Q26))/SQRT(3) -> 679394.84 | M25: =AVERAGE('Single data'!R26:U26) -> 384021.07 | N25: ± | O25: =_xlfn.STDEV.S('Single data'!R26:U26)/SQRT(4) -> 345861.19 | P25: =AVERAGE('Single data'!V26:Y26) -> 400008.92 | Q25: ± | R25: =_xlfn.STDEV.S('Single data'!V26:Y26)/SQRT(4) -> 379891.44 | S25: =AVERAGE('Single data'!Z26:AC26) -> 390453.77 | T25: ± | U25: =_xlfn.STDEV.S('Single data'!Z26:AC26)/SQRT(4) -> 354985.01 | V25: =AVERAGE('Single data'!AD26:AG26) -> 460488.75 | W25: ± | X25: =_xlfn.STDEV.S('Single data'!AD26:AG26)/SQRT(4) -> 442507.41 | Y25: =AVERAGE('Single data'!AH26:AK26) -> 612069.64 | Z25: ± | AA25: =_xlfn.STDEV.S('Single data'!AH26:AK26)/SQRT(4) -> 552527.61 | AB25: =AVERAGE('Single data'!AL26:AO26) -> 176000.85 | AC25: ± | AD25: =_xlfn.STDEV.S(('Single data'!AL26:AO26))/SQRT(4) -> 146833.62 | AE25: =AVERAGE('Single data'!AP26:AS26) -> 43955.855 | AF25: ± | AG25: =_xlfn.STDEV.S('Single data'!AP26:AS26)/SQRT(4) -> 20664.563 | AH25: =AVERAGE('Single data'!AT26:AW26) -> 459342.82 | AI25: ± | AJ25: =_xlfn.STDEV.S('Single data'!AT26:AW26)/SQRT(4) -> 413094.55 | AK25: =AVERAGE('Single data'!AX26:BA26) -> 57604.49 | AL25: ± | AM25: =_xlfn.STDEV.S('Single data'!AX26:BA26)/SQRT(4) -> 10058.129 | AN25: =AVERAGE('Single data'!BB26:BE26) -> 42370.433 | AO25: ± | AP25: =_xlfn.STDEV.S('Single data'!BB26:BE26)/SQRT(4) -> 17885.611
C26: DPA | D26: =AVERAGE('Single data'!D27:I27) -> 9734.5626 | E26: ± | F26: =_xlfn.STDEV.S('Single data'!D27:I27)/SQRT(6) -> 7477.4557 | G26: =AVERAGE('Single data'!J27:M27) -> 132922.2 | H26: ± | I26: =_xlfn.STDEV.S('Single data'!J27:M27)/SQRT(3) -> 131287.84 | J26: =AVERAGE('Single data'!N27:Q27) -> 27132.652 | K26: ± | L26: =_xlfn.STDEV.S(('Single data'!N27:Q27))/SQRT(3) -> 25746.966 | M26: =AVERAGE('Single data'!R27:U27) -> 12176.222 | N26: ± | O26: =_xlfn.STDEV.S('Single data'!R27:U27)/SQRT(4) -> 10688.865 | P26: =AVERAGE('Single data'!V27:Y27) -> 12325.141 | Q26: ± | R26: =_xlfn.STDEV.S('Single data'!V27:Y27)/SQRT(4) -> 11725.578 | S26: =AVERAGE('Single data'!Z27:AC27) -> 13280.602 | T26: ± | U26: =_xlfn.STDEV.S('Single data'!Z27:AC27)/SQRT(4) -> 11798.061 | V26: =AVERAGE('Single data'!AD27:AG27) -> 13077.106 | W26: ± | X26: =_xlfn.STDEV.S('Single data'!AD27:AG27)/SQRT(4) -> 12466.205 | Y26: =AVERAGE('Single data'!AH27:AK27) -> 18626.09 | Z26: ± | AA26: =_xlfn.STDEV.S('Single data'!AH27:AK27)/SQRT(4) -> 16870.957 | AB26: =AVERAGE('Single data'!AL27:AO27) -> 5251.6156 | AC26: ± | AD26: =_xlfn.STDEV.S(('Single data'!AL27:AO27))/SQRT(4) -> 4350.4103 | AE26: =AVERAGE('Single data'!AP27:AS27) -> 3736.9487 | AF26: ± | AG26: =_xlfn.STDEV.S('Single data'!AP27:AS27)/SQRT(4) -> 2002.6845 | AH26: =AVERAGE('Single data'!AT27:AW27) -> 12804.84 | AI26: ± | AJ26: =_xlfn.STDEV.S('Single data'!AT27:AW27)/SQRT(4) -> 11229.592 | AK26: =AVERAGE('Single data'!AX27:BA27) -> 2198.1874 | AL26: ± | AM26: =_xlfn.STDEV.S('Single data'!AX27:BA27)/SQRT(4) -> 448.46151 | AN26: =AVERAGE('Single data'!BB27:BE27) -> 1380.2115 | AO26: ± | AP26: =_xlfn.STDEV.S('Single data'!BB27:BE27)/SQRT(4) -> 626.12068
B27: PTGS | C27: PGE2 | D27: =AVERAGE('Single data'!D28:I28) -> 796324.36 | E27: ± | F27: =_xlfn.STDEV.S('Single data'!D28:I28)/SQRT(6) -> 559403.92 | G27: =AVERAGE('Single data'!J28:M28) -> 1563474.6 | H27: ± | I27: =_xlfn.STDEV.S('Single data'!J28:M28)/SQRT(3) -> 1173889.6 | J27: =AVERAGE('Single data'!N28:Q28) -> 519682.25 | K27: ± | L27: =_xlfn.STDEV.S(('Single data'!N28:Q28))/SQRT(3) -> 408177.8 | M27: =AVERAGE('Single data'!R28:U28) -> 1725009 | N27: ± | O27: =_xlfn.STDEV.S('Single data'!R28:U28)/SQRT(4) -> 1034779.6 | P27: =AVERAGE('Single data'!V28:Y28) -> 1361274.1 | Q27: ± | R27: =_xlfn.STDEV.S('Single data'!V28:Y28)/SQRT(4) -> 806364.6 | S27: =AVERAGE('Single data'!Z28:AC28) -> 1608315.5 | T27: ± | U27: =_xlfn.STDEV.S('Single data'!Z28:AC28)/SQRT(4) -> 983154.52 | V27: =AVERAGE('Single data'!AD28:AG28) -> 770980.54 | W27: ± | X27: =_xlfn.STDEV.S('Single data'!AD28:AG28)/SQRT(4) -> 713863.26 | Y27: =AVERAGE('Single data'!AH28:AK28) -> 736.6919 | Z27: ± | AA27: =_xlfn.STDEV.S('Single data'!AH28:AK28)/SQRT(4) -> 174.41574 | AB27: =AVERAGE('Single data'!AL28:AO28) -> 1018.3766 | AC27: ± | AD27: =_xlfn.STDEV.S(('Single data'!AL28:AO28))/SQRT(4) -> 600.76481 | AE27: =AVERAGE('Single data'!AP28:AS28) -> 478.72911 | AF27: ± | AG27: =_xlfn.STDEV.S('Single data'!AP28:AS28)/SQRT(4) -> 123.56674 | AH27: =AVERAGE('Single data'!AT28:AW28) -> 240.11632 | AI27: ± | AJ27: =_xlfn.STDEV.S('Single data'!AT28:AW28)/SQRT(4) -> 79.238402 | AK27: =AVERAGE('Single data'!AX28:BA28) -> 1036809.3 | AL27: ± | AM27: =_xlfn.STDEV.S('Single data'!AX28:BA28)/SQRT(4) -> 668186.09 | AN27: =AVERAGE('Single data'!BB28:BE28) -> 460934.86 | AO27: ± | AP27: =_xlfn.STDEV.S('Single data'!BB28:BE28)/SQRT(4) -> 268451.75 | AS27: =AVERAGE('Single data'!BG28:BK28) -> 4926265.4 | AT27: ± | AU27: =_xlfn.STDEV.S('Single data'!BG28:BK28)/SQRT(4) -> 5484935.4 | AV27: =AVERAGE('Single data'!BM28:BP28) -> 13828128 | AW27: ± | AX27: =_xlfn.STDEV.S('Single data'!BM28:BP28)/SQRT(4) -> 13804614 | AY27: =AVERAGE('Single data'!BQ28:BT28) -> 10509556 | AZ27: ± | BA27: =_xlfn.STDEV.S(('Single data'!BQ28:BT28))/SQRT(4) -> 10482215 | BB27: =AVERAGE('Single data'!BU28:BX28) -> 11990885 | BC27: ± | BD27: =_xlfn.STDEV.S('Single data'!BU28:BX28)/SQRT(4) -> 11966461 | BE27: =AVERAGE('Single data'!BY28:CB28) -> 14289081 | BF27: ± | BG27: =_xlfn.STDEV.S('Single data'!BY28:CB28)/SQRT(4) -> 14245348 | BH27: =AVERAGE('Single data'!CC28:CF28) -> 7522634.9 | BI27: ± | BJ27: =_xlfn.STDEV.S('Single data'!CC28:CF28)/SQRT(4) -> 7498985.5 | BK27: =AVERAGE('Single data'!CG28:CJ28) -> 3278269.3 | BL27: ± | BM27: =_xlfn.STDEV.S('Single data'!CG28:CJ28)/SQRT(4) -> 3258680.5 | BN27: =AVERAGE('Single data'!CK28:CN28) -> 23474.25 | BO27: ± | BP27: =_xlfn.STDEV.S('Single data'!CK28:CN28)/SQRT(4) -> 6098.7735 | BQ27: =AVERAGE('Single data'!CO28:CR28) -> 30460.305 | BR27: ± | BS27: =_xlfn.STDEV.S(('Single data'!CO28:CR28))/SQRT(4) -> 9989.3012 | BT27: =AVERAGE('Single data'!CS28:CV28) -> 19267.342 | BU27: ± | BV27: =_xlfn.STDEV.S('Single data'!CS28:CV28)/SQRT(4) -> 4091.0382 | BW27: =AVERAGE('Single data'!CW28:CZ28) -> 9341.4551 | BX27: ± | BY27: =_xlfn.STDEV.S('Single data'!CW28:CZ28)/SQRT(4) -> 1780.5267 | BZ27: =AVERAGE('Single data'!DA28:DD28) -> 9548785.9 | CA27: ± | CB27: =_xlfn.STDEV.S('Single data'!DA28:DD28)/SQRT(4) -> 9525992 | CC27: =AVERAGE('Single data'!DE28:DH28) -> 6738761.9 | CD27: ± | CE27: =_xlfn.STDEV.S('Single data'!DE28:DH28)/SQRT(4) -> 6725557
C28: 15-ketoPGE2 | D28: =AVERAGE('Single data'!D29:I29) -> 111.261 | E28: ± | F28: =_xlfn.STDEV.S('Single data'!D29:I29)/SQRT(6) -> 30.887047 | G28: =AVERAGE('Single data'!J29:M29) -> 170.02382 | H28: ± | I28: =_xlfn.STDEV.S('Single data'!J29:M29)/SQRT(3) -> 61.121067 | J28: =AVERAGE('Single data'!N29:Q29) -> 68.251805 | K28: ± | L28: =_xlfn.STDEV.S(('Single data'!N29:Q29))/SQRT(3) -> 39.96601 | M28: =AVERAGE('Single data'!R29:U29) -> 147.51961 | N28: ± | O28: =_xlfn.STDEV.S('Single data'!R29:U29)/SQRT(4) -> 36.146207 | P28: =AVERAGE('Single data'!V29:Y29) -> 104.05749 | Q28: ± | R28: =_xlfn.STDEV.S('Single data'!V29:Y29)/SQRT(4) -> 63.976623 | S28: =AVERAGE('Single data'!Z29:AC29) -> 149.10741 | T28: ± | U28: =_xlfn.STDEV.S('Single data'!Z29:AC29)/SQRT(4) -> 57.337854 | V28: =AVERAGE('Single data'!AD29:AG29) -> 77.834111 | W28: ± | X28: =_xlfn.STDEV.S('Single data'!AD29:AG29)/SQRT(4) -> 67.904912 | Y28: =AVERAGE('Single data'!AH29:AK29) -> 75.816121 | Z28: ± | AA28: =_xlfn.STDEV.S('Single data'!AH29:AK29)/SQRT(4) -> 9.8027849 | AB28: =AVERAGE('Single data'!AL29:AO29) -> 17.998626 | AC28: ± | AD28: =_xlfn.STDEV.S(('Single data'!AL29:AO29))/SQRT(4) -> 6.4632055 | AE28: =AVERAGE('Single data'!AP29:AS29) -> 58.6526 | AF28: ± | AG28: =_xlfn.STDEV.S('Single data'!AP29:AS29)/SQRT(4) -> 14.986278 | AH28: =AVERAGE('Single data'!AT29:AW29) -> 23.053579 | AI28: ± | AJ28: =_xlfn.STDEV.S('Single data'!AT29:AW29)/SQRT(4) -> 6.4259177 | AK28: =AVERAGE('Single data'!AX29:BA29) -> 120.2004 | AL28: ± | AM28: =_xlfn.STDEV.S('Single data'!AX29:BA29)/SQRT(4) -> 40.886194 | AN28: =AVERAGE('Single data'!BB29:BE29) -> 71.338272 | AO28: ± | AP28: =_xlfn.STDEV.S('Single data'!BB29:BE29)/SQRT(4) -> 27.747015 | AS28: =AVERAGE('Single data'!BG29:BK29) -> 154.55966 | AT28: ± | AU28: =_xlfn.STDEV.S('Single data'!BG29:BK29)/SQRT(4) -> 37.104812 | AV28: =AVERAGE('Single data'!BM29:BP29) -> 176.07648 | AW28: ± | AX28: =_xlfn.STDEV.S('Single data'!BM29:BP29)/SQRT(4) -> 48.029713 | AY28: =AVERAGE('Single data'!BQ29:BT29) -> 179.07216 | AZ28: ± | BA28: =_xlfn.STDEV.S(('Single data'!BQ29:BT29))/SQRT(4) -> 56.996127 | BB28: =AVERAGE('Single data'!BU29:BX29) -> 185.65086 | BC28: ± | BD28: =_xlfn.STDEV.S('Single data'!BU29:BX29)/SQRT(4) -> 51.690076 | BE28: =AVERAGE('Single data'!BY29:CB29) -> 277.97872 | BF28: ± | BG28: =_xlfn.STDEV.S('Single data'!BY29:CB29)/SQRT(4) -> 114.49746 | BH28: =AVERAGE('Single data'!CC29:CF29) -> 178.34583 | BI28: ± | BJ28: =_xlfn.STDEV.S('Single data'!CC29:CF29)/SQRT(4) -> 56.459778 | BK28: =AVERAGE('Single data'!CG29:CJ29) -> 138.80216 | BL28: ± | BM28: =_xlfn.STDEV.S('Single data'!CG29:CJ29)/SQRT(4) -> 52.760099 | BN28: =AVERAGE('Single data'!CK29:CN29) -> 214.14212 | BO28: ± | BP28: =_xlfn.STDEV.S('Single data'!CK29:CN29)/SQRT(4) -> 41.897453 | BQ28: =AVERAGE('Single data'!CO29:CR29) -> 289.28989 | BR28: ± | BS28: =_xlfn.STDEV.S(('Single data'!CO29:CR29))/SQRT(4) -> 82.611694 | BT28: =AVERAGE('Single data'!CS29:CV29) -> 194.52766 | BU28: ± | BV28: =_xlfn.STDEV.S('Single data'!CS29:CV29)/SQRT(4) -> 42.717039 | BW28: =AVERAGE('Single data'!CW29:CZ29) -> 100.46644 | BX28: ± | BY28: =_xlfn.STDEV.S('Single data'!CW29:CZ29)/SQRT(4) -> 20.532289 | BZ28: =AVERAGE('Single data'!DA29:DD29) -> 147.19382 | CA28: ± | CB28: =_xlfn.STDEV.S('Single data'!DA29:DD29)/SQRT(4) -> 37.769556 | CC28: =AVERAGE('Single data'!DE29:DH29) -> 97.589101 | CD28: ± | CE28: =_xlfn.STDEV.S('Single data'!DE29:DH29)/SQRT(4) -> 28.328589
C29: PGD2 | D29: =AVERAGE('Single data'!D30:I30) -> 291.94145 | E29: ± | F29: =_xlfn.STDEV.S('Single data'!D30:I30)/SQRT(6) -> 82.664272 | G29: =AVERAGE('Single data'!J30:M30) -> 578.59899 | H29: ± | I29: =_xlfn.STDEV.S('Single data'!J30:M30)/SQRT(3) -> 298.69245 | J29: =AVERAGE('Single data'!N30:Q30) -> 173.28361 | K29: ± | L29: =_xlfn.STDEV.S(('Single data'!N30:Q30))/SQRT(3) -> 88.805103 | M29: =AVERAGE('Single data'!R30:U30) -> 520.54094 | N29: ± | O29: =_xlfn.STDEV.S('Single data'!R30:U30)/SQRT(4) -> 249.68187 | P29: =AVERAGE('Single data'!V30:Y30) -> 383.53762 | Q29: ± | R29: =_xlfn.STDEV.S('Single data'!V30:Y30)/SQRT(4) -> 171.92368 | S29: =AVERAGE('Single data'!Z30:AC30) -> 332.02064 | T29: ± | U29: =_xlfn.STDEV.S('Single data'!Z30:AC30)/SQRT(4) -> 158.08676 | V29: =AVERAGE('Single data'!AD30:AG30) -> 166.09831 | W29: ± | X29: =_xlfn.STDEV.S('Single data'!AD30:AG30)/SQRT(4) -> 83.806501 | Y29: =AVERAGE('Single data'!AH30:AK30) -> 425.83295 | Z29: ± | AA29: =_xlfn.STDEV.S('Single data'!AH30:AK30)/SQRT(4) -> 189.14499 | AB29: =AVERAGE('Single data'!AL30:AO30) -> 325.82163 | AC29: ± | AD29: =_xlfn.STDEV.S(('Single data'!AL30:AO30))/SQRT(4) -> 98.441876 | AE29: =AVERAGE('Single data'!AP30:AS30) -> 260.00508 | AF29: ± | AG29: =_xlfn.STDEV.S('Single data'!AP30:AS30)/SQRT(4) -> 110.29566 | AH29: =AVERAGE('Single data'!AT30:AW30) -> 193.89662 | AI29: ± | AJ29: =_xlfn.STDEV.S('Single data'!AT30:AW30)/SQRT(4) -> 93.544606 | AK29: =AVERAGE('Single data'!AX30:BA30) -> 387.55547 | AL29: ± | AM29: =_xlfn.STDEV.S('Single data'!AX30:BA30)/SQRT(4) -> 125.93705 | AN29: =AVERAGE('Single data'!BB30:BE30) -> 299.76764 | AO29: ± | AP29: =_xlfn.STDEV.S('Single data'!BB30:BE30)/SQRT(4) -> 152.38563 | AS29: =AVERAGE('Single data'!BG30:BK30) -> 2031.8907 | AT29: ± | AU29: =_xlfn.STDEV.S('Single data'!BG30:BK30)/SQRT(4) -> 603.88124 | AV29: =AVERAGE('Single data'!BM30:BP30) -> 1273.1264 | AW29: ± | AX29: =_xlfn.STDEV.S('Single data'!BM30:BP30)/SQRT(4) -> 350.21398 | AY29: =AVERAGE('Single data'!BQ30:BT30) -> 2228.9783 | AZ29: ± | BA29: =_xlfn.STDEV.S(('Single data'!BQ30:BT30))/SQRT(4) -> 633.66722 | BB29: =AVERAGE('Single data'!BU30:BX30) -> 2236.6675 | BC29: ± | BD29: =_xlfn.STDEV.S('Single data'!BU30:BX30)/SQRT(4) -> 618.87886 | BE29: =AVERAGE('Single data'!BY30:CB30) -> 3828.3988 | BF29: ± | BG29: =_xlfn.STDEV.S('Single data'!BY30:CB30)/SQRT(4) -> 1166.448 | BH29: =AVERAGE('Single data'!CC30:CF30) -> 2017.864 | BI29: ± | BJ29: =_xlfn.STDEV.S('Single data'!CC30:CF30)/SQRT(4) -> 697.29723 | BK29: =AVERAGE('Single data'!CG30:CJ30) -> 1842.2817 | BL29: ± | BM29: =_xlfn.STDEV.S('Single data'!CG30:CJ30)/SQRT(4) -> 584.17708 | BN29: =AVERAGE('Single data'!CK30:CN30) -> 3844.384 | BO29: ± | BP29: =_xlfn.STDEV.S('Single data'!CK30:CN30)/SQRT(4) -> 1329.6686 | BQ29: =AVERAGE('Single data'!CO30:CR30) -> 3327.4631 | BR29: ± | BS29: =_xlfn.STDEV.S(('Single data'!CO30:CR30))/SQRT(4) -> 627.45011 | BT29: =AVERAGE('Single data'!CS30:CV30) -> 2112.4892 | BU29: ± | BV29: =_xlfn.STDEV.S('Single data'!CS30:CV30)/SQRT(4) -> 360.02193 | BW29: =AVERAGE('Single data'!CW30:CZ30) -> 1399.1231 | BX29: ± | BY29: =_xlfn.STDEV.S('Single data'!CW30:CZ30)/SQRT(4) -> 433.8954 | BZ29: =AVERAGE('Single data'!DA30:DD30) -> 2211.646 | CA29: ± | CB29: =_xlfn.STDEV.S('Single data'!DA30:DD30)/SQRT(4) -> 619.53168 | CC29: =AVERAGE('Single data'!DE30:DH30) -> 1003.9625 | CD29: ± | CE29: =_xlfn.STDEV.S('Single data'!DE30:DH30)/SQRT(4) -> 259.02056
C30: PGF2a | D30: =AVERAGE('Single data'!D31:I31) -> 143.45106 | E30: ± | F30: =_xlfn.STDEV.S('Single data'!D31:I31)/SQRT(6) -> 27.178049 | G30: =AVERAGE('Single data'!J31:M31) -> 236.36232 | H30: ± | I30: =_xlfn.STDEV.S('Single data'!J31:M31)/SQRT(3) -> 73.282593 | J30: =AVERAGE('Single data'!N31:Q31) -> 168.57032 | K30: ± | L30: =_xlfn.STDEV.S(('Single data'!N31:Q31))/SQRT(3) -> 88.717162 | M30: =AVERAGE('Single data'!R31:U31) -> 212.60542 | N30: ± | O30: =_xlfn.STDEV.S('Single data'!R31:U31)/SQRT(4) -> 36.296858 | P30: =AVERAGE('Single data'!V31:Y31) -> 229.93789 | Q30: ± | R30: =_xlfn.STDEV.S('Single data'!V31:Y31)/SQRT(4) -> 87.329366 | S30: =AVERAGE('Single data'!Z31:AC31) -> 206.69671 | T30: ± | U30: =_xlfn.STDEV.S('Single data'!Z31:AC31)/SQRT(4) -> 50.916534 | V30: =AVERAGE('Single data'!AD31:AG31) -> 83.307726 | W30: ± | X30: =_xlfn.STDEV.S('Single data'!AD31:AG31)/SQRT(4) -> 25.930996 | Y30: =AVERAGE('Single data'!AH31:AK31) -> 223.5937 | Z30: ± | AA30: =_xlfn.STDEV.S('Single data'!AH31:AK31)/SQRT(4) -> 42.821514 | AB30: =AVERAGE('Single data'!AL31:AO31) -> 166.12284 | AC30: ± | AD30: =_xlfn.STDEV.S(('Single data'!AL31:AO31))/SQRT(4) -> 73.485197 | AE30: =AVERAGE('Single data'!AP31:AS31) -> 151.68216 | AF30: ± | AG30: =_xlfn.STDEV.S('Single data'!AP31:AS31)/SQRT(4) -> 23.147428 | AH30: =AVERAGE('Single data'!AT31:AW31) -> 64.82951 | AI30: ± | AJ30: =_xlfn.STDEV.S('Single data'!AT31:AW31)/SQRT(4) -> 15.722957 | AK30: =AVERAGE('Single data'!AX31:BA31) -> 140.0216 | AL30: ± | AM30: =_xlfn.STDEV.S('Single data'!AX31:BA31)/SQRT(4) -> 35.564222 | AN30: =AVERAGE('Single data'!BB31:BE31) -> 100.41909 | AO30: ± | AP30: =_xlfn.STDEV.S('Single data'!BB31:BE31)/SQRT(4) -> 38.57414 | AS30: =AVERAGE('Single data'!BG31:BK31) -> 7517.0192 | AT30: ± | AU30: =_xlfn.STDEV.S('Single data'!BG31:BK31)/SQRT(4) -> 1807.2194 | AV30: =AVERAGE('Single data'!BM31:BP31) -> 6855.0285 | AW30: ± | AX30: =_xlfn.STDEV.S('Single data'!BM31:BP31)/SQRT(4) -> 1663.3096 | AY30: =AVERAGE('Single data'!BQ31:BT31) -> 7372.442 | AZ30: ± | BA30: =_xlfn.STDEV.S(('Single data'!BQ31:BT31))/SQRT(4) -> 1971.3172 | BB30: =AVERAGE('Single data'!BU31:BX31) -> 7898.3782 | BC30: ± | BD30: =_xlfn.STDEV.S('Single data'!BU31:BX31)/SQRT(4) -> 2037.8265 | BE30: =AVERAGE('Single data'!BY31:CB31) -> 14549.375 | BF30: ± | BG30: =_xlfn.STDEV.S('Single data'!BY31:CB31)/SQRT(4) -> 4643.2457 | BH30: =AVERAGE('Single data'!CC31:CF31) -> 6453.4666 | BI30: ± | BJ30: =_xlfn.STDEV.S('Single data'!CC31:CF31)/SQRT(4) -> 1852.8058 | BK30: =AVERAGE('Single data'!CG31:CJ31) -> 7656.5161 | BL30: ± | BM30: =_xlfn.STDEV.S('Single data'!CG31:CJ31)/SQRT(4) -> 3419.2342 | BN30: =AVERAGE('Single data'!CK31:CN31) -> 10139.365 | BO30: ± | BP30: =_xlfn.STDEV.S('Single data'!CK31:CN31)/SQRT(4) -> 1143.2463 | BQ30: =AVERAGE('Single data'!CO31:CR31) -> 12084.48 | BR30: ± | BS30: =_xlfn.STDEV.S(('Single data'!CO31:CR31))/SQRT(4) -> 2564.7581 | BT30: =AVERAGE('Single data'!CS31:CV31) -> 8184.2976 | BU30: ± | BV30: =_xlfn.STDEV.S('Single data'!CS31:CV31)/SQRT(4) -> 1001.2904 | BW30: =AVERAGE('Single data'!CW31:CZ31) -> 3209.021 | BX30: ± | BY30: =_xlfn.STDEV.S('Single data'!CW31:CZ31)/SQRT(4) -> 1056.6789 | BZ30: =AVERAGE('Single data'!DA31:DD31) -> 6819.952 | CA30: ± | CB30: =_xlfn.STDEV.S('Single data'!DA31:DD31)/SQRT(4) -> 1712.2941 | CC30: =AVERAGE('Single data'!DE31:DH31) -> 3512.1479 | CD30: ± | CE30: =_xlfn.STDEV.S('Single data'!DE31:DH31)/SQRT(4) -> 953.20382
C31: TXB2 | D31: =AVERAGE('Single data'!D32:I32) -> 7475.703 | E31: ± | F31: =_xlfn.STDEV.S('Single data'!D32:I32)/SQRT(6) -> 2864.3864 | G31: =AVERAGE('Single data'!J32:M32) -> 4029.0576 | H31: ± | I31: =_xlfn.STDEV.S('Single data'!J32:M32)/SQRT(3) -> 906.19495 | J31: =AVERAGE('Single data'!N32:Q32) -> 825.71855 | K31: ± | L31: =_xlfn.STDEV.S(('Single data'!N32:Q32))/SQRT(3) -> 454.08785 | M31: =AVERAGE('Single data'!R32:U32) -> 4687.1361 | N31: ± | O31: =_xlfn.STDEV.S('Single data'!R32:U32)/SQRT(4) -> 1031.0777 | P31: =AVERAGE('Single data'!V32:Y32) -> 848.06384 | Q31: ± | R31: =_xlfn.STDEV.S('Single data'!V32:Y32)/SQRT(4) -> 275.89297 | S31: =AVERAGE('Single data'!Z32:AC32) -> 3072.4219 | T31: ± | U31: =_xlfn.STDEV.S('Single data'!Z32:AC32)/SQRT(4) -> 746.90235 | V31: =AVERAGE('Single data'!AD32:AG32) -> 303.35433 | W31: ± | X31: =_xlfn.STDEV.S('Single data'!AD32:AG32)/SQRT(4) -> 108.25475 | Y31: =AVERAGE('Single data'!AH32:AK32) -> 6979.9827 | Z31: ± | AA31: =_xlfn.STDEV.S('Single data'!AH32:AK32)/SQRT(4) -> 2790.875 | AB31: =AVERAGE('Single data'!AL32:AO32) -> 645.03198 | AC31: ± | AD31: =_xlfn.STDEV.S(('Single data'!AL32:AO32))/SQRT(4) -> 391.66374 | AE31: =AVERAGE('Single data'!AP32:AS32) -> 7981.2503 | AF31: ± | AG31: =_xlfn.STDEV.S('Single data'!AP32:AS32)/SQRT(4) -> 3192.0852 | AH31: =AVERAGE('Single data'!AT32:AW32) -> 3418.2053 | AI31: ± | AJ31: =_xlfn.STDEV.S('Single data'!AT32:AW32)/SQRT(4) -> 1330.1961 | AK31: =AVERAGE('Single data'!AX32:BA32) -> 4912.9056 | AL31: ± | AM31: =_xlfn.STDEV.S('Single data'!AX32:BA32)/SQRT(4) -> 810.26251 | AN31: =AVERAGE('Single data'!BB32:BE32) -> 2948.6204 | AO31: ± | AP31: =_xlfn.STDEV.S('Single data'!BB32:BE32)/SQRT(4) -> 991.02802 | AS31: =AVERAGE('Single data'!BG32:BK32) -> 104063.61 | AT31: ± | AU31: =_xlfn.STDEV.S('Single data'!BG32:BK32)/SQRT(4) -> 26722.15 | AV31: =AVERAGE('Single data'!BM32:BP32) -> 119611 | AW31: ± | AX31: =_xlfn.STDEV.S('Single data'!BM32:BP32)/SQRT(4) -> 22687.084 | AY31: =AVERAGE('Single data'!BQ32:BT32) -> 94264.494 | AZ31: ± | BA31: =_xlfn.STDEV.S(('Single data'!BQ32:BT32))/SQRT(4) -> 20672.378 | BB31: =AVERAGE('Single data'!BU32:BX32) -> 112829.85 | BC31: ± | BD31: =_xlfn.STDEV.S('Single data'!BU32:BX32)/SQRT(4) -> 22158.197 | BE31: =AVERAGE('Single data'!BY32:CB32) -> 91785.768 | BF31: ± | BG31: =_xlfn.STDEV.S('Single data'!BY32:CB32)/SQRT(4) -> 17014.359 | BH31: =AVERAGE('Single data'!CC32:CF32) -> 100519.13 | BI31: ± | BJ31: =_xlfn.STDEV.S('Single data'!CC32:CF32)/SQRT(4) -> 22806.826 | BK31: =AVERAGE('Single data'!CG32:CJ32) -> 28867.246 | BL31: ± | BM31: =_xlfn.STDEV.S('Single data'!CG32:CJ32)/SQRT(4) -> 6801.8554 | BN31: =AVERAGE('Single data'!CK32:CN32) -> 117504.92 | BO31: ± | BP31: =_xlfn.STDEV.S('Single data'!CK32:CN32)/SQRT(4) -> 27144.531 | BQ31: =AVERAGE('Single data'!CO32:CR32) -> 105548.58 | BR31: ± | BS31: =_xlfn.STDEV.S(('Single data'!CO32:CR32))/SQRT(4) -> 11338.494 | BT31: =AVERAGE('Single data'!CS32:CV32) -> 119891.1 | BU31: ± | BV31: =_xlfn.STDEV.S('Single data'!CS32:CV32)/SQRT(4) -> 15792.242 | BW31: =AVERAGE('Single data'!CW32:CZ32) -> 72804.995 | BX31: ± | BY31: =_xlfn.STDEV.S('Single data'!CW32:CZ32)/SQRT(4) -> 15046.766 | BZ31: =AVERAGE('Single data'!DA32:DD32) -> 117655.92 | CA31: ± | CB31: =_xlfn.STDEV.S('Single data'!DA32:DD32)/SQRT(4) -> 23862.876 | CC31: =AVERAGE('Single data'!DE32:DH32) -> 80798.265 | CD31: ± | CE31: =_xlfn.STDEV.S('Single data'!DE32:DH32)/SQRT(4) -> 17363.206
C32: PGE1/PGD1 | D32: =AVERAGE('Single data'!D33:I33) -> 6.095644 | E32: ± | F32: =_xlfn.STDEV.S('Single data'!D33:I33)/SQRT(6) -> 1.8741858 | G32: =AVERAGE('Single data'!J33:M33) -> 11.848757 | H32: ± | I32: =_xlfn.STDEV.S('Single data'!J33:M33)/SQRT(3) -> 3.9383936 | J32: =AVERAGE('Single data'!N33:Q33) -> 7.8806428 | K32: ± | L32: =_xlfn.STDEV.S(('Single data'!N33:Q33))/SQRT(3) -> 4.2595124 | M32: =AVERAGE('Single data'!R33:U33) -> 12.514552 | N32: ± | O32: =_xlfn.STDEV.S('Single data'!R33:U33)/SQRT(4) -> 1.7899924 | P32: =AVERAGE('Single data'!V33:Y33) -> 11.454838 | Q32: ± | R32: =_xlfn.STDEV.S('Single data'!V33:Y33)/SQRT(4) -> 3.7270694 | S32: =AVERAGE('Single data'!Z33:AC33) -> 10.607192 | T32: ± | U32: =_xlfn.STDEV.S('Single data'!Z33:AC33)/SQRT(4) -> 2.4740231 | V32: =AVERAGE('Single data'!AD33:AG33) -> 4.452723 | W32: ± | X32: =_xlfn.STDEV.S('Single data'!AD33:AG33)/SQRT(4) -> 1.2885706 | AK32: =AVERAGE('Single data'!AX33:BA33) -> 6.1252763 | AL32: ± | AM32: =_xlfn.STDEV.S('Single data'!AX33:BA33)/SQRT(4) -> 2.136801 | AN32: =AVERAGE('Single data'!BB33:BE33) -> 5.7541435 | AO32: ± | AP32: =_xlfn.STDEV.S('Single data'!BB33:BE33)/SQRT(4) -> 1.4225285
C33: 13-HDHA | D33: =AVERAGE('Single data'!D34:I34) -> 118.82201 | E33: ± | F33: =_xlfn.STDEV.S('Single data'!D34:I34)/SQRT(6) -> 63.112449 | G33: =AVERAGE('Single data'!J34:M34) -> 1044.8795 | H33: ± | I33: =_xlfn.STDEV.S('Single data'!J34:M34)/SQRT(3) -> 1001.2831 | J33: =AVERAGE('Single data'!N34:Q34) -> 150.19067 | K33: ± | L33: =_xlfn.STDEV.S(('Single data'!N34:Q34))/SQRT(3) -> 129.82918 | M33: =AVERAGE('Single data'!R34:U34) -> 144.3671 | N33: ± | O33: =_xlfn.STDEV.S('Single data'!R34:U34)/SQRT(4) -> 95.166271 | P33: =AVERAGE('Single data'!V34:Y34) -> 72.485729 | Q33: ± | R33: =_xlfn.STDEV.S('Single data'!V34:Y34)/SQRT(4) -> 55.033692 | S33: =AVERAGE('Single data'!Z34:AC34) -> 189.2951 | T33: ± | U33: =_xlfn.STDEV.S('Single data'!Z34:AC34)/SQRT(4) -> 147.95888 | V33: =AVERAGE('Single data'!AD34:AG34) -> 209.30286 | W33: ± | X33: =_xlfn.STDEV.S('Single data'!AD34:AG34)/SQRT(4) -> 188.34166 | AK33: =AVERAGE('Single data'!AX34:BA34) -> 46.887837 | AL33: ± | AM33: =_xlfn.STDEV.S('Single data'!AX34:BA34)/SQRT(4) -> 10.946666 | AN33: =AVERAGE('Single data'!BB34:BE34) -> 24.732457 | AO33: ± | AP33: =_xlfn.STDEV.S('Single data'!BB34:BE34)/SQRT(4) -> 8.9542067
C34: 7-HDHA | D34: =AVERAGE('Single data'!D35:I35) -> 114.93064 | E34: ± | F34: =_xlfn.STDEV.S('Single data'!D35:I35)/SQRT(6) -> 26.95868 | G34: =AVERAGE('Single data'!J35:M35) -> 142.41366 | H34: ± | I34: =_xlfn.STDEV.S('Single data'!J35:M35)/SQRT(3) -> 105.99506 | J34: =AVERAGE('Single data'!N35:Q35) -> 41.732503 | K34: ± | L34: =_xlfn.STDEV.S(('Single data'!N35:Q35))/SQRT(3) -> 32.843081 | M34: =AVERAGE('Single data'!R35:U35) -> 74.344792 | N34: ± | O34: =_xlfn.STDEV.S('Single data'!R35:U35)/SQRT(4) -> 26.08649 | P34: =AVERAGE('Single data'!V35:Y35) -> 24.963259 | Q34: ± | R34: =_xlfn.STDEV.S('Single data'!V35:Y35)/SQRT(4) -> 18.05058 | S34: =AVERAGE('Single data'!Z35:AC35) -> 88.887082 | T34: ± | U34: =_xlfn.STDEV.S('Single data'!Z35:AC35)/SQRT(4) -> 28.437417 | V34: =AVERAGE('Single data'!AD35:AG35) -> 39.414738 | W34: ± | X34: =_xlfn.STDEV.S('Single data'!AD35:AG35)/SQRT(4) -> 24.858658 | Y34: =AVERAGE('Single data'!AH35:AK35) -> 52.683702 | Z34: ± | AA34: =_xlfn.STDEV.S('Single data'!AH35:AK35)/SQRT(4) -> 19.445392 | AB34: =AVERAGE('Single data'!AL35:AO35) -> 27.468041 | AC34: ± | AD34: =_xlfn.STDEV.S(('Single data'!AL35:AO35))/SQRT(4) -> 23.067987 | AE34: =AVERAGE('Single data'!AP35:AS35) -> 50.443491 | AF34: ± | AG34: =_xlfn.STDEV.S('Single data'!AP35:AS35)/SQRT(4) -> 34.823203 | AH34: =AVERAGE('Single data'!AT35:AW35) -> 19.897289 | AI34: ± | AJ34: =_xlfn.STDEV.S('Single data'!AT35:AW35)/SQRT(4) -> 13.09398 | AK34: =AVERAGE('Single data'!AX35:BA35) -> 61.106774 | AL34: ± | AM34: =_xlfn.STDEV.S('Single data'!AX35:BA35)/SQRT(4) -> 33.926923 | AN34: =AVERAGE('Single data'!BB35:BE35) -> 8.7682504 | AO34: ± | AP34: =_xlfn.STDEV.S('Single data'!BB35:BE35)/SQRT(4) -> 3.1235523
C35: 4-HDHA
C36: 7-HDPA | D36: =AVERAGE('Single data'!D37:I37) -> 64.024498 | E36: ± | F36: =_xlfn.STDEV.S('Single data'!D37:I37)/SQRT(6) -> 16.877072 | G36: =AVERAGE('Single data'!J37:M37) -> 115.42282 | H36: ± | I36: =_xlfn.STDEV.S('Single data'!J37:M37)/SQRT(3) -> 96.349409 | J36: =AVERAGE('Single data'!N37:Q37) -> 30.506522 | K36: ± | L36: =_xlfn.STDEV.S(('Single data'!N37:Q37))/SQRT(3) -> 28.61141 | M36: =AVERAGE('Single data'!R37:U37) -> 55.609655 | N36: ± | O36: =_xlfn.STDEV.S('Single data'!R37:U37)/SQRT(4) -> 17.802081 | P36: =AVERAGE('Single data'!V37:Y37) -> 29.253463 | Q36: ± | R36: =_xlfn.STDEV.S('Single data'!V37:Y37)/SQRT(4) -> 16.760906 | S36: =AVERAGE('Single data'!Z37:AC37) -> 58.88989 | T36: ± | U36: =_xlfn.STDEV.S('Single data'!Z37:AC37)/SQRT(4) -> 17.324692 | V36: =AVERAGE('Single data'!AD37:AG37) -> 27.519444 | W36: ± | X36: =_xlfn.STDEV.S('Single data'!AD37:AG37)/SQRT(4) -> 15.861576 | AK36: =AVERAGE('Single data'!AX37:BA37) -> 36.773167 | AL36: ± | AM36: =_xlfn.STDEV.S('Single data'!AX37:BA37)/SQRT(4) -> 20.095834 | AN36: =AVERAGE('Single data'!BB37:BE37) -> 11.640203 | AO36: ± | AP36: =_xlfn.STDEV.S('Single data'!BB37:BE37)/SQRT(4) -> 5.1457179
C37: 11-HEPE
C38: 11-HETE | D38: =AVERAGE('Single data'!D39:I39) -> 326.06923 | E38: ± | F38: =_xlfn.STDEV.S('Single data'!D39:I39)/SQRT(6) -> 100.63422 | G38: =AVERAGE('Single data'!J39:M39) -> 871.79528 | H38: ± | I38: =_xlfn.STDEV.S('Single data'!J39:M39)/SQRT(3) -> 650.78161 | J38: =AVERAGE('Single data'!N39:Q39) -> 128.7352 | K38: ± | L38: =_xlfn.STDEV.S(('Single data'!N39:Q39))/SQRT(3) -> 82.221408 | M38: =AVERAGE('Single data'!R39:U39) -> 247.74917 | N38: ± | O38: =_xlfn.STDEV.S('Single data'!R39:U39)/SQRT(4) -> 75.157641 | P38: =AVERAGE('Single data'!V39:Y39) -> 92.84148 | Q38: ± | R38: =_xlfn.STDEV.S('Single data'!V39:Y39)/SQRT(4) -> 34.86514 | S38: =AVERAGE('Single data'!Z39:AC39) -> 234.20248 | T38: ± | U38: =_xlfn.STDEV.S('Single data'!Z39:AC39)/SQRT(4) -> 78.464146 | V38: =AVERAGE('Single data'!AD39:AG39) -> 209.11456 | W38: ± | X38: =_xlfn.STDEV.S('Single data'!AD39:AG39)/SQRT(4) -> 175.14374 | Y38: =AVERAGE('Single data'!AH39:AK39) -> 375.74809 | Z38: ± | AA38: =_xlfn.STDEV.S('Single data'!AH39:AK39)/SQRT(4) -> 124.32817 | AB38: =AVERAGE('Single data'!AL39:AO39) -> 163.6109 | AC38: ± | AD38: =_xlfn.STDEV.S(('Single data'!AL39:AO39))/SQRT(4) -> 110.55388 | AE38: =AVERAGE('Single data'!AP39:AS39) -> 312.18015 | AF38: ± | AG38: =_xlfn.STDEV.S('Single data'!AP39:AS39)/SQRT(4) -> 112.09585 | AH38: =AVERAGE('Single data'!AT39:AW39) -> 225.02698 | AI38: ± | AJ38: =_xlfn.STDEV.S('Single data'!AT39:AW39)/SQRT(4) -> 102.75491 | AK38: =AVERAGE('Single data'!AX39:BA39) -> 221.76108 | AL38: ± | AM38: =_xlfn.STDEV.S('Single data'!AX39:BA39)/SQRT(4) -> 47.337463 | AN38: =AVERAGE('Single data'!BB39:BE39) -> 73.440563 | AO38: ± | AP38: =_xlfn.STDEV.S('Single data'!BB39:BE39)/SQRT(4) -> 31.544711
A41: % of control | B41: SPM | C41: RvD5 | D41: =AVERAGE('Single data'!D42:I42) -> 100 | E41: ± | F41: =_xlfn.STDEV.S('Single data'!D42:I42)/SQRT(6) -> 0 | G41: =AVERAGE('Single data'!J42:M42) -> 38.502057 | H41: ± | I41: =_xlfn.STDEV.S('Single data'!J42:M42)/SQRT(3) -> 11.228619 | J41: =AVERAGE('Single data'!N42:Q42) -> 20.580581 | K41: ± | L41: =_xlfn.STDEV.S(('Single data'!N42:Q42))/SQRT(3) -> 0.16252733 | M41: =AVERAGE('Single data'!R42:U42) -> 69.199517 | N41: ± | O41: =_xlfn.STDEV.S('Single data'!R42:U42)/SQRT(4) -> 25.576449 | P41: =AVERAGE('Single data'!V42:Y42) -> 32.780511 | Q41: ± | R41: =_xlfn.STDEV.S('Single data'!V42:Y42)/SQRT(4) -> 14.844491 | S41: =AVERAGE('Single data'!Z42:AC42) -> 61.146242 | T41: ± | U41: =_xlfn.STDEV.S('Single data'!Z42:AC42)/SQRT(4) -> 23.075204 | V41: =AVERAGE('Single data'!AD42:AG42) -> 51.928364 | W41: ± | X41: =_xlfn.STDEV.S('Single data'!AD42:AG42)/SQRT(4) -> 36.504094 | Y41: =AVERAGE('Single data'!AH42:AK42) -> 68.851953 | Z41: ± | AA41: =_xlfn.STDEV.S('Single data'!AH42:AK42)/SQRT(4) -> 44.125269 | AB41: =AVERAGE('Single data'!AL42:AO42) -> 39.50256 | AC41: ± | AD41: =_xlfn.STDEV.S(('Single data'!AL42:AO42))/SQRT(4) -> 31.942464 | AE41: =AVERAGE('Single data'!AP42:AS42) -> 54.660576 | AF41: ± | AG41: =_xlfn.STDEV.S('Single data'!AP42:AS42)/SQRT(4) -> 19.747725 | AH41: =AVERAGE('Single data'!AT42:AW42) -> 32.891371 | AI41: ± | AJ41: =_xlfn.STDEV.S('Single data'!AT42:AW42)/SQRT(4) -> 22.229494 | AK41: =AVERAGE('Single data'!AX42:BA42) -> 56.903344 | AL41: ± | AM41: =_xlfn.STDEV.S('Single data'!AX42:BA42)/SQRT(4) -> 44.480464 | AN41: =AVERAGE('Single data'!BB42:BE42) -> 25.632599 | AO41: ± | AP41: =_xlfn.STDEV.S('Single data'!BB42:BE42)/SQRT(4) -> 8.6448729
B42: SPM precursor | C42: 17-HDHA | D42: =AVERAGE('Single data'!D43:I43) -> 100 | E42: ± | F42: =_xlfn.STDEV.S('Single data'!D43:I43)/SQRT(6) -> 0 | G42: =AVERAGE('Single data'!J43:M43) -> 212.97775 | H42: ± | I42: =_xlfn.STDEV.S('Single data'!J43:M43)/SQRT(3) -> 116.05166 | J42: =AVERAGE('Single data'!N43:Q43) -> 123.76099 | K42: ± | L42: =_xlfn.STDEV.S(('Single data'!N43:Q43))/SQRT(3) -> 57.714386 | M42: =AVERAGE('Single data'!R43:U43) -> 69.383382 | N42: ± | O42: =_xlfn.STDEV.S('Single data'!R43:U43)/SQRT(4) -> 14.53681 | P42: =AVERAGE('Single data'!V43:Y43) -> 54.20516 | Q42: ± | R42: =_xlfn.STDEV.S('Single data'!V43:Y43)/SQRT(4) -> 14.608464 | S42: =AVERAGE('Single data'!Z43:AC43) -> 77.450282 | T42: ± | U42: =_xlfn.STDEV.S('Single data'!Z43:AC43)/SQRT(4) -> 18.869027 | V42: =AVERAGE('Single data'!AD43:AG43) -> 73.94058 | W42: ± | X42: =_xlfn.STDEV.S('Single data'!AD43:AG43)/SQRT(4) -> 29.102336 | Y42: =AVERAGE('Single data'!AH43:AK43) -> 83.430354 | Z42: ± | AA42: =_xlfn.STDEV.S('Single data'!AH43:AK43)/SQRT(4) -> 16.799048 | AB42: =AVERAGE('Single data'!AL43:AO43) -> 55.727723 | AC42: ± | AD42: =_xlfn.STDEV.S(('Single data'!AL43:AO43))/SQRT(4) -> 23.925076 | AE42: =AVERAGE('Single data'!AP43:AS43) -> 96.349918 | AF42: ± | AG42: =_xlfn.STDEV.S('Single data'!AP43:AS43)/SQRT(4) -> 22.218722 | AH42: =AVERAGE('Single data'!AT43:AW43) -> 92.302172 | AI42: ± | AJ42: =_xlfn.STDEV.S('Single data'!AT43:AW43)/SQRT(4) -> 7.294312 | AK42: =AVERAGE('Single data'!AX43:BA43) -> 44.915526 | AL42: ± | AM42: =_xlfn.STDEV.S('Single data'!AX43:BA43)/SQRT(4) -> 20.949703 | AN42: =AVERAGE('Single data'!BB43:BE43) -> 93.665265 | AO42: ± | AP42: =_xlfn.STDEV.S('Single data'!BB43:BE43)/SQRT(4) -> 46.757726
