Workbook

Sheet Background and Instructions 
B1: Background
B3: Learning Health Systems use health-related data, analyse it to generate new knowledge, and provide this knowledge in an ongoing and timely manner to support near-time health care delivery and outcomes. There is now extensive evidence to show that this approach results in sustained change with measurable improvement in a wide range of variables. Typically, a Learning Health System sits within an organisational partnership and comprises an integrated team of frontline clinicians, researchers, informaticians and community members, embedded in healthcare. We define a Learning Health System as a system in which routine health practice data, from service delivery and patient care, can lead to iterative cycles of knowledge generation and improvement in healthcare, whereby the whole Learning Health System is enabled by partnership across academic, clinician, community and industry stakeholders. This Maturity matrix has been developed to guide and assist you in using a Learning Health System approach to improve healthcare delivery and health outcomes, through the better integration of evidence based approaches. It uses a self reflective methodology, which can be a short, quick, reflexive analysis, or a deep and considered review with reference to provided tools and guides that provide an evidence based approach to your analysis. There are eight components across 4 areas of Evidence: Stakeholder Evidence - Engagement/ Partners and Priorities Research Evidence - Evidence generation, Synthesis and guidelines Data Evidence - Data Systems and Benchmarking Implementation Evidence - Implementation and Healthcare Improvement This tool can be used at the micro or macro level. That is - at the Individual project, service (for example - pain clinic or physio dept) or health service program level (For example - Community and Ambulatory Services or Allied Health) - or as a system wide framework (For Example - Monash Health) or even across health networks.
B4: The Monash Learning Health System can be found here: Teede, Helena; Jones, Angela; Enticott, Joanne; Johnson, Alison (2021). A Learning Health System: Learning together for better health - User guide. Monash University. Report. https://doi.org/10.26180/14825604.v3 Teede, Helena; Jones, Angela; Enticott, Joanne; Johnson, Alison (2021). A Learning Health System: Learning together for better health - Brief Report. Monash University. Report. https://doi.org/10.26180/14821791
B6: INSTRUCTIONS
B7: Worksheet 1 is where you complete your self ranked analysis The Summary sheet provides you with a spider/ radar graph. The closer to the centre the graph is, the less "mature" are your processes in this area - according to this approach. The four Evidence sheets provide information about, and links for, evidence based approaches to each component. This list is not exhaustive. It includes tools that our stakeholders have suggested. You are welcome to let us know of any others you believe should be added. You could, alternatively, just choose to add a locally relevant tool to the spreadsheet for your own use.
A9: 1 | B9: Step 1 - let's have a quick look
A10: 1.1 | B10: Complete worksheet 1 without access to other papers/ evidence/ information provided on the other tabs/ sheets. This provides an instinctual record.
A11: 1.2 | B11: Worksheet 1 - Look at the contents of the second row - from column H across. This lists different time points (at start of project and then several dates a year apart), at the moment. You should change this to reflect time points relevant to you. Or you could choose to enter the approach you have used (instinct/ local sources/ with tools provided)
A12: 1.3 | B12: If a component is not relevant to your rating enter an N/A. Where an N/A has been entered on Work Sheet 1 - You will need to go to the Summary Sheet and delete the N/A in the table (This will remove that point on the spider graph)
A13: 1.4 | B13: NOW: Refer to the Summary sheet - this produces a spider/ radar graph
A14: 1.5 | B14: Radar graphs are especially good for visualizing comparisons of quality data. Many attributes can be easily compared each along their own axis, and overall differences are apparent by the size and shape of the polygons. This comparison can then occur over several time points and show change over time.
B15: In this case - the larger the polygon - the more mature your processes are as considered using the Monash Learning Health System framework
B16: Over time - you re rate yourself, and this will then provide you with a spider/ radar graph with two (or more) polygons. This clearly shows your change over time.
A17: 1.6 | B17: Now open the Learning Health System Matrix Reporting tool (Word Document). Follow the instructions. It is important to paste in the spider graph from the Summary sheet. Make sure you document your rating methodology as per page 2. This provides you with a record of the methods you used for ranking for each of the 8 components of the LHS: -Instinctual information -With reference to local information/ data -Evidence based with use of evidence-based tools for each of the 8 components
A19: 2 | B19: Step 2 - If you are interested in a more evidence based evaluation:
A20: 2.1 | B20: Go to the Summary sheet and alter the headings on Row 2 to reflect the time points/ evaluation phases of your project/ self assessment (if relevant)
A21: 2.2 | B21: Consider which area/s you wish to gain a more evidence based basis for your ranking. You could try to complete all 8 using this method, but it is less daunting to pick out one or two areas and work through these in the first instance.
A22: 2.3 | B22: Then complete worksheet 1, referring to documents/ papers/ internal records of activity for the areas you have prioritised
A23: 2.4 | B23: Where an N/A has been entered on Work Sheet 1 - You will need to go to the Summary Sheet and delete the NA in the table (This will remove that point on the spider graph)
A24: 2.5 | B24: Now, refer to the Summary sheet - and consider whether there are differences in this ranking as compared with your instinctual ranking.
B25: Remember - the larger the polygon - the more mature your processes are as considered using the Monash Learning Health System framework
A26: 2.6 | B26: Now open the Learning Health System Matrix Reporting tool (Word Document). Follow the instructions. It is important to paste in the spider graph from the Summary sheet. Make sure you document your rating methodology as per page 2. This provides you with a record of the methods you used for ranking for each of the 8 components of the LHS: -Instinctual information -With reference to local information/ data -Evidence based with use of evidence-based tools for each of the 8 components
A29: 3 | B29: Step 3 - If you are interested in an even more evidence based evaluation:
A30: 3.1 | B30: Go to the Summary sheet and alter the headings on Row 2 to reflect the time points/ evaluation phases of your project/ self assessment (if relevant)
A31: 3.2 | B31: Consider which area/s you wish to gain a more evidence based basis for your ranking. You could try to complete all 8 using this method, but it is less daunting to pick out one or two areas and work through these in the first instance.
A32: 3.3 | B32: Then look through the resources listed on the relevant sheets/ tabs (Stakeholder Derived Evidence, Research Derived Evidence, Data Derived Evidence and/or Implementation Derived Evidence).
A33: 3.4 | B33: Re do the self assessment on the Worksheet using the results from the Evidence based approach (Instinct, Evidence-based with reference to local information/ data, Evidence based with use of evidence-based tools)
A34: 3.5 | B34: Where an N/A has been entered on Work Sheet 1 - You will need to go to the Summary Sheet and delete the NA in the table (This will remove that point on the spider graph)
A35: 3.6 | B35: Refer to Summary sheet and spider/ radar graph
A36: 3.7 | B36: Now open the Learning Health System Matrix Reporting tool (Word Document). Follow the instructions. It is important to paste in the spider graph from the Summary sheet. Make sure you document your rating methodology as per page 2. This provides you with a record of the methods you used for ranking for each of the 8 components of the LHS: -Instinctual information -With reference to local information/ data -Evidence based with use of evidence-based tools for each of the 8 components
A39: 4 | B39: Step 4 - If you are interested in a complete evidence based evaluation:
A40: 4.1 | B40: Work through until all areas are reported using a referenced validated approaches for analysis
A41: 4.2 | B41: Document which tools and resources you used in each of the component areas. Indicate whether they were sourced from this spreadsheet or whether it was found elsewhere (and include links to this source) Make sure to include evidence of data used - whether through links to sites/ documents/ reports that will not change over time.
... A45: 5.1 | B45: You may wish to record your analyses at different time points, in which case you alter the headings in on Row 2 to reflect this. The spider graph legend will change accordingly
B48: =HYPERLINK("DOI: 10.26180/22648690") -> DOI: 10.26180/22648690 | C48: (not yet publicly available link)
B49: Attribution - NonCommercial - ShareAlike 4.0 International (CC BY-NC-SA 4.0) © 2025 Monash University
B50: (non- commercial, share it, copy it, redistribute the material in any medium or format, adapt, remix, transform, and build upon material - but must acknowledge)
B53: We would like to acknowledge that this work builds upon that presented in this publication:
B54: Lannon, C, Schuler, CL, Seid, M, et al. A maturity grid assessment tool for learning networks. Learn Health Sys. 2021; 5:e10232. https://doi.org/10.1002/lrh2.10232
B57: To do list: Ask Darren if we should redo the lit search to do enablers and barriers to implementation of the LHS? Background sheet - Darren flow diagram update Worksheet 1 - check 5 point scale pref with Helena and the new definition/s separation of aspects of research derived evidence Worksheet 2 - How to link drop down selection to populate different cells on next sheet - ask Darren? Query for RG/ Helena - across on same row Read docs from Sandy Look through lit search articles Look at implementation tool kit with Susanne Develop the word doc for recording outputs Case studies - Done We also need to work out a better way to direct people to which resource - there are too many ... | E57: Do we state that we believe that coaching or mentoring is probably part of implementation strategies…?? Maybe we should provide a definition for when we think this is necessary?
B61: show Helena the case study - if time

Sheet Worksheet_1
A1: Column12 | B1: Column1 | C1: Column2 | D1: Column3 | E1: Column4 | F1: Column5 | G1: Column6 | H1: Column7 | I1: Column8 | J1: Column9 | K1: Column10 | L1: Column11
A2: Work sheet | H2: Start of Project | I2: 45261 | J2: 45627 | K2: 45992 | L2: 46357
A3: LHS Domain | B3: Components | C3: 1 - Not Started | D3: 2 – Beginning | E3: 3 - Intermediate | F3: 4 - Mature | G3: 5 - Advanced | H3: Enter 1,2,3,4,5, N/A as appropriate | I3: Enter 1,2,3,4,5, N/A as appropriate | J3: Enter 1,2,3,4,5, N/A as appropriate | K3: Enter 1,2,3,4,5, N/A as appropriate | L3: Enter 1,2,3,4,5, N/A as appropriate
A4: Stakeholder Derived Evidence | B4: Engagement of People | C4: No contact with or Informing your stakeholders | D4: Consultation with your Stakeholder groups | E4: Involve your stakeholder groups | F4: Collaborative inclusion/ partnership with your stakeholder groups | G4: Co-designed or led by your stakeholder groups (should include consumers) | H4: 3
B5: Identifying Priorities | C5: Identification of priorities not commenced and/or does not include your identified stakeholders | D5: Engagement with your identified stakeholder groups to create a priority "long list" for discussion | E5: "Short list" of agreed priorities with your identified stakeholder groups providing input | F5: Priorities ranked with your identified stakeholder groups providing input | G5: Agreed priorities are included in the project evaluation metrics | H5: 1
A6: Research Derived Evidence | B6: Evidence Based Information | C6: No inclusion of any research based evidence of any type | D6: Unstructured non systematic approaches to accessing information from research evidence | E6: Structured and systematic approaches to accessing research evidence - but without consideration of stakeholder priority areas | F6: Structured and systematic approaches to accessing research evidence - with stakeholder agreed priorities directing some areas of focus | G6: Structured and systematic approaches to accessing research evidence - with stakeholder agreed priorities directing all areas of focus | H6: 2
B7: Evidence Synthesis and Guidelines | C7: No inclusion of existing systematic reviews or clinical guidelines or Unstructured non systematic approaches to accessing information about systematic reviews or evidence based clinical guidelines | D7: Evidence base includes some stakeholder priority informed systematic reviews, clinical guidelines, standards or policies - but the search is still underway | E7: Evidence base includes some stakeholder informed search priorities. Initial systematic reviews, clinical guidelines, standards or policies have been completed, but systems for inclusion of new evidence are not yet in place | F7: Evidence base is fully informed by stakeholder priorities. Systematic reviews, clinical guidelines (which include evidence synthesis and quality analyses), standards or policies have been completed but systems for inclusion of new evidence are not yet in place | G7: Evidence base is fully informed by stakeholder priorities. Systematic reviews, clinical guidelines, living guidelines, standards or policies have been completed and systems are in place for inclusion of new evidence as it occurs | H7: 1
A8: Data Derived Evidence | B8: Data and Information Systems | C8: No relevant or reliable Data sources have been accessed, although they may have been identified. | D8: Relevant existing data sources are identified and accessed at some sites/ organisations/ services | E8: Relevant existing data sources are identified and accessed at all sites/ organisations/ services | F8: Data includes that from previously identified sources, AND also includes Patient Reported Outcome/ Experience Measures (PROMs and PREMs) | G8: Data includes that from previously identified sources AND includes external data such as Population based data (Death, PBS, MBS, admissions, emergency, economic, State/ federal Government data). | H8: 1
B9: Benchmarking | C9: No benchmarking against published best practise, national data or across services is occurring for identified data sources | D9: Data is provided (for this project) for benchmarking purposes (or for ranking of those with similar services and profiles), but no reports are available for any aspects related to the stakeholder priority areas | E9: Data is provided (for this project) for benchmarking purposes and some reports are available for aspects related to the stakeholder priority areas | F9: Benchmarking reports are available on an ongoing cycle, with clear links to stakeholder priorities, but only for those involved in the benchmarking | G9: Benchmarking is occurring as per the previous ranking, in an open and transparent manner | H9: 1
A10: Implementation Derived Evidence | B10: Implementation | C10: None or Some consideration of the burden of at least one of the following: data collection/ provision, barriers and enablers for changes in practise, economic/costs aspects or sponsorship/ support from senior leaders | D10: Some consideration of the burden of at least one of the following: data collection/ provision, barriers and enablers for changes in practise, economic/costs aspects or sponsorship/ support from senior leaders. AND Some changes are underway to address these implementation aspects | E10: Consideration of the burden of at least three of the following: data collection/ provision, barriers and enablers for changes in practise, economic/costs aspects or sponsorship/ support from senior leaders. AND Some changes are underway to address these implementation aspects | F10: Consideration of the burden of all of the following: data collection/ provision, barriers and enablers for changes in practise, economic/costs aspects or sponsorship/ support from senior leaders is occurring. AND Some changes are underway to address these implementation aspects | G10: Leadership and theory driven implementation strategies are in place. Consideration and changes have been made to address all of the following: data collection/ provision, barriers and enablers for changes in practise and economic aspects/costs. Sustained changes in practise are occurring and are reportable. | H10: 1
B11: Healthcare Improvement | C11: No evidence of evaluation of health outcomes, quality improvement activities or changes in care delivery as a result of these evaluations at either local or system level - for the targeted priority areas | D11: Some evidence of local evaluation of health outcomes, with quality improvement activities or changes in care delivery a result of these evaluations - for the targeted priority areas | E11: Widespread evidence of evaluation of health outcomes, with quality improvement activities or changes in care delivery a result of these evaluations - for the targeted priority areas | F11: Measurable improvement in health outcomes for targeted areas. | G11: Evidence of ongoing cycles of the LHS - with Stakeholder input, updated review of research evidence, integration of evidence from locally produced data and consideration of implementation aspects. | H11: 1
B15: LHS Components
B16: Engagement of People | C16: Identifying Priorities | D16: Evidence Based Information | E16: Evidence Synthesis and Guidelines
B17: Consult | C17: Formal Engagement | D17: Cohort trials | E17: Systematic reviews | G17: Source: Stroke. 2023;54:1148–1159. DOI: 10.1161/STROKEAHA.122.036216 and based on articles by Zurynski et al, Menear et al, and Institute of Medicine.
B18: Engage | C18: Agreed Priorities | D18: Randomised and pragmatic clinical trials | E18: Meta- analysis: aggregate and individual data
B19: Involve | C19: Ranked Priorities | D19: Epidemiology based research | E19: Secondary research
B20: Collaborate | C20: Prioritised outcome measures | D20: Economic analysis | E20: Consideration of stakeholder and evidence based priorities
B21: Empower | D21: Qualitative and quantitative research | E21: Guidelines, standards and policies
B22: Inform
B25: Data and Information Systems | C25: Benchmarking | D25: Implementation | E25: Healthcare Improvement
B26: Quality, timely, harmonised, meaningful and actionable data | C26: Transparency and equity | D26: Leadership | E26: Change management
B27: Data from healthcare and other sources | C27: Adjustments for service variation | D27: Theory driven | E27: Leadership | AG27: smartsheet
B28: Patient reported experience and out come measures | C28: Real time visual representation at individual, service and organisational levels | D28: Economically sound | E28: Pragmatism
B29: Compliance with 5 safes*, FAIR data principles** and legislative and privacy requirements | C29: Measurement to iteratively and continuously drive improvement | D29: Methodologically rigorous | E29: Contextual/ local
B30: Governance, data sharing, linkage, analysis and interpretation | C30: Evaluation | D30: Addressing barriers and enablers | E30: Outcome improvement
B31: Big data analytics, machine learning | C31: Learning Feedback | D31: Capability in change management | E31: Quality improvement
B32: Technology and infrastructure | D32: Consideration of the Burden of data collection | E32: Evaluation
D33: Sustainable and scalable | E33: Demonstrating healthcare improvement
B37: *Five Safes: Safe Projects, People, Settings, Data and Outputs
B38: ** FAIR data principles: Findable, Accessible , Interoperable and Reusable
E46: https://www.givainc.com/blog/index.cfm/2022/9/19/what-is-a-maturity-model-in-itil-itsm
A48: https://www.smartsheet.com/content/organizational-maturity
A82: Victoria’s Digital Health Maturity Model | B82: https://www.health.vic.gov.au/quality-safety-service/victorian-digital-health-maturity-model
E84: https://en.wikipedia.org/wiki/Capability_Maturity_Model

Sheet Summary Sheet
A1: Learning Health System Maturity Matrix
A2: Domain | B2: Component | C2: =Table2[[#This Row],[Column7]] -> Start of Project | D2: =Table2[[#This Row],[Column8]] -> 45261 | E2: =Table2[[#This Row],[Column9]] -> 45627 | F2: =Table2[[#This Row],[Column10]] -> 45992 | G2: =Table2[[#This Row],[Column11]] -> 46357
A3: Stakeholder Derived Evidence | B3: Engagement of People | C3: =Worksheet_1!H4 -> 3 | D3: =Worksheet_1!I4 -> 0 | E3: =Worksheet_1!J4 -> 0 | F3: =Worksheet_1!K4 -> 0 | G3: =Worksheet_1!L4 -> 0
B4: Identifying Priorities | C4: =Worksheet_1!H5 -> 1 | D4: =Worksheet_1!I5 -> 0 | E4: =Worksheet_1!J5 -> 0 | F4: =Worksheet_1!K5 -> 0 | G4: =Worksheet_1!L5 -> 0
A5: Research Derived Evidence | B5: Evidence Based Information | C5: =Worksheet_1!H6 -> 2 | D5: =Worksheet_1!I6 -> 0 | E5: =Worksheet_1!J6 -> 0 | F5: =Worksheet_1!K6 -> 0 | G5: =Worksheet_1!L6 -> 0
B6: Evidence Synthesis and Guidelines | C6: =Worksheet_1!H7 -> 1 | D6: =Worksheet_1!I7 -> 0 | E6: =Worksheet_1!J7 -> 0 | F6: =Worksheet_1!K7 -> 0 | G6: =Worksheet_1!L7 -> 0
A7: Data Derived Evidence | B7: Data and Information Systems | C7: =Worksheet_1!H8 -> 1 | D7: =Worksheet_1!I8 -> 0 | E7: =Worksheet_1!J8 -> 0 | F7: =Worksheet_1!K8 -> 0 | G7: =Worksheet_1!L8 -> 0
B8: Benchmarking | C8: =Worksheet_1!H9 -> 1 | D8: =Worksheet_1!I9 -> 0 | E8: =Worksheet_1!J9 -> 0 | F8: =Worksheet_1!K9 -> 0 | G8: =Worksheet_1!L9 -> 0
A9: Implementation Evidence | B9: Implementation | C9: =Worksheet_1!H10 -> 1 | D9: =Worksheet_1!I10 -> 0 | E9: =Worksheet_1!J10 -> 0 | F9: =Worksheet_1!K10 -> 0 | G9: =Worksheet_1!L10 -> 0
B10: Healthcare Improvement | C10: =Worksheet_1!H11 -> 1 | D10: =Worksheet_1!I11 -> 0 | E10: =Worksheet_1!J11 -> 0 | F10: =Worksheet_1!K11 -> 0 | G10: =Worksheet_1!L11 -> 0
S22: =U13 -> 0
