Workbook

Sheet Mean + S.E.M.
A1: Table S10 Effect of LCMs on the sphingolipid profile in zymosan-induced peritonitis
D4: Exudate | P4: Plasma
D5: 4h | J5: 18h | P5: 4h | V5: 18h
C6: analyte | D6: 2% DMSO in saline | G6: 2 | J6: 2% DMSO in saline | M6: 2 | P6: 2% DMSO in saline | S6: 2 | V6: 2% DMSO in saline | Y6: 2
D7: mean | E7: ± | F7: S.E.M. | G7: mean | H7: ± | I7: S.E.M. | J7: mean | K7: ± | L7: S.E.M. | M7: mean | N7: ± | O7: S.E.M. | P7: mean | Q7: ± | R7: S.E.M. | S7: mean | T7: ± | U7: S.E.M. | V7: mean | W7: ± | X7: S.E.M. | Y7: mean | Z7: ± | AA7: S.E.M.
A8: nmol/ mL | C8: S1P (d18:1) | D8: =AVERAGE('single data'!D6:I6) -> 0.0020058866 | E8: ± | F8: =(_xlfn.STDEV.S('single data'!D6:I6)/SQRT(6)) -> 0.00044682454 | G8: =AVERAGE('single data'!J6:O6) -> 0.0026839366 | H8: ± | I8: =(_xlfn.STDEV.S('single data'!J6:O6)/SQRT(6)) -> 0.00031509662 | J8: =AVERAGE('single data'!Q6:V6) -> 0.0013425018 | K8: ± | L8: =(_xlfn.STDEV.S('single data'!Q6:V6)/SQRT(6)) -> 0.00042249959 | M8: =AVERAGE('single data'!W6:AB6) -> 0.0011854679 | N8: ± | O8: =(_xlfn.STDEV.S('single data'!W6:AB6)/SQRT(6)) -> 0.00012501086 | P8: =AVERAGE('single data'!AD6:AI6) -> 0.18074768 | Q8: ± | R8: =(_xlfn.STDEV.S('single data'!AD6:AI6)/SQRT(6)) -> 0.014350845 | S8: =AVERAGE('single data'!AJ6:AO6) -> 0.20818782 | T8: ± | U8: =(_xlfn.STDEV.S('single data'!AJ6:AO6)/SQRT(6)) -> 0.006783202 | V8: =AVERAGE('single data'!AQ6:AV6) -> 0.33025993 | W8: ± | X8: =(_xlfn.STDEV.S('single data'!AQ6:AV6)/SQRT(6)) -> 0.026036121 | Y8: =AVERAGE('single data'!AW6:BB6) -> 0.28196166 | Z8: ± | AA8: =(_xlfn.STDEV.S('single data'!AW6:BB6)/SQRT(6)) -> 0.014672829
C9: Sa (d16:0) | D9: =AVERAGE('single data'!D7:I7) -> 0.14538523 | E9: ± | F9: =(_xlfn.STDEV.S('single data'!D7:I7)/SQRT(6)) -> 0.0070328584 | G9: =AVERAGE('single data'!J7:O7) -> 0.17725125 | H9: ± | I9: =(_xlfn.STDEV.S('single data'!J7:O7)/SQRT(6)) -> 0.022633387 | J9: =AVERAGE('single data'!Q7:V7) -> 0.14936764 | K9: ± | L9: =(_xlfn.STDEV.S('single data'!Q7:V7)/SQRT(6)) -> 0.0070089999 | M9: =AVERAGE('single data'!W7:AB7) -> 0.15599694 | N9: ± | O9: =(_xlfn.STDEV.S('single data'!W7:AB7)/SQRT(6)) -> 0.0079821413 | P9: =AVERAGE('single data'!AD7:AI7) -> 0.57517037 | Q9: ± | R9: =(_xlfn.STDEV.S('single data'!AD7:AI7)/SQRT(6)) -> 0.012743969 | S9: =AVERAGE('single data'!AJ7:AO7) -> 0.6227086 | T9: ± | U9: =(_xlfn.STDEV.S('single data'!AJ7:AO7)/SQRT(6)) -> 0.029683246 | V9: =AVERAGE('single data'!AQ7:AV7) -> 0.63255511 | W9: ± | X9: =(_xlfn.STDEV.S('single data'!AQ7:AV7)/SQRT(6)) -> 0.086483235 | Y9: =AVERAGE('single data'!AW7:BB7) -> 0.65765323 | Z9: ± | AA9: =(_xlfn.STDEV.S('single data'!AW7:BB7)/SQRT(6)) -> 0.073139868
C10: So (d16:1) | D10: =AVERAGE('single data'!D8:I8) -> 3.4113786 | E10: ± | F10: =(_xlfn.STDEV.S('single data'!D8:I8)/SQRT(6)) -> 0.20399069 | G10: =AVERAGE('single data'!J8:O8) -> 3.4482125 | H10: ± | I10: =(_xlfn.STDEV.S('single data'!J8:O8)/SQRT(6)) -> 0.32839032 | J10: =AVERAGE('single data'!Q8:V8) -> 3.2546677 | K10: ± | L10: =(_xlfn.STDEV.S('single data'!Q8:V8)/SQRT(6)) -> 0.28687135 | M10: =AVERAGE('single data'!W8:AB8) -> 3.0570729 | N10: ± | O10: =(_xlfn.STDEV.S('single data'!W8:AB8)/SQRT(6)) -> 0.14012595 | P10: =AVERAGE('single data'!AD8:AI8) -> 16.3572 | Q10: ± | R10: =(_xlfn.STDEV.S('single data'!AD8:AI8)/SQRT(6)) -> 0.23062569 | S10: =AVERAGE('single data'!AJ8:AO8) -> 16.676945 | T10: ± | U10: =(_xlfn.STDEV.S('single data'!AJ8:AO8)/SQRT(6)) -> 0.24113691 | V10: =AVERAGE('single data'!AQ8:AV8) -> 14.542049 | W10: ± | X10: =(_xlfn.STDEV.S('single data'!AQ8:AV8)/SQRT(6)) -> 0.56743861 | Y10: =AVERAGE('single data'!AW8:BB8) -> 14.977453 | Z10: ± | AA10: =(_xlfn.STDEV.S('single data'!AW8:BB8)/SQRT(6)) -> 0.61920167
C11: Sa (d18:0) | D11: =AVERAGE('single data'!D9:I9) -> 0.0072014107 | E11: ± | F11: =(_xlfn.STDEV.S('single data'!D9:I9)/SQRT(6)) -> 0.00060678303 | G11: =AVERAGE('single data'!J9:O9) -> 0.0090024887 | H11: ± | I11: =(_xlfn.STDEV.S('single data'!J9:O9)/SQRT(6)) -> 0.0008374573 | J11: =AVERAGE('single data'!Q9:V9) -> 0.010752466 | K11: ± | L11: =(_xlfn.STDEV.S('single data'!Q9:V9)/SQRT(6)) -> 0.00074985892 | M11: =AVERAGE('single data'!W9:AB9) -> 0.010911044 | N11: ± | O11: =(_xlfn.STDEV.S('single data'!W9:AB9)/SQRT(6)) -> 0.00050069889 | P11: =AVERAGE('single data'!AD9:AI9) -> 0.025223417 | Q11: ± | R11: =(_xlfn.STDEV.S('single data'!AD9:AI9)/SQRT(6)) -> 0.00082955779 | S11: =AVERAGE('single data'!AJ9:AO9) -> 0.026008713 | T11: ± | U11: =(_xlfn.STDEV.S('single data'!AJ9:AO9)/SQRT(6)) -> 0.00049189661 | V11: =AVERAGE('single data'!AQ9:AV9) -> 0.023555812 | W11: ± | X11: =(_xlfn.STDEV.S('single data'!AQ9:AV9)/SQRT(6)) -> 0.00086261152 | Y11: =AVERAGE('single data'!AW9:BB9) -> 0.02495353 | Z11: ± | AA11: =(_xlfn.STDEV.S('single data'!AW9:BB9)/SQRT(6)) -> 0.00043249658
C12: So (d18:1) | D12: =AVERAGE('single data'!D10:I10) -> 0.00080323342 | E12: ± | F12: =(_xlfn.STDEV.S('single data'!D10:I10)/SQRT(6)) -> 0.00031118262 | G12: =AVERAGE('single data'!J10:O10) -> 0.00081529764 | H12: ± | I12: =(_xlfn.STDEV.S('single data'!J10:O10)/SQRT(6)) -> 0.00011636966 | J12: =AVERAGE('single data'!Q10:V10) -> 0.017466834 | K12: ± | L12: =(_xlfn.STDEV.S('single data'!Q10:V10)/SQRT(6)) -> 0.014147283 | M12: =AVERAGE('single data'!W10:AB10) -> 0.0045254024 | N12: ± | O12: =(_xlfn.STDEV.S('single data'!W10:AB10)/SQRT(6)) -> 0.00084805201 | P12: =AVERAGE('single data'!AD10:AI10) -> 0.078870105 | Q12: ± | R12: =(_xlfn.STDEV.S('single data'!AD10:AI10)/SQRT(6)) -> 0.014056425 | S12: =AVERAGE('single data'!AJ10:AO10) -> 0.06592917 | T12: ± | U12: =(_xlfn.STDEV.S('single data'!AJ10:AO10)/SQRT(6)) -> 0.007033824 | V12: =AVERAGE('single data'!AQ10:AV10) -> 0.078093982 | W12: ± | X12: =(_xlfn.STDEV.S('single data'!AQ10:AV10)/SQRT(6)) -> 0.011066246 | Y12: =AVERAGE('single data'!AW10:BB10) -> 0.061684163 | Z12: ± | AA12: =(_xlfn.STDEV.S('single data'!AW10:BB10)/SQRT(6)) -> 0.0078497616
C13: So (d18:1)-d7 (ISD) | D13: =AVERAGE('single data'!D11:I11) -> 0.00074801583 | E13: ± | F13: =(_xlfn.STDEV.S('single data'!D11:I11)/SQRT(6)) -> 5.248027e-05 | G13: =AVERAGE('single data'!J11:O11) -> 0.00070439685 | H13: ± | I13: =(_xlfn.STDEV.S('single data'!J11:O11)/SQRT(6)) -> 6.4648094e-05 | J13: =AVERAGE('single data'!Q11:V11) -> 0.00071234361 | K13: ± | L13: =(_xlfn.STDEV.S('single data'!Q11:V11)/SQRT(6)) -> 9.7189223e-05 | M13: =AVERAGE('single data'!W11:AB11) -> 0.00057959619 | N13: ± | O13: =(_xlfn.STDEV.S('single data'!W11:AB11)/SQRT(6)) -> 2.4192075e-05 | P13: =AVERAGE('single data'!AD11:AI11) -> 0.0037628571 | Q13: ± | R13: =(_xlfn.STDEV.S('single data'!AD11:AI11)/SQRT(6)) -> 8.7524652e-05 | S13: =AVERAGE('single data'!AJ11:AO11) -> 0.0038069253 | T13: ± | U13: =(_xlfn.STDEV.S('single data'!AJ11:AO11)/SQRT(6)) -> 7.8081255e-05 | V13: =AVERAGE('single data'!AQ11:AV11) -> 0.0033173111 | W13: ± | X13: =(_xlfn.STDEV.S('single data'!AQ11:AV11)/SQRT(6)) -> 0.00015819774 | Y13: =AVERAGE('single data'!AW11:BB11) -> 0.0033183291 | Z13: ± | AA13: =(_xlfn.STDEV.S('single data'!AW11:BB11)/SQRT(6)) -> 0.00024927707
C14: Cer (d18:0/16:0) | D14: =AVERAGE('single data'!D12:I12) -> 0.038963808 | E14: ± | F14: =(_xlfn.STDEV.S('single data'!D12:I12)/SQRT(6)) -> 0.0042849251 | G14: =AVERAGE('single data'!J12:O12) -> 0.049376559 | H14: ± | I14: =(_xlfn.STDEV.S('single data'!J12:O12)/SQRT(6)) -> 0.016352581 | J14: =AVERAGE('single data'!Q12:V12) -> 0.11589388 | K14: ± | L14: =(_xlfn.STDEV.S('single data'!Q12:V12)/SQRT(6)) -> 0.031959861 | M14: =AVERAGE('single data'!W12:AB12) -> 0.23441153 | N14: ± | O14: =(_xlfn.STDEV.S('single data'!W12:AB12)/SQRT(6)) -> 0.037774066 | P14: =AVERAGE('single data'!AD12:AI12) -> 0.051546329 | Q14: ± | R14: =(_xlfn.STDEV.S('single data'!AD12:AI12)/SQRT(6)) -> 0.010756857 | S14: =AVERAGE('single data'!AJ12:AO12) -> 0.077751137 | T14: ± | U14: =(_xlfn.STDEV.S('single data'!AJ12:AO12)/SQRT(6)) -> 0.02186658 | V14: =AVERAGE('single data'!AQ12:AV12) -> 0.50539497 | W14: ± | X14: =(_xlfn.STDEV.S('single data'!AQ12:AV12)/SQRT(6)) -> 0.12388196 | Y14: =AVERAGE('single data'!AW12:BB12) -> 0.2334579 | Z14: ± | AA14: =(_xlfn.STDEV.S('single data'!AW12:BB12)/SQRT(6)) -> 0.059546531
C15: Cer (d18:0/18:0) | D15: =AVERAGE('single data'!D13:I13) -> 0.054576697 | E15: ± | F15: =(_xlfn.STDEV.S('single data'!D13:I13)/SQRT(6)) -> 0.017807142 | G15: =AVERAGE('single data'!J13:O13) -> 0.036284888 | H15: ± | I15: =(_xlfn.STDEV.S('single data'!J13:O13)/SQRT(6)) -> 0.013183018 | J15: =AVERAGE('single data'!Q13:V13) -> 0.11826006 | K15: ± | L15: =(_xlfn.STDEV.S('single data'!Q13:V13)/SQRT(6)) -> 0.040137762 | M15: =AVERAGE('single data'!W13:AB13) -> 0.089670164 | N15: ± | O15: =(_xlfn.STDEV.S('single data'!W13:AB13)/SQRT(6)) -> 0.013694256 | P15: =AVERAGE('single data'!AD13:AI13) -> 0.19574027 | Q15: ± | R15: =(_xlfn.STDEV.S('single data'!AD13:AI13)/SQRT(6)) -> 0.020041961 | S15: =AVERAGE('single data'!AJ13:AO13) -> 0.29959951 | T15: ± | U15: =(_xlfn.STDEV.S('single data'!AJ13:AO13)/SQRT(6)) -> 0.046909662 | V15: =AVERAGE('single data'!AQ13:AV13) -> 0.48055387 | W15: ± | X15: =(_xlfn.STDEV.S('single data'!AQ13:AV13)/SQRT(6)) -> 0.16207195 | Y15: =AVERAGE('single data'!AW13:BB13) -> 0.28897737 | Z15: ± | AA15: =(_xlfn.STDEV.S('single data'!AW13:BB13)/SQRT(6)) -> 0.090732592
C16: Cer (d18:0/20:0) | D16: =AVERAGE('single data'!D14:I14) -> 0.039847487 | E16: ± | F16: =(_xlfn.STDEV.S('single data'!D14:I14)/SQRT(6)) -> 0.0087027931 | G16: =AVERAGE('single data'!J14:O14) -> 0.03657583 | H16: ± | I16: =(_xlfn.STDEV.S('single data'!J14:O14)/SQRT(6)) -> 0.018200474 | J16: =AVERAGE('single data'!Q14:V14) -> 0.071967601 | K16: ± | L16: =(_xlfn.STDEV.S('single data'!Q14:V14)/SQRT(6)) -> 0.023009282 | M16: =AVERAGE('single data'!W14:AB14) -> 0.06024843 | N16: ± | O16: =(_xlfn.STDEV.S('single data'!W14:AB14)/SQRT(6)) -> 0.0108895 | P16: =AVERAGE('single data'!AD14:AI14) -> 0.25168199 | Q16: ± | R16: =(_xlfn.STDEV.S('single data'!AD14:AI14)/SQRT(6)) -> 0.025121384 | S16: =AVERAGE('single data'!AJ14:AO14) -> 0.33656918 | T16: ± | U16: =(_xlfn.STDEV.S('single data'!AJ14:AO14)/SQRT(6)) -> 0.043881583 | V16: =AVERAGE('single data'!AQ14:AV14) -> 1.4192255 | W16: ± | X16: =(_xlfn.STDEV.S('single data'!AQ14:AV14)/SQRT(6)) -> 0.36607388 | Y16: =AVERAGE('single data'!AW14:BB14) -> 0.84019824 | Z16: ± | AA16: =(_xlfn.STDEV.S('single data'!AW14:BB14)/SQRT(6)) -> 0.19005579
C17: Cer (d18:0/22:0) | D17: =AVERAGE('single data'!D15:I15) -> 0.12817968 | E17: ± | F17: =(_xlfn.STDEV.S('single data'!D15:I15)/SQRT(6)) -> 0.017717309 | G17: =AVERAGE('single data'!J15:O15) -> 0.098364826 | H17: ± | I17: =(_xlfn.STDEV.S('single data'!J15:O15)/SQRT(6)) -> 0.050919506 | J17: =AVERAGE('single data'!Q15:V15) -> 0.17811555 | K17: ± | L17: =(_xlfn.STDEV.S('single data'!Q15:V15)/SQRT(6)) -> 0.078883487 | M17: =AVERAGE('single data'!W15:AB15) -> 0.10080928 | N17: ± | O17: =(_xlfn.STDEV.S('single data'!W15:AB15)/SQRT(6)) -> 0.017727864 | P17: =AVERAGE('single data'!AD15:AI15) -> 1.509812 | Q17: ± | R17: =(_xlfn.STDEV.S('single data'!AD15:AI15)/SQRT(6)) -> 0.26327222 | S17: =AVERAGE('single data'!AJ15:AO15) -> 2.9327575 | T17: ± | U17: =(_xlfn.STDEV.S('single data'!AJ15:AO15)/SQRT(6)) -> 0.54338658 | V17: =AVERAGE('single data'!AQ15:AV15) -> 13.087071 | W17: ± | X17: =(_xlfn.STDEV.S('single data'!AQ15:AV15)/SQRT(6)) -> 3.5411648 | Y17: =AVERAGE('single data'!AW15:BB15) -> 6.9410428 | Z17: ± | AA17: =(_xlfn.STDEV.S('single data'!AW15:BB15)/SQRT(6)) -> 1.7869887
C18: Cer (d18:0/24:0) | D18: =AVERAGE('single data'!D16:I16) -> 0.099015277 | E18: ± | F18: =(_xlfn.STDEV.S('single data'!D16:I16)/SQRT(6)) -> 0.018776235 | G18: =AVERAGE('single data'!J16:O16) -> 0.067485598 | H18: ± | I18: =(_xlfn.STDEV.S('single data'!J16:O16)/SQRT(6)) -> 0.037196585 | J18: =AVERAGE('single data'!Q16:V16) -> 0.11242796 | K18: ± | L18: =(_xlfn.STDEV.S('single data'!Q16:V16)/SQRT(6)) -> 0.059337515 | M18: =AVERAGE('single data'!W16:AB16) -> 0.032812262 | N18: ± | O18: =(_xlfn.STDEV.S('single data'!W16:AB16)/SQRT(6)) -> 0.0066900156 | P18: =AVERAGE('single data'!AD16:AI16) -> 1.1109728 | Q18: ± | R18: =(_xlfn.STDEV.S('single data'!AD16:AI16)/SQRT(6)) -> 0.21792341 | S18: =AVERAGE('single data'!AJ16:AO16) -> 2.597497 | T18: ± | U18: =(_xlfn.STDEV.S('single data'!AJ16:AO16)/SQRT(6)) -> 0.48483505 | V18: =AVERAGE('single data'!AQ16:AV16) -> 12.823585 | W18: ± | X18: =(_xlfn.STDEV.S('single data'!AQ16:AV16)/SQRT(6)) -> 3.6244775 | Y18: =AVERAGE('single data'!AW16:BB16) -> 5.575302 | Z18: ± | AA18: =(_xlfn.STDEV.S('single data'!AW16:BB16)/SQRT(6)) -> 1.30397
C19: Cer (d18:1/16:0) | D19: =AVERAGE('single data'!D17:I17) -> 0.10203426 | E19: ± | F19: =(_xlfn.STDEV.S('single data'!D17:I17)/SQRT(6)) -> 0.019977665 | G19: =AVERAGE('single data'!J17:O17) -> 0.093641289 | H19: ± | I19: =(_xlfn.STDEV.S('single data'!J17:O17)/SQRT(6)) -> 0.033833183 | J19: =AVERAGE('single data'!Q17:V17) -> 0.19988129 | K19: ± | L19: =(_xlfn.STDEV.S('single data'!Q17:V17)/SQRT(6)) -> 0.075087668 | M19: =AVERAGE('single data'!W17:AB17) -> 0.24559615 | N19: ± | O19: =(_xlfn.STDEV.S('single data'!W17:AB17)/SQRT(6)) -> 0.076710228 | P19: =AVERAGE('single data'!AD17:AI17) -> 0.2350443 | Q19: ± | R19: =(_xlfn.STDEV.S('single data'!AD17:AI17)/SQRT(6)) -> 0.057549935 | S19: =AVERAGE('single data'!AJ17:AO17) -> 0.23090318 | T19: ± | U19: =(_xlfn.STDEV.S('single data'!AJ17:AO17)/SQRT(6)) -> 0.035673443 | V19: =AVERAGE('single data'!AQ17:AV17) -> 0.95223747 | W19: ± | X19: =(_xlfn.STDEV.S('single data'!AQ17:AV17)/SQRT(6)) -> 0.2652786 | Y19: =AVERAGE('single data'!AW17:BB17) -> 0.49558178 | Z19: ± | AA19: =(_xlfn.STDEV.S('single data'!AW17:BB17)/SQRT(6)) -> 0.16416827
C20: Cer (d18:1/18:0) | D20: =AVERAGE('single data'!D18:I18) -> 0.12613711 | E20: ± | F20: =(_xlfn.STDEV.S('single data'!D18:I18)/SQRT(6)) -> 0.035484493 | G20: =AVERAGE('single data'!J18:O18) -> 0.15887442 | H20: ± | I20: =(_xlfn.STDEV.S('single data'!J18:O18)/SQRT(6)) -> 0.029897419 | J20: =AVERAGE('single data'!Q18:V18) -> 0.12271963 | K20: ± | L20: =(_xlfn.STDEV.S('single data'!Q18:V18)/SQRT(6)) -> 0.026892768 | M20: =AVERAGE('single data'!W18:AB18) -> 0.15798951 | N20: ± | O20: =(_xlfn.STDEV.S('single data'!W18:AB18)/SQRT(6)) -> 0.05641828 | P20: =AVERAGE('single data'!AD18:AI18) -> 0.23671804 | Q20: ± | R20: =(_xlfn.STDEV.S('single data'!AD18:AI18)/SQRT(6)) -> 0.075258545 | S20: =AVERAGE('single data'!AJ18:AO18) -> 0.21238125 | T20: ± | U20: =(_xlfn.STDEV.S('single data'!AJ18:AO18)/SQRT(6)) -> 0.074496316 | V20: =AVERAGE('single data'!AQ18:AV18) -> 0.32827366 | W20: ± | X20: =(_xlfn.STDEV.S('single data'!AQ18:AV18)/SQRT(6)) -> 0.10187385 | Y20: =AVERAGE('single data'!AW18:BB18) -> 0.25892528 | Z20: ± | AA20: =(_xlfn.STDEV.S('single data'!AW18:BB18)/SQRT(6)) -> 0.086008662
... C50: C1P (d18:1/12:0) (ISD) | D50: =AVERAGE('single data'!D48:I48) -> 0.00160002 | E50: ± | F50: =(_xlfn.STDEV.S('single data'!D48:I48)/SQRT(6)) -> 0.00011835329 | G50: =AVERAGE('single data'!J48:O48) -> 0.00087845362 | H50: ± | I50: =(_xlfn.STDEV.S('single data'!J48:O48)/SQRT(6)) -> 0.00010218991 | J50: =AVERAGE('single data'!Q48:V48) -> 0.00094049264 | K50: ± | L50: =(_xlfn.STDEV.S('single data'!Q48:V48)/SQRT(6)) -> 0.00021548084 | M50: =AVERAGE('single data'!W48:AB48) -> 0.00068757093 | N50: ± | O50: =(_xlfn.STDEV.S('single data'!W48:AB48)/SQRT(6)) -> 8.6955129e-05 | P50: =AVERAGE('single data'!AD48:AI48) -> 0.015212246 | Q50: ± | R50: =(_xlfn.STDEV.S('single data'!AD48:AI48)/SQRT(6)) -> 0.0012355607 | S50: =AVERAGE('single data'!AJ48:AO48) -> 0.016206416 | T50: ± | U50: =(_xlfn.STDEV.S('single data'!AJ48:AO48)/SQRT(6)) -> 0.00082649633 | V50: =AVERAGE('single data'!AQ48:AV48) -> 0.0079706122 | W50: ± | X50: =(_xlfn.STDEV.S('single data'!AQ48:AV48)/SQRT(6)) -> 0.00074502498 | Y50: =AVERAGE('single data'!AW48:BB48) -> 0.0096084437 | Z50: ± | AA50: =(_xlfn.STDEV.S('single data'!AW48:BB48)/SQRT(6)) -> 0.0016555469
A52: in vivo | C52: S1P (d18:1) | D52: =AVERAGE('single data'!D50:I50) -> 100 | E52: ± | F52: =(_xlfn.STDEV.S('single data'!D50:I50)/SQRT(6)) -> 22.275663 | G52: =AVERAGE('single data'!J50:O50) -> 133.80301 | H52: ± | I52: =(_xlfn.STDEV.S('single data'!J50:O50)/SQRT(6)) -> 15.708596 | J52: =AVERAGE('single data'!Q50:V50) -> 100 | K52: ± | L52: =(_xlfn.STDEV.S('single data'!Q50:V50)/SQRT(6)) -> 31.471063 | M52: =AVERAGE('single data'!W50:AB50) -> 88.302891 | N52: ± | O52: =(_xlfn.STDEV.S('single data'!W50:AB50)/SQRT(6)) -> 9.3117834 | P52: =AVERAGE('single data'!AD50:AI50) -> 100 | Q52: ± | R52: =(_xlfn.STDEV.S('single data'!AD50:AI50)/SQRT(6)) -> 7.9397121 | S52: =AVERAGE('single data'!AJ50:AO50) -> 115.18147 | T52: ± | U52: =(_xlfn.STDEV.S('single data'!AJ50:AO50)/SQRT(6)) -> 3.7528571 | V52: =AVERAGE('single data'!AQ50:AV50) -> 100 | W52: ± | X52: =(_xlfn.STDEV.S('single data'!AQ50:AV50)/SQRT(6)) -> 7.8835241 | Y52: =AVERAGE('single data'!AW50:BB50) -> 85.375678 | Z52: ± | AA52: =(_xlfn.STDEV.S('single data'!AW50:BB50)/SQRT(6)) -> 4.4428123
C53: Sa (d16:0) | D53: =AVERAGE('single data'!D51:I51) -> 100 | E53: ± | F53: =(_xlfn.STDEV.S('single data'!D51:I51)/SQRT(6)) -> 4.8373955 | G53: =AVERAGE('single data'!J51:O51) -> 121.91834 | H53: ± | I53: =(_xlfn.STDEV.S('single data'!J51:O51)/SQRT(6)) -> 15.567873 | J53: =AVERAGE('single data'!Q51:V51) -> 100 | K53: ± | L53: =(_xlfn.STDEV.S('single data'!Q51:V51)/SQRT(6)) -> 4.6924488 | M53: =AVERAGE('single data'!W51:AB51) -> 104.43825 | N53: ± | O53: =(_xlfn.STDEV.S('single data'!W51:AB51)/SQRT(6)) -> 5.3439563 | P53: =AVERAGE('single data'!AD51:AI51) -> 100 | Q53: ± | R53: =(_xlfn.STDEV.S('single data'!AD51:AI51)/SQRT(6)) -> 2.2156859 | S53: =AVERAGE('single data'!AJ51:AO51) -> 108.26507 | T53: ± | U53: =(_xlfn.STDEV.S('single data'!AJ51:AO51)/SQRT(6)) -> 5.1607746 | V53: =AVERAGE('single data'!AQ51:AV51) -> 100 | W53: ± | X53: =(_xlfn.STDEV.S('single data'!AQ51:AV51)/SQRT(6)) -> 13.672048 | Y53: =AVERAGE('single data'!AW51:BB51) -> 103.96774 | Z53: ± | AA53: =(_xlfn.STDEV.S('single data'!AW51:BB51)/SQRT(6)) -> 11.562608
C54: So (d16:1) | D54: =AVERAGE('single data'!D52:I52) -> 100 | E54: ± | F54: =(_xlfn.STDEV.S('single data'!D52:I52)/SQRT(6)) -> 5.9797142 | G54: =AVERAGE('single data'!J52:O52) -> 101.07974 | H54: ± | I54: =(_xlfn.STDEV.S('single data'!J52:O52)/SQRT(6)) -> 9.6263229 | J54: =AVERAGE('single data'!Q52:V52) -> 100 | K54: ± | L54: =(_xlfn.STDEV.S('single data'!Q52:V52)/SQRT(6)) -> 8.814152 | M54: =AVERAGE('single data'!W52:AB52) -> 93.92888 | N54: ± | O54: =(_xlfn.STDEV.S('single data'!W52:AB52)/SQRT(6)) -> 4.3053843 | P54: =AVERAGE('single data'!AD52:AI52) -> 100 | Q54: ± | R54: =(_xlfn.STDEV.S('single data'!AD52:AI52)/SQRT(6)) -> 1.4099338 | S54: =AVERAGE('single data'!AJ52:AO52) -> 101.95477 | T54: ± | U54: =(_xlfn.STDEV.S('single data'!AJ52:AO52)/SQRT(6)) -> 1.4741943 | V54: =AVERAGE('single data'!AQ52:AV52) -> 100 | W54: ± | X54: =(_xlfn.STDEV.S('single data'!AQ52:AV52)/SQRT(6)) -> 3.9020541 | Y54: =AVERAGE('single data'!AW52:BB52) -> 102.9941 | Z54: ± | AA54: =(_xlfn.STDEV.S('single data'!AW52:BB52)/SQRT(6)) -> 4.2580085
C55: Sa (d18:0) | D55: =AVERAGE('single data'!D53:I53) -> 100 | E55: ± | F55: =(_xlfn.STDEV.S('single data'!D53:I53)/SQRT(6)) -> 8.4258913 | G55: =AVERAGE('single data'!J53:O53) -> 125.01007 | H55: ± | I55: =(_xlfn.STDEV.S('single data'!J53:O53)/SQRT(6)) -> 11.629073 | J55: =AVERAGE('single data'!Q53:V53) -> 100 | K55: ± | L55: =(_xlfn.STDEV.S('single data'!Q53:V53)/SQRT(6)) -> 6.973832 | M55: =AVERAGE('single data'!W53:AB53) -> 101.4748 | N55: ± | O55: =(_xlfn.STDEV.S('single data'!W53:AB53)/SQRT(6)) -> 4.6565958 | P55: =AVERAGE('single data'!AD53:AI53) -> 100 | Q55: ± | R55: =(_xlfn.STDEV.S('single data'!AD53:AI53)/SQRT(6)) -> 3.2888399 | S55: =AVERAGE('single data'!AJ53:AO53) -> 103.11336 | T55: ± | U55: =(_xlfn.STDEV.S('single data'!AJ53:AO53)/SQRT(6)) -> 1.9501585 | V55: =AVERAGE('single data'!AQ53:AV53) -> 100 | W55: ± | X55: =(_xlfn.STDEV.S('single data'!AQ53:AV53)/SQRT(6)) -> 3.6619902 | Y55: =AVERAGE('single data'!AW53:BB53) -> 105.93365 | Z55: ± | AA55: =(_xlfn.STDEV.S('single data'!AW53:BB53)/SQRT(6)) -> 1.8360504
C56: So (d18:1) | D56: =AVERAGE('single data'!D54:I54) -> 100 | E56: ± | F56: =(_xlfn.STDEV.S('single data'!D54:I54)/SQRT(6)) -> 38.741244 | G56: =AVERAGE('single data'!J54:O54) -> 101.50196 | H56: ± | I56: =(_xlfn.STDEV.S('single data'!J54:O54)/SQRT(6)) -> 14.487651 | J56: =AVERAGE('single data'!Q54:V54) -> 100 | K56: ± | L56: =(_xlfn.STDEV.S('single data'!Q54:V54)/SQRT(6)) -> 80.995118 | M56: =AVERAGE('single data'!W54:AB54) -> 25.908544 | N56: ± | O56: =(_xlfn.STDEV.S('single data'!W54:AB54)/SQRT(6)) -> 4.855213 | P56: =AVERAGE('single data'!AD54:AI54) -> 100 | Q56: ± | R56: =(_xlfn.STDEV.S('single data'!AD54:AI54)/SQRT(6)) -> 17.822247 | S56: =AVERAGE('single data'!AJ54:AO54) -> 83.592091 | T56: ± | U56: =(_xlfn.STDEV.S('single data'!AJ54:AO54)/SQRT(6)) -> 8.9182384 | V56: =AVERAGE('single data'!AQ54:AV54) -> 100 | W56: ± | X56: =(_xlfn.STDEV.S('single data'!AQ54:AV54)/SQRT(6)) -> 14.170421 | Y56: =AVERAGE('single data'!AW54:BB54) -> 78.987088 | Z56: ± | AA56: =(_xlfn.STDEV.S('single data'!AW54:BB54)/SQRT(6)) -> 10.051686
C57: So (d18:1)-d7 (ISD) | D57: =AVERAGE('single data'!D55:I55) -> 100 | E57: ± | F57: =(_xlfn.STDEV.S('single data'!D55:I55)/SQRT(6)) -> 7.0159304 | G57: =AVERAGE('single data'!J55:O55) -> 94.168709 | H57: ± | I57: =(_xlfn.STDEV.S('single data'!J55:O55)/SQRT(6)) -> 8.6426104 | J57: =AVERAGE('single data'!Q55:V55) -> 100 | K57: ± | L57: =(_xlfn.STDEV.S('single data'!Q55:V55)/SQRT(6)) -> 13.643587 | M57: =AVERAGE('single data'!W55:AB55) -> 81.364692 | N57: ± | O57: =(_xlfn.STDEV.S('single data'!W55:AB55)/SQRT(6)) -> 3.3961244 | P57: =AVERAGE('single data'!AD55:AI55) -> 100 | Q57: ± | R57: =(_xlfn.STDEV.S('single data'!AD55:AI55)/SQRT(6)) -> 2.3260159 | S57: =AVERAGE('single data'!AJ55:AO55) -> 101.17114 | T57: ± | U57: =(_xlfn.STDEV.S('single data'!AJ55:AO55)/SQRT(6)) -> 2.0750524 | V57: =AVERAGE('single data'!AQ55:AV55) -> 100 | W57: ± | X57: =(_xlfn.STDEV.S('single data'!AQ55:AV55)/SQRT(6)) -> 4.7688545 | Y57: =AVERAGE('single data'!AW55:BB55) -> 100.03069 | Z57: ± | AA57: =(_xlfn.STDEV.S('single data'!AW55:BB55)/SQRT(6)) -> 7.5144315
C58: Cer (d18:0/16:0) | D58: =AVERAGE('single data'!D56:I56) -> 100 | E58: ± | F58: =(_xlfn.STDEV.S('single data'!D56:I56)/SQRT(6)) -> 10.997193 | G58: =AVERAGE('single data'!J56:O56) -> 126.72416 | H58: ± | I58: =(_xlfn.STDEV.S('single data'!J56:O56)/SQRT(6)) -> 41.968642 | J58: =AVERAGE('single data'!Q56:V56) -> 100 | K58: ± | L58: =(_xlfn.STDEV.S('single data'!Q56:V56)/SQRT(6)) -> 27.576832 | M58: =AVERAGE('single data'!W56:AB56) -> 202.26394 | N58: ± | O58: =(_xlfn.STDEV.S('single data'!W56:AB56)/SQRT(6)) -> 32.593667 | P58: =AVERAGE('single data'!AD56:AI56) -> 100 | Q58: ± | R58: =(_xlfn.STDEV.S('single data'!AD56:AI56)/SQRT(6)) -> 20.868327 | S58: =AVERAGE('single data'!AJ56:AO56) -> 150.83739 | T58: ± | U58: =(_xlfn.STDEV.S('single data'!AJ56:AO56)/SQRT(6)) -> 42.421217 | V58: =AVERAGE('single data'!AQ56:AV56) -> 100 | W58: ± | X58: =(_xlfn.STDEV.S('single data'!AQ56:AV56)/SQRT(6)) -> 24.51191 | Y58: =AVERAGE('single data'!AW56:BB56) -> 46.193158 | Z58: ± | AA58: =(_xlfn.STDEV.S('single data'!AW56:BB56)/SQRT(6)) -> 11.782177
C59: Cer (d18:0/18:0) | D59: =AVERAGE('single data'!D57:I57) -> 100 | E59: ± | F59: =(_xlfn.STDEV.S('single data'!D57:I57)/SQRT(6)) -> 32.627739 | G59: =AVERAGE('single data'!J57:O57) -> 66.484215 | H59: ± | I59: =(_xlfn.STDEV.S('single data'!J57:O57)/SQRT(6)) -> 24.155031 | J59: =AVERAGE('single data'!Q57:V57) -> 100 | K59: ± | L59: =(_xlfn.STDEV.S('single data'!Q57:V57)/SQRT(6)) -> 33.940253 | M59: =AVERAGE('single data'!W57:AB57) -> 75.824558 | N59: ± | O59: =(_xlfn.STDEV.S('single data'!W57:AB57)/SQRT(6)) -> 11.579782 | P59: =AVERAGE('single data'!AD57:AI57) -> 100 | Q59: ± | R59: =(_xlfn.STDEV.S('single data'!AD57:AI57)/SQRT(6)) -> 10.239058 | S59: =AVERAGE('single data'!AJ57:AO57) -> 153.05972 | T59: ± | U59: =(_xlfn.STDEV.S('single data'!AJ57:AO57)/SQRT(6)) -> 23.965258 | V59: =AVERAGE('single data'!AQ57:AV57) -> 100 | W59: ± | X59: =(_xlfn.STDEV.S('single data'!AQ57:AV57)/SQRT(6)) -> 33.726073 | Y59: =AVERAGE('single data'!AW57:BB57) -> 60.134229 | Z59: ± | AA59: =(_xlfn.STDEV.S('single data'!AW57:BB57)/SQRT(6)) -> 18.880837
C60: Cer (d18:0/20:0) | D60: =AVERAGE('single data'!D58:I58) -> 100 | E60: ± | F60: =(_xlfn.STDEV.S('single data'!D58:I58)/SQRT(6)) -> 21.840256 | G60: =AVERAGE('single data'!J58:O58) -> 91.789552 | H60: ± | I60: =(_xlfn.STDEV.S('single data'!J58:O58)/SQRT(6)) -> 45.675336 | J60: =AVERAGE('single data'!Q58:V58) -> 100 | K60: ± | L60: =(_xlfn.STDEV.S('single data'!Q58:V58)/SQRT(6)) -> 31.971723 | M60: =AVERAGE('single data'!W58:AB58) -> 83.716046 | N60: ± | O60: =(_xlfn.STDEV.S('single data'!W58:AB58)/SQRT(6)) -> 15.131115 | P60: =AVERAGE('single data'!AD58:AI58) -> 100 | Q60: ± | R60: =(_xlfn.STDEV.S('single data'!AD58:AI58)/SQRT(6)) -> 9.9813994 | S60: =AVERAGE('single data'!AJ58:AO58) -> 133.72796 | T60: ± | U60: =(_xlfn.STDEV.S('single data'!AJ58:AO58)/SQRT(6)) -> 17.435329 | V60: =AVERAGE('single data'!AQ58:AV58) -> 100 | W60: ± | X60: =(_xlfn.STDEV.S('single data'!AQ58:AV58)/SQRT(6)) -> 25.793919 | Y60: =AVERAGE('single data'!AW58:BB58) -> 59.201179 | Z60: ± | AA60: =(_xlfn.STDEV.S('single data'!AW58:BB58)/SQRT(6)) -> 13.391515
C61: Cer (d18:0/22:0) | D61: =AVERAGE('single data'!D59:I59) -> 100 | E61: ± | F61: =(_xlfn.STDEV.S('single data'!D59:I59)/SQRT(6)) -> 13.822244 | G61: =AVERAGE('single data'!J59:O59) -> 76.739795 | H61: ± | I61: =(_xlfn.STDEV.S('single data'!J59:O59)/SQRT(6)) -> 39.725099 | J61: =AVERAGE('single data'!Q59:V59) -> 100 | K61: ± | L61: =(_xlfn.STDEV.S('single data'!Q59:V59)/SQRT(6)) -> 44.287817 | M61: =AVERAGE('single data'!W59:AB59) -> 56.597689 | N61: ± | O61: =(_xlfn.STDEV.S('single data'!W59:AB59)/SQRT(6)) -> 9.9530135 | P61: =AVERAGE('single data'!AD59:AI59) -> 100 | Q61: ± | R61: =(_xlfn.STDEV.S('single data'!AD59:AI59)/SQRT(6)) -> 17.437417 | S61: =AVERAGE('single data'!AJ59:AO59) -> 194.24653 | T61: ± | U61: =(_xlfn.STDEV.S('single data'!AJ59:AO59)/SQRT(6)) -> 35.990346 | V61: =AVERAGE('single data'!AQ59:AV59) -> 100 | W61: ± | X61: =(_xlfn.STDEV.S('single data'!AQ59:AV59)/SQRT(6)) -> 27.058498 | Y61: =AVERAGE('single data'!AW59:BB59) -> 53.037405 | Z61: ± | AA61: =(_xlfn.STDEV.S('single data'!AW59:BB59)/SQRT(6)) -> 13.654612
C62: Cer (d18:0/24:0) | D62: =AVERAGE('single data'!D60:I60) -> 100 | E62: ± | F62: =(_xlfn.STDEV.S('single data'!D60:I60)/SQRT(6)) -> 18.962967 | G62: =AVERAGE('single data'!J60:O60) -> 68.156753 | H62: ± | I62: =(_xlfn.STDEV.S('single data'!J60:O60)/SQRT(6)) -> 37.566511 | J62: =AVERAGE('single data'!Q60:V60) -> 100 | K62: ± | L62: =(_xlfn.STDEV.S('single data'!Q60:V60)/SQRT(6)) -> 52.778256 | M62: =AVERAGE('single data'!W60:AB60) -> 29.185144 | N62: ± | O62: =(_xlfn.STDEV.S('single data'!W60:AB60)/SQRT(6)) -> 5.9504911 | P62: =AVERAGE('single data'!AD60:AI60) -> 100 | Q62: ± | R62: =(_xlfn.STDEV.S('single data'!AD60:AI60)/SQRT(6)) -> 19.615548 | S62: =AVERAGE('single data'!AJ60:AO60) -> 233.80383 | T62: ± | U62: =(_xlfn.STDEV.S('single data'!AJ60:AO60)/SQRT(6)) -> 43.640586 | V62: =AVERAGE('single data'!AQ60:AV60) -> 100 | W62: ± | X62: =(_xlfn.STDEV.S('single data'!AQ60:AV60)/SQRT(6)) -> 28.264151 | Y62: =AVERAGE('single data'!AW60:BB60) -> 43.476936 | Z62: ± | AA62: =(_xlfn.STDEV.S('single data'!AW60:BB60)/SQRT(6)) -> 10.168529
C63: Cer (d18:1/16:0) | D63: =AVERAGE('single data'!D61:I61) -> 100 | E63: ± | F63: =(_xlfn.STDEV.S('single data'!D61:I61)/SQRT(6)) -> 19.57937 | G63: =AVERAGE('single data'!J61:O61) -> 91.774359 | H63: ± | I63: =(_xlfn.STDEV.S('single data'!J61:O61)/SQRT(6)) -> 33.158649 | J63: =AVERAGE('single data'!Q61:V61) -> 100 | K63: ± | L63: =(_xlfn.STDEV.S('single data'!Q61:V61)/SQRT(6)) -> 37.566131 | M63: =AVERAGE('single data'!W61:AB61) -> 122.871 | N63: ± | O63: =(_xlfn.STDEV.S('single data'!W61:AB61)/SQRT(6)) -> 38.377893 | P63: =AVERAGE('single data'!AD61:AI61) -> 100 | Q63: ± | R63: =(_xlfn.STDEV.S('single data'!AD61:AI61)/SQRT(6)) -> 24.484719 | S63: =AVERAGE('single data'!AJ61:AO61) -> 98.238156 | T63: ± | U63: =(_xlfn.STDEV.S('single data'!AJ61:AO61)/SQRT(6)) -> 15.177327 | V63: =AVERAGE('single data'!AQ61:AV61) -> 100 | W63: ± | X63: =(_xlfn.STDEV.S('single data'!AQ61:AV61)/SQRT(6)) -> 27.85845 | Y63: =AVERAGE('single data'!AW61:BB61) -> 52.043927 | Z63: ± | AA63: =(_xlfn.STDEV.S('single data'!AW61:BB61)/SQRT(6)) -> 17.240266
C64: Cer (d18:1/18:0) | D64: =AVERAGE('single data'!D62:I62) -> 100 | E64: ± | F64: =(_xlfn.STDEV.S('single data'!D62:I62)/SQRT(6)) -> 28.131684 | G64: =AVERAGE('single data'!J62:O62) -> 125.95375 | H64: ± | I64: =(_xlfn.STDEV.S('single data'!J62:O62)/SQRT(6)) -> 23.702318 | J64: =AVERAGE('single data'!Q62:V62) -> 100 | K64: ± | L64: =(_xlfn.STDEV.S('single data'!Q62:V62)/SQRT(6)) -> 21.91399 | M64: =AVERAGE('single data'!W62:AB62) -> 128.74022 | N64: ± | O64: =(_xlfn.STDEV.S('single data'!W62:AB62)/SQRT(6)) -> 45.973314 | P64: =AVERAGE('single data'!AD62:AI62) -> 100 | Q64: ± | R64: =(_xlfn.STDEV.S('single data'!AD62:AI62)/SQRT(6)) -> 31.792484 | S64: =AVERAGE('single data'!AJ62:AO62) -> 89.719082 | T64: ± | U64: =(_xlfn.STDEV.S('single data'!AJ62:AO62)/SQRT(6)) -> 31.470485 | V64: =AVERAGE('single data'!AQ62:AV62) -> 100 | W64: ± | X64: =(_xlfn.STDEV.S('single data'!AQ62:AV62)/SQRT(6)) -> 31.033208 | Y64: =AVERAGE('single data'!AW62:BB62) -> 78.874826 | Z64: ± | AA64: =(_xlfn.STDEV.S('single data'!AW62:BB62)/SQRT(6)) -> 26.200293
... C94: C1P (d18:1/12:0) (ISD) | D94: =AVERAGE('single data'!D92:I92) -> 100 | E94: ± | F94: =(_xlfn.STDEV.S('single data'!D92:I92)/SQRT(6)) -> 7.3969882 | G94: =AVERAGE('single data'!J92:O92) -> 54.902666 | H94: ± | I94: =(_xlfn.STDEV.S('single data'!J92:O92)/SQRT(6)) -> 6.3867894 | J94: =AVERAGE('single data'!Q92:V92) -> 100 | K94: ± | L94: =(_xlfn.STDEV.S('single data'!Q92:V92)/SQRT(6)) -> 22.911486 | M94: =AVERAGE('single data'!W92:AB92) -> 73.107529 | N94: ± | O94: =(_xlfn.STDEV.S('single data'!W92:AB92)/SQRT(6)) -> 9.2457002 | P94: =AVERAGE('single data'!AD92:AI92) -> 100 | Q94: ± | R94: =(_xlfn.STDEV.S('single data'!AD92:AI92)/SQRT(6)) -> 8.1221454 | S94: =AVERAGE('single data'!AJ92:AO92) -> 106.53533 | T94: ± | U94: =(_xlfn.STDEV.S('single data'!AJ92:AO92)/SQRT(6)) -> 5.4330986 | V94: =AVERAGE('single data'!AQ92:AV92) -> 100 | W94: ± | X94: =(_xlfn.STDEV.S('single data'!AQ92:AV92)/SQRT(6)) -> 9.3471488 | Y94: =AVERAGE('single data'!AW92:BB92) -> 120.54838 | Z94: ± | AA94: =(_xlfn.STDEV.S('single data'!AW92:BB92)/SQRT(6)) -> 20.770637

Sheet single data
A1: Table S10 Effect of LCMs on the sphingolipid profile in zymosan-induced peritonitis
D3: Exudate | AD3: Plasma
D4: 4h | Q4: 18h | AD4: 4h | AQ4: 18h
C5: analyte | D5: 2% DMSO in saline | J5: 2 | Q5: 2% DMSO in saline | W5: 2 | AD5: 2% DMSO in saline | AJ5: 2 | AQ5: 2% DMSO in saline | AW5: 2
A6: nmol/ mL | C6: S1P (d18:1) | D6: 0.0027132166 | E6: 0.0030309923 | F6: 0.0018654236 | G6: 0.0026061846 | H6: 0 | I6: 0.0018195025 | J6: 0.0012359424 | K6: 0.0033415657 | L6: 0.0026225824 | M6: 0.0033363952 | N6: 0.002776712 | O6: 0.0027904222 | Q6: 0.0015546175 | R6: 0.0031184101 | S6: 0.00095228596 | T6: 0.00092401909 | U6: 0.0015056782 | V6: 0 | W6: 0.0013109919 | X6: 0.00096044864 | Y6: 0.0012102872 | Z6: 0.0016861884 | AA6: 0.0011461517 | AB6: 0.00079873966 | AD6: 0.13954086 | AE6: 0.20619385 | AF6: 0.13830336 | AG6: 0.21960966 | AH6: 0.17749545 | AI6: 0.20334287 | AJ6: 0.23506745 | AK6: 0.21997126 | AL6: 0.20494385 | AM6: 0.2040539 | AN6: 0.19154576 | AO6: 0.19354474 | AQ6: 0.36646753 | AR6: 0.31985838 | AS6: 0.33916022 | AT6: 0.2598303 | AU6: 0.42948368 | AV6: 0.26675949 | AW6: 0.29536223 | AX6: 0.25347042 | AY6: 0.3094116 | AZ6: 0.22482122 | BA6: 0.3192892 | BB6: 0.28941528
C7: Sa (d16:0) | D7: 0.1575139 | E7: 0.12253705 | F7: 0.16424602 | G7: 0.12677345 | H7: 0.14524711 | I7: 0.15599382 | J7: 0.23420349 | K7: 0.13458771 | L7: 0.14241385 | M7: 0.16070309 | N7: 0.25955232 | O7: 0.13204706 | Q7: 0.15417479 | R7: 0.16206395 | S7: 0.15304942 | T7: 0.16891374 | U7: 0.13467428 | V7: 0.12332964 | W7: 0.15204117 | X7: 0.16259609 | Y7: 0.15729891 | Z7: 0.17661693 | AA7: 0.16741696 | AB7: 0.1200116 | AD7: 0.59078436 | AE7: 0.55590979 | AF7: 0.53997119 | AG7: 0.55627362 | AH7: 0.58174447 | AI7: 0.6263388 | AJ7: 0.76270404 | AK7: 0.56155393 | AL7: 0.61422526 | AM7: 0.57364615 | AN7: 0.62599679 | AO7: 0.5981254 | AQ7: 0.55868136 | AR7: 0.4772941 | AS7: 0.56416169 | AT7: 1.0580945 | AU7: 0.54778489 | AV7: 0.58931413 | AW7: 0.51371812 | AX7: 0.55807581 | AY7: 0.74244701 | AZ7: 0.98653989 | BA7: 0.56980779 | BB7: 0.57533075
C8: So (d16:1) | D8: 3.6453209 | E8: 2.5188543 | F8: 3.4747155 | G8: 3.3841101 | H8: 3.4075795 | I8: 4.0376916 | J8: 5.0543158 | K8: 3.1713051 | L8: 2.9792119 | M8: 3.432524 | N8: 2.9931164 | O8: 3.0588019 | Q8: 3.9731146 | R8: 3.8694453 | S8: 3.5656503 | T8: 3.2551906 | U8: 2.6827609 | V8: 2.1818444 | W8: 3.0862041 | X8: 3.1680399 | Y8: 3.2531049 | Z8: 3.2503649 | AA8: 3.2166032 | AB8: 2.3681202 | AD8: 17.15398 | AE8: 16.02077 | AF8: 16.031631 | AG8: 15.636085 | AH8: 16.808018 | AI8: 16.492714 | AJ8: 16.578789 | AK8: 15.855349 | AL8: 17.297925 | AM8: 16.123218 | AN8: 17.148746 | AO8: 17.057643 | AQ8: 16.127249 | AR8: 13.251019 | AS8: 14.666386 | AT8: 13.705893 | AU8: 13.22147 | AV8: 16.280276 | AW8: 14.627904 | AX8: 14.773561 | AY8: 12.391369 | AZ8: 15.070901 | BA8: 16.463656 | BB8: 16.537326
C9: Sa (d18:0) | D9: 0.0078591476 | E9: 0.004585517 | F9: 0.0073005621 | G9: 0.0068709201 | H9: 0.0075043093 | I9: 0.0090880079 | J9: 0.013146218 | K9: 0.0083216288 | L9: 0.0077650598 | M9: 0.0085412853 | N9: 0.0083503472 | O9: 0.0078903937 | Q9: 0.012514055 | R9: 0.010867266 | S9: 0.011358211 | T9: 0.01251368 | U9: 0.009430941 | V9: 0.0078306436 | W9: 0.010439782 | X9: 0.012160534 | Y9: 0.011072186 | Z9: 0.0110459 | AA9: 0.011973389 | AB9: 0.0087744725 | AD9: 0.028160415 | AE9: 0.024012551 | AF9: 0.023698463 | AG9: 0.023210555 | AH9: 0.027255011 | AI9: 0.025003505 | AJ9: 0.026899747 | AK9: 0.024171326 | AL9: 0.02695646 | AM9: 0.025434681 | AN9: 0.027216238 | AO9: 0.025373825 | AQ9: 0.024837217 | AR9: 0.020690151 | AS9: 0.024602081 | AT9: 0.024553673 | AU9: 0.021059511 | AV9: 0.025592236 | AW9: 0.02428015 | AX9: 0.023756196 | AY9: 0.024042997 | AZ9: 0.025452867 | BA9: 0.026240413 | BB9: 0.025948556
C10: So (d18:1) | D10: 0.00070352508 | E10: 0.00045705801 | F10: 0.00044427378 | G10: 0.0004845845 | H10: 0.0023431802 | I10: 0.00038677895 | J10: 0.00029211153 | K10: 0.0010100081 | L10: 0.0007214055 | M10: 0.0010059627 | N10: 0.0008248262 | O10: 0.0010374717 | Q10: 0.0010393187 | R10: 0.0021193482 | S10: 0.0044623264 | T10: 0.0046720349 | U10: 0.0043688165 | V10: 0.088139162 | W10: 0.0065631244 | X10: 0.0016264009 | Y10: 0.0028657852 | Z10: 0.0038572727 | AA10: 0.0067255453 | AB10: 0.005514286 | AD10: 0.081061923 | AE10: 0.048663858 | AF10: 0.14210751 | AG10: 0.06644689 | AH10: 0.084748127 | AI10: 0.050192326 | AJ10: 0.059129106 | AK10: 0.074734793 | AL10: 0.056628272 | AM10: 0.095452969 | AN10: 0.063625355 | AO10: 0.046004522 | AQ10: 0.057403674 | AR10: 0.072573492 | AS10: 0.07746185 | AT10: 0.061103365 | AU10: 0.06866176 | AV10: 0.13135975 | AW10: 0.08431463 | AX10: 0.037289813 | AY10: 0.064433141 | AZ10: 0.065624524 | BA10: 0.078011418 | BB10: 0.040431451
C11: So (d18:1)-d7 (ISD) | D11: 0.00083593454 | E11: 0.00051946714 | F11: 0.00074130055 | G11: 0.0008261396 | H11: 0.00069861189 | I11: 0.00086664125 | J11: 0.0010181552 | K11: 0.00064132737 | L11: 0.00059550445 | M11: 0.00071069618 | N11: 0.00063727064 | O11: 0.0006234273 | Q11: 0.00095326629 | R11: 0.00097473759 | S11: 0.00082128882 | T11: 0.00059459432 | U11: 0.00053017466 | V11: 0.0004 | W11: 0.00058063465 | X11: 0.00060730655 | Y11: 0.00062243973 | Z11: 0.00060362544 | AA11: 0.00060179975 | AB11: 0.00046177098 | AD11: 0.0040884641 | AE11: 0.0036203871 | AF11: 0.003607732 | AG11: 0.0035334555 | AH11: 0.0039206988 | AI11: 0.0038064049 | AJ11: 0.0038344038 | AK11: 0.0035093091 | AL11: 0.0039502562 | AM11: 0.0036588399 | AN11: 0.0040259622 | AO11: 0.0038627806 | AQ11: 0.0038782639 | AR11: 0.002885754 | AS11: 0.0033713711 | AT11: 0.0031706909 | AU11: 0.0029636414 | AV11: 0.0036341453 | AW11: 0.0033272549 | AX11: 0.0032841668 | AY11: 0.0021988245 | AZ11: 0.0034280188 | BA11: 0.0036598755 | BB11: 0.0040118338
C12: Cer (d18:0/16:0) | D12: 0.0371219 | E12: 0.050518872 | F12: 0.033038871 | G12: 0.045492084 | H12: 0.045700244 | I12: 0.021910875 | J12: 0.065587903 | K12: 0.12074425 | L12: 0.013316564 | M12: 0.014670138 | N12: 0.044121539 | O12: 0.037818959 | Q12: 0.053343968 | R12: 0.091082079 | S12: 0.27012071 | T12: 0.087810594 | U12: 0.11635572 | V12: 0.076650219 | W12: 0.26274733 | X12: 0.063799946 | Y12: 0.21365821 | Z12: 0.24776356 | AA12: 0.28596288 | AB12: 0.33253723 | AD12: 0.024680781 | AE12: 0.02766083 | AF12: 0.062500041 | AG12: 0.096203756 | AH12: 0.054261399 | AI12: 0.043971168 | AJ12: 0.023169745 | AK12: 0.089664645 | AL12: 0.044353207 | AM12: 0.12193539 | AN12: 0.031855549 | AO12: 0.15552828 | AQ12: 0.56388183 | AR12: 0.91126468 | AS12: 0.14838051 | AT12: 0.79435854 | AU12: 0.2700743 | AV12: 0.34440997 | AW12: 0.17425708 | AX12: 0.10086346 | AY12: 0.24916574 | AZ12: 0.2206921 | BA12: 0.14479273 | BB12: 0.51097627
C13: Cer (d18:0/18:0) | D13: 0.035822141 | E13: 0.047127819 | F13: 0.037096442 | G13: 0.033235297 | H13: 0.14290351 | I13: 0.031274977 | J13: 0.035320916 | K13: 0.10017044 | L13: 0.014587701 | M13: 0.014619261 | N13: 0.026621068 | O13: 0.02638995 | Q13: 0.03090467 | R13: 0.089459048 | S13: 0.17936744 | T13: 0.049284214 | U13: 0.071442622 | V13: 0.28910234 | W13: 0.1093317 | X13: 0.029651186 | Y13: 0.090326477 | Z13: 0.075687532 | AA13: 0.11683463 | AB13: 0.11618945 | AD13: 0.16391272 | AE13: 0.16404334 | AF13: 0.17201848 | AG13: 0.21687877 | AH13: 0.17032179 | AI13: 0.28726654 | AJ13: 0.22895625 | AK13: 0.19891092 | AL13: 0.34547682 | AM13: 0.179696 | AN13: 0.37588368 | AO13: 0.46867339 | AQ13: 0.36495159 | AR13: 0.65625249 | AS13: 0.17920592 | AT13: 1.2084861 | AU13: 0.18893977 | AV13: 0.28548736 | AW13: 0.23494706 | AX13: 0.097597195 | AY13: 0.71901754 | AZ13: 0.30913297 | BA13: 0.1629506 | BB13: 0.21021884
C14: Cer (d18:0/20:0) | D14: 0.044036391 | E14: 0.03606747 | F14: 0.029550682 | G14: 0.012868019 | H14: 0.077344297 | I14: 0.039218063 | J14: 0.028880609 | K14: 0.12485303 | L14: 0.0063479725 | M14: 0.017969078 | N14: 0.0080183978 | O14: 0.033385895 | Q14: 0.039159537 | R14: 0.060242464 | S14: 0.092572188 | T14: 0.022443448 | U14: 0.041262095 | V14: 0.17612587 | W14: 0.094632916 | X14: 0.018168587 | Y14: 0.041703466 | Z14: 0.066539586 | AA14: 0.073535985 | AB14: 0.06691004 | AD14: 0.19989216 | AE14: 0.22595837 | AF14: 0.25867631 | AG14: 0.26686708 | AH14: 0.19634842 | AI14: 0.36234958 | AJ14: 0.21841032 | AK14: 0.46387534 | AL14: 0.26734919 | AM14: 0.47438578 | AN14: 0.31760382 | AO14: 0.27779063 | AQ14: 2.0165055 | AR14: 2.2545892 | AS14: 0.48621449 | AT14: 2.4105458 | AU14: 0.65104698 | AV14: 0.69645112 | AW14: 0.75153111 | AX14: 0.20085748 | AY14: 1.4070395 | AZ14: 0.82311466 | BA14: 0.52341066 | BB14: 1.3352361
C15: Cer (d18:0/22:0) | D15: 0.092081543 | E15: 0.12878574 | F15: 0.10333814 | G15: 0.11576337 | H15: 0.21301136 | I15: 0.11609794 | J15: 0.052210267 | K15: 0.35165436 | L15: 0.024974543 | M15: 0.059422494 | N15: 0.058093435 | O15: 0.043833856 | Q15: 0.10743137 | R15: 0.1265913 | S15: 0.1564323 | T15: 0.031454444 | U15: 0.083770317 | V15: 0.56301355 | W15: 0.14708965 | X15: 0.027431243 | Y15: 0.084358072 | Z15: 0.1307238 | AA15: 0.12556578 | AB15: 0.089687154 | AD15: 1.0739949 | AE15: 0.88022388 | AF15: 1.2047562 | AG15: 1.8208942 | AH15: 1.4303724 | AI15: 2.6486308 | AJ15: 1.0978718 | AK15: 4.0009037 | AL15: 2.226149 | AM15: 4.0994896 | AN15: 1.9809045 | AO15: 4.1912263 | AQ15: 13.941056 | AR15: 25.974151 | AS15: 4.4053287 | AT15: 20.489382 | AU15: 7.7440207 | AV15: 5.9684851 | AW15: 4.7768147 | AX15: 1.6628531 | AY15: 8.4580205 | AZ15: 6.4936721 | BA15: 5.6302842 | BB15: 14.624612
C16: Cer (d18:0/24:0) | D16: 0.083047451 | E16: 0.078870029 | F16: 0.084754525 | G16: 0.083943617 | H16: 0.1923331 | I16: 0.071142939 | J16: -0.00057970187 | K16: 0.24687448 | L16: 0.016780701 | M16: 0.056232545 | N16: 0.062528689 | O16: 0.023076878 | Q16: 0.077882199 | R16: 0.089782356 | S16: 0.064533836 | T16: 0.0023684975 | U16: 0.037831026 | V16: 0.40216983 | W16: 0.047048094 | X16: 0.0075593539 | Y16: 0.020213281 | Z16: 0.050935588 | AA16: 0.035711394 | AB16: 0.035405859 | AD16: 0.76575831 | AE16: 0.57011912 | AF16: 0.89902227 | AG16: 2.069401 | AH16: 1.0397501 | AI16: 1.3217862 | AJ16: 1.0335881 | AK16: 3.7889397 | AL16: 2.2308969 | AM16: 3.0624843 | AN16: 1.5516511 | AO16: 3.9174218 | AQ16: 11.286062 | AR16: 26.213361 | AS16: 4.7996828 | AT16: 21.301406 | AU16: 7.159212 | AV16: 6.1817884 | AW16: 4.2688406 | AX16: 1.6343221 | AY16: 5.9177627 | AZ16: 5.0697119 | BA16: 5.2177512 | BB16: 11.343424
C17: Cer (d18:1/16:0) | D17: 0.10033994 | E17: 0.17978035 | F17: 0.048380654 | G17: 0.12975389 | H17: 0.054360052 | I17: 0.09959069 | J17: 0.19013083 | K17: 0.20807839 | L17: 0.024993995 | M17: 0.037775328 | N17: 0.036881842 | O17: 0.063987356 | Q17: 0.05148987 | R17: 0.13308316 | S17: 0.56192725 | T17: 0.15446896 | U17: 0.10237396 | V17: 0.19594456 | W17: 0.27847476 | X17: 0.053892849 | Y17: 0.59381395 | Z17: 0.12543048 | AA17: 0.19350426 | AB17: 0.22846058 | AD17: 0.09730911 | AE17: 0.22705531 | AF17: 0.32833454 | AG17: 0.46682679 | AH17: 0.17550218 | AI17: 0.11523785 | AJ17: 0.18927481 | AK17: 0.15893954 | AL17: 0.2430092 | AM17: 0.1372019 | AN17: 0.28793441 | AO17: 0.36905925 | AQ17: 0.74215809 | AR17: 2.2595619 | AS17: 0.73107786 | AT17: 0.84592634 | AU17: 0.54031588 | AV17: 0.59438478 | AW17: 0.43949944 | AX17: 0.086505796 | AY17: 1.2665373 | AZ17: 0.41880864 | BA17: 0.3050575 | BB17: 0.45708196
C18: Cer (d18:1/18:0) | D18: 0.23239037 | E18: 0.22066103 | F18: 0.06253377 | G18: 0.057613162 | H18: 0.14861282 | I18: 0.035011503 | J18: 0.24025751 | K18: 0.25994813 | L18: 0.12587623 | M18: 0.093945173 | N18: 0.14005408 | O18: 0.093165401 | Q18: 0.072177094 | R18: 0.19050569 | S18: 0.20854955 | T18: 0.042191227 | U18: 0.096591252 | V18: 0.12630296 | W18: 0.12732995 | X18: 0.032837391 | Y18: 0.13325004 | Z18: 0.10181982 | AA18: 0.42981354 | AB18: 0.12288635 | AD18: 0.32495688 | AE18: 0.072386419 | AF18: 0.53973775 | AG18: 0.090501215 | AH18: 0.099752638 | AI18: 0.29297335 | AJ18: 0.069943873 | AK18: 0.044882906 | AL18: 0.13939754 | AM18: 0.47188743 | AN18: 0.41167682 | AO18: 0.13649895 | AQ18: 0.235263 | AR18: 0.72923155 | AS18: 0.076609774 | AT18: 0.45508904 | AU18: 0.085478153 | AV18: 0.38797045 | AW18: 0.45702389 | AX18: 0.1041723 | AY18: 0.58628951 | AZ18: 0.17816403 | BA18: 0.075167386 | BB18: 0.15273457
... C48: C1P (d18:1/12:0) (ISD) | D48: 0.0019283011 | E48: 0.0014938335 | F48: 0.0015193431 | G48: 0.0013058109 | H48: 0.0013630144 | I48: 0.0019898169 | J48: 0.0010772757 | K48: 0.00073322792 | L48: 0.00063654976 | M48: 0.00075469382 | N48: 0.0012895712 | O48: 0.00077940331 | Q48: 0.001854115 | R48: 0.0010308919 | S48: 0.00065760584 | T48: 0.0011344329 | U48: 0.0004 | V48: 0.00056591026 | W48: 0.00076501198 | X48: 0.0010025917 | Y48: 0.00077848199 | Z48: 0.0006653983 | AA48: 0.00051394158 | AB48: 0.0004 | AD48: 0.01614917 | AE48: 0.014636129 | AF48: 0.0094221351 | AG48: 0.016403486 | AH48: 0.016755281 | AI48: 0.017907275 | AJ48: 0.017029176 | AK48: 0.017029176 | AL48: 0.013795758 | AM48: 0.014171325 | AN48: 0.015983956 | AO48: 0.019229107 | AQ48: 0.0088848223 | AR48: 0.0072174171 | AS48: 0.0066047359 | AT48: 0.0067479773 | AU48: 0.007069891 | AV48: 0.01129883 | AW48: 0.008497251 | AX48: 0.00783483 | AY48: 0.0057604844 | AZ48: 0.0089872869 | BA48: 0.0090656955 | BB48: 0.017505114
A50: % of control | C50: S1P (d18:1) | D50: 135.26271 | E50: 151.10487 | F50: 92.997462 | G50: 129.92682 | H50: 0 | I50: 90.708144 | J50: 61.615764 | K50: 166.58797 | L50: 130.7443 | M50: 166.3302 | N50: 138.42816 | O50: 139.11166 | Q50: 115.80003 | R50: 232.28349 | S50: 70.933682 | T50: 68.828145 | U50: 112.15465 | V50: 0 | W50: 97.652894 | X50: 71.541702 | Y50: 90.151622 | Z50: 125.60046 | AA50: 85.374315 | AB50: 59.496357 | AD50: 77.202024 | AE50: 114.07829 | AF50: 76.517366 | AG50: 121.50068 | AH50: 98.200682 | AI50: 112.50096 | AJ50: 130.05282 | AK50: 121.70074 | AL50: 113.38671 | AM50: 112.89434 | AN50: 105.97412 | AO50: 107.08007 | AQ50: 110.96336 | AR50: 96.850496 | AS50: 102.69493 | AT50: 78.674485 | AU50: 130.04414 | AV50: 80.772586 | AW50: 89.433262 | AX50: 76.748764 | AY50: 93.687294 | AZ50: 68.074021 | BA50: 96.678152 | BB50: 87.632575
C51: Sa (d16:0) | D51: 108.34244 | E51: 84.284388 | F51: 112.97298 | G51: 87.198306 | H51: 99.905002 | I51: 107.29689 | J51: 161.09167 | K51: 92.573166 | L51: 97.956203 | M51: 110.53605 | N51: 178.5273 | O51: 90.825639 | Q51: 103.21834 | R51: 108.50004 | S51: 102.46491 | T51: 113.0859 | U51: 90.16296 | V51: 82.567848 | W51: 101.7899 | X51: 108.8563 | Y51: 105.3099 | Z51: 118.24311 | AA51: 112.08382 | AB51: 80.346457 | AD51: 102.71467 | AE51: 96.651326 | AF51: 93.880217 | AG51: 96.714583 | AH51: 101.14298 | AI51: 108.89622 | AJ51: 132.60489 | AK51: 97.632625 | AL51: 106.79014 | AM51: 99.734997 | AN51: 108.83676 | AO51: 103.991 | AQ51: 88.321374 | AR51: 75.454943 | AS51: 89.187754 | AT51: 167.27309 | AU51: 86.598762 | AV51: 93.164077 | AW51: 81.21318 | AX51: 88.225643 | AY51: 117.3727 | AZ51: 155.9611 | BA51: 90.08034 | BB51: 90.953459
C52: So (d16:1) | D52: 106.8577 | E52: 73.836845 | F52: 101.85663 | G52: 99.200658 | H52: 99.888633 | I52: 118.35953 | J52: 148.1605 | K52: 92.962566 | L52: 87.331612 | M52: 100.61985 | N52: 87.739203 | O52: 89.664686 | Q52: 122.07436 | R52: 118.88911 | S52: 109.55497 | T52: 100.01607 | U52: 82.428104 | V52: 67.037394 | W52: 94.823941 | X52: 97.338353 | Y52: 99.951985 | Z52: 99.867796 | AA52: 98.830467 | AB52: 72.760736 | AD52: 104.87113 | AE52: 97.943234 | AF52: 98.009632 | AG52: 95.591452 | AH52: 102.75608 | AI52: 100.82847 | AJ52: 101.35469 | AK52: 96.93193 | AL52: 105.75114 | AM52: 98.569551 | AN52: 104.83913 | AO52: 104.28217 | AQ52: 110.9008 | AR52: 91.12209 | AS52: 100.85502 | AT52: 94.250082 | AU52: 90.918893 | AV52: 111.95311 | AW52: 100.59039 | AX52: 101.59202 | AY52: 85.210616 | AZ52: 103.63671 | BA52: 113.21414 | BB52: 113.72074
C53: Sa (d18:0) | D53: 109.13345 | E53: 63.675261 | F53: 101.37683 | G53: 95.410752 | H53: 104.2061 | I53: 126.19761 | J53: 182.55059 | K53: 115.55554 | L53: 107.82693 | M53: 118.60572 | N53: 115.95433 | O53: 109.56733 | Q53: 116.38312 | R53: 101.06766 | S53: 105.63354 | T53: 116.37963 | U53: 87.709562 | V53: 72.826489 | W53: 97.091974 | X53: 113.0953 | Y53: 102.97346 | Z53: 102.72899 | AA53: 111.35482 | AB53: 81.604279 | AD53: 111.64393 | AE53: 95.199441 | AF53: 93.954214 | AG53: 92.01987 | AH53: 108.0544 | AI53: 99.128145 | AJ53: 106.64593 | AK53: 95.828914 | AL53: 106.87077 | AM53: 100.83757 | AN53: 107.90068 | AO53: 100.59631 | AQ53: 105.43987 | AR53: 87.834591 | AS53: 104.44166 | AT53: 104.23616 | AU53: 89.402615 | AV53: 108.6451 | AW53: 103.07499 | AX53: 100.85068 | AY53: 102.06822 | AZ53: 108.05345 | BA53: 111.39677 | BB53: 110.15776
C54: So (d18:1) | D54: 87.586631 | E54: 56.902265 | F54: 55.310669 | G54: 60.329226 | H54: 291.71846 | I54: 48.152746 | J54: 36.366955 | K54: 125.74279 | L54: 89.812685 | M54: 125.23915 | N54: 102.68823 | O54: 129.16192 | Q54: 5.9502408 | R54: 12.133556 | S54: 25.547425 | T54: 26.748035 | U54: 25.012068 | V54: 504.60868 | W54: 37.574779 | X54: 9.3113664 | Y54: 16.40701 | Z54: 22.08341 | AA54: 38.504661 | AB54: 31.570037 | AD54: 102.77902 | AE54: 61.701272 | AF54: 180.17918 | AG54: 84.248512 | AH54: 107.45279 | AI54: 63.639228 | AJ54: 74.970239 | AK54: 94.756808 | AL54: 71.799413 | AM54: 121.02554 | AN54: 80.671067 | AO54: 58.329481 | AQ54: 73.505887 | AR54: 92.930966 | AS54: 99.190549 | AT54: 78.243373 | AU54: 87.921961 | AV54: 168.20726 | AW54: 107.96559 | AX54: 47.749918 | AY54: 82.507178 | AZ54: 84.032753 | BA54: 99.894276 | BB54: 51.772812
C55: So (d18:1)-d7 (ISD) | D55: 111.75359 | E55: 69.446009 | F55: 99.102254 | G55: 110.44413 | H55: 93.395335 | I55: 115.85868 | J55: 136.11412 | K55: 85.737139 | L55: 79.61121 | M55: 95.010847 | N55: 85.194807 | O55: 83.344131 | Q55: 133.82113 | R55: 136.83531 | S55: 115.29391 | T55: 83.470155 | U55: 74.426815 | V55: 56.152676 | W55: 81.510473 | X55: 85.25472 | Y55: 87.379141 | Z55: 84.737959 | AA55: 84.481666 | AB55: 64.82419 | AD55: 108.65319 | AE55: 96.213782 | AF55: 95.877467 | AG55: 93.903526 | AH55: 104.19473 | AI55: 101.15731 | AJ55: 101.90139 | AK55: 93.261823 | AL55: 104.98023 | AM55: 97.235688 | AN55: 106.99216 | AO55: 102.65552 | AQ55: 116.90986 | AR55: 86.990755 | AS55: 101.62963 | AT55: 95.58015 | AU55: 89.338663 | AV55: 109.55093 | AW55: 100.29976 | AX55: 99.000869 | AY55: 66.283339 | AZ55: 103.33727 | BA55: 110.32657 | BB55: 120.93632
C56: Cer (d18:0/16:0) | D56: 95.272774 | E56: 129.65589 | F56: 84.793743 | G56: 116.75472 | H56: 117.28896 | I56: 56.233916 | J56: 168.33032 | K56: 309.88822 | L56: 34.176752 | M56: 37.650679 | N56: 113.23723 | O56: 97.061763 | Q56: 46.028287 | R56: 78.59093 | S56: 233.07591 | T56: 75.768102 | U56: 100.3985 | V56: 66.138279 | W56: 226.71372 | X56: 55.050314 | Y56: 184.35677 | Z56: 213.78485 | AA56: 246.74545 | AB56: 286.93252 | AD56: 47.880774 | AE56: 53.662075 | AF56: 121.25023 | AG56: 186.63551 | AH56: 105.26724 | AI56: 85.304169 | AJ56: 44.949359 | AK56: 173.94962 | AL56: 86.045326 | AM56: 236.55494 | AN56: 61.799841 | AO56: 301.72524 | AQ56: 111.5725 | AR56: 180.30743 | AS56: 29.359316 | AT56: 157.17579 | AU56: 53.438264 | AV56: 68.146695 | AW56: 34.479385 | AX56: 19.957353 | AY56: 49.301192 | AZ56: 43.667252 | BA56: 28.649421 | BB56: 101.10434
C57: Cer (d18:0/18:0) | D57: 65.63633 | E57: 86.351541 | F57: 67.971211 | G57: 60.896498 | H57: 261.83979 | I57: 57.304635 | J57: 64.717943 | K57: 183.54067 | L57: 26.728809 | M57: 26.786636 | N57: 48.777353 | O57: 48.353878 | Q57: 26.132805 | R57: 75.646039 | S57: 151.67204 | T57: 41.674439 | U57: 60.411456 | V57: 244.46322 | W57: 92.450239 | X57: 25.072866 | Y57: 76.379532 | Z57: 64.000927 | AA57: 98.79467 | AB57: 98.249112 | AD57: 83.739904 | AE57: 83.806634 | AF57: 87.880985 | AG57: 110.79926 | AH57: 87.014179 | AI57: 146.75904 | AJ57: 116.96941 | AK57: 101.61982 | AL57: 176.49756 | AM57: 91.803286 | AN57: 192.03186 | AO57: 239.43636 | AQ57: 75.943951 | AR57: 136.56169 | AS57: 37.291537 | AT57: 251.47776 | AU57: 39.317084 | AV57: 59.407982 | AW57: 48.890889 | AX57: 20.309314 | AY57: 149.62267 | AZ57: 64.328473 | BA57: 33.908913 | BB57: 43.745114
C58: Cer (d18:0/20:0) | D58: 110.51234 | E58: 90.513788 | F58: 74.159463 | G58: 32.293176 | H58: 194.10081 | I58: 98.420418 | J58: 72.477867 | K58: 313.32723 | L58: 15.930672 | M58: 45.094633 | N58: 20.122719 | O58: 83.784192 | Q58: 54.412732 | R58: 83.707756 | S58: 128.63037 | T58: 31.185488 | U58: 57.334265 | V58: 244.72939 | W58: 131.49378 | X58: 25.245508 | Y58: 57.947556 | Z58: 92.457696 | AA58: 102.17929 | AB58: 92.972448 | AD58: 79.422513 | AE58: 89.779319 | AF58: 102.77903 | AG58: 106.03344 | AH58: 78.01449 | AI58: 143.9712 | AJ58: 86.780274 | AK58: 184.31011 | AL58: 106.225 | AM58: 188.48619 | AN58: 126.19251 | AO58: 110.37367 | AQ58: 142.08492 | AR58: 158.86053 | AS58: 34.259142 | AT58: 169.84939 | AU58: 45.873399 | AV58: 49.072618 | AW58: 52.953608 | AX58: 14.152612 | AY58: 99.141358 | AZ58: 57.997453 | BA58: 36.88002 | BB58: 94.082024
C59: Cer (d18:0/22:0) | D59: 71.837861 | E59: 100.47282 | F59: 80.619753 | G59: 90.313357 | H59: 166.18184 | I59: 90.574371 | J59: 40.732092 | K59: 274.34485 | L59: 19.484011 | M59: 46.358746 | N59: 45.321875 | O59: 34.197195 | Q59: 60.31555 | R59: 71.07257 | S59: 87.826303 | T59: 17.659573 | U59: 47.031446 | V59: 316.09456 | W59: 82.581026 | X59: 15.400814 | Y59: 47.361431 | Z59: 73.392694 | AA59: 70.496813 | AB59: 50.353355 | AD59: 71.134342 | AE59: 58.300229 | AF59: 79.795109 | AG59: 120.60403 | AH59: 94.738441 | AI59: 175.42785 | AJ59: 72.715794 | AK59: 264.9935 | AL59: 147.44544 | AM59: 271.52318 | AN59: 131.20206 | AO59: 277.59921 | AQ59: 106.52541 | AR59: 198.47185 | AS59: 33.661687 | AT59: 156.56202 | AU59: 59.173064 | AV59: 45.605966 | AW59: 36.500259 | AX59: 12.706075 | AY59: 64.628829 | AZ59: 49.618988 | BA59: 43.02173 | BB59: 111.74855
C60: Cer (d18:0/24:0) | D60: 83.873371 | E60: 79.654405 | F60: 85.597423 | G60: 84.77845 | H60: 194.24588 | I60: 71.850467 | J60: -0.5854671 | K60: 249.32968 | L60: 16.947588 | M60: 56.791787 | N60: 63.150547 | O60: 23.306382 | Q60: 69.272982 | R60: 79.857678 | S60: 57.400167 | T60: 2.1066802 | U60: 33.649127 | V60: 357.71337 | W60: 41.847326 | X60: 6.7237314 | Y60: 17.978874 | Z60: 45.30509 | AA60: 31.763802 | AB60: 31.492042 | AD60: 68.926826 | AE60: 51.317107 | AF60: 80.922075 | AG60: 186.26927 | AH60: 93.589158 | AI60: 118.97556 | AJ60: 93.034507 | AK60: 341.04702 | AL60: 200.80571 | AM60: 275.6579 | AN60: 139.66598 | AO60: 352.61185 | AQ60: 88.010191 | AR60: 204.41523 | AS60: 37.428555 | AT60: 166.11115 | AU60: 55.828474 | AV60: 48.206397 | AW60: 33.288979 | AX60: 12.744658 | AY60: 46.147489 | AZ60: 39.534278 | BA60: 40.688708 | BB60: 88.457505
C61: Cer (d18:1/16:0) | D61: 98.339456 | E61: 176.19606 | F61: 47.416087 | G61: 127.16698 | H61: 53.276273 | I61: 97.605146 | J61: 186.34018 | K61: 203.92992 | L61: 24.495689 | M61: 37.0222 | N61: 36.146527 | O61: 62.711637 | Q61: 25.760225 | R61: 66.581097 | S61: 281.13049 | T61: 77.280347 | U61: 51.217378 | V61: 98.030466 | W61: 139.32007 | X61: 26.962428 | Y61: 297.08331 | Z61: 62.752489 | AA61: 96.809593 | AB61: 114.29813 | AD61: 41.400328 | AE61: 96.601074 | AF61: 139.6905 | AG61: 198.61226 | AH61: 74.667702 | AI61: 49.02814 | AJ61: 80.527291 | AK61: 67.6211 | AL61: 103.38868 | AM61: 58.372782 | AN61: 122.50219 | AO61: 157.01689 | AQ61: 77.938341 | AR61: 237.28975 | AS61: 76.774742 | AT61: 88.835649 | AU61: 56.741715 | AV61: 62.419806 | AW61: 46.154395 | AX61: 9.0844772 | AY61: 133.00646 | AZ61: 43.981534 | BA61: 32.035864 | BB61: 48.000838
C62: Cer (d18:1/18:0) | D62: 184.23632 | E62: 174.93744 | F62: 49.576029 | G62: 45.67503 | H62: 117.81848 | I62: 27.756703 | J62: 190.4733 | K62: 206.08378 | L62: 99.793177 | M62: 74.478616 | N62: 111.03321 | O62: 73.860421 | Q62: 58.814628 | R62: 155.23653 | S62: 169.93985 | T62: 34.380178 | U62: 78.708886 | V62: 102.91994 | W62: 103.75679 | X62: 26.758059 | Y62: 108.58087 | Z62: 82.969466 | AA62: 350.24025 | AB62: 100.13586 | AD62: 137.27592 | AE62: 30.579173 | AF62: 228.00871 | AG62: 38.231651 | AH62: 42.139854 | AI62: 123.76469 | AJ62: 29.547335 | AK62: 18.960492 | AL62: 58.887584 | AM62: 199.34578 | AN62: 173.9102 | AO62: 57.663096 | AQ62: 71.666732 | AR62: 222.14135 | AS62: 23.337167 | AT62: 138.63099 | AU62: 26.038688 | AV62: 118.18507 | AW62: 139.2204 | AX62: 31.733372 | AY62: 178.59779 | AZ62: 54.273019 | BA62: 22.897781 | BB62: 46.526598
... C92: C1P (d18:1/12:0) (ISD) | D92: 120.51731 | E92: 93.363427 | F92: 94.95776 | G92: 81.61216 | H92: 85.18734 | I92: 124.362 | J92: 67.328892 | K92: 45.826173 | L92: 39.783863 | M92: 47.167775 | N92: 80.597192 | O92: 48.712098 | Q92: 197.14295 | R92: 109.6119 | S92: 69.921424 | T92: 120.62113 | U92: 42.530902 | V92: 60.171684 | W92: 81.341624 | X92: 106.60282 | Y92: 82.773852 | Z92: 70.749975 | AA92: 54.645998 | AB92: 42.530902 | AD92: 106.15901 | AE92: 96.212811 | AF92: 61.93783 | AG92: 107.83079 | AH92: 110.14337 | AI92: 117.71618 | AJ92: 111.94387 | AK92: 111.94387 | AL92: 90.688502 | AM92: 93.157347 | AN92: 105.07295 | AO92: 126.40544 | AQ92: 111.46976 | AR92: 90.550348 | AS92: 82.863597 | AT92: 84.660715 | AU92: 88.699473 | AV92: 141.75611 | AW92: 106.60726 | AX92: 98.296465 | AY92: 72.271543 | AZ92: 112.75529 | BA92: 113.73901 | BB92: 219.6207
