Workbook

Sheet Mean + S.E.M.
A1: Table S6 Effect of LCMs on the lipid mediator profile of SACM-challenged human whole blood
C4: compound | D4: vehicle (0.1% DMSO) | G4: 1 | M4: 2 | S4: 7
C5: conc [µM] | G5: 3 | J5: 30 | M5: 3 | P5: 30 | S5: 3 | V5: 30
D7: mean | E7: ± | F7: S.E.M. | G7: mean | H7: ± | I7: S.E.M. | J7: mean | K7: ± | L7: S.E.M. | M7: mean | N7: ± | O7: S.E.M. | P7: mean | Q7: ± | R7: S.E.M. | S7: mean | T7: ± | U7: S.E.M. | V7: mean | W7: ± | X7: S.E.M.
A8: pg per 2 mL whole blood | B8: ALOX5 | C8: 5-HETE | D8: =AVERAGE('Single data'!D9:F9) -> 12322.144 | E8: ± | F8: =_xlfn.STDEV.S('Single data'!D9:F9)/SQRT(3) -> 5956.5154 | G8: =AVERAGE('Single data'!G9:I9) -> 7916.3178 | H8: ± | I8: =_xlfn.STDEV.S('Single data'!G9:I9)/SQRT(3) -> 4150.9563 | J8: =AVERAGE('Single data'!J9:L9) -> 2244.4106 | K8: ± | L8: =_xlfn.STDEV.S(('Single data'!J9:L9))/SQRT(3) -> 1079.8458 | M8: =AVERAGE('Single data'!M9:O9) -> 8474.2747 | N8: ± | O8: =_xlfn.STDEV.S('Single data'!M9:O9)/SQRT(3) -> 3598.3992 | P8: =AVERAGE('Single data'!P9:R9) -> 5638.1194 | Q8: ± | R8: =_xlfn.STDEV.S('Single data'!P9:R9)/SQRT(3) -> 2652.3193 | S8: =AVERAGE('Single data'!S9:U9) -> 9949.3309 | T8: ± | U8: =_xlfn.STDEV.S('Single data'!S9:U9)/SQRT(3) -> 5880.4713 | V8: =AVERAGE('Single data'!V9:X9) -> 3041.2626 | W8: ± | X8: =_xlfn.STDEV.S('Single data'!V9:X9)/SQRT(3) -> 2210.4768
C9: 5-HEPE | D9: =AVERAGE('Single data'!D10:F10) -> 1865.3187 | E9: ± | F9: =_xlfn.STDEV.S('Single data'!D10:F10)/SQRT(3) -> 1067.7928 | G9: =AVERAGE('Single data'!G10:I10) -> 1153.5704 | H9: ± | I9: =_xlfn.STDEV.S('Single data'!G10:I10)/SQRT(3) -> 812.39143 | J9: =AVERAGE('Single data'!J10:L10) -> 261.53897 | K9: ± | L9: =_xlfn.STDEV.S(('Single data'!J10:L10))/SQRT(3) -> 166.88828 | M9: =AVERAGE('Single data'!M10:O10) -> 1265.6494 | N9: ± | O9: =_xlfn.STDEV.S('Single data'!M10:O10)/SQRT(3) -> 643.6497 | P9: =AVERAGE('Single data'!P10:R10) -> 870.80792 | Q9: ± | R9: =_xlfn.STDEV.S('Single data'!P10:R10)/SQRT(3) -> 619.34885 | S9: =AVERAGE('Single data'!S10:U10) -> 1302.8316 | T9: ± | U9: =_xlfn.STDEV.S('Single data'!S10:U10)/SQRT(3) -> 918.435 | V9: =AVERAGE('Single data'!V10:X10) -> 490.02318 | W9: ± | X9: =_xlfn.STDEV.S('Single data'!V10:X10)/SQRT(3) -> 430.34288
C10: LTB4 | D10: =AVERAGE('Single data'!D11:F11) -> 2406.463 | E10: ± | F10: =_xlfn.STDEV.S('Single data'!D11:F11)/SQRT(3) -> 1348.1754 | G10: =AVERAGE('Single data'!G11:I11) -> 1430.218 | H10: ± | I10: =_xlfn.STDEV.S('Single data'!G11:I11)/SQRT(3) -> 876.98125 | J10: =AVERAGE('Single data'!J11:L11) -> 579.62698 | K10: ± | L10: =_xlfn.STDEV.S(('Single data'!J11:L11))/SQRT(3) -> 393.06815 | M10: =AVERAGE('Single data'!M11:O11) -> 1193.598 | N10: ± | O10: =_xlfn.STDEV.S('Single data'!M11:O11)/SQRT(3) -> 538.16134 | P10: =AVERAGE('Single data'!P11:R11) -> 1226.8381 | Q10: ± | R10: =_xlfn.STDEV.S('Single data'!P11:R11)/SQRT(3) -> 716.85463 | S10: =AVERAGE('Single data'!S11:U11) -> 1536.8331 | T10: ± | U10: =_xlfn.STDEV.S('Single data'!S11:U11)/SQRT(3) -> 924.15752 | V10: =AVERAGE('Single data'!V11:X11) -> 331.5798 | W10: ± | X10: =_xlfn.STDEV.S('Single data'!V11:X11)/SQRT(3) -> 229.64026
C11: LTB4 isomers | D11: =AVERAGE('Single data'!D12:F12) -> 772.69703 | E11: ± | F11: =_xlfn.STDEV.S('Single data'!D12:F12)/SQRT(3) -> 316.28059 | G11: =AVERAGE('Single data'!G12:I12) -> 514.63903 | H11: ± | I11: =_xlfn.STDEV.S('Single data'!G12:I12)/SQRT(3) -> 208.9206 | J11: =AVERAGE('Single data'!J12:L12) -> 198.79577 | K11: ± | L11: =_xlfn.STDEV.S(('Single data'!J12:L12))/SQRT(3) -> 57.51123 | M11: =AVERAGE('Single data'!M12:O12) -> 636.13625 | N11: ± | O11: =_xlfn.STDEV.S('Single data'!M12:O12)/SQRT(3) -> 351.54253 | P11: =AVERAGE('Single data'!P12:R12) -> 430.60714 | Q11: ± | R11: =_xlfn.STDEV.S('Single data'!P12:R12)/SQRT(3) -> 178.22102 | S11: =AVERAGE('Single data'!S12:U12) -> 560.15916 | T11: ± | U11: =_xlfn.STDEV.S('Single data'!S12:U12)/SQRT(3) -> 263.55142 | V11: =AVERAGE('Single data'!V12:X12) -> 216.77239 | W11: ± | X11: =_xlfn.STDEV.S('Single data'!V12:X12)/SQRT(3) -> 106.73302
B12: PTGS | C12: PGE2 | D12: =AVERAGE('Single data'!D13:F13) -> 431.72622 | E12: ± | F12: =_xlfn.STDEV.S('Single data'!D13:F13)/SQRT(3) -> 356.90675 | G12: =AVERAGE('Single data'!G13:I13) -> 362.35442 | H12: ± | I12: =_xlfn.STDEV.S('Single data'!G13:I13)/SQRT(3) -> 304.81831 | J12: =AVERAGE('Single data'!J13:L13) -> 282.5332 | K12: ± | L12: =_xlfn.STDEV.S(('Single data'!J13:L13))/SQRT(3) -> 239.96316 | M12: =AVERAGE('Single data'!M13:O13) -> 449.7549 | N12: ± | O12: =_xlfn.STDEV.S('Single data'!M13:O13)/SQRT(3) -> 381.75448 | P12: =AVERAGE('Single data'!P13:R13) -> 421.40067 | Q12: ± | R12: =_xlfn.STDEV.S('Single data'!P13:R13)/SQRT(3) -> 351.8839 | S12: =AVERAGE('Single data'!S13:U13) -> 345.8098 | T12: ± | U12: =_xlfn.STDEV.S('Single data'!S13:U13)/SQRT(3) -> 275.85463 | V12: =AVERAGE('Single data'!V13:X13) -> 211.92299 | W12: ± | X12: =_xlfn.STDEV.S('Single data'!V13:X13)/SQRT(3) -> 172.48765
C13: TXB2 | D13: =AVERAGE('Single data'!D14:F14) -> 3007.4833 | E13: ± | F13: =_xlfn.STDEV.S('Single data'!D14:F14)/SQRT(3) -> 1979.7176 | G13: =AVERAGE('Single data'!G14:I14) -> 2785.0756 | H13: ± | I13: =_xlfn.STDEV.S('Single data'!G14:I14)/SQRT(3) -> 2090.6582 | J13: =AVERAGE('Single data'!J14:L14) -> 2310.6528 | K13: ± | L13: =_xlfn.STDEV.S(('Single data'!J14:L14))/SQRT(3) -> 1628.1834 | M13: =AVERAGE('Single data'!M14:O14) -> 3088.1245 | N13: ± | O13: =_xlfn.STDEV.S('Single data'!M14:O14)/SQRT(3) -> 2249.1653 | P13: =AVERAGE('Single data'!P14:R14) -> 3050.4823 | Q13: ± | R13: =_xlfn.STDEV.S('Single data'!P14:R14)/SQRT(3) -> 2202.0454 | S13: =AVERAGE('Single data'!S14:U14) -> 2734.3573 | T13: ± | U13: =_xlfn.STDEV.S('Single data'!S14:U14)/SQRT(3) -> 1884.0258 | V13: =AVERAGE('Single data'!V14:X14) -> 2137.3108 | W13: ± | X13: =_xlfn.STDEV.S('Single data'!V14:X14)/SQRT(3) -> 1371.7213
B14: mono-A12-OH | C14: 12-HETE | D14: =AVERAGE('Single data'!D15:F15) -> 99689.445 | E14: ± | F14: =_xlfn.STDEV.S('Single data'!D15:F15)/SQRT(3) -> 62192.137 | G14: =AVERAGE('Single data'!G15:I15) -> 61330.743 | H14: ± | I14: =_xlfn.STDEV.S('Single data'!G15:I15)/SQRT(3) -> 21478.448 | J14: =AVERAGE('Single data'!J15:L15) -> 82549.682 | K14: ± | L14: =_xlfn.STDEV.S(('Single data'!J15:L15))/SQRT(3) -> 36477.632 | M14: =AVERAGE('Single data'!M15:O15) -> 84735.573 | N14: ± | O14: =_xlfn.STDEV.S('Single data'!M15:O15)/SQRT(3) -> 46038.842 | P14: =AVERAGE('Single data'!P15:R15) -> 80293.343 | Q14: ± | R14: =_xlfn.STDEV.S('Single data'!P15:R15)/SQRT(3) -> 27471.325 | S14: =AVERAGE('Single data'!S15:U15) -> 73205.612 | T14: ± | U14: =_xlfn.STDEV.S('Single data'!S15:U15)/SQRT(3) -> 23870.721 | V14: =AVERAGE('Single data'!V15:X15) -> 63003.447 | W14: ± | X14: =_xlfn.STDEV.S('Single data'!V15:X15)/SQRT(3) -> 19973.957
C15: 12-HEPE | D15: =AVERAGE('Single data'!D16:F16) -> 26817.739 | E15: ± | F15: =_xlfn.STDEV.S('Single data'!D16:F16)/SQRT(3) -> 13468.368 | G15: =AVERAGE('Single data'!G16:I16) -> 22438.917 | H15: ± | I15: =_xlfn.STDEV.S('Single data'!G16:I16)/SQRT(3) -> 6529.0157 | J15: =AVERAGE('Single data'!J16:L16) -> 18051.909 | K15: ± | L15: =_xlfn.STDEV.S(('Single data'!J16:L16))/SQRT(3) -> 6879.3778 | M15: =AVERAGE('Single data'!M16:O16) -> 29434.143 | N15: ± | O15: =_xlfn.STDEV.S('Single data'!M16:O16)/SQRT(3) -> 15237.474 | P15: =AVERAGE('Single data'!P16:R16) -> 24141.811 | Q15: ± | R15: =_xlfn.STDEV.S('Single data'!P16:R16)/SQRT(3) -> 7046.3048 | S15: =AVERAGE('Single data'!S16:U16) -> 28601.688 | T15: ± | U15: =_xlfn.STDEV.S('Single data'!S16:U16)/SQRT(3) -> 8916.5242 | V15: =AVERAGE('Single data'!V16:X16) -> 24112.738 | W15: ± | X15: =_xlfn.STDEV.S('Single data'!V16:X16)/SQRT(3) -> 6497.5624
C16: 14-HDHA | D16: =AVERAGE('Single data'!D17:F17) -> 47256.525 | E16: ± | F16: =_xlfn.STDEV.S('Single data'!D17:F17)/SQRT(3) -> 32565.813 | G16: =AVERAGE('Single data'!G17:I17) -> 39421.258 | H16: ± | I16: =_xlfn.STDEV.S('Single data'!G17:I17)/SQRT(3) -> 22542.368 | J16: =AVERAGE('Single data'!J17:L17) -> 37033.626 | K16: ± | L16: =_xlfn.STDEV.S(('Single data'!J17:L17))/SQRT(3) -> 23364.21 | M16: =AVERAGE('Single data'!M17:O17) -> 49455.7 | N16: ± | O16: =_xlfn.STDEV.S('Single data'!M17:O17)/SQRT(3) -> 32613.679 | P16: =AVERAGE('Single data'!P17:R17) -> 41816.658 | Q16: ± | R16: =_xlfn.STDEV.S('Single data'!P17:R17)/SQRT(3) -> 24800.077 | S16: =AVERAGE('Single data'!S17:U17) -> 46573.935 | T16: ± | U16: =_xlfn.STDEV.S('Single data'!S17:U17)/SQRT(3) -> 24485.891 | V16: =AVERAGE('Single data'!V17:X17) -> 39233.121 | W16: ± | X16: =_xlfn.STDEV.S('Single data'!V17:X17)/SQRT(3) -> 20289.616
B17: mono-A15-OH | C17: 15-HETE | D17: =AVERAGE('Single data'!D18:F18) -> 1453.8941 | E17: ± | F17: =_xlfn.STDEV.S('Single data'!D18:F18)/SQRT(3) -> 602.75811 | G17: =AVERAGE('Single data'!G18:I18) -> 1472.6973 | H17: ± | I17: =_xlfn.STDEV.S('Single data'!G18:I18)/SQRT(3) -> 517.55488 | J17: =AVERAGE('Single data'!J18:L18) -> 993.93599 | K17: ± | L17: =_xlfn.STDEV.S(('Single data'!J18:L18))/SQRT(3) -> 387.14158 | M17: =AVERAGE('Single data'!M18:O18) -> 1730.0698 | N17: ± | O17: =_xlfn.STDEV.S('Single data'!M18:O18)/SQRT(3) -> 805.30699 | P17: =AVERAGE('Single data'!P18:R18) -> 1499.331 | Q17: ± | R17: =_xlfn.STDEV.S('Single data'!P18:R18)/SQRT(3) -> 534.308 | S17: =AVERAGE('Single data'!S18:U18) -> 1971.7584 | T17: ± | U17: =_xlfn.STDEV.S('Single data'!S18:U18)/SQRT(3) -> 814.52804 | V17: =AVERAGE('Single data'!V18:X18) -> 1263.7307 | W17: ± | X17: =_xlfn.STDEV.S('Single data'!V18:X18)/SQRT(3) -> 421.55281
C18: 15-HEPE | D18: =AVERAGE('Single data'!D19:F19) -> 234.38196 | E18: ± | F18: =_xlfn.STDEV.S('Single data'!D19:F19)/SQRT(3) -> 114.10733 | G18: =AVERAGE('Single data'!G19:I19) -> 228.20783 | H18: ± | I18: =_xlfn.STDEV.S('Single data'!G19:I19)/SQRT(3) -> 98.498457 | J18: =AVERAGE('Single data'!J19:L19) -> 150.98534 | K18: ± | L18: =_xlfn.STDEV.S(('Single data'!J19:L19))/SQRT(3) -> 64.459694 | M18: =AVERAGE('Single data'!M19:O19) -> 297.61016 | N18: ± | O18: =_xlfn.STDEV.S('Single data'!M19:O19)/SQRT(3) -> 148.73783 | P18: =AVERAGE('Single data'!P19:R19) -> 240.66748 | Q18: ± | R18: =_xlfn.STDEV.S('Single data'!P19:R19)/SQRT(3) -> 99.36378 | S18: =AVERAGE('Single data'!S19:U19) -> 327.75617 | T18: ± | U18: =_xlfn.STDEV.S('Single data'!S19:U19)/SQRT(3) -> 157.00845 | V18: =AVERAGE('Single data'!V19:X19) -> 211.3524 | W18: ± | X18: =_xlfn.STDEV.S('Single data'!V19:X19)/SQRT(3) -> 88.989061
C19: 17-HDHA | D19: =AVERAGE('Single data'!D20:F20) -> 3578.5962 | E19: ± | F19: =_xlfn.STDEV.S('Single data'!D20:F20)/SQRT(3) -> 2465.0002 | G19: =AVERAGE('Single data'!G20:I20) -> 3266.3086 | H19: ± | I19: =_xlfn.STDEV.S('Single data'!G20:I20)/SQRT(3) -> 1712.5262 | J19: =AVERAGE('Single data'!J20:L20) -> 2518.8773 | K19: ± | L19: =_xlfn.STDEV.S(('Single data'!J20:L20))/SQRT(3) -> 1584.7829 | M19: =AVERAGE('Single data'!M20:O20) -> 4268.6744 | N19: ± | O19: =_xlfn.STDEV.S('Single data'!M20:O20)/SQRT(3) -> 2877.5124 | P19: =AVERAGE('Single data'!P20:R20) -> 3109.2372 | Q19: ± | R19: =_xlfn.STDEV.S('Single data'!P20:R20)/SQRT(3) -> 1745.7228 | S19: =AVERAGE('Single data'!S20:U20) -> 3962.2984 | T19: ± | U19: =_xlfn.STDEV.S('Single data'!S20:U20)/SQRT(3) -> 1889.9445 | V19: =AVERAGE('Single data'!V20:X20) -> 2787.4314 | W19: ± | X19: =_xlfn.STDEV.S('Single data'!V20:X20)/SQRT(3) -> 1250.7368
B20: PUFA | C20: AA | D20: =AVERAGE('Single data'!D21:F21) -> 453466.8 | E20: ± | F20: =_xlfn.STDEV.S('Single data'!D21:F21)/SQRT(3) -> 175184.66 | G20: =AVERAGE('Single data'!G21:I21) -> 428274.71 | H20: ± | I20: =_xlfn.STDEV.S('Single data'!G21:I21)/SQRT(3) -> 187992.06 | J20: =AVERAGE('Single data'!J21:L21) -> 368983.49 | K20: ± | L20: =_xlfn.STDEV.S(('Single data'!J21:L21))/SQRT(3) -> 149781.47 | M20: =AVERAGE('Single data'!M21:O21) -> 469569.18 | N20: ± | O20: =_xlfn.STDEV.S('Single data'!M21:O21)/SQRT(3) -> 206476.99 | P20: =AVERAGE('Single data'!P21:R21) -> 430613.72 | Q20: ± | R20: =_xlfn.STDEV.S('Single data'!P21:R21)/SQRT(3) -> 176727.47 | S20: =AVERAGE('Single data'!S21:U21) -> 610243.4 | T20: ± | U20: =_xlfn.STDEV.S('Single data'!S21:U21)/SQRT(3) -> 305208.26 | V20: =AVERAGE('Single data'!V21:X21) -> 459728.39 | W20: ± | X20: =_xlfn.STDEV.S('Single data'!V21:X21)/SQRT(3) -> 208818.78
C21: EPA | D21: =AVERAGE('Single data'!D22:F22) -> 403921.82 | E21: ± | F21: =_xlfn.STDEV.S('Single data'!D22:F22)/SQRT(3) -> 180312.01 | G21: =AVERAGE('Single data'!G22:I22) -> 456675.85 | H21: ± | I21: =_xlfn.STDEV.S('Single data'!G22:I22)/SQRT(3) -> 253983.66 | J21: =AVERAGE('Single data'!J22:L22) -> 328200.64 | K21: ± | L21: =_xlfn.STDEV.S(('Single data'!J22:L22))/SQRT(3) -> 156632.65 | M21: =AVERAGE('Single data'!M22:O22) -> 434192.65 | N21: ± | O21: =_xlfn.STDEV.S('Single data'!M22:O22)/SQRT(3) -> 200600.92 | P21: =AVERAGE('Single data'!P22:R22) -> 412107.7 | Q21: ± | R21: =_xlfn.STDEV.S('Single data'!P22:R22)/SQRT(3) -> 254039.34 | S21: =AVERAGE('Single data'!S22:U22) -> 663652.53 | T21: ± | U21: =_xlfn.STDEV.S('Single data'!S22:U22)/SQRT(3) -> 422864.94 | V21: =AVERAGE('Single data'!V22:X22) -> 460691.94 | W21: ± | X21: =_xlfn.STDEV.S('Single data'!V22:X22)/SQRT(3) -> 284075.12
C22: DHA | D22: =AVERAGE('Single data'!D23:F23) -> 7828.8507 | E22: ± | F22: =_xlfn.STDEV.S('Single data'!D23:F23)/SQRT(3) -> 3199.0079 | G22: =AVERAGE('Single data'!G23:I23) -> 6399.041 | H22: ± | I22: =_xlfn.STDEV.S('Single data'!G23:I23)/SQRT(3) -> 4821.4372 | J22: =AVERAGE('Single data'!J23:L23) -> 3729.5049 | K22: ± | L22: =_xlfn.STDEV.S(('Single data'!J23:L23))/SQRT(3) -> 2025.0763 | M22: =AVERAGE('Single data'!M23:O23) -> 8501.697 | N22: ± | O22: =_xlfn.STDEV.S('Single data'!M23:O23)/SQRT(3) -> 3529.6319 | P22: =AVERAGE('Single data'!P23:R23) -> 5348.2322 | Q22: ± | R22: =_xlfn.STDEV.S('Single data'!P23:R23)/SQRT(3) -> 1887.9346 | S22: =AVERAGE('Single data'!S23:U23) -> 11727 | T22: ± | U22: =_xlfn.STDEV.S('Single data'!S23:U23)/SQRT(3) -> 7586.7357 | V22: =AVERAGE('Single data'!V23:X23) -> 7113.0965 | W22: ± | X22: =_xlfn.STDEV.S('Single data'!V23:X23)/SQRT(3) -> 5798.8569
A25: % of control | B25: ALOX5 | C25: 5-HETE | D25: =AVERAGE('Single data'!D26:F26) -> 100 | E25: ± | F25: =_xlfn.STDEV.S('Single data'!D26:F26)/SQRT(3) -> 0 | G25: =AVERAGE('Single data'!G26:I26) -> 59.924068 | H25: ± | I25: =_xlfn.STDEV.S('Single data'!G26:I26)/SQRT(3) -> 4.779736 | J25: =AVERAGE('Single data'!J26:L26) -> 18.832822 | K25: ± | L25: =_xlfn.STDEV.S(('Single data'!J26:L26))/SQRT(3) -> 0.76356814 | M25: =AVERAGE('Single data'!M26:O26) -> 83.022531 | N25: ± | O25: =_xlfn.STDEV.S('Single data'!M26:O26)/SQRT(3) -> 14.917933 | P25: =AVERAGE('Single data'!P26:R26) -> 51.361998 | Q25: ± | R25: =_xlfn.STDEV.S('Single data'!P26:R26)/SQRT(3) -> 6.6569946 | S25: =AVERAGE('Single data'!S26:U26) -> 72.530134 | T25: ± | U25: =_xlfn.STDEV.S('Single data'!S26:U26)/SQRT(3) -> 11.772707 | V25: =AVERAGE('Single data'!V26:X26) -> 20.466503 | W25: ± | X25: =_xlfn.STDEV.S('Single data'!V26:X26)/SQRT(3) -> 6.9027875
C26: 5-HEPE | D26: =AVERAGE('Single data'!D27:F27) -> 100 | E26: ± | F26: =_xlfn.STDEV.S('Single data'!D27:F27)/SQRT(3) -> 0 | G26: =AVERAGE('Single data'!G27:I27) -> 50.307243 | H26: ± | I26: =_xlfn.STDEV.S('Single data'!G27:I27)/SQRT(3) -> 10.729423 | J26: =AVERAGE('Single data'!J27:L27) -> 13.366492 | K26: ± | L26: =_xlfn.STDEV.S(('Single data'!J27:L27))/SQRT(3) -> 1.158892 | M26: =AVERAGE('Single data'!M27:O27) -> 85.402633 | N26: ± | O26: =_xlfn.STDEV.S('Single data'!M27:O27)/SQRT(3) -> 16.734166 | P26: =AVERAGE('Single data'!P27:R27) -> 42.063279 | Q26: ± | R26: =_xlfn.STDEV.S('Single data'!P27:R27)/SQRT(3) -> 7.611755 | S26: =AVERAGE('Single data'!S27:U27) -> 63.707471 | T26: ± | U26: =_xlfn.STDEV.S('Single data'!S27:U27)/SQRT(3) -> 11.033298 | V26: =AVERAGE('Single data'!V27:X27) -> 17.97522 | W26: ± | X26: =_xlfn.STDEV.S('Single data'!V27:X27)/SQRT(3) -> 8.8437194
C27: LTB4 | D27: =AVERAGE('Single data'!D28:F28) -> 100 | E27: ± | F27: =_xlfn.STDEV.S('Single data'!D28:F28)/SQRT(3) -> 0 | G27: =AVERAGE('Single data'!G28:I28) -> 55.098729 | H27: ± | I27: =_xlfn.STDEV.S('Single data'!G28:I28)/SQRT(3) -> 4.3002043 | J27: =AVERAGE('Single data'!J28:L28) -> 19.239742 | K27: ± | L27: =_xlfn.STDEV.S(('Single data'!J28:L28))/SQRT(3) -> 4.388684 | M27: =AVERAGE('Single data'!M28:O28) -> 75.846546 | N27: ± | O27: =_xlfn.STDEV.S('Single data'!M28:O28)/SQRT(3) -> 25.895252 | P27: =AVERAGE('Single data'!P28:R28) -> 56.059143 | Q27: ± | R27: =_xlfn.STDEV.S('Single data'!P28:R28)/SQRT(3) -> 7.6228209 | S27: =AVERAGE('Single data'!S28:U28) -> 61.045839 | T27: ± | U27: =_xlfn.STDEV.S('Single data'!S28:U28)/SQRT(3) -> 3.3727862 | V27: =AVERAGE('Single data'!V28:X28) -> 11.866696 | W27: ± | X27: =_xlfn.STDEV.S('Single data'!V28:X28)/SQRT(3) -> 2.1756241
C28: LTB4 isomers | D28: =AVERAGE('Single data'!D29:F29) -> 100 | E28: ± | F28: =_xlfn.STDEV.S('Single data'!D29:F29)/SQRT(3) -> 0 | G28: =AVERAGE('Single data'!G29:I29) -> 67.714164 | H28: ± | I28: =_xlfn.STDEV.S('Single data'!G29:I29)/SQRT(3) -> 9.7167009 | J28: =AVERAGE('Single data'!J29:L29) -> 33.94399 | K28: ± | L28: =_xlfn.STDEV.S(('Single data'!J29:L29))/SQRT(3) -> 10.3654 | M28: =AVERAGE('Single data'!M29:O29) -> 78.608362 | N28: ± | O28: =_xlfn.STDEV.S('Single data'!M29:O29)/SQRT(3) -> 16.323515 | P28: =AVERAGE('Single data'!P29:R29) -> 57.553855 | Q28: ± | R28: =_xlfn.STDEV.S('Single data'!P29:R29)/SQRT(3) -> 9.867581 | S28: =AVERAGE('Single data'!S29:U29) -> 71.864427 | T28: ± | U28: =_xlfn.STDEV.S('Single data'!S29:U29)/SQRT(3) -> 18.88085 | V28: =AVERAGE('Single data'!V29:X29) -> 31.782776 | W28: ± | X28: =_xlfn.STDEV.S('Single data'!V29:X29)/SQRT(3) -> 9.2910696
B29: PTGS | C29: PGE2 | D29: =AVERAGE('Single data'!D30:F30) -> 100 | E29: ± | F29: =_xlfn.STDEV.S('Single data'!D30:F30)/SQRT(3) -> 0 | G29: =AVERAGE('Single data'!G30:I30) -> 83.363199 | H29: ± | I29: =_xlfn.STDEV.S('Single data'!G30:I30)/SQRT(3) -> 4.3137887 | J29: =AVERAGE('Single data'!J30:L30) -> 52.608169 | K29: ± | L29: =_xlfn.STDEV.S(('Single data'!J30:L30))/SQRT(3) -> 10.610408 | M29: =AVERAGE('Single data'!M30:O30) -> 85.151738 | N29: ± | O29: =_xlfn.STDEV.S('Single data'!M30:O30)/SQRT(3) -> 15.435443 | P29: =AVERAGE('Single data'!P30:R30) -> 86.402632 | Q29: ± | R29: =_xlfn.STDEV.S('Single data'!P30:R30)/SQRT(3) -> 10.671308 | S29: =AVERAGE('Single data'!S30:U30) -> 112.32181 | T29: ± | U29: =_xlfn.STDEV.S('Single data'!S30:U30)/SQRT(3) -> 30.740488 | V29: =AVERAGE('Single data'!V30:X30) -> 47.132475 | W29: ± | X29: =_xlfn.STDEV.S('Single data'!V30:X30)/SQRT(3) -> 4.7129048
C30: TXB2 | D30: =AVERAGE('Single data'!D31:F31) -> 100 | E30: ± | F30: =_xlfn.STDEV.S('Single data'!D31:F31)/SQRT(3) -> 0 | G30: =AVERAGE('Single data'!G31:I31) -> 106.13674 | H30: ± | I30: =_xlfn.STDEV.S('Single data'!G31:I31)/SQRT(3) -> 25.483041 | J30: =AVERAGE('Single data'!J31:L31) -> 70.897488 | K30: ± | L30: =_xlfn.STDEV.S(('Single data'!J31:L31))/SQRT(3) -> 5.0168395 | M30: =AVERAGE('Single data'!M31:O31) -> 109.51016 | N30: ± | O30: =_xlfn.STDEV.S('Single data'!M31:O31)/SQRT(3) -> 17.547541 | P30: =AVERAGE('Single data'!P31:R31) -> 108.28481 | Q30: ± | R30: =_xlfn.STDEV.S('Single data'!P31:R31)/SQRT(3) -> 16.419035 | S30: =AVERAGE('Single data'!S31:U31) -> 154.24429 | T30: ± | U30: =_xlfn.STDEV.S('Single data'!S31:U31)/SQRT(3) -> 67.333684 | V30: =AVERAGE('Single data'!V31:X31) -> 67.433229 | W30: ± | X30: =_xlfn.STDEV.S('Single data'!V31:X31)/SQRT(3) -> 5.3428539
B31: mono-A12-OH | C31: 12-HETE | D31: =AVERAGE('Single data'!D32:F32) -> 100 | E31: ± | F31: =_xlfn.STDEV.S('Single data'!D32:F32)/SQRT(3) -> 0 | G31: =AVERAGE('Single data'!G32:I32) -> 94.942611 | H31: ± | I31: =_xlfn.STDEV.S('Single data'!G32:I32)/SQRT(3) -> 31.263415 | J31: =AVERAGE('Single data'!J32:L32) -> 121.4241 | K31: ± | L31: =_xlfn.STDEV.S(('Single data'!J32:L32))/SQRT(3) -> 45.399257 | M31: =AVERAGE('Single data'!M32:O32) -> 100.46364 | N31: ± | O31: =_xlfn.STDEV.S('Single data'!M32:O32)/SQRT(3) -> 16.540544 | P31: =AVERAGE('Single data'!P32:R32) -> 134.09091 | Q31: ± | R31: =_xlfn.STDEV.S('Single data'!P32:R32)/SQRT(3) -> 58.427673 | S31: =AVERAGE('Single data'!S32:U32) -> 128.2314 | T31: ± | U31: =_xlfn.STDEV.S('Single data'!S32:U32)/SQRT(3) -> 61.974593 | V31: =AVERAGE('Single data'!V32:X32) -> 101.44768 | W31: ± | X31: =_xlfn.STDEV.S('Single data'!V32:X32)/SQRT(3) -> 35.534656
C32: 12-HEPE | D32: =AVERAGE('Single data'!D33:F33) -> 100 | E32: ± | F32: =_xlfn.STDEV.S('Single data'!D33:F33)/SQRT(3) -> 0 | G32: =AVERAGE('Single data'!G33:I33) -> 103.46689 | H32: ± | I32: =_xlfn.STDEV.S('Single data'!G33:I33)/SQRT(3) -> 29.878987 | J32: =AVERAGE('Single data'!J33:L33) -> 75.536073 | K32: ± | L32: =_xlfn.STDEV.S(('Single data'!J33:L33))/SQRT(3) -> 8.2331263 | M32: =AVERAGE('Single data'!M33:O33) -> 107.33889 | N32: ± | O32: =_xlfn.STDEV.S('Single data'!M33:O33)/SQRT(3) -> 10.187499 | P32: =AVERAGE('Single data'!P33:R33) -> 111.30509 | Q32: ± | R32: =_xlfn.STDEV.S('Single data'!P33:R33)/SQRT(3) -> 32.404749 | S32: =AVERAGE('Single data'!S33:U33) -> 131.47591 | T32: ± | U32: =_xlfn.STDEV.S('Single data'!S33:U33)/SQRT(3) -> 44.615249 | V32: =AVERAGE('Single data'!V33:X33) -> 112.06429 | W32: ± | X32: =_xlfn.STDEV.S('Single data'!V33:X33)/SQRT(3) -> 27.81394
C33: 14-HDHA | D33: =AVERAGE('Single data'!D34:F34) -> 100 | E33: ± | F33: =_xlfn.STDEV.S('Single data'!D34:F34)/SQRT(3) -> 0 | G33: =AVERAGE('Single data'!G34:I34) -> 104.28179 | H33: ± | I33: =_xlfn.STDEV.S('Single data'!G34:I34)/SQRT(3) -> 21.276444 | J33: =AVERAGE('Single data'!J34:L34) -> 87.080947 | K33: ± | L33: =_xlfn.STDEV.S(('Single data'!J34:L34))/SQRT(3) -> 6.399768 | M33: =AVERAGE('Single data'!M34:O34) -> 113.37967 | N33: ± | O33: =_xlfn.STDEV.S('Single data'!M34:O34)/SQRT(3) -> 18.167665 | P33: =AVERAGE('Single data'!P34:R34) -> 106.92066 | Q33: ± | R33: =_xlfn.STDEV.S('Single data'!P34:R34)/SQRT(3) -> 19.996863 | S33: =AVERAGE('Single data'!S34:U34) -> 136.49696 | T33: ± | U33: =_xlfn.STDEV.S('Single data'!S34:U34)/SQRT(3) -> 47.636741 | V33: =AVERAGE('Single data'!V34:X34) -> 111.84812 | W33: ± | X33: =_xlfn.STDEV.S('Single data'!V34:X34)/SQRT(3) -> 24.466755
B34: mono-A15-OH | C34: 15-HETE | D34: =AVERAGE('Single data'!D35:F35) -> 100 | E34: ± | F34: =_xlfn.STDEV.S('Single data'!D35:F35)/SQRT(3) -> 0 | G34: =AVERAGE('Single data'!G35:I35) -> 105.56344 | H34: ± | I34: =_xlfn.STDEV.S('Single data'!G35:I35)/SQRT(3) -> 22.129832 | J34: =AVERAGE('Single data'!J35:L35) -> 70.307021 | K34: ± | L34: =_xlfn.STDEV.S(('Single data'!J35:L35))/SQRT(3) -> 2.4180218 | M34: =AVERAGE('Single data'!M35:O35) -> 110.53348 | N34: ± | O34: =_xlfn.STDEV.S('Single data'!M35:O35)/SQRT(3) -> 12.052469 | P34: =AVERAGE('Single data'!P35:R35) -> 106.12255 | Q34: ± | R34: =_xlfn.STDEV.S('Single data'!P35:R35)/SQRT(3) -> 16.576041 | S34: =AVERAGE('Single data'!S35:U35) -> 140.22106 | T34: ± | U34: =_xlfn.STDEV.S('Single data'!S35:U35)/SQRT(3) -> 53.758088 | V34: =AVERAGE('Single data'!V35:X35) -> 94.438908 | W34: ± | X34: =_xlfn.STDEV.S('Single data'!V35:X35)/SQRT(3) -> 22.037487
C35: 15-HEPE | D35: =AVERAGE('Single data'!D36:F36) -> 100 | E35: ± | F35: =_xlfn.STDEV.S('Single data'!D36:F36)/SQRT(3) -> 0 | G35: =AVERAGE('Single data'!G36:I36) -> 107.82973 | H35: ± | I35: =_xlfn.STDEV.S('Single data'!G36:I36)/SQRT(3) -> 35.046021 | J35: =AVERAGE('Single data'!J36:L36) -> 68.916332 | K35: ± | L35: =_xlfn.STDEV.S(('Single data'!J36:L36))/SQRT(3) -> 5.243552 | M35: =AVERAGE('Single data'!M36:O36) -> 117.94989 | N35: ± | O35: =_xlfn.STDEV.S('Single data'!M36:O36)/SQRT(3) -> 13.488542 | P35: =AVERAGE('Single data'!P36:R36) -> 116.33355 | Q35: ± | R35: =_xlfn.STDEV.S('Single data'!P36:R36)/SQRT(3) -> 33.6757 | S35: =AVERAGE('Single data'!S36:U36) -> 149.77899 | T35: ± | U35: =_xlfn.STDEV.S('Single data'!S36:U36)/SQRT(3) -> 62.941244 | V35: =AVERAGE('Single data'!V36:X36) -> 102.79049 | W35: ± | X35: =_xlfn.STDEV.S('Single data'!V36:X36)/SQRT(3) -> 31.494884
C36: 17-HDHA | D36: =AVERAGE('Single data'!D37:F37) -> 100 | E36: ± | F36: =_xlfn.STDEV.S('Single data'!D37:F37)/SQRT(3) -> 0 | G36: =AVERAGE('Single data'!G37:I37) -> 116.46469 | H36: ± | I36: =_xlfn.STDEV.S('Single data'!G37:I37)/SQRT(3) -> 33.311487 | J36: =AVERAGE('Single data'!J37:L37) -> 78.604072 | K36: ± | L36: =_xlfn.STDEV.S(('Single data'!J37:L37))/SQRT(3) -> 6.186974 | M36: =AVERAGE('Single data'!M37:O37) -> 119.30716 | N36: ± | O36: =_xlfn.STDEV.S('Single data'!M37:O37)/SQRT(3) -> 19.351044 | P36: =AVERAGE('Single data'!P37:R37) -> 105.81169 | Q36: ± | R36: =_xlfn.STDEV.S('Single data'!P37:R37)/SQRT(3) -> 18.825113 | S36: =AVERAGE('Single data'!S37:U37) -> 151.94927 | T36: ± | U36: =_xlfn.STDEV.S('Single data'!S37:U37)/SQRT(3) -> 59.680713 | V36: =AVERAGE('Single data'!V37:X37) -> 111.3511 | W36: ± | X36: =_xlfn.STDEV.S('Single data'!V37:X37)/SQRT(3) -> 31.982278
B37: PUFA | C37: AA | D37: =AVERAGE('Single data'!D38:F38) -> 100 | E37: ± | F37: =_xlfn.STDEV.S('Single data'!D38:F38)/SQRT(3) -> 0 | G37: =AVERAGE('Single data'!G38:I38) -> 89.872094 | H37: ± | I37: =_xlfn.STDEV.S('Single data'!G38:I38)/SQRT(3) -> 15.725595 | J37: =AVERAGE('Single data'!J38:L38) -> 77.700986 | K37: ± | L37: =_xlfn.STDEV.S(('Single data'!J38:L38))/SQRT(3) -> 4.7480734 | M37: =AVERAGE('Single data'!M38:O38) -> 94.416307 | N37: ± | O37: =_xlfn.STDEV.S('Single data'!M38:O38)/SQRT(3) -> 13.086735 | P37: =AVERAGE('Single data'!P38:R38) -> 89.291387 | Q37: ± | R37: =_xlfn.STDEV.S('Single data'!P38:R38)/SQRT(3) -> 8.696825 | S37: =AVERAGE('Single data'!S38:U38) -> 122.87691 | T37: ± | U37: =_xlfn.STDEV.S('Single data'!S38:U38)/SQRT(3) -> 34.813575 | V37: =AVERAGE('Single data'!V38:X38) -> 99.547619 | W37: ± | X37: =_xlfn.STDEV.S('Single data'!V38:X38)/SQRT(3) -> 19.760817
C38: EPA | D38: =AVERAGE('Single data'!D39:F39) -> 100 | E38: ± | F38: =_xlfn.STDEV.S('Single data'!D39:F39)/SQRT(3) -> 0 | G38: =AVERAGE('Single data'!G39:I39) -> 105.60506 | H38: ± | I38: =_xlfn.STDEV.S('Single data'!G39:I39)/SQRT(3) -> 25.555453 | J38: =AVERAGE('Single data'!J39:L39) -> 80.965304 | K38: ± | L38: =_xlfn.STDEV.S(('Single data'!J39:L39))/SQRT(3) -> 9.0946628 | M38: =AVERAGE('Single data'!M39:O39) -> 99.937469 | N38: ± | O38: =_xlfn.STDEV.S('Single data'!M39:O39)/SQRT(3) -> 9.2204728 | P38: =AVERAGE('Single data'!P39:R39) -> 86.408388 | Q38: ± | R38: =_xlfn.STDEV.S('Single data'!P39:R39)/SQRT(3) -> 32.404406 | S38: =AVERAGE('Single data'!S39:U39) -> 140.09599 | T38: ± | U38: =_xlfn.STDEV.S('Single data'!S39:U39)/SQRT(3) -> 54.830477 | V38: =AVERAGE('Single data'!V39:X39) -> 109.33825 | W38: ± | X38: =_xlfn.STDEV.S('Single data'!V39:X39)/SQRT(3) -> 32.878117
C39: DHA | D39: =AVERAGE('Single data'!D40:F40) -> 100 | E39: ± | F39: =_xlfn.STDEV.S('Single data'!D40:F40)/SQRT(3) -> 0 | G39: =AVERAGE('Single data'!G40:I40) -> 62.760625 | H39: ± | I39: =_xlfn.STDEV.S('Single data'!G40:I40)/SQRT(3) -> 28.511446 | J39: =AVERAGE('Single data'!J40:L40) -> 41.003354 | K39: ± | L39: =_xlfn.STDEV.S(('Single data'!J40:L40))/SQRT(3) -> 8.2087548 | M39: =AVERAGE('Single data'!M40:O40) -> 103.21676 | N39: ± | O39: =_xlfn.STDEV.S('Single data'!M40:O40)/SQRT(3) -> 29.287659 | P39: =AVERAGE('Single data'!P40:R40) -> 71.77492 | Q39: ± | R39: =_xlfn.STDEV.S('Single data'!P40:R40)/SQRT(3) -> 5.7124918 | S39: =AVERAGE('Single data'!S40:U40) -> 124.84645 | T39: ± | U39: =_xlfn.STDEV.S('Single data'!S40:U40)/SQRT(3) -> 37.455981 | V39: =AVERAGE('Single data'!V40:X40) -> 77.771719 | W39: ± | X39: =_xlfn.STDEV.S('Single data'!V40:X40)/SQRT(3) -> 37.91723

Sheet Single data
A1: Table S6 Effect of LCMs on the lipid mediator profile of SACM-challenged human whole blood
D3: vehicle (0.1% DMSO)
C4: compound | G4: 1 | M4: 2 | S4: 7
C5: conc [µM] | G5: 3 | J5: 30 | M5: 3 | P5: 30 | S5: 3 | V5: 30
D8: n1 | E8: n2 | F8: n3 | G8: n1 | H8: n2 | I8: n3 | J8: n1 | K8: n2 | L8: n3 | M8: n1 | N8: n2 | O8: n3 | P8: n1 | Q8: n2 | R8: n3 | S8: n1 | T8: n2 | U8: n3 | V8: n1 | W8: n2 | X8: n3
A9: pg per 2 mL whole blood | B9: ALOX5 | C9: 5-HETE | D9: 13738.489 | E9: 1370.1583 | F9: 21857.784 | G9: 7916.1162 | H9: 726.7515 | I9: 15106.086 | J9: 2452.6689 | K9: 278.64992 | L9: 4001.913 | M9: 10296.361 | N9: 1533.6849 | O9: 13592.778 | P9: 5974.8222 | Q9: 885.07978 | R9: 10054.456 | S9: 8018.5489 | T9: 867.63833 | U9: 20961.806 | V9: 1494.0862 | W9: 228.30561 | X9: 7401.3961
C10: 5-HEPE | D10: 1633.9013 | E10: 142.44672 | F10: 3819.6079 | G10: 666.50678 | H10: 54.710232 | I10: 2739.4942 | J10: 183.62485 | K10: 19.422834 | L10: 581.56922 | M10: 1231.69 | N10: 168.18316 | O10: 2397.0751 | P10: 463.33139 | Q10: 61.505633 | R10: 2087.5867 | S10: 708.66193 | T10: 94.662245 | U10: 3105.1707 | V10: 103.29741 | W10: 17.490154 | X10: 1349.282
C11: LTB4 | D11: 2202.8564 | E11: 179.82497 | F11: 4836.7077 | G11: 1118.3106 | H11: 91.406375 | I11: 3080.9372 | J11: 376.82675 | K11: 23.25679 | L11: 1338.7974 | M11: 1263.8186 | N11: 228.35083 | O11: 2088.6247 | P11: 980.71889 | Q11: 126.70072 | R11: 2573.0946 | S11: 1237.6137 | T11: 106.86942 | U11: 3266.0163 | V11: 196.44082 | W11: 19.008476 | X11: 779.29011
C12: LTB4 isomers | D12: 1225.0193 | E12: 163.58203 | F12: 929.4898 | G12: 640.94301 | H12: 106.5538 | I12: 796.42027 | J12: 284.33468 | K12: 89.430925 | L12: 222.62172 | M12: 1311.0775 | N12: 128.11595 | O12: 469.21532 | P12: 501.33809 | Q12: 92.692426 | R12: 697.79092 | S12: 570.71916 | T12: 98.486335 | U12: 1011.272 | V12: 170.85139 | W12: 59.194094 | X12: 420.2717
B13: PTGS | C13: PGE2 | D13: 1141.8601 | E13: 139.34679 | F13: 13.971788 | G13: 969.65886 | H13: 104.83896 | I13: 12.565437 | J13: 760.32046 | K13: 82.8373 | L13: 4.4418421 | M13: 1209.9002 | N13: 131.68023 | O13: 7.684244 | P13: 1121.4867 | Q13: 133.61938 | R13: 9.0959559 | S13: 894.84016 | T13: 118.32213 | U13: 24.267115 | V13: 554.4839 | W13: 75.926903 | X13: 5.3581789
C14: TXB2 | D14: 6747.9006 | E14: 2261.9099 | F14: 12.639413 | G14: 6883.7188 | H14: 1452.2718 | I14: 19.236168 | J14: 5456.2116 | K14: 1467.2828 | L14: 8.464028 | M14: 7470.3417 | N14: 1776.4267 | O14: 17.605153 | P14: 7332.3562 | Q14: 1801.8336 | R14: 17.257008 | S14: 6361.4006 | T14: 1805.1874 | U14: 36.483981 | V14: 4699.6621 | W14: 1705.0312 | X14: 7.2390023
B15: mono-A12-OH | C15: 12-HETE | D15: 222762.62 | E15: 53751.898 | F15: 22553.814 | G15: 103819.88 | H15: 45561.244 | I15: 34611.108 | J15: 155478.18 | K15: 44374.072 | L15: 47796.798 | M15: 176226.39 | N15: 47978.903 | O15: 30001.424 | P15: 135096.7 | Q15: 49505.582 | R15: 56277.751 | S15: 120257.79 | T15: 42679.293 | U15: 56679.749 | V15: 102449.79 | W15: 48745.316 | X15: 37815.237
C16: 12-HEPE | D16: 53706.304 | E16: 11978.972 | F16: 14767.94 | G16: 32995.729 | H16: 10504.729 | I16: 23816.292 | J16: 31733.875 | K16: 9953.7988 | L16: 12468.053 | M16: 59592.593 | N16: 10561.132 | O16: 18148.706 | P16: 35484.401 | Q16: 11227.556 | R16: 25713.475 | S16: 41727.227 | T16: 11584.093 | U16: 32493.745 | V16: 35451.905 | W16: 12945.663 | X16: 23940.646
C17: 14-HDHA | D17: 112338.36 | E17: 16920.803 | F17: 12510.416 | G17: 84479.485 | H17: 15553.417 | I17: 18230.872 | J17: 83718.689 | K17: 15433.98 | L17: 11948.21 | M17: 114650.85 | N17: 15083.09 | O17: 18633.162 | P17: 91394.784 | Q17: 15747.591 | R17: 18307.597 | S17: 94950.408 | T17: 15792.961 | U17: 28978.437 | V17: 79807.817 | W17: 18420.367 | X17: 19471.18
B18: mono-A15-OH | C18: 15-HETE | D18: 2573.0553 | E18: 506.29195 | F18: 1282.3352 | G18: 2058.527 | H18: 440.73457 | I18: 1918.8305 | J18: 1708.447 | K18: 378.33705 | L18: 895.02393 | M18: 3209.0278 | N18: 438.2589 | O18: 1542.9227 | P18: 2248.4818 | Q18: 464.80489 | R18: 1784.7063 | S18: 2320.1107 | T18: 419.41111 | U18: 3175.7535 | V18: 1612.6012 | W18: 424.587 | X18: 1754.0039
C19: 15-HEPE | D19: 441.60528 | E19: 47.973458 | F19: 213.56714 | G19: 266.57218 | H19: 41.687761 | I19: 376.36355 | J19: 258.11166 | K19: 35.308416 | L19: 159.53593 | M19: 558.96874 | N19: 43.895923 | O19: 289.96582 | P19: 288.00495 | Q19: 49.849551 | R19: 384.14796 | S19: 349.75757 | T19: 45.477165 | U19: 588.03377 | V19: 243.80281 | W19: 43.577245 | X19: 346.67714
C20: 17-HDHA | D20: 8502.5082 | E20: 904.51709 | F20: 1328.7632 | G20: 6561.5053 | H20: 809.70029 | I20: 2427.7203 | J20: 5684.2169 | K20: 794.50605 | L20: 1077.9088 | M20: 9977.6928 | N20: 785.22601 | O20: 2043.1042 | P20: 6554.4734 | Q20: 896.30824 | R20: 1876.93 | S20: 7400.6115 | T20: 883.2987 | U20: 3602.9851 | V20: 5166.8391 | W20: 929.26532 | X20: 2266.1899
B21: PUFA | C21: AA | D21: 659265.71 | E21: 104998.42 | F21: 596136.28 | G21: 482856.12 | H21: 78821.476 | I21: 723146.54 | J21: 549414.37 | K21: 71676.308 | L21: 485859.78 | M21: 773898.67 | N21: 75669.228 | O21: 559139.63 | P21: 595665.73 | Q21: 77410.465 | R21: 618764.96 | S21: 592781.84 | T21: 90554.289 | U21: 1147394.1 | V21: 465315.58 | W21: 95282.419 | X21: 818587.17
C22: EPA | D22: 580146.04 | E22: 43328.452 | F22: 588290.97 | G22: 415507.99 | H22: 38794.275 | I22: 915725.28 | J22: 379538.03 | K22: 34904.008 | L22: 570159.89 | M22: 590748.72 | N22: 36008.626 | O22: 675820.59 | P22: 324351.65 | Q22: 22589.703 | R22: 889381.74 | S22: 484034.4 | T22: 37747.087 | U22: 1469176.1 | V22: 335766.49 | W22: 43163.784 | X22: 1003145.5
C23: DHA | D23: 7764.3115 | E23: 2320.5581 | F23: 13401.683 | G23: 2267.4443 | H23: 919.23126 | I23: 16010.447 | J23: 2982.2633 | K23: 655.80427 | L23: 7550.4471 | M23: 12435.228 | N23: 1458.4757 | O23: 11611.387 | P23: 6174.852 | Q23: 1744.2459 | R23: 8125.5986 | S23: 6274.9689 | T23: 2189.9741 | U23: 26716.057 | V23: 676.37685 | W23: 1976.4155 | X23: 18686.497
A26: % of control | B26: ALOX5 | C26: 5-HETE | D26: 100 | E26: 100 | F26: 100 | G26: 57.619992 | H26: 53.041427 | I26: 69.110784 | J26: 17.852538 | K26: 20.33706 | L26: 18.308869 | M26: 74.945369 | N26: 111.93487 | O26: 62.187357 | P26: 43.489661 | Q26: 64.596901 | R26: 45.999431 | S26: 58.365581 | T26: 63.323949 | U26: 95.900873 | V26: 10.875186 | W26: 16.662718 | X26: 33.861603
C27: 5-HEPE | D27: 100 | E27: 100 | F27: 100 | G27: 40.792353 | H27: 38.407507 | I27: 71.721869 | J27: 11.238429 | K27: 13.635158 | L27: 15.225888 | M27: 75.383381 | N27: 118.06742 | O27: 62.757099 | P27: 28.357367 | Q27: 43.177993 | R27: 54.654477 | S27: 43.372383 | T27: 66.454495 | U27: 81.295535 | V27: 6.3221327 | W27: 12.278383 | X27: 35.325144
C28: LTB4 | D28: 100 | E28: 100 | F28: 100 | G28: 50.766384 | H28: 50.830746 | I28: 63.699057 | J28: 17.106278 | K28: 12.933014 | L28: 27.679932 | M28: 57.37181 | N28: 126.98505 | O28: 43.182777 | P28: 44.520327 | Q28: 70.457803 | R28: 53.199299 | S28: 56.182222 | T28: 59.429687 | U28: 67.525608 | V28: 8.9175496 | W28: 10.570543 | X28: 16.111995
C29: LTB4 isomers | D29: 100 | E29: 100 | F29: 100 | G29: 52.321056 | H29: 65.137841 | I29: 85.683594 | J29: 23.210629 | K29: 54.670383 | L29: 23.950959 | M29: 107.02505 | N29: 78.319083 | O29: 50.480955 | P29: 40.924915 | Q29: 56.664185 | R29: 75.072466 | S29: 46.588586 | T29: 60.206083 | U29: 108.79861 | V29: 13.946833 | W29: 36.186183 | X29: 45.215311
B30: PTGS | C30: PGE2 | D30: 100 | E30: 100 | F30: 100 | G30: 84.919237 | H30: 75.236004 | I30: 89.934355 | J30: 66.586132 | K30: 59.446866 | L30: 31.791509 | M30: 105.95871 | N30: 94.498212 | O30: 54.998288 | P30: 98.215772 | Q30: 95.889817 | R30: 65.102306 | S30: 78.366884 | T30: 84.91199 | U30: 173.68654 | V30: 48.559707 | W30: 54.48773 | X30: 38.349989
C31: TXB2 | D31: 100 | E31: 100 | F31: 100 | G31: 102.01275 | H31: 64.205554 | I31: 152.19193 | J31: 80.857914 | K31: 64.869196 | L31: 66.965354 | M31: 110.70616 | N31: 78.536581 | O31: 139.28774 | P31: 108.6613 | Q31: 79.65983 | R31: 136.5333 | S31: 94.272293 | T31: 79.808103 | U31: 288.65249 | V31: 69.646285 | W31: 75.380156 | X31: 57.273246
B32: mono-A12-OH | C32: 12-HETE | D32: 100 | E32: 100 | F32: 100 | G32: 46.605609 | H32: 84.762111 | I32: 153.46011 | J32: 69.795451 | K32: 82.553497 | L32: 211.92335 | M32: 79.109498 | N32: 89.259922 | O32: 133.02151 | P32: 60.646033 | Q32: 92.100155 | R32: 249.52654 | S32: 53.984726 | T32: 79.400532 | U32: 251.30893 | V32: 45.990563 | W32: 90.685758 | X32: 167.66671
C33: 12-HEPE | D33: 100 | E33: 100 | F33: 100 | G33: 61.437348 | H33: 87.693075 | I33: 161.27024 | J33: 59.087803 | K33: 83.093928 | L33: 84.426487 | M33: 110.96014 | N33: 88.163922 | O33: 122.8926 | P33: 66.071203 | Q33: 93.727203 | R33: 174.11687 | S33: 77.695212 | T33: 96.703559 | U33: 220.02896 | V33: 66.010696 | W33: 108.06989 | X33: 162.11229
C34: 14-HDHA | D34: 100 | E34: 100 | F34: 100 | G34: 75.200926 | H34: 91.91891 | I34: 145.72555 | J34: 74.52369 | K34: 91.213051 | L34: 95.506099 | M34: 102.0585 | N34: 89.139329 | O34: 148.94118 | P34: 81.356704 | Q34: 93.066456 | R34: 146.33883 | S34: 84.521805 | T34: 93.334587 | U34: 231.63448 | V34: 71.042357 | W34: 108.86225 | X34: 155.63975
B35: mono-A15-OH | C35: 15-HETE | D35: 100 | E35: 100 | F35: 100 | G35: 80.003216 | H35: 87.051467 | I35: 149.63564 | J35: 66.397601 | K35: 74.727054 | L35: 69.796408 | M35: 124.71663 | N35: 86.562487 | O35: 120.32132 | P35: 87.385677 | Q35: 91.805705 | R35: 139.17627 | S35: 90.169484 | T35: 82.839775 | U35: 247.65392 | V35: 62.67262 | W35: 83.862088 | X35: 136.78202
C36: 15-HEPE | D36: 100 | E36: 100 | F36: 100 | G36: 60.364355 | H36: 86.897552 | I36: 176.22727 | J36: 58.4485 | K36: 73.599897 | L36: 74.700598 | M36: 126.57655 | N36: 91.500435 | O36: 135.77267 | P36: 65.217731 | Q36: 103.91069 | R36: 179.87222 | S36: 79.201402 | T36: 94.796513 | U36: 275.33906 | V36: 55.20831 | W36: 90.836156 | X36: 162.327
C37: 17-HDHA | D37: 100 | E37: 100 | F37: 100 | G37: 77.171409 | H37: 89.517412 | I37: 182.70526 | J37: 66.853414 | K37: 87.837594 | L37: 81.121208 | M37: 117.34999 | N37: 86.811629 | O37: 153.75984 | P37: 77.088705 | Q37: 99.092461 | R37: 141.25391 | S37: 87.040334 | T37: 97.654175 | U37: 271.15329 | V37: 60.768411 | W37: 102.73607 | X37: 170.54881
B38: PUFA | C38: AA | D38: 100 | E38: 100 | F38: 100 | G38: 73.241503 | H38: 75.069202 | I38: 121.30558 | J38: 83.337319 | K38: 68.264178 | L38: 81.501462 | M38: 117.38798 | N38: 72.067016 | O38: 93.793929 | P38: 90.352906 | Q38: 73.725363 | R38: 103.79589 | S38: 89.915467 | T38: 86.243479 | U38: 192.47177 | V38: 70.580886 | W38: 90.746527 | X38: 137.31544
C39: EPA | D39: 100 | E39: 100 | F39: 100 | G39: 71.621275 | H39: 89.535336 | I39: 155.65857 | J39: 65.421119 | K39: 80.556786 | L39: 96.918008 | M39: 101.82759 | N39: 83.10619 | O39: 114.87863 | P39: 55.908621 | Q39: 52.135956 | R39: 151.18059 | S39: 83.433198 | T39: 87.118476 | U39: 249.7363 | V39: 57.8762 | W39: 99.619955 | X39: 170.5186
C40: DHA | D40: 100 | E40: 100 | F40: 100 | G40: 29.203417 | H40: 39.612508 | I40: 119.46595 | J40: 38.409888 | K40: 28.260627 | L40: 56.339546 | M40: 160.1588 | N40: 62.850212 | O40: 86.641261 | P40: 79.528649 | Q40: 75.164929 | R40: 60.631182 | S40: 80.818099 | T40: 94.372734 | U40: 199.34853 | V40: 8.7113565 | W40: 85.169837 | X40: 139.43396
